{"text_format":"1","workbook":"xlsx","n_sheets":3,"sheets":["Menu","Importtxt","analyse"],"not_rendered":{"charts":0,"images":0,"macros":1,"external_links":0,"defined_names":2,"comments":0,"pivot_tables":0},"unopened":[],"bounds":{"document_bytes":16777216,"sheet_cells":100000,"rows_first":2000,"rows_last":500,"rows_between":2000,"halvings":0,"cell_chars":16384,"cell_head_chars":4096},"cells_cut":0,"cells_raw":0,"read":"whole","date_system":"1900"}

{"sheet":"Menu","index":0,"n_rows":0,"n_cols":0,"rows_kept":0,"cut":false,"hidden":false,"merged":[]}

{"sheet":"Importtxt","index":1,"n_rows":158090,"n_cols":8,"rows_kept":4500,"cut":true,"hidden":false,"merged":[],"bounds":{"rows_first":2000,"rows_last":500,"rows_between":2000,"halvings":0}}
[null,null,{"$f":"IF(ISNA(VLOOKUP(A1,analyse!D:E,2,FALSE))=TRUE,0,(VLOOKUP(A1,analyse!D:E,2,FALSE)))","v":0},{"$f":"analyse!$B$1","v":0},{"$f":"D1-C1","v":0},{"$f":"E1+C1","v":0},{"$f":"IF(F1<E1,D1-1,D1)","v":0},0]
[null,null,{"$f":"IF(ISNA(VLOOKUP(A2,analyse!D:E,2,FALSE))=TRUE,0,(VLOOKUP(A2,analyse!D:E,2,FALSE)))","v":0},{"$f":"analyse!$B$1","v":0},{"$f":"D2-C2","v":0},{"$f":"E2+C2","v":0},{"$f":"IF(F2<E2,D2-1,D2)","v":0},{"$f":"IF(A2=\"S20.G01.00.001\",H1+1,H1)","v":0}]
[null,null,{"$f":"IF(ISNA(VLOOKUP(A3,analyse!D:E,2,FALSE))=TRUE,0,(VLOOKUP(A3,analyse!D:E,2,FALSE)))","v":0},{"$f":"analyse!$B$1","v":0},0,0,0,0]
[null,null,{"$f":"IF(ISNA(VLOOKUP(A4,analyse!D:E,2,FALSE))=TRUE,0,(VLOOKUP(A4,analyse!D:E,2,FALSE)))","v":0},{"$f":"analyse!$B$1","v":0},0,0,0,0]
[null,null,{"$f":"IF(ISNA(VLOOKUP(A5,analyse!D:E,2,FALSE))=TRUE,0,(VLOOKUP(A5,analyse!D:E,2,FALSE)))","v":0},{"$f":"analyse!$B$1","v":0},0,{"$f":"E5+C5","v":0},0,0]
[null,null,{"$f":"IF(ISNA(VLOOKUP(A6,analyse!D:E,2,FALSE))=TRUE,0,(VLOOKUP(A6,analyse!D:E,2,FALSE)))","v":0},{"$f":"analyse!$B$1","v":0},0,0,0,0]
[null,null,{"$f":"IF(ISNA(VLOOKUP(A7,analyse!D:E,2,FALSE))=TRUE,0,(VLOOKUP(A7,analyse!D:E,2,FALSE)))","v":0},{"$f":"analyse!$B$1","v":0},0,0,0,0]
[null,null,{"$f":"IF(ISNA(VLOOKUP(A8,analyse!D:E,2,FALSE))=TRUE,0,(VLOOKUP(A8,analyse!D:E,2,FALSE)))","v":0},{"$f":"analyse!$B$1","v":0},0,0,0,0]
[null,null,{"$f":"IF(ISNA(VLOOKUP(A9,analyse!D:E,2,FALSE))=TRUE,0,(VLOOKUP(A9,analyse!D:E,2,FALSE)))","v":0},{"$f":"analyse!$B$1","v":0},0,0,0,0]
[null,null,{"$f":"IF(ISNA(VLOOKUP(A10,analyse!D:E,2,FALSE))=TRUE,0,(VLOOKUP(A10,analyse!D:E,2,FALSE)))","v":0},{"$f":"analyse!$B$1","v":0},0,0,0,0]
[null,null,{"$f":"IF(ISNA(VLOOKUP(A11,analyse!D:E,2,FALSE))=TRUE,0,(VLOOKUP(A11,analyse!D:E,2,FALSE)))","v":0},{"$f":"analyse!$B$1","v":0},0,0,0,0]
[null,null,{"$f":"IF(ISNA(VLOOKUP(A12,analyse!D:E,2,FALSE))=TRUE,0,(VLOOKUP(A12,analyse!D:E,2,FALSE)))","v":0},{"$f":"analyse!$B$1","v":0},0,0,0,0]
[null,null,{"$f":"IF(ISNA(VLOOKUP(A13,analyse!D:E,2,FALSE))=TRUE,0,(VLOOKUP(A13,analyse!D:E,2,FALSE)))","v":0},{"$f":"analyse!$B$1","v":0},0,0,0,0]
[null,null,{"$f":"IF(ISNA(VLOOKUP(A14,analyse!D:E,2,FALSE))=TRUE,0,(VLOOKUP(A14,analyse!D:E,2,FALSE)))","v":0},{"$f":"analyse!$B$1","v":0},0,0,0,0]
[null,null,{"$f":"IF(ISNA(VLOOKUP(A15,analyse!D:E,2,FALSE))=TRUE,0,(VLOOKUP(A15,analyse!D:E,2,FALSE)))","v":0},{"$f":"analyse!$B$1","v":0},0,0,0,0]
[null,null,{"$f":"IF(ISNA(VLOOKUP(A16,analyse!D:E,2,FALSE))=TRUE,0,(VLOOKUP(A16,analyse!D:E,2,FALSE)))","v":0},{"$f":"analyse!$B$1","v":0},0,0,0,0]
[null,null,{"$f":"IF(ISNA(VLOOKUP(A17,analyse!D:E,2,FALSE))=TRUE,0,(VLOOKUP(A17,analyse!D:E,2,FALSE)))","v":0},{"$f":"analyse!$B$1","v":0},0,0,0,0]
[null,null,{"$f":"IF(ISNA(VLOOKUP(A18,analyse!D:E,2,FALSE))=TRUE,0,(VLOOKUP(A18,analyse!D:E,2,FALSE)))","v":0},{"$f":"analyse!$B$1","v":0},0,0,0,0]
[null,null,{"$f":"IF(ISNA(VLOOKUP(A19,analyse!D:E,2,FALSE))=TRUE,0,(VLOOKUP(A19,analyse!D:E,2,FALSE)))","v":0},{"$f":"analyse!$B$1","v":0},0,0,0,0]
[null,null,{"$f":"IF(ISNA(VLOOKUP(A20,analyse!D:E,2,FALSE))=TRUE,0,(VLOOKUP(A20,analyse!D:E,2,FALSE)))","v":0},{"$f":"analyse!$B$1","v":0},0,0,0,0]
[null,null,{"$f":"IF(ISNA(VLOOKUP(A21,analyse!D:E,2,FALSE))=TRUE,0,(VLOOKUP(A21,analyse!D:E,2,FALSE)))","v":0},{"$f":"analyse!$B$1","v":0},0,0,0,0]
[null,null,{"$f":"IF(ISNA(VLOOKUP(A22,analyse!D:E,2,FALSE))=TRUE,0,(VLOOKUP(A22,analyse!D:E,2,FALSE)))","v":0},{"$f":"analyse!$B$1","v":0},0,0,0,0]
[null,null,{"$f":"IF(ISNA(VLOOKUP(A23,analyse!D:E,2,FALSE))=TRUE,0,(VLOOKUP(A23,analyse!D:E,2,FALSE)))","v":0},{"$f":"analyse!$B$1","v":0},0,0,0,0]
[null,null,{"$f":"IF(ISNA(VLOOKUP(A24,analyse!D:E,2,FALSE))=TRUE,0,(VLOOKUP(A24,analyse!D:E,2,FALSE)))","v":0},{"$f":"analyse!$B$1","v":0},0,0,0,0]
[null,null,{"$f":"IF(ISNA(VLOOKUP(A25,analyse!D:E,2,FALSE))=TRUE,0,(VLOOKUP(A25,analyse!D:E,2,FALSE)))","v":0},{"$f":"analyse!$B$1","v":0},0,0,0,0]
[null,null,{"$f":"IF(ISNA(VLOOKUP(A26,analyse!D:E,2,FALSE))=TRUE,0,(VLOOKUP(A26,analyse!D:E,2,FALSE)))","v":0},{"$f":"analyse!$B$1","v":0},0,0,0,0]
[null,null,{"$f":"IF(ISNA(VLOOKUP(A27,analyse!D:E,2,FALSE))=TRUE,0,(VLOOKUP(A27,analyse!D:E,2,FALSE)))","v":0},{"$f":"analyse!$B$1","v":0},0,0,0,0]
[null,null,{"$f":"IF(ISNA(VLOOKUP(A28,analyse!D:E,2,FALSE))=TRUE,0,(VLOOKUP(A28,analyse!D:E,2,FALSE)))","v":0},{"$f":"analyse!$B$1","v":0},0,0,0,0]
[null,null,{"$f":"IF(ISNA(VLOOKUP(A29,analyse!D:E,2,FALSE))=TRUE,0,(VLOOKUP(A29,analyse!D:E,2,FALSE)))","v":0},{"$f":"analyse!$B$1","v":0},0,0,0,0]
[null,null,{"$f":"IF(ISNA(VLOOKUP(A30,analyse!D:E,2,FALSE))=TRUE,0,(VLOOKUP(A30,analyse!D:E,2,FALSE)))","v":0},{"$f":"analyse!$B$1","v":0},0,0,0,0]
[null,null,{"$f":"IF(ISNA(VLOOKUP(A31,analyse!D:E,2,FALSE))=TRUE,0,(VLOOKUP(A31,analyse!D:E,2,FALSE)))","v":0},{"$f":"analyse!$B$1","v":0},0,0,0,0]
[null,null,{"$f":"IF(ISNA(VLOOKUP(A32,analyse!D:E,2,FALSE))=TRUE,0,(VLOOKUP(A32,analyse!D:E,2,FALSE)))","v":0},{"$f":"analyse!$B$1","v":0},0,0,0,0]
[null,null,{"$f":"IF(ISNA(VLOOKUP(A33,analyse!D:E,2,FALSE))=TRUE,0,(VLOOKUP(A33,analyse!D:E,2,FALSE)))","v":0},{"$f":"analyse!$B$1","v":0},0,0,0,0]
[null,null,{"$f":"IF(ISNA(VLOOKUP(A34,analyse!D:E,2,FALSE))=TRUE,0,(VLOOKUP(A34,analyse!D:E,2,FALSE)))","v":0},{"$f":"analyse!$B$1","v":0},0,0,0,0]
[null,null,{"$f":"IF(ISNA(VLOOKUP(A35,analyse!D:E,2,FALSE))=TRUE,0,(VLOOKUP(A35,analyse!D:E,2,FALSE)))","v":0},{"$f":"analyse!$B$1","v":0},0,0,0,0]
[null,null,{"$f":"IF(ISNA(VLOOKUP(A36,analyse!D:E,2,FALSE))=TRUE,0,(VLOOKUP(A36,analyse!D:E,2,FALSE)))","v":0},{"$f":"analyse!$B$1","v":0},0,0,0,0]
[null,null,{"$f":"IF(ISNA(VLOOKUP(A37,analyse!D:E,2,FALSE))=TRUE,0,(VLOOKUP(A37,analyse!D:E,2,FALSE)))","v":0},{"$f":"analyse!$B$1","v":0},0,0,0,0]
[null,null,{"$f":"IF(ISNA(VLOOKUP(A38,analyse!D:E,2,FALSE))=TRUE,0,(VLOOKUP(A38,analyse!D:E,2,FALSE)))","v":0},{"$f":"analyse!$B$1","v":0},0,0,0,0]
[null,null,{"$f":"IF(ISNA(VLOOKUP(A39,analyse!D:E,2,FALSE))=TRUE,0,(VLOOKUP(A39,analyse!D:E,2,FALSE)))","v":0},{"$f":"analyse!$B$1","v":0},0,0,0,0]
[null,null,{"$f":"IF(ISNA(VLOOKUP(A40,analyse!D:E,2,FALSE))=TRUE,0,(VLOOKUP(A40,analyse!D:E,2,FALSE)))","v":0},{"$f":"analyse!$B$1","v":0},0,0,0,0]
[null,null,{"$f":"IF(ISNA(VLOOKUP(A41,analyse!D:E,2,FALSE))=TRUE,0,(VLOOKUP(A41,analyse!D:E,2,FALSE)))","v":0},{"$f":"analyse!$B$1","v":0},0,0,0,0]
[null,null,{"$f":"IF(ISNA(VLOOKUP(A42,analyse!D:E,2,FALSE))=TRUE,0,(VLOOKUP(A42,analyse!D:E,2,FALSE)))","v":0},{"$f":"analyse!$B$1","v":0},0,0,0,0]
[null,null,{"$f":"IF(ISNA(VLOOKUP(A43,analyse!D:E,2,FALSE))=TRUE,0,(VLOOKUP(A43,analyse!D:E,2,FALSE)))","v":0},{"$f":"analyse!$B$1","v":0},0,0,0,0]
[null,null,{"$f":"IF(ISNA(VLOOKUP(A44,analyse!D:E,2,FALSE))=TRUE,0,(VLOOKUP(A44,analyse!D:E,2,FALSE)))","v":0},{"$f":"analyse!$B$1","v":0},0,0,0,0]
[null,null,{"$f":"IF(ISNA(VLOOKUP(A45,analyse!D:E,2,FALSE))=TRUE,0,(VLOOKUP(A45,analyse!D:E,2,FALSE)))","v":0},{"$f":"analyse!$B$1","v":0},0,0,0,0]
[null,null,{"$f":"IF(ISNA(VLOOKUP(A46,analyse!D:E,2,FALSE))=TRUE,0,(VLOOKUP(A46,analyse!D:E,2,FALSE)))","v":0},{"$f":"analyse!$B$1","v":0},0,0,0,0]
[null,null,{"$f":"IF(ISNA(VLOOKUP(A47,analyse!D:E,2,FALSE))=TRUE,0,(VLOOKUP(A47,analyse!D:E,2,FALSE)))","v":0},{"$f":"analyse!$B$1","v":0},0,0,0,0]
[null,null,{"$f":"IF(ISNA(VLOOKUP(A48,analyse!D:E,2,FALSE))=TRUE,0,(VLOOKUP(A48,analyse!D:E,2,FALSE)))","v":0},{"$f":"analyse!$B$1","v":0},0,0,0,0]
[null,null,{"$f":"IF(ISNA(VLOOKUP(A49,analyse!D:E,2,FALSE))=TRUE,0,(VLOOKUP(A49,analyse!D:E,2,FALSE)))","v":0},{"$f":"analyse!$B$1","v":0},0,0,0,0]
[null,null,{"$f":"IF(ISNA(VLOOKUP(A50,analyse!D:E,2,FALSE))=TRUE,0,(VLOOKUP(A50,analyse!D:E,2,FALSE)))","v":0},{"$f":"analyse!$B$1","v":0},0,0,0,0]
[null,null,{"$f":"IF(ISNA(VLOOKUP(A51,analyse!D:E,2,FALSE))=TRUE,0,(VLOOKUP(A51,analyse!D:E,2,FALSE)))","v":0},{"$f":"analyse!$B$1","v":0},0,0,0,0]
[null,null,{"$f":"IF(ISNA(VLOOKUP(A52,analyse!D:E,2,FALSE))=TRUE,0,(VLOOKUP(A52,analyse!D:E,2,FALSE)))","v":0},{"$f":"analyse!$B$1","v":0},0,0,0,0]
[null,null,{"$f":"IF(ISNA(VLOOKUP(A53,analyse!D:E,2,FALSE))=TRUE,0,(VLOOKUP(A53,analyse!D:E,2,FALSE)))","v":0},{"$f":"analyse!$B$1","v":0},0,0,0,0]
[null,null,{"$f":"IF(ISNA(VLOOKUP(A54,analyse!D:E,2,FALSE))=TRUE,0,(VLOOKUP(A54,analyse!D:E,2,FALSE)))","v":0},{"$f":"analyse!$B$1","v":0},0,0,0,0]
[null,null,{"$f":"IF(ISNA(VLOOKUP(A55,analyse!D:E,2,FALSE))=TRUE,0,(VLOOKUP(A55,analyse!D:E,2,FALSE)))","v":0},{"$f":"analyse!$B$1","v":0},0,0,0,0]
[null,null,{"$f":"IF(ISNA(VLOOKUP(A56,analyse!D:E,2,FALSE))=TRUE,0,(VLOOKUP(A56,analyse!D:E,2,FALSE)))","v":0},{"$f":"analyse!$B$1","v":0},0,0,0,0]
[null,null,{"$f":"IF(ISNA(VLOOKUP(A57,analyse!D:E,2,FALSE))=TRUE,0,(VLOOKUP(A57,analyse!D:E,2,FALSE)))","v":0},{"$f":"analyse!$B$1","v":0},0,0,0,0]
[null,null,{"$f":"IF(ISNA(VLOOKUP(A58,analyse!D:E,2,FALSE))=TRUE,0,(VLOOKUP(A58,analyse!D:E,2,FALSE)))","v":0},{"$f":"analyse!$B$1","v":0},0,0,0,0]
[null,null,{"$f":"IF(ISNA(VLOOKUP(A59,analyse!D:E,2,FALSE))=TRUE,0,(VLOOKUP(A59,analyse!D:E,2,FALSE)))","v":0},{"$f":"analyse!$B$1","v":0},0,0,0,0]
[null,null,{"$f":"IF(ISNA(VLOOKUP(A60,analyse!D:E,2,FALSE))=TRUE,0,(VLOOKUP(A60,analyse!D:E,2,FALSE)))","v":0},{"$f":"analyse!$B$1","v":0},0,0,0,0]
[null,null,{"$f":"IF(ISNA(VLOOKUP(A61,analyse!D:E,2,FALSE))=TRUE,0,(VLOOKUP(A61,analyse!D:E,2,FALSE)))","v":0},{"$f":"analyse!$B$1","v":0},0,0,0,0]
[null,null,{"$f":"IF(ISNA(VLOOKUP(A62,analyse!D:E,2,FALSE))=TRUE,0,(VLOOKUP(A62,analyse!D:E,2,FALSE)))","v":0},{"$f":"analyse!$B$1","v":0},0,0,0,0]
[null,null,{"$f":"IF(ISNA(VLOOKUP(A63,analyse!D:E,2,FALSE))=TRUE,0,(VLOOKUP(A63,analyse!D:E,2,FALSE)))","v":0},{"$f":"analyse!$B$1","v":0},0,0,0,0]
[null,null,{"$f":"IF(ISNA(VLOOKUP(A64,analyse!D:E,2,FALSE))=TRUE,0,(VLOOKUP(A64,analyse!D:E,2,FALSE)))","v":0},{"$f":"analyse!$B$1","v":0},0,0,0,0]
[null,null,{"$f":"IF(ISNA(VLOOKUP(A65,analyse!D:E,2,FALSE))=TRUE,0,(VLOOKUP(A65,analyse!D:E,2,FALSE)))","v":0},{"$f":"analyse!$B$1","v":0},0,0,0,0]
[null,null,{"$f":"IF(ISNA(VLOOKUP(A66,analyse!D:E,2,FALSE))=TRUE,0,(VLOOKUP(A66,analyse!D:E,2,FALSE)))","v":0},{"$f":"analyse!$B$1","v":0},{"$f":"D66-C66","v":0},{"$f":"E66+C66","v":0},{"$f":"IF(F66<E66,D66-1,D66)","v":0},{"$f":"IF(A66=\"S20.G01.00.001\",H65+1,H65)","v":0}]
[null,null,{"$f":"IF(ISNA(VLOOKUP(A67,analyse!D:E,2,FALSE))=TRUE,0,(VLOOKUP(A67,analyse!D:E,2,FALSE)))","v":0},{"$f":"analyse!$B$1","v":0},0,0,0,0]
[null,null,{"$f":"IF(ISNA(VLOOKUP(A68,analyse!D:E,2,FALSE))=TRUE,0,(VLOOKUP(A68,analyse!D:E,2,FALSE)))","v":0},{"$f":"analyse!$B$1","v":0},0,0,0,0]
[null,null,{"$f":"IF(ISNA(VLOOKUP(A69,analyse!D:E,2,FALSE))=TRUE,0,(VLOOKUP(A69,analyse!D:E,2,FALSE)))","v":0},{"$f":"analyse!$B$1","v":0},0,0,0,0]
[null,null,{"$f":"IF(ISNA(VLOOKUP(A70,analyse!D:E,2,FALSE))=TRUE,0,(VLOOKUP(A70,analyse!D:E,2,FALSE)))","v":0},{"$f":"analyse!$B$1","v":0},0,0,0,0]
[null,null,{"$f":"IF(ISNA(VLOOKUP(A71,analyse!D:E,2,FALSE))=TRUE,0,(VLOOKUP(A71,analyse!D:E,2,FALSE)))","v":0},{"$f":"analyse!$B$1","v":0},0,0,0,0]
[null,null,{"$f":"IF(ISNA(VLOOKUP(A72,analyse!D:E,2,FALSE))=TRUE,0,(VLOOKUP(A72,analyse!D:E,2,FALSE)))","v":0},{"$f":"analyse!$B$1","v":0},0,0,0,0]
[null,null,{"$f":"IF(ISNA(VLOOKUP(A73,analyse!D:E,2,FALSE))=TRUE,0,(VLOOKUP(A73,analyse!D:E,2,FALSE)))","v":0},{"$f":"analyse!$B$1","v":0},0,0,0,0]
[null,null,{"$f":"IF(ISNA(VLOOKUP(A74,analyse!D:E,2,FALSE))=TRUE,0,(VLOOKUP(A74,analyse!D:E,2,FALSE)))","v":0},{"$f":"analyse!$B$1","v":0},0,0,0,0]
[null,null,{"$f":"IF(ISNA(VLOOKUP(A75,analyse!D:E,2,FALSE))=TRUE,0,(VLOOKUP(A75,analyse!D:E,2,FALSE)))","v":0},{"$f":"analyse!$B$1","v":0},0,0,0,0]
[null,null,{"$f":"IF(ISNA(VLOOKUP(A76,analyse!D:E,2,FALSE))=TRUE,0,(VLOOKUP(A76,analyse!D:E,2,FALSE)))","v":0},{"$f":"analyse!$B$1","v":0},0,0,0,0]
[null,null,{"$f":"IF(ISNA(VLOOKUP(A77,analyse!D:E,2,FALSE))=TRUE,0,(VLOOKUP(A77,analyse!D:E,2,FALSE)))","v":0},{"$f":"analyse!$B$1","v":0},0,0,0,0]
[null,null,{"$f":"IF(ISNA(VLOOKUP(A78,analyse!D:E,2,FALSE))=TRUE,0,(VLOOKUP(A78,analyse!D:E,2,FALSE)))","v":0},{"$f":"analyse!$B$1","v":0},0,0,0,0]
[null,null,{"$f":"IF(ISNA(VLOOKUP(A79,analyse!D:E,2,FALSE))=TRUE,0,(VLOOKUP(A79,analyse!D:E,2,FALSE)))","v":0},{"$f":"analyse!$B$1","v":0},0,0,0,0]
[null,null,{"$f":"IF(ISNA(VLOOKUP(A80,analyse!D:E,2,FALSE))=TRUE,0,(VLOOKUP(A80,analyse!D:E,2,FALSE)))","v":0},{"$f":"analyse!$B$1","v":0},0,0,0,0]
[null,null,{"$f":"IF(ISNA(VLOOKUP(A81,analyse!D:E,2,FALSE))=TRUE,0,(VLOOKUP(A81,analyse!D:E,2,FALSE)))","v":0},{"$f":"analyse!$B$1","v":0},0,0,0,0]
[null,null,{"$f":"IF(ISNA(VLOOKUP(A82,analyse!D:E,2,FALSE))=TRUE,0,(VLOOKUP(A82,analyse!D:E,2,FALSE)))","v":0},{"$f":"analyse!$B$1","v":0},0,0,0,0]
[null,null,{"$f":"IF(ISNA(VLOOKUP(A83,analyse!D:E,2,FALSE))=TRUE,0,(VLOOKUP(A83,analyse!D:E,2,FALSE)))","v":0},{"$f":"analyse!$B$1","v":0},0,0,0,0]
[null,null,{"$f":"IF(ISNA(VLOOKUP(A84,analyse!D:E,2,FALSE))=TRUE,0,(VLOOKUP(A84,analyse!D:E,2,FALSE)))","v":0},{"$f":"analyse!$B$1","v":0},0,0,0,0]
[null,null,{"$f":"IF(ISNA(VLOOKUP(A85,analyse!D:E,2,FALSE))=TRUE,0,(VLOOKUP(A85,analyse!D:E,2,FALSE)))","v":0},{"$f":"analyse!$B$1","v":0},0,0,0,0]
[null,null,{"$f":"IF(ISNA(VLOOKUP(A86,analyse!D:E,2,FALSE))=TRUE,0,(VLOOKUP(A86,analyse!D:E,2,FALSE)))","v":0},{"$f":"analyse!$B$1","v":0},0,0,0,0]
[null,null,{"$f":"IF(ISNA(VLOOKUP(A87,analyse!D:E,2,FALSE))=TRUE,0,(VLOOKUP(A87,analyse!D:E,2,FALSE)))","v":0},{"$f":"analyse!$B$1","v":0},0,0,0,0]
[null,null,{"$f":"IF(ISNA(VLOOKUP(A88,analyse!D:E,2,FALSE))=TRUE,0,(VLOOKUP(A88,analyse!D:E,2,FALSE)))","v":0},{"$f":"analyse!$B$1","v":0},0,0,0,0]
[null,null,{"$f":"IF(ISNA(VLOOKUP(A89,analyse!D:E,2,FALSE))=TRUE,0,(VLOOKUP(A89,analyse!D:E,2,FALSE)))","v":0},{"$f":"analyse!$B$1","v":0},0,0,0,0]
[null,null,{"$f":"IF(ISNA(VLOOKUP(A90,analyse!D:E,2,FALSE))=TRUE,0,(VLOOKUP(A90,analyse!D:E,2,FALSE)))","v":0},{"$f":"analyse!$B$1","v":0},0,0,0,0]
[null,null,{"$f":"IF(ISNA(VLOOKUP(A91,analyse!D:E,2,FALSE))=TRUE,0,(VLOOKUP(A91,analyse!D:E,2,FALSE)))","v":0},{"$f":"analyse!$B$1","v":0},0,0,0,0]
[null,null,{"$f":"IF(ISNA(VLOOKUP(A92,analyse!D:E,2,FALSE))=TRUE,0,(VLOOKUP(A92,analyse!D:E,2,FALSE)))","v":0},{"$f":"analyse!$B$1","v":0},0,0,0,0]
[null,null,{"$f":"IF(ISNA(VLOOKUP(A93,analyse!D:E,2,FALSE))=TRUE,0,(VLOOKUP(A93,analyse!D:E,2,FALSE)))","v":0},{"$f":"analyse!$B$1","v":0},0,0,0,0]
[null,null,{"$f":"IF(ISNA(VLOOKUP(A94,analyse!D:E,2,FALSE))=TRUE,0,(VLOOKUP(A94,analyse!D:E,2,FALSE)))","v":0},{"$f":"analyse!$B$1","v":0},0,0,0,0]
[null,null,{"$f":"IF(ISNA(VLOOKUP(A95,analyse!D:E,2,FALSE))=TRUE,0,(VLOOKUP(A95,analyse!D:E,2,FALSE)))","v":0},{"$f":"analyse!$B$1","v":0},0,0,0,0]
[null,null,{"$f":"IF(ISNA(VLOOKUP(A96,analyse!D:E,2,FALSE))=TRUE,0,(VLOOKUP(A96,analyse!D:E,2,FALSE)))","v":0},{"$f":"analyse!$B$1","v":0},0,0,0,0]
[null,null,{"$f":"IF(ISNA(VLOOKUP(A97,analyse!D:E,2,FALSE))=TRUE,0,(VLOOKUP(A97,analyse!D:E,2,FALSE)))","v":0},{"$f":"analyse!$B$1","v":0},0,0,0,0]
[null,null,{"$f":"IF(ISNA(VLOOKUP(A98,analyse!D:E,2,FALSE))=TRUE,0,(VLOOKUP(A98,analyse!D:E,2,FALSE)))","v":0},{"$f":"analyse!$B$1","v":0},0,0,0,0]
[null,null,{"$f":"IF(ISNA(VLOOKUP(A99,analyse!D:E,2,FALSE))=TRUE,0,(VLOOKUP(A99,analyse!D:E,2,FALSE)))","v":0},{"$f":"analyse!$B$1","v":0},0,0,0,0]
[null,null,{"$f":"IF(ISNA(VLOOKUP(A100,analyse!D:E,2,FALSE))=TRUE,0,(VLOOKUP(A100,analyse!D:E,2,FALSE)))","v":0},{"$f":"analyse!$B$1","v":0},0,0,0,0]
[null,null,{"$f":"IF(ISNA(VLOOKUP(A101,analyse!D:E,2,FALSE))=TRUE,0,(VLOOKUP(A101,analyse!D:E,2,FALSE)))","v":0},{"$f":"analyse!$B$1","v":0},0,0,0,0]
[null,null,{"$f":"IF(ISNA(VLOOKUP(A102,analyse!D:E,2,FALSE))=TRUE,0,(VLOOKUP(A102,analyse!D:E,2,FALSE)))","v":0},{"$f":"analyse!$B$1","v":0},0,0,0,0]
[null,null,{"$f":"IF(ISNA(VLOOKUP(A103,analyse!D:E,2,FALSE))=TRUE,0,(VLOOKUP(A103,analyse!D:E,2,FALSE)))","v":0},{"$f":"analyse!$B$1","v":0},0,0,0,0]
[null,null,{"$f":"IF(ISNA(VLOOKUP(A104,analyse!D:E,2,FALSE))=TRUE,0,(VLOOKUP(A104,analyse!D:E,2,FALSE)))","v":0},{"$f":"analyse!$B$1","v":0},0,0,0,0]
[null,null,{"$f":"IF(ISNA(VLOOKUP(A105,analyse!D:E,2,FALSE))=TRUE,0,(VLOOKUP(A105,analyse!D:E,2,FALSE)))","v":0},{"$f":"analyse!$B$1","v":0},0,0,0,0]
[null,null,{"$f":"IF(ISNA(VLOOKUP(A106,analyse!D:E,2,FALSE))=TRUE,0,(VLOOKUP(A106,analyse!D:E,2,FALSE)))","v":0},{"$f":"analyse!$B$1","v":0},0,0,0,0]
[null,null,{"$f":"IF(ISNA(VLOOKUP(A107,analyse!D:E,2,FALSE))=TRUE,0,(VLOOKUP(A107,analyse!D:E,2,FALSE)))","v":0},{"$f":"analyse!$B$1","v":0},0,0,0,0]
[null,null,{"$f":"IF(ISNA(VLOOKUP(A108,analyse!D:E,2,FALSE))=TRUE,0,(VLOOKUP(A108,analyse!D:E,2,FALSE)))","v":0},{"$f":"analyse!$B$1","v":0},0,0,0,0]
[null,null,{"$f":"IF(ISNA(VLOOKUP(A109,analyse!D:E,2,FALSE))=TRUE,0,(VLOOKUP(A109,analyse!D:E,2,FALSE)))","v":0},{"$f":"analyse!$B$1","v":0},0,0,0,0]
[null,null,{"$f":"IF(ISNA(VLOOKUP(A110,analyse!D:E,2,FALSE))=TRUE,0,(VLOOKUP(A110,analyse!D:E,2,FALSE)))","v":0},{"$f":"analyse!$B$1","v":0},0,0,0,0]
[null,null,{"$f":"IF(ISNA(VLOOKUP(A111,analyse!D:E,2,FALSE))=TRUE,0,(VLOOKUP(A111,analyse!D:E,2,FALSE)))","v":0},{"$f":"analyse!$B$1","v":0},0,0,0,0]
[null,null,{"$f":"IF(ISNA(VLOOKUP(A112,analyse!D:E,2,FALSE))=TRUE,0,(VLOOKUP(A112,analyse!D:E,2,FALSE)))","v":0},{"$f":"analyse!$B$1","v":0},0,0,0,0]
[null,null,{"$f":"IF(ISNA(VLOOKUP(A113,analyse!D:E,2,FALSE))=TRUE,0,(VLOOKUP(A113,analyse!D:E,2,FALSE)))","v":0},{"$f":"analyse!$B$1","v":0},0,0,0,0]
[null,null,{"$f":"IF(ISNA(VLOOKUP(A114,analyse!D:E,2,FALSE))=TRUE,0,(VLOOKUP(A114,analyse!D:E,2,FALSE)))","v":0},{"$f":"analyse!$B$1","v":0},0,0,0,0]
[null,null,{"$f":"IF(ISNA(VLOOKUP(A115,analyse!D:E,2,FALSE))=TRUE,0,(VLOOKUP(A115,analyse!D:E,2,FALSE)))","v":0},{"$f":"analyse!$B$1","v":0},0,0,0,0]
[null,null,{"$f":"IF(ISNA(VLOOKUP(A116,analyse!D:E,2,FALSE))=TRUE,0,(VLOOKUP(A116,analyse!D:E,2,FALSE)))","v":0},{"$f":"analyse!$B$1","v":0},0,0,0,0]
[null,null,{"$f":"IF(ISNA(VLOOKUP(A117,analyse!D:E,2,FALSE))=TRUE,0,(VLOOKUP(A117,analyse!D:E,2,FALSE)))","v":0},{"$f":"analyse!$B$1","v":0},0,0,0,0]
[null,null,{"$f":"IF(ISNA(VLOOKUP(A118,analyse!D:E,2,FALSE))=TRUE,0,(VLOOKUP(A118,analyse!D:E,2,FALSE)))","v":0},{"$f":"analyse!$B$1","v":0},0,0,0,0]
[null,null,{"$f":"IF(ISNA(VLOOKUP(A119,analyse!D:E,2,FALSE))=TRUE,0,(VLOOKUP(A119,analyse!D:E,2,FALSE)))","v":0},{"$f":"analyse!$B$1","v":0},0,0,0,0]
[null,null,{"$f":"IF(ISNA(VLOOKUP(A120,analyse!D:E,2,FALSE))=TRUE,0,(VLOOKUP(A120,analyse!D:E,2,FALSE)))","v":0},{"$f":"analyse!$B$1","v":0},0,0,0,0]
[null,null,{"$f":"IF(ISNA(VLOOKUP(A121,analyse!D:E,2,FALSE))=TRUE,0,(VLOOKUP(A121,analyse!D:E,2,FALSE)))","v":0},{"$f":"analyse!$B$1","v":0},0,0,0,0]
[null,null,{"$f":"IF(ISNA(VLOOKUP(A122,analyse!D:E,2,FALSE))=TRUE,0,(VLOOKUP(A122,analyse!D:E,2,FALSE)))","v":0},{"$f":"analyse!$B$1","v":0},0,0,0,0]
[null,null,{"$f":"IF(ISNA(VLOOKUP(A123,analyse!D:E,2,FALSE))=TRUE,0,(VLOOKUP(A123,analyse!D:E,2,FALSE)))","v":0},{"$f":"analyse!$B$1","v":0},0,0,0,0]
[null,null,{"$f":"IF(ISNA(VLOOKUP(A124,analyse!D:E,2,FALSE))=TRUE,0,(VLOOKUP(A124,analyse!D:E,2,FALSE)))","v":0},{"$f":"analyse!$B$1","v":0},0,0,0,0]
[null,null,{"$f":"IF(ISNA(VLOOKUP(A125,analyse!D:E,2,FALSE))=TRUE,0,(VLOOKUP(A125,analyse!D:E,2,FALSE)))","v":0},{"$f":"analyse!$B$1","v":0},0,0,0,0]
[null,null,{"$f":"IF(ISNA(VLOOKUP(A126,analyse!D:E,2,FALSE))=TRUE,0,(VLOOKUP(A126,analyse!D:E,2,FALSE)))","v":0},{"$f":"analyse!$B$1","v":0},0,0,0,0]
[null,null,{"$f":"IF(ISNA(VLOOKUP(A127,analyse!D:E,2,FALSE))=TRUE,0,(VLOOKUP(A127,analyse!D:E,2,FALSE)))","v":0},{"$f":"analyse!$B$1","v":0},0,0,0,0]
[null,null,{"$f":"IF(ISNA(VLOOKUP(A128,analyse!D:E,2,FALSE))=TRUE,0,(VLOOKUP(A128,analyse!D:E,2,FALSE)))","v":0},{"$f":"analyse!$B$1","v":0},0,0,0,0]
[null,null,{"$f":"IF(ISNA(VLOOKUP(A129,analyse!D:E,2,FALSE))=TRUE,0,(VLOOKUP(A129,analyse!D:E,2,FALSE)))","v":0},{"$f":"analyse!$B$1","v":0},0,0,0,0]
[null,null,{"$f":"IF(ISNA(VLOOKUP(A130,analyse!D:E,2,FALSE))=TRUE,0,(VLOOKUP(A130,analyse!D:E,2,FALSE)))","v":0},{"$f":"analyse!$B$1","v":0},{"$f":"D130-C130","v":0},{"$f":"E130+C130","v":0},{"$f":"IF(F130<E130,D130-1,D130)","v":0},{"$f":"IF(A130=\"S20.G01.00.001\",H129+1,H129)","v":0}]
[null,null,{"$f":"IF(ISNA(VLOOKUP(A131,analyse!D:E,2,FALSE))=TRUE,0,(VLOOKUP(A131,analyse!D:E,2,FALSE)))","v":0},{"$f":"analyse!$B$1","v":0},0,0,0,0]
[null,null,{"$f":"IF(ISNA(VLOOKUP(A132,analyse!D:E,2,FALSE))=TRUE,0,(VLOOKUP(A132,analyse!D:E,2,FALSE)))","v":0},{"$f":"analyse!$B$1","v":0},0,0,0,0]
[null,null,{"$f":"IF(ISNA(VLOOKUP(A133,analyse!D:E,2,FALSE))=TRUE,0,(VLOOKUP(A133,analyse!D:E,2,FALSE)))","v":0},{"$f":"analyse!$B$1","v":0},0,0,0,0]
[null,null,{"$f":"IF(ISNA(VLOOKUP(A134,analyse!D:E,2,FALSE))=TRUE,0,(VLOOKUP(A134,analyse!D:E,2,FALSE)))","v":0},{"$f":"analyse!$B$1","v":0},0,0,0,0]
[null,null,{"$f":"IF(ISNA(VLOOKUP(A135,analyse!D:E,2,FALSE))=TRUE,0,(VLOOKUP(A135,analyse!D:E,2,FALSE)))","v":0},{"$f":"analyse!$B$1","v":0},0,0,0,0]
[null,null,{"$f":"IF(ISNA(VLOOKUP(A136,analyse!D:E,2,FALSE))=TRUE,0,(VLOOKUP(A136,analyse!D:E,2,FALSE)))","v":0},{"$f":"analyse!$B$1","v":0},0,0,0,0]
[null,null,{"$f":"IF(ISNA(VLOOKUP(A137,analyse!D:E,2,FALSE))=TRUE,0,(VLOOKUP(A137,analyse!D:E,2,FALSE)))","v":0},{"$f":"analyse!$B$1","v":0},0,0,0,0]
[null,null,{"$f":"IF(ISNA(VLOOKUP(A138,analyse!D:E,2,FALSE))=TRUE,0,(VLOOKUP(A138,analyse!D:E,2,FALSE)))","v":0},{"$f":"analyse!$B$1","v":0},0,0,0,0]
[null,null,{"$f":"IF(ISNA(VLOOKUP(A139,analyse!D:E,2,FALSE))=TRUE,0,(VLOOKUP(A139,analyse!D:E,2,FALSE)))","v":0},{"$f":"analyse!$B$1","v":0},0,0,0,0]
[null,null,{"$f":"IF(ISNA(VLOOKUP(A140,analyse!D:E,2,FALSE))=TRUE,0,(VLOOKUP(A140,analyse!D:E,2,FALSE)))","v":0},{"$f":"analyse!$B$1","v":0},0,0,0,0]
[null,null,{"$f":"IF(ISNA(VLOOKUP(A141,analyse!D:E,2,FALSE))=TRUE,0,(VLOOKUP(A141,analyse!D:E,2,FALSE)))","v":0},{"$f":"analyse!$B$1","v":0},0,0,0,0]
[null,null,{"$f":"IF(ISNA(VLOOKUP(A142,analyse!D:E,2,FALSE))=TRUE,0,(VLOOKUP(A142,analyse!D:E,2,FALSE)))","v":0},{"$f":"analyse!$B$1","v":0},0,0,0,0]
[null,null,{"$f":"IF(ISNA(VLOOKUP(A143,analyse!D:E,2,FALSE))=TRUE,0,(VLOOKUP(A143,analyse!D:E,2,FALSE)))","v":0},{"$f":"analyse!$B$1","v":0},0,0,0,0]
[null,null,{"$f":"IF(ISNA(VLOOKUP(A144,analyse!D:E,2,FALSE))=TRUE,0,(VLOOKUP(A144,analyse!D:E,2,FALSE)))","v":0},{"$f":"analyse!$B$1","v":0},0,0,0,0]
[null,null,{"$f":"IF(ISNA(VLOOKUP(A145,analyse!D:E,2,FALSE))=TRUE,0,(VLOOKUP(A145,analyse!D:E,2,FALSE)))","v":0},{"$f":"analyse!$B$1","v":0},0,0,0,0]
[null,null,{"$f":"IF(ISNA(VLOOKUP(A146,analyse!D:E,2,FALSE))=TRUE,0,(VLOOKUP(A146,analyse!D:E,2,FALSE)))","v":0},{"$f":"analyse!$B$1","v":0},0,0,0,0]
[null,null,{"$f":"IF(ISNA(VLOOKUP(A147,analyse!D:E,2,FALSE))=TRUE,0,(VLOOKUP(A147,analyse!D:E,2,FALSE)))","v":0},{"$f":"analyse!$B$1","v":0},0,0,0,0]
[null,null,{"$f":"IF(ISNA(VLOOKUP(A148,analyse!D:E,2,FALSE))=TRUE,0,(VLOOKUP(A148,analyse!D:E,2,FALSE)))","v":0},{"$f":"analyse!$B$1","v":0},0,0,0,0]
[null,null,{"$f":"IF(ISNA(VLOOKUP(A149,analyse!D:E,2,FALSE))=TRUE,0,(VLOOKUP(A149,analyse!D:E,2,FALSE)))","v":0},{"$f":"analyse!$B$1","v":0},0,0,0,0]
[null,null,{"$f":"IF(ISNA(VLOOKUP(A150,analyse!D:E,2,FALSE))=TRUE,0,(VLOOKUP(A150,analyse!D:E,2,FALSE)))","v":0},{"$f":"analyse!$B$1","v":0},0,0,0,0]
[null,null,{"$f":"IF(ISNA(VLOOKUP(A151,analyse!D:E,2,FALSE))=TRUE,0,(VLOOKUP(A151,analyse!D:E,2,FALSE)))","v":0},{"$f":"analyse!$B$1","v":0},0,0,0,0]
[null,null,{"$f":"IF(ISNA(VLOOKUP(A152,analyse!D:E,2,FALSE))=TRUE,0,(VLOOKUP(A152,analyse!D:E,2,FALSE)))","v":0},{"$f":"analyse!$B$1","v":0},0,0,0,0]
[null,null,{"$f":"IF(ISNA(VLOOKUP(A153,analyse!D:E,2,FALSE))=TRUE,0,(VLOOKUP(A153,analyse!D:E,2,FALSE)))","v":0},{"$f":"analyse!$B$1","v":0},0,0,0,0]
[null,null,{"$f":"IF(ISNA(VLOOKUP(A154,analyse!D:E,2,FALSE))=TRUE,0,(VLOOKUP(A154,analyse!D:E,2,FALSE)))","v":0},{"$f":"analyse!$B$1","v":0},0,0,0,0]
[null,null,{"$f":"IF(ISNA(VLOOKUP(A155,analyse!D:E,2,FALSE))=TRUE,0,(VLOOKUP(A155,analyse!D:E,2,FALSE)))","v":0},{"$f":"analyse!$B$1","v":0},0,0,0,0]
[null,null,{"$f":"IF(ISNA(VLOOKUP(A156,analyse!D:E,2,FALSE))=TRUE,0,(VLOOKUP(A156,analyse!D:E,2,FALSE)))","v":0},{"$f":"analyse!$B$1","v":0},0,0,0,0]
[null,null,{"$f":"IF(ISNA(VLOOKUP(A157,analyse!D:E,2,FALSE))=TRUE,0,(VLOOKUP(A157,analyse!D:E,2,FALSE)))","v":0},{"$f":"analyse!$B$1","v":0},0,0,0,0]
[null,null,{"$f":"IF(ISNA(VLOOKUP(A158,analyse!D:E,2,FALSE))=TRUE,0,(VLOOKUP(A158,analyse!D:E,2,FALSE)))","v":0},{"$f":"analyse!$B$1","v":0},0,0,0,0]
[null,null,{"$f":"IF(ISNA(VLOOKUP(A159,analyse!D:E,2,FALSE))=TRUE,0,(VLOOKUP(A159,analyse!D:E,2,FALSE)))","v":0},{"$f":"analyse!$B$1","v":0},0,0,0,0]
[null,null,{"$f":"IF(ISNA(VLOOKUP(A160,analyse!D:E,2,FALSE))=TRUE,0,(VLOOKUP(A160,analyse!D:E,2,FALSE)))","v":0},{"$f":"analyse!$B$1","v":0},0,0,0,0]
[null,null,{"$f":"IF(ISNA(VLOOKUP(A161,analyse!D:E,2,FALSE))=TRUE,0,(VLOOKUP(A161,analyse!D:E,2,FALSE)))","v":0},{"$f":"analyse!$B$1","v":0},0,0,0,0]
[null,null,{"$f":"IF(ISNA(VLOOKUP(A162,analyse!D:E,2,FALSE))=TRUE,0,(VLOOKUP(A162,analyse!D:E,2,FALSE)))","v":0},{"$f":"analyse!$B$1","v":0},0,0,0,0]
[null,null,{"$f":"IF(ISNA(VLOOKUP(A163,analyse!D:E,2,FALSE))=TRUE,0,(VLOOKUP(A163,analyse!D:E,2,FALSE)))","v":0},{"$f":"analyse!$B$1","v":0},0,0,0,0]
[null,null,{"$f":"IF(ISNA(VLOOKUP(A164,analyse!D:E,2,FALSE))=TRUE,0,(VLOOKUP(A164,analyse!D:E,2,FALSE)))","v":0},{"$f":"analyse!$B$1","v":0},0,0,0,0]
[null,null,{"$f":"IF(ISNA(VLOOKUP(A165,analyse!D:E,2,FALSE))=TRUE,0,(VLOOKUP(A165,analyse!D:E,2,FALSE)))","v":0},{"$f":"analyse!$B$1","v":0},0,0,0,0]
[null,null,{"$f":"IF(ISNA(VLOOKUP(A166,analyse!D:E,2,FALSE))=TRUE,0,(VLOOKUP(A166,analyse!D:E,2,FALSE)))","v":0},{"$f":"analyse!$B$1","v":0},0,0,0,0]
[null,null,{"$f":"IF(ISNA(VLOOKUP(A167,analyse!D:E,2,FALSE))=TRUE,0,(VLOOKUP(A167,analyse!D:E,2,FALSE)))","v":0},{"$f":"analyse!$B$1","v":0},0,0,0,0]
[null,null,{"$f":"IF(ISNA(VLOOKUP(A168,analyse!D:E,2,FALSE))=TRUE,0,(VLOOKUP(A168,analyse!D:E,2,FALSE)))","v":0},{"$f":"analyse!$B$1","v":0},0,0,0,0]
[null,null,{"$f":"IF(ISNA(VLOOKUP(A169,analyse!D:E,2,FALSE))=TRUE,0,(VLOOKUP(A169,analyse!D:E,2,FALSE)))","v":0},{"$f":"analyse!$B$1","v":0},0,0,0,0]
[null,null,{"$f":"IF(ISNA(VLOOKUP(A170,analyse!D:E,2,FALSE))=TRUE,0,(VLOOKUP(A170,analyse!D:E,2,FALSE)))","v":0},{"$f":"analyse!$B$1","v":0},0,0,0,0]
[null,null,{"$f":"IF(ISNA(VLOOKUP(A171,analyse!D:E,2,FALSE))=TRUE,0,(VLOOKUP(A171,analyse!D:E,2,FALSE)))","v":0},{"$f":"analyse!$B$1","v":0},0,0,0,0]
[null,null,{"$f":"IF(ISNA(VLOOKUP(A172,analyse!D:E,2,FALSE))=TRUE,0,(VLOOKUP(A172,analyse!D:E,2,FALSE)))","v":0},{"$f":"analyse!$B$1","v":0},0,0,0,0]
[null,null,{"$f":"IF(ISNA(VLOOKUP(A173,analyse!D:E,2,FALSE))=TRUE,0,(VLOOKUP(A173,analyse!D:E,2,FALSE)))","v":0},{"$f":"analyse!$B$1","v":0},0,0,0,0]
[null,null,{"$f":"IF(ISNA(VLOOKUP(A174,analyse!D:E,2,FALSE))=TRUE,0,(VLOOKUP(A174,analyse!D:E,2,FALSE)))","v":0},{"$f":"analyse!$B$1","v":0},0,0,0,0]
[null,null,{"$f":"IF(ISNA(VLOOKUP(A175,analyse!D:E,2,FALSE))=TRUE,0,(VLOOKUP(A175,analyse!D:E,2,FALSE)))","v":0},{"$f":"analyse!$B$1","v":0},0,0,0,0]
[null,null,{"$f":"IF(ISNA(VLOOKUP(A176,analyse!D:E,2,FALSE))=TRUE,0,(VLOOKUP(A176,analyse!D:E,2,FALSE)))","v":0},{"$f":"analyse!$B$1","v":0},0,0,0,0]
[null,null,{"$f":"IF(ISNA(VLOOKUP(A177,analyse!D:E,2,FALSE))=TRUE,0,(VLOOKUP(A177,analyse!D:E,2,FALSE)))","v":0},{"$f":"analyse!$B$1","v":0},0,0,0,0]
[null,null,{"$f":"IF(ISNA(VLOOKUP(A178,analyse!D:E,2,FALSE))=TRUE,0,(VLOOKUP(A178,analyse!D:E,2,FALSE)))","v":0},{"$f":"analyse!$B$1","v":0},0,0,0,0]
[null,null,{"$f":"IF(ISNA(VLOOKUP(A179,analyse!D:E,2,FALSE))=TRUE,0,(VLOOKUP(A179,analyse!D:E,2,FALSE)))","v":0},{"$f":"analyse!$B$1","v":0},0,0,0,0]
[null,null,{"$f":"IF(ISNA(VLOOKUP(A180,analyse!D:E,2,FALSE))=TRUE,0,(VLOOKUP(A180,analyse!D:E,2,FALSE)))","v":0},{"$f":"analyse!$B$1","v":0},0,0,0,0]
[null,null,{"$f":"IF(ISNA(VLOOKUP(A181,analyse!D:E,2,FALSE))=TRUE,0,(VLOOKUP(A181,analyse!D:E,2,FALSE)))","v":0},{"$f":"analyse!$B$1","v":0},0,0,0,0]
[null,null,{"$f":"IF(ISNA(VLOOKUP(A182,analyse!D:E,2,FALSE))=TRUE,0,(VLOOKUP(A182,analyse!D:E,2,FALSE)))","v":0},{"$f":"analyse!$B$1","v":0},0,0,0,0]
[null,null,{"$f":"IF(ISNA(VLOOKUP(A183,analyse!D:E,2,FALSE))=TRUE,0,(VLOOKUP(A183,analyse!D:E,2,FALSE)))","v":0},{"$f":"analyse!$B$1","v":0},0,0,0,0]
[null,null,{"$f":"IF(ISNA(VLOOKUP(A184,analyse!D:E,2,FALSE))=TRUE,0,(VLOOKUP(A184,analyse!D:E,2,FALSE)))","v":0},{"$f":"analyse!$B$1","v":0},0,0,0,0]
[null,null,{"$f":"IF(ISNA(VLOOKUP(A185,analyse!D:E,2,FALSE))=TRUE,0,(VLOOKUP(A185,analyse!D:E,2,FALSE)))","v":0},{"$f":"analyse!$B$1","v":0},0,0,0,0]
[null,null,{"$f":"IF(ISNA(VLOOKUP(A186,analyse!D:E,2,FALSE))=TRUE,0,(VLOOKUP(A186,analyse!D:E,2,FALSE)))","v":0},{"$f":"analyse!$B$1","v":0},0,0,0,0]
[null,null,{"$f":"IF(ISNA(VLOOKUP(A187,analyse!D:E,2,FALSE))=TRUE,0,(VLOOKUP(A187,analyse!D:E,2,FALSE)))","v":0},{"$f":"analyse!$B$1","v":0},0,0,0,0]
[null,null,{"$f":"IF(ISNA(VLOOKUP(A188,analyse!D:E,2,FALSE))=TRUE,0,(VLOOKUP(A188,analyse!D:E,2,FALSE)))","v":0},{"$f":"analyse!$B$1","v":0},0,0,0,0]
[null,null,{"$f":"IF(ISNA(VLOOKUP(A189,analyse!D:E,2,FALSE))=TRUE,0,(VLOOKUP(A189,analyse!D:E,2,FALSE)))","v":0},{"$f":"analyse!$B$1","v":0},0,0,0,0]
[null,null,{"$f":"IF(ISNA(VLOOKUP(A190,analyse!D:E,2,FALSE))=TRUE,0,(VLOOKUP(A190,analyse!D:E,2,FALSE)))","v":0},{"$f":"analyse!$B$1","v":0},0,0,0,0]
[null,null,{"$f":"IF(ISNA(VLOOKUP(A191,analyse!D:E,2,FALSE))=TRUE,0,(VLOOKUP(A191,analyse!D:E,2,FALSE)))","v":0},{"$f":"analyse!$B$1","v":0},0,0,0,0]
[null,null,{"$f":"IF(ISNA(VLOOKUP(A192,analyse!D:E,2,FALSE))=TRUE,0,(VLOOKUP(A192,analyse!D:E,2,FALSE)))","v":0},{"$f":"analyse!$B$1","v":0},0,0,0,0]
[null,null,{"$f":"IF(ISNA(VLOOKUP(A193,analyse!D:E,2,FALSE))=TRUE,0,(VLOOKUP(A193,analyse!D:E,2,FALSE)))","v":0},{"$f":"analyse!$B$1","v":0},0,0,0,0]
[null,null,{"$f":"IF(ISNA(VLOOKUP(A194,analyse!D:E,2,FALSE))=TRUE,0,(VLOOKUP(A194,analyse!D:E,2,FALSE)))","v":0},{"$f":"analyse!$B$1","v":0},{"$f":"D194-C194","v":0},{"$f":"E194+C194","v":0},{"$f":"IF(F194<E194,D194-1,D194)","v":0},{"$f":"IF(A194=\"S20.G01.00.001\",H193+1,H193)","v":0}]
[null,null,{"$f":"IF(ISNA(VLOOKUP(A195,analyse!D:E,2,FALSE))=TRUE,0,(VLOOKUP(A195,analyse!D:E,2,FALSE)))","v":0},{"$f":"analyse!$B$1","v":0},0,0,0,0]
[null,null,{"$f":"IF(ISNA(VLOOKUP(A196,analyse!D:E,2,FALSE))=TRUE,0,(VLOOKUP(A196,analyse!D:E,2,FALSE)))","v":0},{"$f":"analyse!$B$1","v":0},0,0,0,0]
[null,null,{"$f":"IF(ISNA(VLOOKUP(A197,analyse!D:E,2,FALSE))=TRUE,0,(VLOOKUP(A197,analyse!D:E,2,FALSE)))","v":0},{"$f":"analyse!$B$1","v":0},0,0,0,0]
[null,null,{"$f":"IF(ISNA(VLOOKUP(A198,analyse!D:E,2,FALSE))=TRUE,0,(VLOOKUP(A198,analyse!D:E,2,FALSE)))","v":0},{"$f":"analyse!$B$1","v":0},0,0,0,0]
[null,null,{"$f":"IF(ISNA(VLOOKUP(A199,analyse!D:E,2,FALSE))=TRUE,0,(VLOOKUP(A199,analyse!D:E,2,FALSE)))","v":0},{"$f":"analyse!$B$1","v":0},0,0,0,0]
[null,null,{"$f":"IF(ISNA(VLOOKUP(A200,analyse!D:E,2,FALSE))=TRUE,0,(VLOOKUP(A200,analyse!D:E,2,FALSE)))","v":0},{"$f":"analyse!$B$1","v":0},0,0,0,0]
[null,null,{"$f":"IF(ISNA(VLOOKUP(A201,analyse!D:E,2,FALSE))=TRUE,0,(VLOOKUP(A201,analyse!D:E,2,FALSE)))","v":0},{"$f":"analyse!$B$1","v":0},0,0,0,0]
[null,null,{"$f":"IF(ISNA(VLOOKUP(A202,analyse!D:E,2,FALSE))=TRUE,0,(VLOOKUP(A202,analyse!D:E,2,FALSE)))","v":0},{"$f":"analyse!$B$1","v":0},0,0,0,0]
[null,null,{"$f":"IF(ISNA(VLOOKUP(A203,analyse!D:E,2,FALSE))=TRUE,0,(VLOOKUP(A203,analyse!D:E,2,FALSE)))","v":0},{"$f":"analyse!$B$1","v":0},0,0,0,0]
[null,null,{"$f":"IF(ISNA(VLOOKUP(A204,analyse!D:E,2,FALSE))=TRUE,0,(VLOOKUP(A204,analyse!D:E,2,FALSE)))","v":0},{"$f":"analyse!$B$1","v":0},0,0,0,0]
[null,null,{"$f":"IF(ISNA(VLOOKUP(A205,analyse!D:E,2,FALSE))=TRUE,0,(VLOOKUP(A205,analyse!D:E,2,FALSE)))","v":0},{"$f":"analyse!$B$1","v":0},0,0,0,0]
[null,null,{"$f":"IF(ISNA(VLOOKUP(A206,analyse!D:E,2,FALSE))=TRUE,0,(VLOOKUP(A206,analyse!D:E,2,FALSE)))","v":0},{"$f":"analyse!$B$1","v":0},0,0,0,0]
[null,null,{"$f":"IF(ISNA(VLOOKUP(A207,analyse!D:E,2,FALSE))=TRUE,0,(VLOOKUP(A207,analyse!D:E,2,FALSE)))","v":0},{"$f":"analyse!$B$1","v":0},0,0,0,0]
[null,null,{"$f":"IF(ISNA(VLOOKUP(A208,analyse!D:E,2,FALSE))=TRUE,0,(VLOOKUP(A208,analyse!D:E,2,FALSE)))","v":0},{"$f":"analyse!$B$1","v":0},0,0,0,0]
[null,null,{"$f":"IF(ISNA(VLOOKUP(A209,analyse!D:E,2,FALSE))=TRUE,0,(VLOOKUP(A209,analyse!D:E,2,FALSE)))","v":0},{"$f":"analyse!$B$1","v":0},0,0,0,0]
[null,null,{"$f":"IF(ISNA(VLOOKUP(A210,analyse!D:E,2,FALSE))=TRUE,0,(VLOOKUP(A210,analyse!D:E,2,FALSE)))","v":0},{"$f":"analyse!$B$1","v":0},0,0,0,0]
[null,null,{"$f":"IF(ISNA(VLOOKUP(A211,analyse!D:E,2,FALSE))=TRUE,0,(VLOOKUP(A211,analyse!D:E,2,FALSE)))","v":0},{"$f":"analyse!$B$1","v":0},0,0,0,0]
[null,null,{"$f":"IF(ISNA(VLOOKUP(A212,analyse!D:E,2,FALSE))=TRUE,0,(VLOOKUP(A212,analyse!D:E,2,FALSE)))","v":0},{"$f":"analyse!$B$1","v":0},0,0,0,0]
[null,null,{"$f":"IF(ISNA(VLOOKUP(A213,analyse!D:E,2,FALSE))=TRUE,0,(VLOOKUP(A213,analyse!D:E,2,FALSE)))","v":0},{"$f":"analyse!$B$1","v":0},0,0,0,0]
[null,null,{"$f":"IF(ISNA(VLOOKUP(A214,analyse!D:E,2,FALSE))=TRUE,0,(VLOOKUP(A214,analyse!D:E,2,FALSE)))","v":0},{"$f":"analyse!$B$1","v":0},0,0,0,0]
[null,null,{"$f":"IF(ISNA(VLOOKUP(A215,analyse!D:E,2,FALSE))=TRUE,0,(VLOOKUP(A215,analyse!D:E,2,FALSE)))","v":0},{"$f":"analyse!$B$1","v":0},0,0,0,0]
[null,null,{"$f":"IF(ISNA(VLOOKUP(A216,analyse!D:E,2,FALSE))=TRUE,0,(VLOOKUP(A216,analyse!D:E,2,FALSE)))","v":0},{"$f":"analyse!$B$1","v":0},0,0,0,0]
[null,null,{"$f":"IF(ISNA(VLOOKUP(A217,analyse!D:E,2,FALSE))=TRUE,0,(VLOOKUP(A217,analyse!D:E,2,FALSE)))","v":0},{"$f":"analyse!$B$1","v":0},0,0,0,0]
[null,null,{"$f":"IF(ISNA(VLOOKUP(A218,analyse!D:E,2,FALSE))=TRUE,0,(VLOOKUP(A218,analyse!D:E,2,FALSE)))","v":0},{"$f":"analyse!$B$1","v":0},0,0,0,0]
[null,null,{"$f":"IF(ISNA(VLOOKUP(A219,analyse!D:E,2,FALSE))=TRUE,0,(VLOOKUP(A219,analyse!D:E,2,FALSE)))","v":0},{"$f":"analyse!$B$1","v":0},0,0,0,0]
[null,null,{"$f":"IF(ISNA(VLOOKUP(A220,analyse!D:E,2,FALSE))=TRUE,0,(VLOOKUP(A220,analyse!D:E,2,FALSE)))","v":0},{"$f":"analyse!$B$1","v":0},0,0,0,0]
[null,null,{"$f":"IF(ISNA(VLOOKUP(A221,analyse!D:E,2,FALSE))=TRUE,0,(VLOOKUP(A221,analyse!D:E,2,FALSE)))","v":0},{"$f":"analyse!$B$1","v":0},0,0,0,0]
[null,null,{"$f":"IF(ISNA(VLOOKUP(A222,analyse!D:E,2,FALSE))=TRUE,0,(VLOOKUP(A222,analyse!D:E,2,FALSE)))","v":0},{"$f":"analyse!$B$1","v":0},0,0,0,0]
[null,null,{"$f":"IF(ISNA(VLOOKUP(A223,analyse!D:E,2,FALSE))=TRUE,0,(VLOOKUP(A223,analyse!D:E,2,FALSE)))","v":0},{"$f":"analyse!$B$1","v":0},0,0,0,0]
[null,null,{"$f":"IF(ISNA(VLOOKUP(A224,analyse!D:E,2,FALSE))=TRUE,0,(VLOOKUP(A224,analyse!D:E,2,FALSE)))","v":0},{"$f":"analyse!$B$1","v":0},0,0,0,0]
[null,null,{"$f":"IF(ISNA(VLOOKUP(A225,analyse!D:E,2,FALSE))=TRUE,0,(VLOOKUP(A225,analyse!D:E,2,FALSE)))","v":0},{"$f":"analyse!$B$1","v":0},0,0,0,0]
[null,null,{"$f":"IF(ISNA(VLOOKUP(A226,analyse!D:E,2,FALSE))=TRUE,0,(VLOOKUP(A226,analyse!D:E,2,FALSE)))","v":0},{"$f":"analyse!$B$1","v":0},0,0,0,0]
[null,null,{"$f":"IF(ISNA(VLOOKUP(A227,analyse!D:E,2,FALSE))=TRUE,0,(VLOOKUP(A227,analyse!D:E,2,FALSE)))","v":0},{"$f":"analyse!$B$1","v":0},0,0,0,0]
[null,null,{"$f":"IF(ISNA(VLOOKUP(A228,analyse!D:E,2,FALSE))=TRUE,0,(VLOOKUP(A228,analyse!D:E,2,FALSE)))","v":0},{"$f":"analyse!$B$1","v":0},0,0,0,0]
[null,null,{"$f":"IF(ISNA(VLOOKUP(A229,analyse!D:E,2,FALSE))=TRUE,0,(VLOOKUP(A229,analyse!D:E,2,FALSE)))","v":0},{"$f":"analyse!$B$1","v":0},0,0,0,0]
[null,null,{"$f":"IF(ISNA(VLOOKUP(A230,analyse!D:E,2,FALSE))=TRUE,0,(VLOOKUP(A230,analyse!D:E,2,FALSE)))","v":0},{"$f":"analyse!$B$1","v":0},0,0,0,0]
[null,null,{"$f":"IF(ISNA(VLOOKUP(A231,analyse!D:E,2,FALSE))=TRUE,0,(VLOOKUP(A231,analyse!D:E,2,FALSE)))","v":0},{"$f":"analyse!$B$1","v":0},0,0,0,0]
[null,null,{"$f":"IF(ISNA(VLOOKUP(A232,analyse!D:E,2,FALSE))=TRUE,0,(VLOOKUP(A232,analyse!D:E,2,FALSE)))","v":0},{"$f":"analyse!$B$1","v":0},0,0,0,0]
[null,null,{"$f":"IF(ISNA(VLOOKUP(A233,analyse!D:E,2,FALSE))=TRUE,0,(VLOOKUP(A233,analyse!D:E,2,FALSE)))","v":0},{"$f":"analyse!$B$1","v":0},0,0,0,0]
[null,null,{"$f":"IF(ISNA(VLOOKUP(A234,analyse!D:E,2,FALSE))=TRUE,0,(VLOOKUP(A234,analyse!D:E,2,FALSE)))","v":0},{"$f":"analyse!$B$1","v":0},0,0,0,0]
[null,null,{"$f":"IF(ISNA(VLOOKUP(A235,analyse!D:E,2,FALSE))=TRUE,0,(VLOOKUP(A235,analyse!D:E,2,FALSE)))","v":0},{"$f":"analyse!$B$1","v":0},0,0,0,0]
[null,null,{"$f":"IF(ISNA(VLOOKUP(A236,analyse!D:E,2,FALSE))=TRUE,0,(VLOOKUP(A236,analyse!D:E,2,FALSE)))","v":0},{"$f":"analyse!$B$1","v":0},0,0,0,0]
[null,null,{"$f":"IF(ISNA(VLOOKUP(A237,analyse!D:E,2,FALSE))=TRUE,0,(VLOOKUP(A237,analyse!D:E,2,FALSE)))","v":0},{"$f":"analyse!$B$1","v":0},0,0,0,0]
[null,null,{"$f":"IF(ISNA(VLOOKUP(A238,analyse!D:E,2,FALSE))=TRUE,0,(VLOOKUP(A238,analyse!D:E,2,FALSE)))","v":0},{"$f":"analyse!$B$1","v":0},0,0,0,0]
[null,null,{"$f":"IF(ISNA(VLOOKUP(A239,analyse!D:E,2,FALSE))=TRUE,0,(VLOOKUP(A239,analyse!D:E,2,FALSE)))","v":0},{"$f":"analyse!$B$1","v":0},0,0,0,0]
[null,null,{"$f":"IF(ISNA(VLOOKUP(A240,analyse!D:E,2,FALSE))=TRUE,0,(VLOOKUP(A240,analyse!D:E,2,FALSE)))","v":0},{"$f":"analyse!$B$1","v":0},0,0,0,0]
[null,null,{"$f":"IF(ISNA(VLOOKUP(A241,analyse!D:E,2,FALSE))=TRUE,0,(VLOOKUP(A241,analyse!D:E,2,FALSE)))","v":0},{"$f":"analyse!$B$1","v":0},0,0,0,0]
[null,null,{"$f":"IF(ISNA(VLOOKUP(A242,analyse!D:E,2,FALSE))=TRUE,0,(VLOOKUP(A242,analyse!D:E,2,FALSE)))","v":0},{"$f":"analyse!$B$1","v":0},0,0,0,0]
[null,null,{"$f":"IF(ISNA(VLOOKUP(A243,analyse!D:E,2,FALSE))=TRUE,0,(VLOOKUP(A243,analyse!D:E,2,FALSE)))","v":0},{"$f":"analyse!$B$1","v":0},0,0,0,0]
[null,null,{"$f":"IF(ISNA(VLOOKUP(A244,analyse!D:E,2,FALSE))=TRUE,0,(VLOOKUP(A244,analyse!D:E,2,FALSE)))","v":0},{"$f":"analyse!$B$1","v":0},0,0,0,0]
[null,null,{"$f":"IF(ISNA(VLOOKUP(A245,analyse!D:E,2,FALSE))=TRUE,0,(VLOOKUP(A245,analyse!D:E,2,FALSE)))","v":0},{"$f":"analyse!$B$1","v":0},0,0,0,0]
[null,null,{"$f":"IF(ISNA(VLOOKUP(A246,analyse!D:E,2,FALSE))=TRUE,0,(VLOOKUP(A246,analyse!D:E,2,FALSE)))","v":0},{"$f":"analyse!$B$1","v":0},0,0,0,0]
[null,null,{"$f":"IF(ISNA(VLOOKUP(A247,analyse!D:E,2,FALSE))=TRUE,0,(VLOOKUP(A247,analyse!D:E,2,FALSE)))","v":0},{"$f":"analyse!$B$1","v":0},0,0,0,0]
[null,null,{"$f":"IF(ISNA(VLOOKUP(A248,analyse!D:E,2,FALSE))=TRUE,0,(VLOOKUP(A248,analyse!D:E,2,FALSE)))","v":0},{"$f":"analyse!$B$1","v":0},0,0,0,0]
[null,null,{"$f":"IF(ISNA(VLOOKUP(A249,analyse!D:E,2,FALSE))=TRUE,0,(VLOOKUP(A249,analyse!D:E,2,FALSE)))","v":0},{"$f":"analyse!$B$1","v":0},0,0,0,0]
[null,null,{"$f":"IF(ISNA(VLOOKUP(A250,analyse!D:E,2,FALSE))=TRUE,0,(VLOOKUP(A250,analyse!D:E,2,FALSE)))","v":0},{"$f":"analyse!$B$1","v":0},0,0,0,0]
[null,null,{"$f":"IF(ISNA(VLOOKUP(A251,analyse!D:E,2,FALSE))=TRUE,0,(VLOOKUP(A251,analyse!D:E,2,FALSE)))","v":0},{"$f":"analyse!$B$1","v":0},0,0,0,0]
[null,null,{"$f":"IF(ISNA(VLOOKUP(A252,analyse!D:E,2,FALSE))=TRUE,0,(VLOOKUP(A252,analyse!D:E,2,FALSE)))","v":0},{"$f":"analyse!$B$1","v":0},0,0,0,0]
[null,null,{"$f":"IF(ISNA(VLOOKUP(A253,analyse!D:E,2,FALSE))=TRUE,0,(VLOOKUP(A253,analyse!D:E,2,FALSE)))","v":0},{"$f":"analyse!$B$1","v":0},0,0,0,0]
[null,null,{"$f":"IF(ISNA(VLOOKUP(A254,analyse!D:E,2,FALSE))=TRUE,0,(VLOOKUP(A254,analyse!D:E,2,FALSE)))","v":0},{"$f":"analyse!$B$1","v":0},0,0,0,0]
[null,null,{"$f":"IF(ISNA(VLOOKUP(A255,analyse!D:E,2,FALSE))=TRUE,0,(VLOOKUP(A255,analyse!D:E,2,FALSE)))","v":0},{"$f":"analyse!$B$1","v":0},0,0,0,0]
[null,null,{"$f":"IF(ISNA(VLOOKUP(A256,analyse!D:E,2,FALSE))=TRUE,0,(VLOOKUP(A256,analyse!D:E,2,FALSE)))","v":0},{"$f":"analyse!$B$1","v":0},0,0,0,0]
[null,null,{"$f":"IF(ISNA(VLOOKUP(A257,analyse!D:E,2,FALSE))=TRUE,0,(VLOOKUP(A257,analyse!D:E,2,FALSE)))","v":0},{"$f":"analyse!$B$1","v":0},0,0,0,0]
[null,null,{"$f":"IF(ISNA(VLOOKUP(A258,analyse!D:E,2,FALSE))=TRUE,0,(VLOOKUP(A258,analyse!D:E,2,FALSE)))","v":0},{"$f":"analyse!$B$1","v":0},{"$f":"D258-C258","v":0},{"$f":"E258+C258","v":0},{"$f":"IF(F258<E258,D258-1,D258)","v":0},{"$f":"IF(A258=\"S20.G01.00.001\",H257+1,H257)","v":0}]
[null,null,{"$f":"IF(ISNA(VLOOKUP(A259,analyse!D:E,2,FALSE))=TRUE,0,(VLOOKUP(A259,analyse!D:E,2,FALSE)))","v":0},{"$f":"analyse!$B$1","v":0},0,0,0,0]
[null,null,{"$f":"IF(ISNA(VLOOKUP(A260,analyse!D:E,2,FALSE))=TRUE,0,(VLOOKUP(A260,analyse!D:E,2,FALSE)))","v":0},{"$f":"analyse!$B$1","v":0},0,0,0,0]
[null,null,{"$f":"IF(ISNA(VLOOKUP(A261,analyse!D:E,2,FALSE))=TRUE,0,(VLOOKUP(A261,analyse!D:E,2,FALSE)))","v":0},{"$f":"analyse!$B$1","v":0},0,0,0,0]
[null,null,{"$f":"IF(ISNA(VLOOKUP(A262,analyse!D:E,2,FALSE))=TRUE,0,(VLOOKUP(A262,analyse!D:E,2,FALSE)))","v":0},{"$f":"analyse!$B$1","v":0},0,0,0,0]
[null,null,{"$f":"IF(ISNA(VLOOKUP(A263,analyse!D:E,2,FALSE))=TRUE,0,(VLOOKUP(A263,analyse!D:E,2,FALSE)))","v":0},{"$f":"analyse!$B$1","v":0},0,0,0,0]
[null,null,{"$f":"IF(ISNA(VLOOKUP(A264,analyse!D:E,2,FALSE))=TRUE,0,(VLOOKUP(A264,analyse!D:E,2,FALSE)))","v":0},{"$f":"analyse!$B$1","v":0},0,0,0,0]
[null,null,{"$f":"IF(ISNA(VLOOKUP(A265,analyse!D:E,2,FALSE))=TRUE,0,(VLOOKUP(A265,analyse!D:E,2,FALSE)))","v":0},{"$f":"analyse!$B$1","v":0},0,0,0,0]
[null,null,{"$f":"IF(ISNA(VLOOKUP(A266,analyse!D:E,2,FALSE))=TRUE,0,(VLOOKUP(A266,analyse!D:E,2,FALSE)))","v":0},{"$f":"analyse!$B$1","v":0},0,0,0,0]
[null,null,{"$f":"IF(ISNA(VLOOKUP(A267,analyse!D:E,2,FALSE))=TRUE,0,(VLOOKUP(A267,analyse!D:E,2,FALSE)))","v":0},{"$f":"analyse!$B$1","v":0},0,0,0,0]
[null,null,{"$f":"IF(ISNA(VLOOKUP(A268,analyse!D:E,2,FALSE))=TRUE,0,(VLOOKUP(A268,analyse!D:E,2,FALSE)))","v":0},{"$f":"analyse!$B$1","v":0},0,0,0,0]
[null,null,{"$f":"IF(ISNA(VLOOKUP(A269,analyse!D:E,2,FALSE))=TRUE,0,(VLOOKUP(A269,analyse!D:E,2,FALSE)))","v":0},{"$f":"analyse!$B$1","v":0},0,0,0,0]
[null,null,{"$f":"IF(ISNA(VLOOKUP(A270,analyse!D:E,2,FALSE))=TRUE,0,(VLOOKUP(A270,analyse!D:E,2,FALSE)))","v":0},{"$f":"analyse!$B$1","v":0},0,0,0,0]
[null,null,{"$f":"IF(ISNA(VLOOKUP(A271,analyse!D:E,2,FALSE))=TRUE,0,(VLOOKUP(A271,analyse!D:E,2,FALSE)))","v":0},{"$f":"analyse!$B$1","v":0},0,0,0,0]
[null,null,{"$f":"IF(ISNA(VLOOKUP(A272,analyse!D:E,2,FALSE))=TRUE,0,(VLOOKUP(A272,analyse!D:E,2,FALSE)))","v":0},{"$f":"analyse!$B$1","v":0},0,0,0,0]
[null,null,{"$f":"IF(ISNA(VLOOKUP(A273,analyse!D:E,2,FALSE))=TRUE,0,(VLOOKUP(A273,analyse!D:E,2,FALSE)))","v":0},{"$f":"analyse!$B$1","v":0},0,0,0,0]
[null,null,{"$f":"IF(ISNA(VLOOKUP(A274,analyse!D:E,2,FALSE))=TRUE,0,(VLOOKUP(A274,analyse!D:E,2,FALSE)))","v":0},{"$f":"analyse!$B$1","v":0},0,0,0,0]
[null,null,{"$f":"IF(ISNA(VLOOKUP(A275,analyse!D:E,2,FALSE))=TRUE,0,(VLOOKUP(A275,analyse!D:E,2,FALSE)))","v":0},{"$f":"analyse!$B$1","v":0},0,0,0,0]
[null,null,{"$f":"IF(ISNA(VLOOKUP(A276,analyse!D:E,2,FALSE))=TRUE,0,(VLOOKUP(A276,analyse!D:E,2,FALSE)))","v":0},{"$f":"analyse!$B$1","v":0},0,0,0,0]
[null,null,{"$f":"IF(ISNA(VLOOKUP(A277,analyse!D:E,2,FALSE))=TRUE,0,(VLOOKUP(A277,analyse!D:E,2,FALSE)))","v":0},{"$f":"analyse!$B$1","v":0},0,0,0,0]
[null,null,{"$f":"IF(ISNA(VLOOKUP(A278,analyse!D:E,2,FALSE))=TRUE,0,(VLOOKUP(A278,analyse!D:E,2,FALSE)))","v":0},{"$f":"analyse!$B$1","v":0},0,0,0,0]
[null,null,{"$f":"IF(ISNA(VLOOKUP(A279,analyse!D:E,2,FALSE))=TRUE,0,(VLOOKUP(A279,analyse!D:E,2,FALSE)))","v":0},{"$f":"analyse!$B$1","v":0},0,0,0,0]
[null,null,{"$f":"IF(ISNA(VLOOKUP(A280,analyse!D:E,2,FALSE))=TRUE,0,(VLOOKUP(A280,analyse!D:E,2,FALSE)))","v":0},{"$f":"analyse!$B$1","v":0},0,0,0,0]
[null,null,{"$f":"IF(ISNA(VLOOKUP(A281,analyse!D:E,2,FALSE))=TRUE,0,(VLOOKUP(A281,analyse!D:E,2,FALSE)))","v":0},{"$f":"analyse!$B$1","v":0},0,0,0,0]
[null,null,{"$f":"IF(ISNA(VLOOKUP(A282,analyse!D:E,2,FALSE))=TRUE,0,(VLOOKUP(A282,analyse!D:E,2,FALSE)))","v":0},{"$f":"analyse!$B$1","v":0},0,0,0,0]
[null,null,{"$f":"IF(ISNA(VLOOKUP(A283,analyse!D:E,2,FALSE))=TRUE,0,(VLOOKUP(A283,analyse!D:E,2,FALSE)))","v":0},{"$f":"analyse!$B$1","v":0},0,0,0,0]
[null,null,{"$f":"IF(ISNA(VLOOKUP(A284,analyse!D:E,2,FALSE))=TRUE,0,(VLOOKUP(A284,analyse!D:E,2,FALSE)))","v":0},{"$f":"analyse!$B$1","v":0},0,0,0,0]
[null,null,{"$f":"IF(ISNA(VLOOKUP(A285,analyse!D:E,2,FALSE))=TRUE,0,(VLOOKUP(A285,analyse!D:E,2,FALSE)))","v":0},{"$f":"analyse!$B$1","v":0},0,0,0,0]
[null,null,{"$f":"IF(ISNA(VLOOKUP(A286,analyse!D:E,2,FALSE))=TRUE,0,(VLOOKUP(A286,analyse!D:E,2,FALSE)))","v":0},{"$f":"analyse!$B$1","v":0},0,0,0,0]
[null,null,{"$f":"IF(ISNA(VLOOKUP(A287,analyse!D:E,2,FALSE))=TRUE,0,(VLOOKUP(A287,analyse!D:E,2,FALSE)))","v":0},{"$f":"analyse!$B$1","v":0},0,0,0,0]
[null,null,{"$f":"IF(ISNA(VLOOKUP(A288,analyse!D:E,2,FALSE))=TRUE,0,(VLOOKUP(A288,analyse!D:E,2,FALSE)))","v":0},{"$f":"analyse!$B$1","v":0},0,0,0,0]
[null,null,{"$f":"IF(ISNA(VLOOKUP(A289,analyse!D:E,2,FALSE))=TRUE,0,(VLOOKUP(A289,analyse!D:E,2,FALSE)))","v":0},{"$f":"analyse!$B$1","v":0},0,0,0,0]
[null,null,{"$f":"IF(ISNA(VLOOKUP(A290,analyse!D:E,2,FALSE))=TRUE,0,(VLOOKUP(A290,analyse!D:E,2,FALSE)))","v":0},{"$f":"analyse!$B$1","v":0},0,0,0,0]
[null,null,{"$f":"IF(ISNA(VLOOKUP(A291,analyse!D:E,2,FALSE))=TRUE,0,(VLOOKUP(A291,analyse!D:E,2,FALSE)))","v":0},{"$f":"analyse!$B$1","v":0},0,0,0,0]
[null,null,{"$f":"IF(ISNA(VLOOKUP(A292,analyse!D:E,2,FALSE))=TRUE,0,(VLOOKUP(A292,analyse!D:E,2,FALSE)))","v":0},{"$f":"analyse!$B$1","v":0},0,0,0,0]
[null,null,{"$f":"IF(ISNA(VLOOKUP(A293,analyse!D:E,2,FALSE))=TRUE,0,(VLOOKUP(A293,analyse!D:E,2,FALSE)))","v":0},{"$f":"analyse!$B$1","v":0},0,0,0,0]
[null,null,{"$f":"IF(ISNA(VLOOKUP(A294,analyse!D:E,2,FALSE))=TRUE,0,(VLOOKUP(A294,analyse!D:E,2,FALSE)))","v":0},{"$f":"analyse!$B$1","v":0},0,0,0,0]
[null,null,{"$f":"IF(ISNA(VLOOKUP(A295,analyse!D:E,2,FALSE))=TRUE,0,(VLOOKUP(A295,analyse!D:E,2,FALSE)))","v":0},{"$f":"analyse!$B$1","v":0},0,0,0,0]
[null,null,{"$f":"IF(ISNA(VLOOKUP(A296,analyse!D:E,2,FALSE))=TRUE,0,(VLOOKUP(A296,analyse!D:E,2,FALSE)))","v":0},{"$f":"analyse!$B$1","v":0},0,0,0,0]
[null,null,{"$f":"IF(ISNA(VLOOKUP(A297,analyse!D:E,2,FALSE))=TRUE,0,(VLOOKUP(A297,analyse!D:E,2,FALSE)))","v":0},{"$f":"analyse!$B$1","v":0},0,0,0,0]
[null,null,{"$f":"IF(ISNA(VLOOKUP(A298,analyse!D:E,2,FALSE))=TRUE,0,(VLOOKUP(A298,analyse!D:E,2,FALSE)))","v":0},{"$f":"analyse!$B$1","v":0},0,0,0,0]
[null,null,{"$f":"IF(ISNA(VLOOKUP(A299,analyse!D:E,2,FALSE))=TRUE,0,(VLOOKUP(A299,analyse!D:E,2,FALSE)))","v":0},{"$f":"analyse!$B$1","v":0},0,0,0,0]
[null,null,{"$f":"IF(ISNA(VLOOKUP(A300,analyse!D:E,2,FALSE))=TRUE,0,(VLOOKUP(A300,analyse!D:E,2,FALSE)))","v":0},{"$f":"analyse!$B$1","v":0},0,0,0,0]
[null,null,{"$f":"IF(ISNA(VLOOKUP(A301,analyse!D:E,2,FALSE))=TRUE,0,(VLOOKUP(A301,analyse!D:E,2,FALSE)))","v":0},{"$f":"analyse!$B$1","v":0},0,0,0,0]
[null,null,{"$f":"IF(ISNA(VLOOKUP(A302,analyse!D:E,2,FALSE))=TRUE,0,(VLOOKUP(A302,analyse!D:E,2,FALSE)))","v":0},{"$f":"analyse!$B$1","v":0},0,0,0,0]
[null,null,{"$f":"IF(ISNA(VLOOKUP(A303,analyse!D:E,2,FALSE))=TRUE,0,(VLOOKUP(A303,analyse!D:E,2,FALSE)))","v":0},{"$f":"analyse!$B$1","v":0},0,0,0,0]
[null,null,{"$f":"IF(ISNA(VLOOKUP(A304,analyse!D:E,2,FALSE))=TRUE,0,(VLOOKUP(A304,analyse!D:E,2,FALSE)))","v":0},{"$f":"analyse!$B$1","v":0},0,0,0,0]
[null,null,{"$f":"IF(ISNA(VLOOKUP(A305,analyse!D:E,2,FALSE))=TRUE,0,(VLOOKUP(A305,analyse!D:E,2,FALSE)))","v":0},{"$f":"analyse!$B$1","v":0},0,0,0,0]
[null,null,{"$f":"IF(ISNA(VLOOKUP(A306,analyse!D:E,2,FALSE))=TRUE,0,(VLOOKUP(A306,analyse!D:E,2,FALSE)))","v":0},{"$f":"analyse!$B$1","v":0},0,0,0,0]
[null,null,{"$f":"IF(ISNA(VLOOKUP(A307,analyse!D:E,2,FALSE))=TRUE,0,(VLOOKUP(A307,analyse!D:E,2,FALSE)))","v":0},{"$f":"analyse!$B$1","v":0},0,0,0,0]
[null,null,{"$f":"IF(ISNA(VLOOKUP(A308,analyse!D:E,2,FALSE))=TRUE,0,(VLOOKUP(A308,analyse!D:E,2,FALSE)))","v":0},{"$f":"analyse!$B$1","v":0},0,0,0,0]
[null,null,{"$f":"IF(ISNA(VLOOKUP(A309,analyse!D:E,2,FALSE))=TRUE,0,(VLOOKUP(A309,analyse!D:E,2,FALSE)))","v":0},{"$f":"analyse!$B$1","v":0},0,0,0,0]
[null,null,{"$f":"IF(ISNA(VLOOKUP(A310,analyse!D:E,2,FALSE))=TRUE,0,(VLOOKUP(A310,analyse!D:E,2,FALSE)))","v":0},{"$f":"analyse!$B$1","v":0},0,0,0,0]
[null,null,{"$f":"IF(ISNA(VLOOKUP(A311,analyse!D:E,2,FALSE))=TRUE,0,(VLOOKUP(A311,analyse!D:E,2,FALSE)))","v":0},{"$f":"analyse!$B$1","v":0},0,0,0,0]
[null,null,{"$f":"IF(ISNA(VLOOKUP(A312,analyse!D:E,2,FALSE))=TRUE,0,(VLOOKUP(A312,analyse!D:E,2,FALSE)))","v":0},{"$f":"analyse!$B$1","v":0},0,0,0,0]
[null,null,{"$f":"IF(ISNA(VLOOKUP(A313,analyse!D:E,2,FALSE))=TRUE,0,(VLOOKUP(A313,analyse!D:E,2,FALSE)))","v":0},{"$f":"analyse!$B$1","v":0},0,0,0,0]
[null,null,{"$f":"IF(ISNA(VLOOKUP(A314,analyse!D:E,2,FALSE))=TRUE,0,(VLOOKUP(A314,analyse!D:E,2,FALSE)))","v":0},{"$f":"analyse!$B$1","v":0},0,0,0,0]
[null,null,{"$f":"IF(ISNA(VLOOKUP(A315,analyse!D:E,2,FALSE))=TRUE,0,(VLOOKUP(A315,analyse!D:E,2,FALSE)))","v":0},{"$f":"analyse!$B$1","v":0},0,0,0,0]
[null,null,{"$f":"IF(ISNA(VLOOKUP(A316,analyse!D:E,2,FALSE))=TRUE,0,(VLOOKUP(A316,analyse!D:E,2,FALSE)))","v":0},{"$f":"analyse!$B$1","v":0},0,0,0,0]
[null,null,{"$f":"IF(ISNA(VLOOKUP(A317,analyse!D:E,2,FALSE))=TRUE,0,(VLOOKUP(A317,analyse!D:E,2,FALSE)))","v":0},{"$f":"analyse!$B$1","v":0},0,0,0,0]
[null,null,{"$f":"IF(ISNA(VLOOKUP(A318,analyse!D:E,2,FALSE))=TRUE,0,(VLOOKUP(A318,analyse!D:E,2,FALSE)))","v":0},{"$f":"analyse!$B$1","v":0},0,0,0,0]
[null,null,{"$f":"IF(ISNA(VLOOKUP(A319,analyse!D:E,2,FALSE))=TRUE,0,(VLOOKUP(A319,analyse!D:E,2,FALSE)))","v":0},{"$f":"analyse!$B$1","v":0},0,0,0,0]
[null,null,{"$f":"IF(ISNA(VLOOKUP(A320,analyse!D:E,2,FALSE))=TRUE,0,(VLOOKUP(A320,analyse!D:E,2,FALSE)))","v":0},{"$f":"analyse!$B$1","v":0},0,0,0,0]
[null,null,{"$f":"IF(ISNA(VLOOKUP(A321,analyse!D:E,2,FALSE))=TRUE,0,(VLOOKUP(A321,analyse!D:E,2,FALSE)))","v":0},{"$f":"analyse!$B$1","v":0},0,0,0,0]
[null,null,{"$f":"IF(ISNA(VLOOKUP(A322,analyse!D:E,2,FALSE))=TRUE,0,(VLOOKUP(A322,analyse!D:E,2,FALSE)))","v":0},{"$f":"analyse!$B$1","v":0},{"$f":"D322-C322","v":0},{"$f":"E322+C322","v":0},{"$f":"IF(F322<E322,D322-1,D322)","v":0},{"$f":"IF(A322=\"S20.G01.00.001\",H321+1,H321)","v":0}]
[null,null,{"$f":"IF(ISNA(VLOOKUP(A323,analyse!D:E,2,FALSE))=TRUE,0,(VLOOKUP(A323,analyse!D:E,2,FALSE)))","v":0},{"$f":"analyse!$B$1","v":0},0,0,0,0]
[null,null,{"$f":"IF(ISNA(VLOOKUP(A324,analyse!D:E,2,FALSE))=TRUE,0,(VLOOKUP(A324,analyse!D:E,2,FALSE)))","v":0},{"$f":"analyse!$B$1","v":0},0,0,0,0]
[null,null,{"$f":"IF(ISNA(VLOOKUP(A325,analyse!D:E,2,FALSE))=TRUE,0,(VLOOKUP(A325,analyse!D:E,2,FALSE)))","v":0},{"$f":"analyse!$B$1","v":0},0,0,0,0]
[null,null,{"$f":"IF(ISNA(VLOOKUP(A326,analyse!D:E,2,FALSE))=TRUE,0,(VLOOKUP(A326,analyse!D:E,2,FALSE)))","v":0},{"$f":"analyse!$B$1","v":0},0,0,0,0]
[null,null,{"$f":"IF(ISNA(VLOOKUP(A327,analyse!D:E,2,FALSE))=TRUE,0,(VLOOKUP(A327,analyse!D:E,2,FALSE)))","v":0},{"$f":"analyse!$B$1","v":0},0,0,0,0]
[null,null,{"$f":"IF(ISNA(VLOOKUP(A328,analyse!D:E,2,FALSE))=TRUE,0,(VLOOKUP(A328,analyse!D:E,2,FALSE)))","v":0},{"$f":"analyse!$B$1","v":0},0,0,0,0]
[null,null,{"$f":"IF(ISNA(VLOOKUP(A329,analyse!D:E,2,FALSE))=TRUE,0,(VLOOKUP(A329,analyse!D:E,2,FALSE)))","v":0},{"$f":"analyse!$B$1","v":0},0,0,0,0]
[null,null,{"$f":"IF(ISNA(VLOOKUP(A330,analyse!D:E,2,FALSE))=TRUE,0,(VLOOKUP(A330,analyse!D:E,2,FALSE)))","v":0},{"$f":"analyse!$B$1","v":0},0,0,0,0]
[null,null,{"$f":"IF(ISNA(VLOOKUP(A331,analyse!D:E,2,FALSE))=TRUE,0,(VLOOKUP(A331,analyse!D:E,2,FALSE)))","v":0},{"$f":"analyse!$B$1","v":0},0,0,0,0]
[null,null,{"$f":"IF(ISNA(VLOOKUP(A332,analyse!D:E,2,FALSE))=TRUE,0,(VLOOKUP(A332,analyse!D:E,2,FALSE)))","v":0},{"$f":"analyse!$B$1","v":0},0,0,0,0]
[null,null,{"$f":"IF(ISNA(VLOOKUP(A333,analyse!D:E,2,FALSE))=TRUE,0,(VLOOKUP(A333,analyse!D:E,2,FALSE)))","v":0},{"$f":"analyse!$B$1","v":0},0,0,0,0]
[null,null,{"$f":"IF(ISNA(VLOOKUP(A334,analyse!D:E,2,FALSE))=TRUE,0,(VLOOKUP(A334,analyse!D:E,2,FALSE)))","v":0},{"$f":"analyse!$B$1","v":0},0,0,0,0]
[null,null,{"$f":"IF(ISNA(VLOOKUP(A335,analyse!D:E,2,FALSE))=TRUE,0,(VLOOKUP(A335,analyse!D:E,2,FALSE)))","v":0},{"$f":"analyse!$B$1","v":0},0,0,0,0]
[null,null,{"$f":"IF(ISNA(VLOOKUP(A336,analyse!D:E,2,FALSE))=TRUE,0,(VLOOKUP(A336,analyse!D:E,2,FALSE)))","v":0},{"$f":"analyse!$B$1","v":0},0,0,0,0]
[null,null,{"$f":"IF(ISNA(VLOOKUP(A337,analyse!D:E,2,FALSE))=TRUE,0,(VLOOKUP(A337,analyse!D:E,2,FALSE)))","v":0},{"$f":"analyse!$B$1","v":0},0,0,0,0]
[null,null,{"$f":"IF(ISNA(VLOOKUP(A338,analyse!D:E,2,FALSE))=TRUE,0,(VLOOKUP(A338,analyse!D:E,2,FALSE)))","v":0},{"$f":"analyse!$B$1","v":0},0,0,0,0]
[null,null,{"$f":"IF(ISNA(VLOOKUP(A339,analyse!D:E,2,FALSE))=TRUE,0,(VLOOKUP(A339,analyse!D:E,2,FALSE)))","v":0},{"$f":"analyse!$B$1","v":0},0,0,0,0]
[null,null,{"$f":"IF(ISNA(VLOOKUP(A340,analyse!D:E,2,FALSE))=TRUE,0,(VLOOKUP(A340,analyse!D:E,2,FALSE)))","v":0},{"$f":"analyse!$B$1","v":0},0,0,0,0]
[null,null,{"$f":"IF(ISNA(VLOOKUP(A341,analyse!D:E,2,FALSE))=TRUE,0,(VLOOKUP(A341,analyse!D:E,2,FALSE)))","v":0},{"$f":"analyse!$B$1","v":0},0,0,0,0]
[null,null,{"$f":"IF(ISNA(VLOOKUP(A342,analyse!D:E,2,FALSE))=TRUE,0,(VLOOKUP(A342,analyse!D:E,2,FALSE)))","v":0},{"$f":"analyse!$B$1","v":0},0,0,0,0]
[null,null,{"$f":"IF(ISNA(VLOOKUP(A343,analyse!D:E,2,FALSE))=TRUE,0,(VLOOKUP(A343,analyse!D:E,2,FALSE)))","v":0},{"$f":"analyse!$B$1","v":0},0,0,0,0]
[null,null,{"$f":"IF(ISNA(VLOOKUP(A344,analyse!D:E,2,FALSE))=TRUE,0,(VLOOKUP(A344,analyse!D:E,2,FALSE)))","v":0},{"$f":"analyse!$B$1","v":0},0,0,0,0]
[null,null,{"$f":"IF(ISNA(VLOOKUP(A345,analyse!D:E,2,FALSE))=TRUE,0,(VLOOKUP(A345,analyse!D:E,2,FALSE)))","v":0},{"$f":"analyse!$B$1","v":0},0,0,0,0]
[null,null,{"$f":"IF(ISNA(VLOOKUP(A346,analyse!D:E,2,FALSE))=TRUE,0,(VLOOKUP(A346,analyse!D:E,2,FALSE)))","v":0},{"$f":"analyse!$B$1","v":0},0,0,0,0]
[null,null,{"$f":"IF(ISNA(VLOOKUP(A347,analyse!D:E,2,FALSE))=TRUE,0,(VLOOKUP(A347,analyse!D:E,2,FALSE)))","v":0},{"$f":"analyse!$B$1","v":0},0,0,0,0]
[null,null,{"$f":"IF(ISNA(VLOOKUP(A348,analyse!D:E,2,FALSE))=TRUE,0,(VLOOKUP(A348,analyse!D:E,2,FALSE)))","v":0},{"$f":"analyse!$B$1","v":0},0,0,0,0]
[null,null,{"$f":"IF(ISNA(VLOOKUP(A349,analyse!D:E,2,FALSE))=TRUE,0,(VLOOKUP(A349,analyse!D:E,2,FALSE)))","v":0},{"$f":"analyse!$B$1","v":0},0,0,0,0]
[null,null,{"$f":"IF(ISNA(VLOOKUP(A350,analyse!D:E,2,FALSE))=TRUE,0,(VLOOKUP(A350,analyse!D:E,2,FALSE)))","v":0},{"$f":"analyse!$B$1","v":0},0,0,0,0]
[null,null,{"$f":"IF(ISNA(VLOOKUP(A351,analyse!D:E,2,FALSE))=TRUE,0,(VLOOKUP(A351,analyse!D:E,2,FALSE)))","v":0},{"$f":"analyse!$B$1","v":0},0,0,0,0]
[null,null,{"$f":"IF(ISNA(VLOOKUP(A352,analyse!D:E,2,FALSE))=TRUE,0,(VLOOKUP(A352,analyse!D:E,2,FALSE)))","v":0},{"$f":"analyse!$B$1","v":0},0,0,0,0]
[null,null,{"$f":"IF(ISNA(VLOOKUP(A353,analyse!D:E,2,FALSE))=TRUE,0,(VLOOKUP(A353,analyse!D:E,2,FALSE)))","v":0},{"$f":"analyse!$B$1","v":0},0,0,0,0]
[null,null,{"$f":"IF(ISNA(VLOOKUP(A354,analyse!D:E,2,FALSE))=TRUE,0,(VLOOKUP(A354,analyse!D:E,2,FALSE)))","v":0},{"$f":"analyse!$B$1","v":0},0,0,0,0]
[null,null,{"$f":"IF(ISNA(VLOOKUP(A355,analyse!D:E,2,FALSE))=TRUE,0,(VLOOKUP(A355,analyse!D:E,2,FALSE)))","v":0},{"$f":"analyse!$B$1","v":0},0,0,0,0]
[null,null,{"$f":"IF(ISNA(VLOOKUP(A356,analyse!D:E,2,FALSE))=TRUE,0,(VLOOKUP(A356,analyse!D:E,2,FALSE)))","v":0},{"$f":"analyse!$B$1","v":0},0,0,0,0]
[null,null,{"$f":"IF(ISNA(VLOOKUP(A357,analyse!D:E,2,FALSE))=TRUE,0,(VLOOKUP(A357,analyse!D:E,2,FALSE)))","v":0},{"$f":"analyse!$B$1","v":0},0,0,0,0]
[null,null,{"$f":"IF(ISNA(VLOOKUP(A358,analyse!D:E,2,FALSE))=TRUE,0,(VLOOKUP(A358,analyse!D:E,2,FALSE)))","v":0},{"$f":"analyse!$B$1","v":0},0,0,0,0]
[null,null,{"$f":"IF(ISNA(VLOOKUP(A359,analyse!D:E,2,FALSE))=TRUE,0,(VLOOKUP(A359,analyse!D:E,2,FALSE)))","v":0},{"$f":"analyse!$B$1","v":0},0,0,0,0]
[null,null,{"$f":"IF(ISNA(VLOOKUP(A360,analyse!D:E,2,FALSE))=TRUE,0,(VLOOKUP(A360,analyse!D:E,2,FALSE)))","v":0},{"$f":"analyse!$B$1","v":0},0,0,0,0]
[null,null,{"$f":"IF(ISNA(VLOOKUP(A361,analyse!D:E,2,FALSE))=TRUE,0,(VLOOKUP(A361,analyse!D:E,2,FALSE)))","v":0},{"$f":"analyse!$B$1","v":0},0,0,0,0]
[null,null,{"$f":"IF(ISNA(VLOOKUP(A362,analyse!D:E,2,FALSE))=TRUE,0,(VLOOKUP(A362,analyse!D:E,2,FALSE)))","v":0},{"$f":"analyse!$B$1","v":0},0,0,0,0]
[null,null,{"$f":"IF(ISNA(VLOOKUP(A363,analyse!D:E,2,FALSE))=TRUE,0,(VLOOKUP(A363,analyse!D:E,2,FALSE)))","v":0},{"$f":"analyse!$B$1","v":0},0,0,0,0]
[null,null,{"$f":"IF(ISNA(VLOOKUP(A364,analyse!D:E,2,FALSE))=TRUE,0,(VLOOKUP(A364,analyse!D:E,2,FALSE)))","v":0},{"$f":"analyse!$B$1","v":0},0,0,0,0]
[null,null,{"$f":"IF(ISNA(VLOOKUP(A365,analyse!D:E,2,FALSE))=TRUE,0,(VLOOKUP(A365,analyse!D:E,2,FALSE)))","v":0},{"$f":"analyse!$B$1","v":0},0,0,0,0]
[null,null,{"$f":"IF(ISNA(VLOOKUP(A366,analyse!D:E,2,FALSE))=TRUE,0,(VLOOKUP(A366,analyse!D:E,2,FALSE)))","v":0},{"$f":"analyse!$B$1","v":0},0,0,0,0]
[null,null,{"$f":"IF(ISNA(VLOOKUP(A367,analyse!D:E,2,FALSE))=TRUE,0,(VLOOKUP(A367,analyse!D:E,2,FALSE)))","v":0},{"$f":"analyse!$B$1","v":0},0,0,0,0]
[null,null,{"$f":"IF(ISNA(VLOOKUP(A368,analyse!D:E,2,FALSE))=TRUE,0,(VLOOKUP(A368,analyse!D:E,2,FALSE)))","v":0},{"$f":"analyse!$B$1","v":0},0,0,0,0]
[null,null,{"$f":"IF(ISNA(VLOOKUP(A369,analyse!D:E,2,FALSE))=TRUE,0,(VLOOKUP(A369,analyse!D:E,2,FALSE)))","v":0},{"$f":"analyse!$B$1","v":0},0,0,0,0]
[null,null,{"$f":"IF(ISNA(VLOOKUP(A370,analyse!D:E,2,FALSE))=TRUE,0,(VLOOKUP(A370,analyse!D:E,2,FALSE)))","v":0},{"$f":"analyse!$B$1","v":0},0,0,0,0]
[null,null,{"$f":"IF(ISNA(VLOOKUP(A371,analyse!D:E,2,FALSE))=TRUE,0,(VLOOKUP(A371,analyse!D:E,2,FALSE)))","v":0},{"$f":"analyse!$B$1","v":0},0,0,0,0]
[null,null,{"$f":"IF(ISNA(VLOOKUP(A372,analyse!D:E,2,FALSE))=TRUE,0,(VLOOKUP(A372,analyse!D:E,2,FALSE)))","v":0},{"$f":"analyse!$B$1","v":0},0,0,0,0]
[null,null,{"$f":"IF(ISNA(VLOOKUP(A373,analyse!D:E,2,FALSE))=TRUE,0,(VLOOKUP(A373,analyse!D:E,2,FALSE)))","v":0},{"$f":"analyse!$B$1","v":0},0,0,0,0]
[null,null,{"$f":"IF(ISNA(VLOOKUP(A374,analyse!D:E,2,FALSE))=TRUE,0,(VLOOKUP(A374,analyse!D:E,2,FALSE)))","v":0},{"$f":"analyse!$B$1","v":0},0,0,0,0]
[null,null,{"$f":"IF(ISNA(VLOOKUP(A375,analyse!D:E,2,FALSE))=TRUE,0,(VLOOKUP(A375,analyse!D:E,2,FALSE)))","v":0},{"$f":"analyse!$B$1","v":0},0,0,0,0]
[null,null,{"$f":"IF(ISNA(VLOOKUP(A376,analyse!D:E,2,FALSE))=TRUE,0,(VLOOKUP(A376,analyse!D:E,2,FALSE)))","v":0},{"$f":"analyse!$B$1","v":0},0,0,0,0]
[null,null,{"$f":"IF(ISNA(VLOOKUP(A377,analyse!D:E,2,FALSE))=TRUE,0,(VLOOKUP(A377,analyse!D:E,2,FALSE)))","v":0},{"$f":"analyse!$B$1","v":0},0,0,0,0]
[null,null,{"$f":"IF(ISNA(VLOOKUP(A378,analyse!D:E,2,FALSE))=TRUE,0,(VLOOKUP(A378,analyse!D:E,2,FALSE)))","v":0},{"$f":"analyse!$B$1","v":0},0,0,0,0]
[null,null,{"$f":"IF(ISNA(VLOOKUP(A379,analyse!D:E,2,FALSE))=TRUE,0,(VLOOKUP(A379,analyse!D:E,2,FALSE)))","v":0},{"$f":"analyse!$B$1","v":0},0,0,0,0]
[null,null,{"$f":"IF(ISNA(VLOOKUP(A380,analyse!D:E,2,FALSE))=TRUE,0,(VLOOKUP(A380,analyse!D:E,2,FALSE)))","v":0},{"$f":"analyse!$B$1","v":0},0,0,0,0]
[null,null,{"$f":"IF(ISNA(VLOOKUP(A381,analyse!D:E,2,FALSE))=TRUE,0,(VLOOKUP(A381,analyse!D:E,2,FALSE)))","v":0},{"$f":"analyse!$B$1","v":0},0,0,0,0]
[null,null,{"$f":"IF(ISNA(VLOOKUP(A382,analyse!D:E,2,FALSE))=TRUE,0,(VLOOKUP(A382,analyse!D:E,2,FALSE)))","v":0},{"$f":"analyse!$B$1","v":0},0,0,0,0]
[null,null,{"$f":"IF(ISNA(VLOOKUP(A383,analyse!D:E,2,FALSE))=TRUE,0,(VLOOKUP(A383,analyse!D:E,2,FALSE)))","v":0},{"$f":"analyse!$B$1","v":0},0,0,0,0]
[null,null,{"$f":"IF(ISNA(VLOOKUP(A384,analyse!D:E,2,FALSE))=TRUE,0,(VLOOKUP(A384,analyse!D:E,2,FALSE)))","v":0},{"$f":"analyse!$B$1","v":0},0,0,0,0]
[null,null,{"$f":"IF(ISNA(VLOOKUP(A385,analyse!D:E,2,FALSE))=TRUE,0,(VLOOKUP(A385,analyse!D:E,2,FALSE)))","v":0},{"$f":"analyse!$B$1","v":0},0,0,0,0]
[null,null,{"$f":"IF(ISNA(VLOOKUP(A386,analyse!D:E,2,FALSE))=TRUE,0,(VLOOKUP(A386,analyse!D:E,2,FALSE)))","v":0},{"$f":"analyse!$B$1","v":0},{"$f":"D386-C386","v":0},{"$f":"E386+C386","v":0},{"$f":"IF(F386<E386,D386-1,D386)","v":0},{"$f":"IF(A386=\"S20.G01.00.001\",H385+1,H385)","v":0}]
[null,null,{"$f":"IF(ISNA(VLOOKUP(A387,analyse!D:E,2,FALSE))=TRUE,0,(VLOOKUP(A387,analyse!D:E,2,FALSE)))","v":0},{"$f":"analyse!$B$1","v":0},0,0,0,0]
[null,null,{"$f":"IF(ISNA(VLOOKUP(A388,analyse!D:E,2,FALSE))=TRUE,0,(VLOOKUP(A388,analyse!D:E,2,FALSE)))","v":0},{"$f":"analyse!$B$1","v":0},0,0,0,0]
[null,null,{"$f":"IF(ISNA(VLOOKUP(A389,analyse!D:E,2,FALSE))=TRUE,0,(VLOOKUP(A389,analyse!D:E,2,FALSE)))","v":0},{"$f":"analyse!$B$1","v":0},0,0,0,0]
[null,null,{"$f":"IF(ISNA(VLOOKUP(A390,analyse!D:E,2,FALSE))=TRUE,0,(VLOOKUP(A390,analyse!D:E,2,FALSE)))","v":0},{"$f":"analyse!$B$1","v":0},0,0,0,0]
[null,null,{"$f":"IF(ISNA(VLOOKUP(A391,analyse!D:E,2,FALSE))=TRUE,0,(VLOOKUP(A391,analyse!D:E,2,FALSE)))","v":0},{"$f":"analyse!$B$1","v":0},0,0,0,0]
[null,null,{"$f":"IF(ISNA(VLOOKUP(A392,analyse!D:E,2,FALSE))=TRUE,0,(VLOOKUP(A392,analyse!D:E,2,FALSE)))","v":0},{"$f":"analyse!$B$1","v":0},0,0,0,0]
[null,null,{"$f":"IF(ISNA(VLOOKUP(A393,analyse!D:E,2,FALSE))=TRUE,0,(VLOOKUP(A393,analyse!D:E,2,FALSE)))","v":0},{"$f":"analyse!$B$1","v":0},0,0,0,0]
[null,null,{"$f":"IF(ISNA(VLOOKUP(A394,analyse!D:E,2,FALSE))=TRUE,0,(VLOOKUP(A394,analyse!D:E,2,FALSE)))","v":0},{"$f":"analyse!$B$1","v":0},0,0,0,0]
[null,null,{"$f":"IF(ISNA(VLOOKUP(A395,analyse!D:E,2,FALSE))=TRUE,0,(VLOOKUP(A395,analyse!D:E,2,FALSE)))","v":0},{"$f":"analyse!$B$1","v":0},0,0,0,0]
[null,null,{"$f":"IF(ISNA(VLOOKUP(A396,analyse!D:E,2,FALSE))=TRUE,0,(VLOOKUP(A396,analyse!D:E,2,FALSE)))","v":0},{"$f":"analyse!$B$1","v":0},0,0,0,0]
[null,null,{"$f":"IF(ISNA(VLOOKUP(A397,analyse!D:E,2,FALSE))=TRUE,0,(VLOOKUP(A397,analyse!D:E,2,FALSE)))","v":0},{"$f":"analyse!$B$1","v":0},0,0,0,0]
[null,null,{"$f":"IF(ISNA(VLOOKUP(A398,analyse!D:E,2,FALSE))=TRUE,0,(VLOOKUP(A398,analyse!D:E,2,FALSE)))","v":0},{"$f":"analyse!$B$1","v":0},0,0,0,0]
[null,null,{"$f":"IF(ISNA(VLOOKUP(A399,analyse!D:E,2,FALSE))=TRUE,0,(VLOOKUP(A399,analyse!D:E,2,FALSE)))","v":0},{"$f":"analyse!$B$1","v":0},0,0,0,0]
[null,null,{"$f":"IF(ISNA(VLOOKUP(A400,analyse!D:E,2,FALSE))=TRUE,0,(VLOOKUP(A400,analyse!D:E,2,FALSE)))","v":0},{"$f":"analyse!$B$1","v":0},0,0,0,0]
[null,null,{"$f":"IF(ISNA(VLOOKUP(A401,analyse!D:E,2,FALSE))=TRUE,0,(VLOOKUP(A401,analyse!D:E,2,FALSE)))","v":0},{"$f":"analyse!$B$1","v":0},0,0,0,0]
[null,null,{"$f":"IF(ISNA(VLOOKUP(A402,analyse!D:E,2,FALSE))=TRUE,0,(VLOOKUP(A402,analyse!D:E,2,FALSE)))","v":0},{"$f":"analyse!$B$1","v":0},0,0,0,0]
[null,null,{"$f":"IF(ISNA(VLOOKUP(A403,analyse!D:E,2,FALSE))=TRUE,0,(VLOOKUP(A403,analyse!D:E,2,FALSE)))","v":0},{"$f":"analyse!$B$1","v":0},0,0,0,0]
[null,null,{"$f":"IF(ISNA(VLOOKUP(A404,analyse!D:E,2,FALSE))=TRUE,0,(VLOOKUP(A404,analyse!D:E,2,FALSE)))","v":0},{"$f":"analyse!$B$1","v":0},0,0,0,0]
[null,null,{"$f":"IF(ISNA(VLOOKUP(A405,analyse!D:E,2,FALSE))=TRUE,0,(VLOOKUP(A405,analyse!D:E,2,FALSE)))","v":0},{"$f":"analyse!$B$1","v":0},0,0,0,0]
[null,null,{"$f":"IF(ISNA(VLOOKUP(A406,analyse!D:E,2,FALSE))=TRUE,0,(VLOOKUP(A406,analyse!D:E,2,FALSE)))","v":0},{"$f":"analyse!$B$1","v":0},0,0,0,0]
[null,null,{"$f":"IF(ISNA(VLOOKUP(A407,analyse!D:E,2,FALSE))=TRUE,0,(VLOOKUP(A407,analyse!D:E,2,FALSE)))","v":0},{"$f":"analyse!$B$1","v":0},0,0,0,0]
[null,null,{"$f":"IF(ISNA(VLOOKUP(A408,analyse!D:E,2,FALSE))=TRUE,0,(VLOOKUP(A408,analyse!D:E,2,FALSE)))","v":0},{"$f":"analyse!$B$1","v":0},0,0,0,0]
[null,null,{"$f":"IF(ISNA(VLOOKUP(A409,analyse!D:E,2,FALSE))=TRUE,0,(VLOOKUP(A409,analyse!D:E,2,FALSE)))","v":0},{"$f":"analyse!$B$1","v":0},0,0,0,0]
[null,null,{"$f":"IF(ISNA(VLOOKUP(A410,analyse!D:E,2,FALSE))=TRUE,0,(VLOOKUP(A410,analyse!D:E,2,FALSE)))","v":0},{"$f":"analyse!$B$1","v":0},0,0,0,0]
[null,null,{"$f":"IF(ISNA(VLOOKUP(A411,analyse!D:E,2,FALSE))=TRUE,0,(VLOOKUP(A411,analyse!D:E,2,FALSE)))","v":0},{"$f":"analyse!$B$1","v":0},0,0,0,0]
[null,null,{"$f":"IF(ISNA(VLOOKUP(A412,analyse!D:E,2,FALSE))=TRUE,0,(VLOOKUP(A412,analyse!D:E,2,FALSE)))","v":0},{"$f":"analyse!$B$1","v":0},0,0,0,0]
[null,null,{"$f":"IF(ISNA(VLOOKUP(A413,analyse!D:E,2,FALSE))=TRUE,0,(VLOOKUP(A413,analyse!D:E,2,FALSE)))","v":0},{"$f":"analyse!$B$1","v":0},0,0,0,0]
[null,null,{"$f":"IF(ISNA(VLOOKUP(A414,analyse!D:E,2,FALSE))=TRUE,0,(VLOOKUP(A414,analyse!D:E,2,FALSE)))","v":0},{"$f":"analyse!$B$1","v":0},0,0,0,0]
[null,null,{"$f":"IF(ISNA(VLOOKUP(A415,analyse!D:E,2,FALSE))=TRUE,0,(VLOOKUP(A415,analyse!D:E,2,FALSE)))","v":0},{"$f":"analyse!$B$1","v":0},0,0,0,0]
[null,null,{"$f":"IF(ISNA(VLOOKUP(A416,analyse!D:E,2,FALSE))=TRUE,0,(VLOOKUP(A416,analyse!D:E,2,FALSE)))","v":0},{"$f":"analyse!$B$1","v":0},0,0,0,0]
[null,null,{"$f":"IF(ISNA(VLOOKUP(A417,analyse!D:E,2,FALSE))=TRUE,0,(VLOOKUP(A417,analyse!D:E,2,FALSE)))","v":0},{"$f":"analyse!$B$1","v":0},0,0,0,0]
[null,null,{"$f":"IF(ISNA(VLOOKUP(A418,analyse!D:E,2,FALSE))=TRUE,0,(VLOOKUP(A418,analyse!D:E,2,FALSE)))","v":0},{"$f":"analyse!$B$1","v":0},0,0,0,0]
[null,null,{"$f":"IF(ISNA(VLOOKUP(A419,analyse!D:E,2,FALSE))=TRUE,0,(VLOOKUP(A419,analyse!D:E,2,FALSE)))","v":0},{"$f":"analyse!$B$1","v":0},0,0,0,0]
[null,null,{"$f":"IF(ISNA(VLOOKUP(A420,analyse!D:E,2,FALSE))=TRUE,0,(VLOOKUP(A420,analyse!D:E,2,FALSE)))","v":0},{"$f":"analyse!$B$1","v":0},0,0,0,0]
[null,null,{"$f":"IF(ISNA(VLOOKUP(A421,analyse!D:E,2,FALSE))=TRUE,0,(VLOOKUP(A421,analyse!D:E,2,FALSE)))","v":0},{"$f":"analyse!$B$1","v":0},0,0,0,0]
[null,null,{"$f":"IF(ISNA(VLOOKUP(A422,analyse!D:E,2,FALSE))=TRUE,0,(VLOOKUP(A422,analyse!D:E,2,FALSE)))","v":0},{"$f":"analyse!$B$1","v":0},0,0,0,0]
[null,null,{"$f":"IF(ISNA(VLOOKUP(A423,analyse!D:E,2,FALSE))=TRUE,0,(VLOOKUP(A423,analyse!D:E,2,FALSE)))","v":0},{"$f":"analyse!$B$1","v":0},0,0,0,0]
[null,null,{"$f":"IF(ISNA(VLOOKUP(A424,analyse!D:E,2,FALSE))=TRUE,0,(VLOOKUP(A424,analyse!D:E,2,FALSE)))","v":0},{"$f":"analyse!$B$1","v":0},0,0,0,0]
[null,null,{"$f":"IF(ISNA(VLOOKUP(A425,analyse!D:E,2,FALSE))=TRUE,0,(VLOOKUP(A425,analyse!D:E,2,FALSE)))","v":0},{"$f":"analyse!$B$1","v":0},0,0,0,0]
[null,null,{"$f":"IF(ISNA(VLOOKUP(A426,analyse!D:E,2,FALSE))=TRUE,0,(VLOOKUP(A426,analyse!D:E,2,FALSE)))","v":0},{"$f":"analyse!$B$1","v":0},0,0,0,0]
[null,null,{"$f":"IF(ISNA(VLOOKUP(A427,analyse!D:E,2,FALSE))=TRUE,0,(VLOOKUP(A427,analyse!D:E,2,FALSE)))","v":0},{"$f":"analyse!$B$1","v":0},0,0,0,0]
[null,null,{"$f":"IF(ISNA(VLOOKUP(A428,analyse!D:E,2,FALSE))=TRUE,0,(VLOOKUP(A428,analyse!D:E,2,FALSE)))","v":0},{"$f":"analyse!$B$1","v":0},0,0,0,0]
[null,null,{"$f":"IF(ISNA(VLOOKUP(A429,analyse!D:E,2,FALSE))=TRUE,0,(VLOOKUP(A429,analyse!D:E,2,FALSE)))","v":0},{"$f":"analyse!$B$1","v":0},0,0,0,0]
[null,null,{"$f":"IF(ISNA(VLOOKUP(A430,analyse!D:E,2,FALSE))=TRUE,0,(VLOOKUP(A430,analyse!D:E,2,FALSE)))","v":0},{"$f":"analyse!$B$1","v":0},0,0,0,0]
[null,null,{"$f":"IF(ISNA(VLOOKUP(A431,analyse!D:E,2,FALSE))=TRUE,0,(VLOOKUP(A431,analyse!D:E,2,FALSE)))","v":0},{"$f":"analyse!$B$1","v":0},0,0,0,0]
[null,null,{"$f":"IF(ISNA(VLOOKUP(A432,analyse!D:E,2,FALSE))=TRUE,0,(VLOOKUP(A432,analyse!D:E,2,FALSE)))","v":0},{"$f":"analyse!$B$1","v":0},0,0,0,0]
[null,null,{"$f":"IF(ISNA(VLOOKUP(A433,analyse!D:E,2,FALSE))=TRUE,0,(VLOOKUP(A433,analyse!D:E,2,FALSE)))","v":0},{"$f":"analyse!$B$1","v":0},0,0,0,0]
[null,null,{"$f":"IF(ISNA(VLOOKUP(A434,analyse!D:E,2,FALSE))=TRUE,0,(VLOOKUP(A434,analyse!D:E,2,FALSE)))","v":0},{"$f":"analyse!$B$1","v":0},0,0,0,0]
[null,null,{"$f":"IF(ISNA(VLOOKUP(A435,analyse!D:E,2,FALSE))=TRUE,0,(VLOOKUP(A435,analyse!D:E,2,FALSE)))","v":0},{"$f":"analyse!$B$1","v":0},0,0,0,0]
[null,null,{"$f":"IF(ISNA(VLOOKUP(A436,analyse!D:E,2,FALSE))=TRUE,0,(VLOOKUP(A436,analyse!D:E,2,FALSE)))","v":0},{"$f":"analyse!$B$1","v":0},0,0,0,0]
[null,null,{"$f":"IF(ISNA(VLOOKUP(A437,analyse!D:E,2,FALSE))=TRUE,0,(VLOOKUP(A437,analyse!D:E,2,FALSE)))","v":0},{"$f":"analyse!$B$1","v":0},0,0,0,0]
[null,null,{"$f":"IF(ISNA(VLOOKUP(A438,analyse!D:E,2,FALSE))=TRUE,0,(VLOOKUP(A438,analyse!D:E,2,FALSE)))","v":0},{"$f":"analyse!$B$1","v":0},0,0,0,0]
[null,null,{"$f":"IF(ISNA(VLOOKUP(A439,analyse!D:E,2,FALSE))=TRUE,0,(VLOOKUP(A439,analyse!D:E,2,FALSE)))","v":0},{"$f":"analyse!$B$1","v":0},0,0,0,0]
[null,null,{"$f":"IF(ISNA(VLOOKUP(A440,analyse!D:E,2,FALSE))=TRUE,0,(VLOOKUP(A440,analyse!D:E,2,FALSE)))","v":0},{"$f":"analyse!$B$1","v":0},0,0,0,0]
[null,null,{"$f":"IF(ISNA(VLOOKUP(A441,analyse!D:E,2,FALSE))=TRUE,0,(VLOOKUP(A441,analyse!D:E,2,FALSE)))","v":0},{"$f":"analyse!$B$1","v":0},0,0,0,0]
[null,null,{"$f":"IF(ISNA(VLOOKUP(A442,analyse!D:E,2,FALSE))=TRUE,0,(VLOOKUP(A442,analyse!D:E,2,FALSE)))","v":0},{"$f":"analyse!$B$1","v":0},0,0,0,0]
[null,null,{"$f":"IF(ISNA(VLOOKUP(A443,analyse!D:E,2,FALSE))=TRUE,0,(VLOOKUP(A443,analyse!D:E,2,FALSE)))","v":0},{"$f":"analyse!$B$1","v":0},0,0,0,0]
[null,null,{"$f":"IF(ISNA(VLOOKUP(A444,analyse!D:E,2,FALSE))=TRUE,0,(VLOOKUP(A444,analyse!D:E,2,FALSE)))","v":0},{"$f":"analyse!$B$1","v":0},0,0,0,0]
[null,null,{"$f":"IF(ISNA(VLOOKUP(A445,analyse!D:E,2,FALSE))=TRUE,0,(VLOOKUP(A445,analyse!D:E,2,FALSE)))","v":0},{"$f":"analyse!$B$1","v":0},0,0,0,0]
[null,null,{"$f":"IF(ISNA(VLOOKUP(A446,analyse!D:E,2,FALSE))=TRUE,0,(VLOOKUP(A446,analyse!D:E,2,FALSE)))","v":0},{"$f":"analyse!$B$1","v":0},0,0,0,0]
[null,null,{"$f":"IF(ISNA(VLOOKUP(A447,analyse!D:E,2,FALSE))=TRUE,0,(VLOOKUP(A447,analyse!D:E,2,FALSE)))","v":0},{"$f":"analyse!$B$1","v":0},0,0,0,0]
[null,null,{"$f":"IF(ISNA(VLOOKUP(A448,analyse!D:E,2,FALSE))=TRUE,0,(VLOOKUP(A448,analyse!D:E,2,FALSE)))","v":0},{"$f":"analyse!$B$1","v":0},0,0,0,0]
[null,null,{"$f":"IF(ISNA(VLOOKUP(A449,analyse!D:E,2,FALSE))=TRUE,0,(VLOOKUP(A449,analyse!D:E,2,FALSE)))","v":0},{"$f":"analyse!$B$1","v":0},0,0,0,0]
[null,null,{"$f":"IF(ISNA(VLOOKUP(A450,analyse!D:E,2,FALSE))=TRUE,0,(VLOOKUP(A450,analyse!D:E,2,FALSE)))","v":0},{"$f":"analyse!$B$1","v":0},{"$f":"D450-C450","v":0},{"$f":"E450+C450","v":0},{"$f":"IF(F450<E450,D450-1,D450)","v":0},{"$f":"IF(A450=\"S20.G01.00.001\",H449+1,H449)","v":0}]
[null,null,{"$f":"IF(ISNA(VLOOKUP(A451,analyse!D:E,2,FALSE))=TRUE,0,(VLOOKUP(A451,analyse!D:E,2,FALSE)))","v":0},{"$f":"analyse!$B$1","v":0},0,0,0,0]
[null,null,{"$f":"IF(ISNA(VLOOKUP(A452,analyse!D:E,2,FALSE))=TRUE,0,(VLOOKUP(A452,analyse!D:E,2,FALSE)))","v":0},{"$f":"analyse!$B$1","v":0},0,0,0,0]
[null,null,{"$f":"IF(ISNA(VLOOKUP(A453,analyse!D:E,2,FALSE))=TRUE,0,(VLOOKUP(A453,analyse!D:E,2,FALSE)))","v":0},{"$f":"analyse!$B$1","v":0},0,0,0,0]
[null,null,{"$f":"IF(ISNA(VLOOKUP(A454,analyse!D:E,2,FALSE))=TRUE,0,(VLOOKUP(A454,analyse!D:E,2,FALSE)))","v":0},{"$f":"analyse!$B$1","v":0},0,0,0,0]
[null,null,{"$f":"IF(ISNA(VLOOKUP(A455,analyse!D:E,2,FALSE))=TRUE,0,(VLOOKUP(A455,analyse!D:E,2,FALSE)))","v":0},{"$f":"analyse!$B$1","v":0},0,0,0,0]
[null,null,{"$f":"IF(ISNA(VLOOKUP(A456,analyse!D:E,2,FALSE))=TRUE,0,(VLOOKUP(A456,analyse!D:E,2,FALSE)))","v":0},{"$f":"analyse!$B$1","v":0},0,0,0,0]
[null,null,{"$f":"IF(ISNA(VLOOKUP(A457,analyse!D:E,2,FALSE))=TRUE,0,(VLOOKUP(A457,analyse!D:E,2,FALSE)))","v":0},{"$f":"analyse!$B$1","v":0},0,0,0,0]
[null,null,{"$f":"IF(ISNA(VLOOKUP(A458,analyse!D:E,2,FALSE))=TRUE,0,(VLOOKUP(A458,analyse!D:E,2,FALSE)))","v":0},{"$f":"analyse!$B$1","v":0},0,0,0,0]
[null,null,{"$f":"IF(ISNA(VLOOKUP(A459,analyse!D:E,2,FALSE))=TRUE,0,(VLOOKUP(A459,analyse!D:E,2,FALSE)))","v":0},{"$f":"analyse!$B$1","v":0},0,0,0,0]
[null,null,{"$f":"IF(ISNA(VLOOKUP(A460,analyse!D:E,2,FALSE))=TRUE,0,(VLOOKUP(A460,analyse!D:E,2,FALSE)))","v":0},{"$f":"analyse!$B$1","v":0},0,0,0,0]
[null,null,{"$f":"IF(ISNA(VLOOKUP(A461,analyse!D:E,2,FALSE))=TRUE,0,(VLOOKUP(A461,analyse!D:E,2,FALSE)))","v":0},{"$f":"analyse!$B$1","v":0},0,0,0,0]
[null,null,{"$f":"IF(ISNA(VLOOKUP(A462,analyse!D:E,2,FALSE))=TRUE,0,(VLOOKUP(A462,analyse!D:E,2,FALSE)))","v":0},{"$f":"analyse!$B$1","v":0},0,0,0,0]
[null,null,{"$f":"IF(ISNA(VLOOKUP(A463,analyse!D:E,2,FALSE))=TRUE,0,(VLOOKUP(A463,analyse!D:E,2,FALSE)))","v":0},{"$f":"analyse!$B$1","v":0},0,0,0,0]
[null,null,{"$f":"IF(ISNA(VLOOKUP(A464,analyse!D:E,2,FALSE))=TRUE,0,(VLOOKUP(A464,analyse!D:E,2,FALSE)))","v":0},{"$f":"analyse!$B$1","v":0},0,0,0,0]
[null,null,{"$f":"IF(ISNA(VLOOKUP(A465,analyse!D:E,2,FALSE))=TRUE,0,(VLOOKUP(A465,analyse!D:E,2,FALSE)))","v":0},{"$f":"analyse!$B$1","v":0},0,0,0,0]
[null,null,{"$f":"IF(ISNA(VLOOKUP(A466,analyse!D:E,2,FALSE))=TRUE,0,(VLOOKUP(A466,analyse!D:E,2,FALSE)))","v":0},{"$f":"analyse!$B$1","v":0},0,0,0,0]
[null,null,{"$f":"IF(ISNA(VLOOKUP(A467,analyse!D:E,2,FALSE))=TRUE,0,(VLOOKUP(A467,analyse!D:E,2,FALSE)))","v":0},{"$f":"analyse!$B$1","v":0},0,0,0,0]
[null,null,{"$f":"IF(ISNA(VLOOKUP(A468,analyse!D:E,2,FALSE))=TRUE,0,(VLOOKUP(A468,analyse!D:E,2,FALSE)))","v":0},{"$f":"analyse!$B$1","v":0},0,0,0,0]
[null,null,{"$f":"IF(ISNA(VLOOKUP(A469,analyse!D:E,2,FALSE))=TRUE,0,(VLOOKUP(A469,analyse!D:E,2,FALSE)))","v":0},{"$f":"analyse!$B$1","v":0},0,0,0,0]
[null,null,{"$f":"IF(ISNA(VLOOKUP(A470,analyse!D:E,2,FALSE))=TRUE,0,(VLOOKUP(A470,analyse!D:E,2,FALSE)))","v":0},{"$f":"analyse!$B$1","v":0},0,0,0,0]
[null,null,{"$f":"IF(ISNA(VLOOKUP(A471,analyse!D:E,2,FALSE))=TRUE,0,(VLOOKUP(A471,analyse!D:E,2,FALSE)))","v":0},{"$f":"analyse!$B$1","v":0},0,0,0,0]
[null,null,{"$f":"IF(ISNA(VLOOKUP(A472,analyse!D:E,2,FALSE))=TRUE,0,(VLOOKUP(A472,analyse!D:E,2,FALSE)))","v":0},{"$f":"analyse!$B$1","v":0},0,0,0,0]
[null,null,{"$f":"IF(ISNA(VLOOKUP(A473,analyse!D:E,2,FALSE))=TRUE,0,(VLOOKUP(A473,analyse!D:E,2,FALSE)))","v":0},{"$f":"analyse!$B$1","v":0},0,0,0,0]
[null,null,{"$f":"IF(ISNA(VLOOKUP(A474,analyse!D:E,2,FALSE))=TRUE,0,(VLOOKUP(A474,analyse!D:E,2,FALSE)))","v":0},{"$f":"analyse!$B$1","v":0},0,0,0,0]
[null,null,{"$f":"IF(ISNA(VLOOKUP(A475,analyse!D:E,2,FALSE))=TRUE,0,(VLOOKUP(A475,analyse!D:E,2,FALSE)))","v":0},{"$f":"analyse!$B$1","v":0},0,0,0,0]
[null,null,{"$f":"IF(ISNA(VLOOKUP(A476,analyse!D:E,2,FALSE))=TRUE,0,(VLOOKUP(A476,analyse!D:E,2,FALSE)))","v":0},{"$f":"analyse!$B$1","v":0},0,0,0,0]
[null,null,{"$f":"IF(ISNA(VLOOKUP(A477,analyse!D:E,2,FALSE))=TRUE,0,(VLOOKUP(A477,analyse!D:E,2,FALSE)))","v":0},{"$f":"analyse!$B$1","v":0},0,0,0,0]
[null,null,{"$f":"IF(ISNA(VLOOKUP(A478,analyse!D:E,2,FALSE))=TRUE,0,(VLOOKUP(A478,analyse!D:E,2,FALSE)))","v":0},{"$f":"analyse!$B$1","v":0},0,0,0,0]
[null,null,{"$f":"IF(ISNA(VLOOKUP(A479,analyse!D:E,2,FALSE))=TRUE,0,(VLOOKUP(A479,analyse!D:E,2,FALSE)))","v":0},{"$f":"analyse!$B$1","v":0},0,0,0,0]
[null,null,{"$f":"IF(ISNA(VLOOKUP(A480,analyse!D:E,2,FALSE))=TRUE,0,(VLOOKUP(A480,analyse!D:E,2,FALSE)))","v":0},{"$f":"analyse!$B$1","v":0},0,0,0,0]
[null,null,{"$f":"IF(ISNA(VLOOKUP(A481,analyse!D:E,2,FALSE))=TRUE,0,(VLOOKUP(A481,analyse!D:E,2,FALSE)))","v":0},{"$f":"analyse!$B$1","v":0},0,0,0,0]
[null,null,{"$f":"IF(ISNA(VLOOKUP(A482,analyse!D:E,2,FALSE))=TRUE,0,(VLOOKUP(A482,analyse!D:E,2,FALSE)))","v":0},{"$f":"analyse!$B$1","v":0},0,0,0,0]
[null,null,{"$f":"IF(ISNA(VLOOKUP(A483,analyse!D:E,2,FALSE))=TRUE,0,(VLOOKUP(A483,analyse!D:E,2,FALSE)))","v":0},{"$f":"analyse!$B$1","v":0},0,0,0,0]
[null,null,{"$f":"IF(ISNA(VLOOKUP(A484,analyse!D:E,2,FALSE))=TRUE,0,(VLOOKUP(A484,analyse!D:E,2,FALSE)))","v":0},{"$f":"analyse!$B$1","v":0},0,0,0,0]
[null,null,{"$f":"IF(ISNA(VLOOKUP(A485,analyse!D:E,2,FALSE))=TRUE,0,(VLOOKUP(A485,analyse!D:E,2,FALSE)))","v":0},{"$f":"analyse!$B$1","v":0},0,0,0,0]
[null,null,{"$f":"IF(ISNA(VLOOKUP(A486,analyse!D:E,2,FALSE))=TRUE,0,(VLOOKUP(A486,analyse!D:E,2,FALSE)))","v":0},{"$f":"analyse!$B$1","v":0},0,0,0,0]
[null,null,{"$f":"IF(ISNA(VLOOKUP(A487,analyse!D:E,2,FALSE))=TRUE,0,(VLOOKUP(A487,analyse!D:E,2,FALSE)))","v":0},{"$f":"analyse!$B$1","v":0},0,0,0,0]
[null,null,{"$f":"IF(ISNA(VLOOKUP(A488,analyse!D:E,2,FALSE))=TRUE,0,(VLOOKUP(A488,analyse!D:E,2,FALSE)))","v":0},{"$f":"analyse!$B$1","v":0},0,0,0,0]
[null,null,{"$f":"IF(ISNA(VLOOKUP(A489,analyse!D:E,2,FALSE))=TRUE,0,(VLOOKUP(A489,analyse!D:E,2,FALSE)))","v":0},{"$f":"analyse!$B$1","v":0},0,0,0,0]
[null,null,{"$f":"IF(ISNA(VLOOKUP(A490,analyse!D:E,2,FALSE))=TRUE,0,(VLOOKUP(A490,analyse!D:E,2,FALSE)))","v":0},{"$f":"analyse!$B$1","v":0},0,0,0,0]
[null,null,{"$f":"IF(ISNA(VLOOKUP(A491,analyse!D:E,2,FALSE))=TRUE,0,(VLOOKUP(A491,analyse!D:E,2,FALSE)))","v":0},{"$f":"analyse!$B$1","v":0},0,0,0,0]
[null,null,{"$f":"IF(ISNA(VLOOKUP(A492,analyse!D:E,2,FALSE))=TRUE,0,(VLOOKUP(A492,analyse!D:E,2,FALSE)))","v":0},{"$f":"analyse!$B$1","v":0},0,0,0,0]
[null,null,{"$f":"IF(ISNA(VLOOKUP(A493,analyse!D:E,2,FALSE))=TRUE,0,(VLOOKUP(A493,analyse!D:E,2,FALSE)))","v":0},{"$f":"analyse!$B$1","v":0},0,0,0,0]
[null,null,{"$f":"IF(ISNA(VLOOKUP(A494,analyse!D:E,2,FALSE))=TRUE,0,(VLOOKUP(A494,analyse!D:E,2,FALSE)))","v":0},{"$f":"analyse!$B$1","v":0},0,0,0,0]
[null,null,{"$f":"IF(ISNA(VLOOKUP(A495,analyse!D:E,2,FALSE))=TRUE,0,(VLOOKUP(A495,analyse!D:E,2,FALSE)))","v":0},{"$f":"analyse!$B$1","v":0},0,0,0,0]
[null,null,{"$f":"IF(ISNA(VLOOKUP(A496,analyse!D:E,2,FALSE))=TRUE,0,(VLOOKUP(A496,analyse!D:E,2,FALSE)))","v":0},{"$f":"analyse!$B$1","v":0},0,0,0,0]
[null,null,{"$f":"IF(ISNA(VLOOKUP(A497,analyse!D:E,2,FALSE))=TRUE,0,(VLOOKUP(A497,analyse!D:E,2,FALSE)))","v":0},{"$f":"analyse!$B$1","v":0},0,0,0,0]
[null,null,{"$f":"IF(ISNA(VLOOKUP(A498,analyse!D:E,2,FALSE))=TRUE,0,(VLOOKUP(A498,analyse!D:E,2,FALSE)))","v":0},{"$f":"analyse!$B$1","v":0},0,0,0,0]
[null,null,{"$f":"IF(ISNA(VLOOKUP(A499,analyse!D:E,2,FALSE))=TRUE,0,(VLOOKUP(A499,analyse!D:E,2,FALSE)))","v":0},{"$f":"analyse!$B$1","v":0},0,0,0,0]
[null,null,{"$f":"IF(ISNA(VLOOKUP(A500,analyse!D:E,2,FALSE))=TRUE,0,(VLOOKUP(A500,analyse!D:E,2,FALSE)))","v":0},{"$f":"analyse!$B$1","v":0},0,0,0,0]
[null,null,{"$f":"IF(ISNA(VLOOKUP(A501,analyse!D:E,2,FALSE))=TRUE,0,(VLOOKUP(A501,analyse!D:E,2,FALSE)))","v":0},{"$f":"analyse!$B$1","v":0},0,0,0,0]
[null,null,{"$f":"IF(ISNA(VLOOKUP(A502,analyse!D:E,2,FALSE))=TRUE,0,(VLOOKUP(A502,analyse!D:E,2,FALSE)))","v":0},{"$f":"analyse!$B$1","v":0},0,0,0,0]
[null,null,{"$f":"IF(ISNA(VLOOKUP(A503,analyse!D:E,2,FALSE))=TRUE,0,(VLOOKUP(A503,analyse!D:E,2,FALSE)))","v":0},{"$f":"analyse!$B$1","v":0},0,0,0,0]
[null,null,{"$f":"IF(ISNA(VLOOKUP(A504,analyse!D:E,2,FALSE))=TRUE,0,(VLOOKUP(A504,analyse!D:E,2,FALSE)))","v":0},{"$f":"analyse!$B$1","v":0},0,0,0,0]
[null,null,{"$f":"IF(ISNA(VLOOKUP(A505,analyse!D:E,2,FALSE))=TRUE,0,(VLOOKUP(A505,analyse!D:E,2,FALSE)))","v":0},{"$f":"analyse!$B$1","v":0},0,0,0,0]
[null,null,{"$f":"IF(ISNA(VLOOKUP(A506,analyse!D:E,2,FALSE))=TRUE,0,(VLOOKUP(A506,analyse!D:E,2,FALSE)))","v":0},{"$f":"analyse!$B$1","v":0},0,0,0,0]
[null,null,{"$f":"IF(ISNA(VLOOKUP(A507,analyse!D:E,2,FALSE))=TRUE,0,(VLOOKUP(A507,analyse!D:E,2,FALSE)))","v":0},{"$f":"analyse!$B$1","v":0},0,0,0,0]
[null,null,{"$f":"IF(ISNA(VLOOKUP(A508,analyse!D:E,2,FALSE))=TRUE,0,(VLOOKUP(A508,analyse!D:E,2,FALSE)))","v":0},{"$f":"analyse!$B$1","v":0},0,0,0,0]
[null,null,{"$f":"IF(ISNA(VLOOKUP(A509,analyse!D:E,2,FALSE))=TRUE,0,(VLOOKUP(A509,analyse!D:E,2,FALSE)))","v":0},{"$f":"analyse!$B$1","v":0},0,0,0,0]
[null,null,{"$f":"IF(ISNA(VLOOKUP(A510,analyse!D:E,2,FALSE))=TRUE,0,(VLOOKUP(A510,analyse!D:E,2,FALSE)))","v":0},{"$f":"analyse!$B$1","v":0},0,0,0,0]
[null,null,{"$f":"IF(ISNA(VLOOKUP(A511,analyse!D:E,2,FALSE))=TRUE,0,(VLOOKUP(A511,analyse!D:E,2,FALSE)))","v":0},{"$f":"analyse!$B$1","v":0},0,0,0,0]
[null,null,{"$f":"IF(ISNA(VLOOKUP(A512,analyse!D:E,2,FALSE))=TRUE,0,(VLOOKUP(A512,analyse!D:E,2,FALSE)))","v":0},{"$f":"analyse!$B$1","v":0},0,0,0,0]
[null,null,{"$f":"IF(ISNA(VLOOKUP(A513,analyse!D:E,2,FALSE))=TRUE,0,(VLOOKUP(A513,analyse!D:E,2,FALSE)))","v":0},{"$f":"analyse!$B$1","v":0},0,0,0,0]
[null,null,{"$f":"IF(ISNA(VLOOKUP(A514,analyse!D:E,2,FALSE))=TRUE,0,(VLOOKUP(A514,analyse!D:E,2,FALSE)))","v":0},{"$f":"analyse!$B$1","v":0},{"$f":"D514-C514","v":0},{"$f":"E514+C514","v":0},{"$f":"IF(F514<E514,D514-1,D514)","v":0},{"$f":"IF(A514=\"S20.G01.00.001\",H513+1,H513)","v":0}]
[null,null,{"$f":"IF(ISNA(VLOOKUP(A515,analyse!D:E,2,FALSE))=TRUE,0,(VLOOKUP(A515,analyse!D:E,2,FALSE)))","v":0},{"$f":"analyse!$B$1","v":0},0,0,0,0]
[null,null,{"$f":"IF(ISNA(VLOOKUP(A516,analyse!D:E,2,FALSE))=TRUE,0,(VLOOKUP(A516,analyse!D:E,2,FALSE)))","v":0},{"$f":"analyse!$B$1","v":0},0,0,0,0]
[null,null,{"$f":"IF(ISNA(VLOOKUP(A517,analyse!D:E,2,FALSE))=TRUE,0,(VLOOKUP(A517,analyse!D:E,2,FALSE)))","v":0},{"$f":"analyse!$B$1","v":0},0,0,0,0]
[null,null,{"$f":"IF(ISNA(VLOOKUP(A518,analyse!D:E,2,FALSE))=TRUE,0,(VLOOKUP(A518,analyse!D:E,2,FALSE)))","v":0},{"$f":"analyse!$B$1","v":0},0,0,0,0]
[null,null,{"$f":"IF(ISNA(VLOOKUP(A519,analyse!D:E,2,FALSE))=TRUE,0,(VLOOKUP(A519,analyse!D:E,2,FALSE)))","v":0},{"$f":"analyse!$B$1","v":0},0,0,0,0]
[null,null,{"$f":"IF(ISNA(VLOOKUP(A520,analyse!D:E,2,FALSE))=TRUE,0,(VLOOKUP(A520,analyse!D:E,2,FALSE)))","v":0},{"$f":"analyse!$B$1","v":0},0,0,0,0]
[null,null,{"$f":"IF(ISNA(VLOOKUP(A521,analyse!D:E,2,FALSE))=TRUE,0,(VLOOKUP(A521,analyse!D:E,2,FALSE)))","v":0},{"$f":"analyse!$B$1","v":0},0,0,0,0]
[null,null,{"$f":"IF(ISNA(VLOOKUP(A522,analyse!D:E,2,FALSE))=TRUE,0,(VLOOKUP(A522,analyse!D:E,2,FALSE)))","v":0},{"$f":"analyse!$B$1","v":0},0,0,0,0]
[null,null,{"$f":"IF(ISNA(VLOOKUP(A523,analyse!D:E,2,FALSE))=TRUE,0,(VLOOKUP(A523,analyse!D:E,2,FALSE)))","v":0},{"$f":"analyse!$B$1","v":0},0,0,0,0]
[null,null,{"$f":"IF(ISNA(VLOOKUP(A524,analyse!D:E,2,FALSE))=TRUE,0,(VLOOKUP(A524,analyse!D:E,2,FALSE)))","v":0},{"$f":"analyse!$B$1","v":0},0,0,0,0]
[null,null,{"$f":"IF(ISNA(VLOOKUP(A525,analyse!D:E,2,FALSE))=TRUE,0,(VLOOKUP(A525,analyse!D:E,2,FALSE)))","v":0},{"$f":"analyse!$B$1","v":0},0,0,0,0]
[null,null,{"$f":"IF(ISNA(VLOOKUP(A526,analyse!D:E,2,FALSE))=TRUE,0,(VLOOKUP(A526,analyse!D:E,2,FALSE)))","v":0},{"$f":"analyse!$B$1","v":0},0,0,0,0]
[null,null,{"$f":"IF(ISNA(VLOOKUP(A527,analyse!D:E,2,FALSE))=TRUE,0,(VLOOKUP(A527,analyse!D:E,2,FALSE)))","v":0},{"$f":"analyse!$B$1","v":0},0,0,0,0]
[null,null,{"$f":"IF(ISNA(VLOOKUP(A528,analyse!D:E,2,FALSE))=TRUE,0,(VLOOKUP(A528,analyse!D:E,2,FALSE)))","v":0},{"$f":"analyse!$B$1","v":0},0,0,0,0]
[null,null,{"$f":"IF(ISNA(VLOOKUP(A529,analyse!D:E,2,FALSE))=TRUE,0,(VLOOKUP(A529,analyse!D:E,2,FALSE)))","v":0},{"$f":"analyse!$B$1","v":0},0,0,0,0]
[null,null,{"$f":"IF(ISNA(VLOOKUP(A530,analyse!D:E,2,FALSE))=TRUE,0,(VLOOKUP(A530,analyse!D:E,2,FALSE)))","v":0},{"$f":"analyse!$B$1","v":0},0,0,0,0]
[null,null,{"$f":"IF(ISNA(VLOOKUP(A531,analyse!D:E,2,FALSE))=TRUE,0,(VLOOKUP(A531,analyse!D:E,2,FALSE)))","v":0},{"$f":"analyse!$B$1","v":0},0,0,0,0]
[null,null,{"$f":"IF(ISNA(VLOOKUP(A532,analyse!D:E,2,FALSE))=TRUE,0,(VLOOKUP(A532,analyse!D:E,2,FALSE)))","v":0},{"$f":"analyse!$B$1","v":0},0,0,0,0]
[null,null,{"$f":"IF(ISNA(VLOOKUP(A533,analyse!D:E,2,FALSE))=TRUE,0,(VLOOKUP(A533,analyse!D:E,2,FALSE)))","v":0},{"$f":"analyse!$B$1","v":0},0,0,0,0]
[null,null,{"$f":"IF(ISNA(VLOOKUP(A534,analyse!D:E,2,FALSE))=TRUE,0,(VLOOKUP(A534,analyse!D:E,2,FALSE)))","v":0},{"$f":"analyse!$B$1","v":0},0,0,0,0]
[null,null,{"$f":"IF(ISNA(VLOOKUP(A535,analyse!D:E,2,FALSE))=TRUE,0,(VLOOKUP(A535,analyse!D:E,2,FALSE)))","v":0},{"$f":"analyse!$B$1","v":0},0,0,0,0]
[null,null,{"$f":"IF(ISNA(VLOOKUP(A536,analyse!D:E,2,FALSE))=TRUE,0,(VLOOKUP(A536,analyse!D:E,2,FALSE)))","v":0},{"$f":"analyse!$B$1","v":0},0,0,0,0]
[null,null,{"$f":"IF(ISNA(VLOOKUP(A537,analyse!D:E,2,FALSE))=TRUE,0,(VLOOKUP(A537,analyse!D:E,2,FALSE)))","v":0},{"$f":"analyse!$B$1","v":0},0,0,0,0]
[null,null,{"$f":"IF(ISNA(VLOOKUP(A538,analyse!D:E,2,FALSE))=TRUE,0,(VLOOKUP(A538,analyse!D:E,2,FALSE)))","v":0},{"$f":"analyse!$B$1","v":0},0,0,0,0]
[null,null,{"$f":"IF(ISNA(VLOOKUP(A539,analyse!D:E,2,FALSE))=TRUE,0,(VLOOKUP(A539,analyse!D:E,2,FALSE)))","v":0},{"$f":"analyse!$B$1","v":0},0,0,0,0]
[null,null,{"$f":"IF(ISNA(VLOOKUP(A540,analyse!D:E,2,FALSE))=TRUE,0,(VLOOKUP(A540,analyse!D:E,2,FALSE)))","v":0},{"$f":"analyse!$B$1","v":0},0,0,0,0]
[null,null,{"$f":"IF(ISNA(VLOOKUP(A541,analyse!D:E,2,FALSE))=TRUE,0,(VLOOKUP(A541,analyse!D:E,2,FALSE)))","v":0},{"$f":"analyse!$B$1","v":0},0,0,0,0]
[null,null,{"$f":"IF(ISNA(VLOOKUP(A542,analyse!D:E,2,FALSE))=TRUE,0,(VLOOKUP(A542,analyse!D:E,2,FALSE)))","v":0},{"$f":"analyse!$B$1","v":0},0,0,0,0]
[null,null,{"$f":"IF(ISNA(VLOOKUP(A543,analyse!D:E,2,FALSE))=TRUE,0,(VLOOKUP(A543,analyse!D:E,2,FALSE)))","v":0},{"$f":"analyse!$B$1","v":0},0,0,0,0]
[null,null,{"$f":"IF(ISNA(VLOOKUP(A544,analyse!D:E,2,FALSE))=TRUE,0,(VLOOKUP(A544,analyse!D:E,2,FALSE)))","v":0},{"$f":"analyse!$B$1","v":0},0,0,0,0]
[null,null,{"$f":"IF(ISNA(VLOOKUP(A545,analyse!D:E,2,FALSE))=TRUE,0,(VLOOKUP(A545,analyse!D:E,2,FALSE)))","v":0},{"$f":"analyse!$B$1","v":0},0,0,0,0]
[null,null,{"$f":"IF(ISNA(VLOOKUP(A546,analyse!D:E,2,FALSE))=TRUE,0,(VLOOKUP(A546,analyse!D:E,2,FALSE)))","v":0},{"$f":"analyse!$B$1","v":0},0,0,0,0]
[null,null,{"$f":"IF(ISNA(VLOOKUP(A547,analyse!D:E,2,FALSE))=TRUE,0,(VLOOKUP(A547,analyse!D:E,2,FALSE)))","v":0},{"$f":"analyse!$B$1","v":0},0,0,0,0]
[null,null,{"$f":"IF(ISNA(VLOOKUP(A548,analyse!D:E,2,FALSE))=TRUE,0,(VLOOKUP(A548,analyse!D:E,2,FALSE)))","v":0},{"$f":"analyse!$B$1","v":0},0,0,0,0]
[null,null,{"$f":"IF(ISNA(VLOOKUP(A549,analyse!D:E,2,FALSE))=TRUE,0,(VLOOKUP(A549,analyse!D:E,2,FALSE)))","v":0},{"$f":"analyse!$B$1","v":0},0,0,0,0]
[null,null,{"$f":"IF(ISNA(VLOOKUP(A550,analyse!D:E,2,FALSE))=TRUE,0,(VLOOKUP(A550,analyse!D:E,2,FALSE)))","v":0},{"$f":"analyse!$B$1","v":0},0,0,0,0]
[null,null,{"$f":"IF(ISNA(VLOOKUP(A551,analyse!D:E,2,FALSE))=TRUE,0,(VLOOKUP(A551,analyse!D:E,2,FALSE)))","v":0},{"$f":"analyse!$B$1","v":0},0,0,0,0]
[null,null,{"$f":"IF(ISNA(VLOOKUP(A552,analyse!D:E,2,FALSE))=TRUE,0,(VLOOKUP(A552,analyse!D:E,2,FALSE)))","v":0},{"$f":"analyse!$B$1","v":0},0,0,0,0]
[null,null,{"$f":"IF(ISNA(VLOOKUP(A553,analyse!D:E,2,FALSE))=TRUE,0,(VLOOKUP(A553,analyse!D:E,2,FALSE)))","v":0},{"$f":"analyse!$B$1","v":0},0,0,0,0]
[null,null,{"$f":"IF(ISNA(VLOOKUP(A554,analyse!D:E,2,FALSE))=TRUE,0,(VLOOKUP(A554,analyse!D:E,2,FALSE)))","v":0},{"$f":"analyse!$B$1","v":0},0,0,0,0]
[null,null,{"$f":"IF(ISNA(VLOOKUP(A555,analyse!D:E,2,FALSE))=TRUE,0,(VLOOKUP(A555,analyse!D:E,2,FALSE)))","v":0},{"$f":"analyse!$B$1","v":0},0,0,0,0]
[null,null,{"$f":"IF(ISNA(VLOOKUP(A556,analyse!D:E,2,FALSE))=TRUE,0,(VLOOKUP(A556,analyse!D:E,2,FALSE)))","v":0},{"$f":"analyse!$B$1","v":0},0,0,0,0]
[null,null,{"$f":"IF(ISNA(VLOOKUP(A557,analyse!D:E,2,FALSE))=TRUE,0,(VLOOKUP(A557,analyse!D:E,2,FALSE)))","v":0},{"$f":"analyse!$B$1","v":0},0,0,0,0]
[null,null,{"$f":"IF(ISNA(VLOOKUP(A558,analyse!D:E,2,FALSE))=TRUE,0,(VLOOKUP(A558,analyse!D:E,2,FALSE)))","v":0},{"$f":"analyse!$B$1","v":0},0,0,0,0]
[null,null,{"$f":"IF(ISNA(VLOOKUP(A559,analyse!D:E,2,FALSE))=TRUE,0,(VLOOKUP(A559,analyse!D:E,2,FALSE)))","v":0},{"$f":"analyse!$B$1","v":0},0,0,0,0]
[null,null,{"$f":"IF(ISNA(VLOOKUP(A560,analyse!D:E,2,FALSE))=TRUE,0,(VLOOKUP(A560,analyse!D:E,2,FALSE)))","v":0},{"$f":"analyse!$B$1","v":0},0,0,0,0]
[null,null,{"$f":"IF(ISNA(VLOOKUP(A561,analyse!D:E,2,FALSE))=TRUE,0,(VLOOKUP(A561,analyse!D:E,2,FALSE)))","v":0},{"$f":"analyse!$B$1","v":0},0,0,0,0]
[null,null,{"$f":"IF(ISNA(VLOOKUP(A562,analyse!D:E,2,FALSE))=TRUE,0,(VLOOKUP(A562,analyse!D:E,2,FALSE)))","v":0},{"$f":"analyse!$B$1","v":0},0,0,0,0]
[null,null,{"$f":"IF(ISNA(VLOOKUP(A563,analyse!D:E,2,FALSE))=TRUE,0,(VLOOKUP(A563,analyse!D:E,2,FALSE)))","v":0},{"$f":"analyse!$B$1","v":0},0,0,0,0]
[null,null,{"$f":"IF(ISNA(VLOOKUP(A564,analyse!D:E,2,FALSE))=TRUE,0,(VLOOKUP(A564,analyse!D:E,2,FALSE)))","v":0},{"$f":"analyse!$B$1","v":0},0,0,0,0]
[null,null,{"$f":"IF(ISNA(VLOOKUP(A565,analyse!D:E,2,FALSE))=TRUE,0,(VLOOKUP(A565,analyse!D:E,2,FALSE)))","v":0},{"$f":"analyse!$B$1","v":0},0,0,0,0]
[null,null,{"$f":"IF(ISNA(VLOOKUP(A566,analyse!D:E,2,FALSE))=TRUE,0,(VLOOKUP(A566,analyse!D:E,2,FALSE)))","v":0},{"$f":"analyse!$B$1","v":0},0,0,0,0]
[null,null,{"$f":"IF(ISNA(VLOOKUP(A567,analyse!D:E,2,FALSE))=TRUE,0,(VLOOKUP(A567,analyse!D:E,2,FALSE)))","v":0},{"$f":"analyse!$B$1","v":0},0,0,0,0]
[null,null,{"$f":"IF(ISNA(VLOOKUP(A568,analyse!D:E,2,FALSE))=TRUE,0,(VLOOKUP(A568,analyse!D:E,2,FALSE)))","v":0},{"$f":"analyse!$B$1","v":0},0,0,0,0]
[null,null,{"$f":"IF(ISNA(VLOOKUP(A569,analyse!D:E,2,FALSE))=TRUE,0,(VLOOKUP(A569,analyse!D:E,2,FALSE)))","v":0},{"$f":"analyse!$B$1","v":0},0,0,0,0]
[null,null,{"$f":"IF(ISNA(VLOOKUP(A570,analyse!D:E,2,FALSE))=TRUE,0,(VLOOKUP(A570,analyse!D:E,2,FALSE)))","v":0},{"$f":"analyse!$B$1","v":0},0,0,0,0]
[null,null,{"$f":"IF(ISNA(VLOOKUP(A571,analyse!D:E,2,FALSE))=TRUE,0,(VLOOKUP(A571,analyse!D:E,2,FALSE)))","v":0},{"$f":"analyse!$B$1","v":0},0,0,0,0]
[null,null,{"$f":"IF(ISNA(VLOOKUP(A572,analyse!D:E,2,FALSE))=TRUE,0,(VLOOKUP(A572,analyse!D:E,2,FALSE)))","v":0},{"$f":"analyse!$B$1","v":0},0,0,0,0]
[null,null,{"$f":"IF(ISNA(VLOOKUP(A573,analyse!D:E,2,FALSE))=TRUE,0,(VLOOKUP(A573,analyse!D:E,2,FALSE)))","v":0},{"$f":"analyse!$B$1","v":0},0,0,0,0]
[null,null,{"$f":"IF(ISNA(VLOOKUP(A574,analyse!D:E,2,FALSE))=TRUE,0,(VLOOKUP(A574,analyse!D:E,2,FALSE)))","v":0},{"$f":"analyse!$B$1","v":0},0,0,0,0]
[null,null,{"$f":"IF(ISNA(VLOOKUP(A575,analyse!D:E,2,FALSE))=TRUE,0,(VLOOKUP(A575,analyse!D:E,2,FALSE)))","v":0},{"$f":"analyse!$B$1","v":0},0,0,0,0]
[null,null,{"$f":"IF(ISNA(VLOOKUP(A576,analyse!D:E,2,FALSE))=TRUE,0,(VLOOKUP(A576,analyse!D:E,2,FALSE)))","v":0},{"$f":"analyse!$B$1","v":0},0,0,0,0]
[null,null,{"$f":"IF(ISNA(VLOOKUP(A577,analyse!D:E,2,FALSE))=TRUE,0,(VLOOKUP(A577,analyse!D:E,2,FALSE)))","v":0},{"$f":"analyse!$B$1","v":0},0,0,0,0]
[null,null,{"$f":"IF(ISNA(VLOOKUP(A578,analyse!D:E,2,FALSE))=TRUE,0,(VLOOKUP(A578,analyse!D:E,2,FALSE)))","v":0},{"$f":"analyse!$B$1","v":0},{"$f":"D578-C578","v":0},{"$f":"E578+C578","v":0},{"$f":"IF(F578<E578,D578-1,D578)","v":0},{"$f":"IF(A578=\"S20.G01.00.001\",H577+1,H577)","v":0}]
[null,null,{"$f":"IF(ISNA(VLOOKUP(A579,analyse!D:E,2,FALSE))=TRUE,0,(VLOOKUP(A579,analyse!D:E,2,FALSE)))","v":0},{"$f":"analyse!$B$1","v":0},0,0,0,0]
[null,null,{"$f":"IF(ISNA(VLOOKUP(A580,analyse!D:E,2,FALSE))=TRUE,0,(VLOOKUP(A580,analyse!D:E,2,FALSE)))","v":0},{"$f":"analyse!$B$1","v":0},0,0,0,0]
[null,null,{"$f":"IF(ISNA(VLOOKUP(A581,analyse!D:E,2,FALSE))=TRUE,0,(VLOOKUP(A581,analyse!D:E,2,FALSE)))","v":0},{"$f":"analyse!$B$1","v":0},0,0,0,0]
[null,null,{"$f":"IF(ISNA(VLOOKUP(A582,analyse!D:E,2,FALSE))=TRUE,0,(VLOOKUP(A582,analyse!D:E,2,FALSE)))","v":0},{"$f":"analyse!$B$1","v":0},0,0,0,0]
[null,null,{"$f":"IF(ISNA(VLOOKUP(A583,analyse!D:E,2,FALSE))=TRUE,0,(VLOOKUP(A583,analyse!D:E,2,FALSE)))","v":0},{"$f":"analyse!$B$1","v":0},0,0,0,0]
[null,null,{"$f":"IF(ISNA(VLOOKUP(A584,analyse!D:E,2,FALSE))=TRUE,0,(VLOOKUP(A584,analyse!D:E,2,FALSE)))","v":0},{"$f":"analyse!$B$1","v":0},0,0,0,0]
[null,null,{"$f":"IF(ISNA(VLOOKUP(A585,analyse!D:E,2,FALSE))=TRUE,0,(VLOOKUP(A585,analyse!D:E,2,FALSE)))","v":0},{"$f":"analyse!$B$1","v":0},0,0,0,0]
[null,null,{"$f":"IF(ISNA(VLOOKUP(A586,analyse!D:E,2,FALSE))=TRUE,0,(VLOOKUP(A586,analyse!D:E,2,FALSE)))","v":0},{"$f":"analyse!$B$1","v":0},0,0,0,0]
[null,null,{"$f":"IF(ISNA(VLOOKUP(A587,analyse!D:E,2,FALSE))=TRUE,0,(VLOOKUP(A587,analyse!D:E,2,FALSE)))","v":0},{"$f":"analyse!$B$1","v":0},0,0,0,0]
[null,null,{"$f":"IF(ISNA(VLOOKUP(A588,analyse!D:E,2,FALSE))=TRUE,0,(VLOOKUP(A588,analyse!D:E,2,FALSE)))","v":0},{"$f":"analyse!$B$1","v":0},0,0,0,0]
[null,null,{"$f":"IF(ISNA(VLOOKUP(A589,analyse!D:E,2,FALSE))=TRUE,0,(VLOOKUP(A589,analyse!D:E,2,FALSE)))","v":0},{"$f":"analyse!$B$1","v":0},0,0,0,0]
[null,null,{"$f":"IF(ISNA(VLOOKUP(A590,analyse!D:E,2,FALSE))=TRUE,0,(VLOOKUP(A590,analyse!D:E,2,FALSE)))","v":0},{"$f":"analyse!$B$1","v":0},0,0,0,0]
[null,null,{"$f":"IF(ISNA(VLOOKUP(A591,analyse!D:E,2,FALSE))=TRUE,0,(VLOOKUP(A591,analyse!D:E,2,FALSE)))","v":0},{"$f":"analyse!$B$1","v":0},0,0,0,0]
[null,null,{"$f":"IF(ISNA(VLOOKUP(A592,analyse!D:E,2,FALSE))=TRUE,0,(VLOOKUP(A592,analyse!D:E,2,FALSE)))","v":0},{"$f":"analyse!$B$1","v":0},0,0,0,0]
[null,null,{"$f":"IF(ISNA(VLOOKUP(A593,analyse!D:E,2,FALSE))=TRUE,0,(VLOOKUP(A593,analyse!D:E,2,FALSE)))","v":0},{"$f":"analyse!$B$1","v":0},0,0,0,0]
[null,null,{"$f":"IF(ISNA(VLOOKUP(A594,analyse!D:E,2,FALSE))=TRUE,0,(VLOOKUP(A594,analyse!D:E,2,FALSE)))","v":0},{"$f":"analyse!$B$1","v":0},0,0,0,0]
[null,null,{"$f":"IF(ISNA(VLOOKUP(A595,analyse!D:E,2,FALSE))=TRUE,0,(VLOOKUP(A595,analyse!D:E,2,FALSE)))","v":0},{"$f":"analyse!$B$1","v":0},0,0,0,0]
[null,null,{"$f":"IF(ISNA(VLOOKUP(A596,analyse!D:E,2,FALSE))=TRUE,0,(VLOOKUP(A596,analyse!D:E,2,FALSE)))","v":0},{"$f":"analyse!$B$1","v":0},0,0,0,0]
[null,null,{"$f":"IF(ISNA(VLOOKUP(A597,analyse!D:E,2,FALSE))=TRUE,0,(VLOOKUP(A597,analyse!D:E,2,FALSE)))","v":0},{"$f":"analyse!$B$1","v":0},0,0,0,0]
[null,null,{"$f":"IF(ISNA(VLOOKUP(A598,analyse!D:E,2,FALSE))=TRUE,0,(VLOOKUP(A598,analyse!D:E,2,FALSE)))","v":0},{"$f":"analyse!$B$1","v":0},0,0,0,0]
[null,null,{"$f":"IF(ISNA(VLOOKUP(A599,analyse!D:E,2,FALSE))=TRUE,0,(VLOOKUP(A599,analyse!D:E,2,FALSE)))","v":0},{"$f":"analyse!$B$1","v":0},0,0,0,0]
[null,null,{"$f":"IF(ISNA(VLOOKUP(A600,analyse!D:E,2,FALSE))=TRUE,0,(VLOOKUP(A600,analyse!D:E,2,FALSE)))","v":0},{"$f":"analyse!$B$1","v":0},0,0,0,0]
[null,null,{"$f":"IF(ISNA(VLOOKUP(A601,analyse!D:E,2,FALSE))=TRUE,0,(VLOOKUP(A601,analyse!D:E,2,FALSE)))","v":0},{"$f":"analyse!$B$1","v":0},0,0,0,0]
[null,null,{"$f":"IF(ISNA(VLOOKUP(A602,analyse!D:E,2,FALSE))=TRUE,0,(VLOOKUP(A602,analyse!D:E,2,FALSE)))","v":0},{"$f":"analyse!$B$1","v":0},0,0,0,0]
[null,null,{"$f":"IF(ISNA(VLOOKUP(A603,analyse!D:E,2,FALSE))=TRUE,0,(VLOOKUP(A603,analyse!D:E,2,FALSE)))","v":0},{"$f":"analyse!$B$1","v":0},0,0,0,0]
[null,null,{"$f":"IF(ISNA(VLOOKUP(A604,analyse!D:E,2,FALSE))=TRUE,0,(VLOOKUP(A604,analyse!D:E,2,FALSE)))","v":0},{"$f":"analyse!$B$1","v":0},0,0,0,0]
[null,null,{"$f":"IF(ISNA(VLOOKUP(A605,analyse!D:E,2,FALSE))=TRUE,0,(VLOOKUP(A605,analyse!D:E,2,FALSE)))","v":0},{"$f":"analyse!$B$1","v":0},0,0,0,0]
[null,null,{"$f":"IF(ISNA(VLOOKUP(A606,analyse!D:E,2,FALSE))=TRUE,0,(VLOOKUP(A606,analyse!D:E,2,FALSE)))","v":0},{"$f":"analyse!$B$1","v":0},0,0,0,0]
[null,null,{"$f":"IF(ISNA(VLOOKUP(A607,analyse!D:E,2,FALSE))=TRUE,0,(VLOOKUP(A607,analyse!D:E,2,FALSE)))","v":0},{"$f":"analyse!$B$1","v":0},0,0,0,0]
[null,null,{"$f":"IF(ISNA(VLOOKUP(A608,analyse!D:E,2,FALSE))=TRUE,0,(VLOOKUP(A608,analyse!D:E,2,FALSE)))","v":0},{"$f":"analyse!$B$1","v":0},0,0,0,0]
[null,null,{"$f":"IF(ISNA(VLOOKUP(A609,analyse!D:E,2,FALSE))=TRUE,0,(VLOOKUP(A609,analyse!D:E,2,FALSE)))","v":0},{"$f":"analyse!$B$1","v":0},0,0,0,0]
[null,null,{"$f":"IF(ISNA(VLOOKUP(A610,analyse!D:E,2,FALSE))=TRUE,0,(VLOOKUP(A610,analyse!D:E,2,FALSE)))","v":0},{"$f":"analyse!$B$1","v":0},0,0,0,0]
[null,null,{"$f":"IF(ISNA(VLOOKUP(A611,analyse!D:E,2,FALSE))=TRUE,0,(VLOOKUP(A611,analyse!D:E,2,FALSE)))","v":0},{"$f":"analyse!$B$1","v":0},0,0,0,0]
[null,null,{"$f":"IF(ISNA(VLOOKUP(A612,analyse!D:E,2,FALSE))=TRUE,0,(VLOOKUP(A612,analyse!D:E,2,FALSE)))","v":0},{"$f":"analyse!$B$1","v":0},0,0,0,0]
[null,null,{"$f":"IF(ISNA(VLOOKUP(A613,analyse!D:E,2,FALSE))=TRUE,0,(VLOOKUP(A613,analyse!D:E,2,FALSE)))","v":0},{"$f":"analyse!$B$1","v":0},0,0,0,0]
[null,null,{"$f":"IF(ISNA(VLOOKUP(A614,analyse!D:E,2,FALSE))=TRUE,0,(VLOOKUP(A614,analyse!D:E,2,FALSE)))","v":0},{"$f":"analyse!$B$1","v":0},0,0,0,0]
[null,null,{"$f":"IF(ISNA(VLOOKUP(A615,analyse!D:E,2,FALSE))=TRUE,0,(VLOOKUP(A615,analyse!D:E,2,FALSE)))","v":0},{"$f":"analyse!$B$1","v":0},0,0,0,0]
[null,null,{"$f":"IF(ISNA(VLOOKUP(A616,analyse!D:E,2,FALSE))=TRUE,0,(VLOOKUP(A616,analyse!D:E,2,FALSE)))","v":0},{"$f":"analyse!$B$1","v":0},0,0,0,0]
[null,null,{"$f":"IF(ISNA(VLOOKUP(A617,analyse!D:E,2,FALSE))=TRUE,0,(VLOOKUP(A617,analyse!D:E,2,FALSE)))","v":0},{"$f":"analyse!$B$1","v":0},0,0,0,0]
[null,null,{"$f":"IF(ISNA(VLOOKUP(A618,analyse!D:E,2,FALSE))=TRUE,0,(VLOOKUP(A618,analyse!D:E,2,FALSE)))","v":0},{"$f":"analyse!$B$1","v":0},0,0,0,0]
[null,null,{"$f":"IF(ISNA(VLOOKUP(A619,analyse!D:E,2,FALSE))=TRUE,0,(VLOOKUP(A619,analyse!D:E,2,FALSE)))","v":0},{"$f":"analyse!$B$1","v":0},0,0,0,0]
[null,null,{"$f":"IF(ISNA(VLOOKUP(A620,analyse!D:E,2,FALSE))=TRUE,0,(VLOOKUP(A620,analyse!D:E,2,FALSE)))","v":0},{"$f":"analyse!$B$1","v":0},0,0,0,0]
[null,null,{"$f":"IF(ISNA(VLOOKUP(A621,analyse!D:E,2,FALSE))=TRUE,0,(VLOOKUP(A621,analyse!D:E,2,FALSE)))","v":0},{"$f":"analyse!$B$1","v":0},0,0,0,0]
[null,null,{"$f":"IF(ISNA(VLOOKUP(A622,analyse!D:E,2,FALSE))=TRUE,0,(VLOOKUP(A622,analyse!D:E,2,FALSE)))","v":0},{"$f":"analyse!$B$1","v":0},0,0,0,0]
[null,null,{"$f":"IF(ISNA(VLOOKUP(A623,analyse!D:E,2,FALSE))=TRUE,0,(VLOOKUP(A623,analyse!D:E,2,FALSE)))","v":0},{"$f":"analyse!$B$1","v":0},0,0,0,0]
[null,null,{"$f":"IF(ISNA(VLOOKUP(A624,analyse!D:E,2,FALSE))=TRUE,0,(VLOOKUP(A624,analyse!D:E,2,FALSE)))","v":0},{"$f":"analyse!$B$1","v":0},0,0,0,0]
[null,null,{"$f":"IF(ISNA(VLOOKUP(A625,analyse!D:E,2,FALSE))=TRUE,0,(VLOOKUP(A625,analyse!D:E,2,FALSE)))","v":0},{"$f":"analyse!$B$1","v":0},0,0,0,0]
[null,null,{"$f":"IF(ISNA(VLOOKUP(A626,analyse!D:E,2,FALSE))=TRUE,0,(VLOOKUP(A626,analyse!D:E,2,FALSE)))","v":0},{"$f":"analyse!$B$1","v":0},0,0,0,0]
[null,null,{"$f":"IF(ISNA(VLOOKUP(A627,analyse!D:E,2,FALSE))=TRUE,0,(VLOOKUP(A627,analyse!D:E,2,FALSE)))","v":0},{"$f":"analyse!$B$1","v":0},0,0,0,0]
[null,null,{"$f":"IF(ISNA(VLOOKUP(A628,analyse!D:E,2,FALSE))=TRUE,0,(VLOOKUP(A628,analyse!D:E,2,FALSE)))","v":0},{"$f":"analyse!$B$1","v":0},0,0,0,0]
[null,null,{"$f":"IF(ISNA(VLOOKUP(A629,analyse!D:E,2,FALSE))=TRUE,0,(VLOOKUP(A629,analyse!D:E,2,FALSE)))","v":0},{"$f":"analyse!$B$1","v":0},0,0,0,0]
[null,null,{"$f":"IF(ISNA(VLOOKUP(A630,analyse!D:E,2,FALSE))=TRUE,0,(VLOOKUP(A630,analyse!D:E,2,FALSE)))","v":0},{"$f":"analyse!$B$1","v":0},0,0,0,0]
[null,null,{"$f":"IF(ISNA(VLOOKUP(A631,analyse!D:E,2,FALSE))=TRUE,0,(VLOOKUP(A631,analyse!D:E,2,FALSE)))","v":0},{"$f":"analyse!$B$1","v":0},0,0,0,0]
[null,null,{"$f":"IF(ISNA(VLOOKUP(A632,analyse!D:E,2,FALSE))=TRUE,0,(VLOOKUP(A632,analyse!D:E,2,FALSE)))","v":0},{"$f":"analyse!$B$1","v":0},0,0,0,0]
[null,null,{"$f":"IF(ISNA(VLOOKUP(A633,analyse!D:E,2,FALSE))=TRUE,0,(VLOOKUP(A633,analyse!D:E,2,FALSE)))","v":0},{"$f":"analyse!$B$1","v":0},0,0,0,0]
[null,null,{"$f":"IF(ISNA(VLOOKUP(A634,analyse!D:E,2,FALSE))=TRUE,0,(VLOOKUP(A634,analyse!D:E,2,FALSE)))","v":0},{"$f":"analyse!$B$1","v":0},0,0,0,0]
[null,null,{"$f":"IF(ISNA(VLOOKUP(A635,analyse!D:E,2,FALSE))=TRUE,0,(VLOOKUP(A635,analyse!D:E,2,FALSE)))","v":0},{"$f":"analyse!$B$1","v":0},0,0,0,0]
[null,null,{"$f":"IF(ISNA(VLOOKUP(A636,analyse!D:E,2,FALSE))=TRUE,0,(VLOOKUP(A636,analyse!D:E,2,FALSE)))","v":0},{"$f":"analyse!$B$1","v":0},0,0,0,0]
[null,null,{"$f":"IF(ISNA(VLOOKUP(A637,analyse!D:E,2,FALSE))=TRUE,0,(VLOOKUP(A637,analyse!D:E,2,FALSE)))","v":0},{"$f":"analyse!$B$1","v":0},0,0,0,0]
[null,null,{"$f":"IF(ISNA(VLOOKUP(A638,analyse!D:E,2,FALSE))=TRUE,0,(VLOOKUP(A638,analyse!D:E,2,FALSE)))","v":0},{"$f":"analyse!$B$1","v":0},0,0,0,0]
[null,null,{"$f":"IF(ISNA(VLOOKUP(A639,analyse!D:E,2,FALSE))=TRUE,0,(VLOOKUP(A639,analyse!D:E,2,FALSE)))","v":0},{"$f":"analyse!$B$1","v":0},0,0,0,0]
[null,null,{"$f":"IF(ISNA(VLOOKUP(A640,analyse!D:E,2,FALSE))=TRUE,0,(VLOOKUP(A640,analyse!D:E,2,FALSE)))","v":0},{"$f":"analyse!$B$1","v":0},0,0,0,0]
[null,null,{"$f":"IF(ISNA(VLOOKUP(A641,analyse!D:E,2,FALSE))=TRUE,0,(VLOOKUP(A641,analyse!D:E,2,FALSE)))","v":0},{"$f":"analyse!$B$1","v":0},0,0,0,0]
[null,null,{"$f":"IF(ISNA(VLOOKUP(A642,analyse!D:E,2,FALSE))=TRUE,0,(VLOOKUP(A642,analyse!D:E,2,FALSE)))","v":0},{"$f":"analyse!$B$1","v":0},{"$f":"D642-C642","v":0},{"$f":"E642+C642","v":0},{"$f":"IF(F642<E642,D642-1,D642)","v":0},{"$f":"IF(A642=\"S20.G01.00.001\",H641+1,H641)","v":0}]
[null,null,{"$f":"IF(ISNA(VLOOKUP(A643,analyse!D:E,2,FALSE))=TRUE,0,(VLOOKUP(A643,analyse!D:E,2,FALSE)))","v":0},{"$f":"analyse!$B$1","v":0},0,0,0,0]
[null,null,{"$f":"IF(ISNA(VLOOKUP(A644,analyse!D:E,2,FALSE))=TRUE,0,(VLOOKUP(A644,analyse!D:E,2,FALSE)))","v":0},{"$f":"analyse!$B$1","v":0},0,0,0,0]
[null,null,{"$f":"IF(ISNA(VLOOKUP(A645,analyse!D:E,2,FALSE))=TRUE,0,(VLOOKUP(A645,analyse!D:E,2,FALSE)))","v":0},{"$f":"analyse!$B$1","v":0},0,0,0,0]
[null,null,{"$f":"IF(ISNA(VLOOKUP(A646,analyse!D:E,2,FALSE))=TRUE,0,(VLOOKUP(A646,analyse!D:E,2,FALSE)))","v":0},{"$f":"analyse!$B$1","v":0},0,0,0,0]
[null,null,{"$f":"IF(ISNA(VLOOKUP(A647,analyse!D:E,2,FALSE))=TRUE,0,(VLOOKUP(A647,analyse!D:E,2,FALSE)))","v":0},{"$f":"analyse!$B$1","v":0},0,0,0,0]
[null,null,{"$f":"IF(ISNA(VLOOKUP(A648,analyse!D:E,2,FALSE))=TRUE,0,(VLOOKUP(A648,analyse!D:E,2,FALSE)))","v":0},{"$f":"analyse!$B$1","v":0},0,0,0,0]
[null,null,{"$f":"IF(ISNA(VLOOKUP(A649,analyse!D:E,2,FALSE))=TRUE,0,(VLOOKUP(A649,analyse!D:E,2,FALSE)))","v":0},{"$f":"analyse!$B$1","v":0},0,0,0,0]
[null,null,{"$f":"IF(ISNA(VLOOKUP(A650,analyse!D:E,2,FALSE))=TRUE,0,(VLOOKUP(A650,analyse!D:E,2,FALSE)))","v":0},{"$f":"analyse!$B$1","v":0},0,0,0,0]
[null,null,{"$f":"IF(ISNA(VLOOKUP(A651,analyse!D:E,2,FALSE))=TRUE,0,(VLOOKUP(A651,analyse!D:E,2,FALSE)))","v":0},{"$f":"analyse!$B$1","v":0},0,0,0,0]
[null,null,{"$f":"IF(ISNA(VLOOKUP(A652,analyse!D:E,2,FALSE))=TRUE,0,(VLOOKUP(A652,analyse!D:E,2,FALSE)))","v":0},{"$f":"analyse!$B$1","v":0},0,0,0,0]
[null,null,{"$f":"IF(ISNA(VLOOKUP(A653,analyse!D:E,2,FALSE))=TRUE,0,(VLOOKUP(A653,analyse!D:E,2,FALSE)))","v":0},{"$f":"analyse!$B$1","v":0},0,0,0,0]
[null,null,{"$f":"IF(ISNA(VLOOKUP(A654,analyse!D:E,2,FALSE))=TRUE,0,(VLOOKUP(A654,analyse!D:E,2,FALSE)))","v":0},{"$f":"analyse!$B$1","v":0},0,0,0,0]
[null,null,{"$f":"IF(ISNA(VLOOKUP(A655,analyse!D:E,2,FALSE))=TRUE,0,(VLOOKUP(A655,analyse!D:E,2,FALSE)))","v":0},{"$f":"analyse!$B$1","v":0},0,0,0,0]
[null,null,{"$f":"IF(ISNA(VLOOKUP(A656,analyse!D:E,2,FALSE))=TRUE,0,(VLOOKUP(A656,analyse!D:E,2,FALSE)))","v":0},{"$f":"analyse!$B$1","v":0},0,0,0,0]
[null,null,{"$f":"IF(ISNA(VLOOKUP(A657,analyse!D:E,2,FALSE))=TRUE,0,(VLOOKUP(A657,analyse!D:E,2,FALSE)))","v":0},{"$f":"analyse!$B$1","v":0},0,0,0,0]
[null,null,{"$f":"IF(ISNA(VLOOKUP(A658,analyse!D:E,2,FALSE))=TRUE,0,(VLOOKUP(A658,analyse!D:E,2,FALSE)))","v":0},{"$f":"analyse!$B$1","v":0},0,0,0,0]
[null,null,{"$f":"IF(ISNA(VLOOKUP(A659,analyse!D:E,2,FALSE))=TRUE,0,(VLOOKUP(A659,analyse!D:E,2,FALSE)))","v":0},{"$f":"analyse!$B$1","v":0},0,0,0,0]
[null,null,{"$f":"IF(ISNA(VLOOKUP(A660,analyse!D:E,2,FALSE))=TRUE,0,(VLOOKUP(A660,analyse!D:E,2,FALSE)))","v":0},{"$f":"analyse!$B$1","v":0},0,0,0,0]
[null,null,{"$f":"IF(ISNA(VLOOKUP(A661,analyse!D:E,2,FALSE))=TRUE,0,(VLOOKUP(A661,analyse!D:E,2,FALSE)))","v":0},{"$f":"analyse!$B$1","v":0},0,0,0,0]
[null,null,{"$f":"IF(ISNA(VLOOKUP(A662,analyse!D:E,2,FALSE))=TRUE,0,(VLOOKUP(A662,analyse!D:E,2,FALSE)))","v":0},{"$f":"analyse!$B$1","v":0},0,0,0,0]
[null,null,{"$f":"IF(ISNA(VLOOKUP(A663,analyse!D:E,2,FALSE))=TRUE,0,(VLOOKUP(A663,analyse!D:E,2,FALSE)))","v":0},{"$f":"analyse!$B$1","v":0},0,0,0,0]
[null,null,{"$f":"IF(ISNA(VLOOKUP(A664,analyse!D:E,2,FALSE))=TRUE,0,(VLOOKUP(A664,analyse!D:E,2,FALSE)))","v":0},{"$f":"analyse!$B$1","v":0},0,0,0,0]
[null,null,{"$f":"IF(ISNA(VLOOKUP(A665,analyse!D:E,2,FALSE))=TRUE,0,(VLOOKUP(A665,analyse!D:E,2,FALSE)))","v":0},{"$f":"analyse!$B$1","v":0},0,0,0,0]
[null,null,{"$f":"IF(ISNA(VLOOKUP(A666,analyse!D:E,2,FALSE))=TRUE,0,(VLOOKUP(A666,analyse!D:E,2,FALSE)))","v":0},{"$f":"analyse!$B$1","v":0},0,0,0,0]
[null,null,{"$f":"IF(ISNA(VLOOKUP(A667,analyse!D:E,2,FALSE))=TRUE,0,(VLOOKUP(A667,analyse!D:E,2,FALSE)))","v":0},{"$f":"analyse!$B$1","v":0},0,0,0,0]
[null,null,{"$f":"IF(ISNA(VLOOKUP(A668,analyse!D:E,2,FALSE))=TRUE,0,(VLOOKUP(A668,analyse!D:E,2,FALSE)))","v":0},{"$f":"analyse!$B$1","v":0},0,0,0,0]
[null,null,{"$f":"IF(ISNA(VLOOKUP(A669,analyse!D:E,2,FALSE))=TRUE,0,(VLOOKUP(A669,analyse!D:E,2,FALSE)))","v":0},{"$f":"analyse!$B$1","v":0},0,0,0,0]
[null,null,{"$f":"IF(ISNA(VLOOKUP(A670,analyse!D:E,2,FALSE))=TRUE,0,(VLOOKUP(A670,analyse!D:E,2,FALSE)))","v":0},{"$f":"analyse!$B$1","v":0},0,0,0,0]
[null,null,{"$f":"IF(ISNA(VLOOKUP(A671,analyse!D:E,2,FALSE))=TRUE,0,(VLOOKUP(A671,analyse!D:E,2,FALSE)))","v":0},{"$f":"analyse!$B$1","v":0},0,0,0,0]
[null,null,{"$f":"IF(ISNA(VLOOKUP(A672,analyse!D:E,2,FALSE))=TRUE,0,(VLOOKUP(A672,analyse!D:E,2,FALSE)))","v":0},{"$f":"analyse!$B$1","v":0},0,0,0,0]
[null,null,{"$f":"IF(ISNA(VLOOKUP(A673,analyse!D:E,2,FALSE))=TRUE,0,(VLOOKUP(A673,analyse!D:E,2,FALSE)))","v":0},{"$f":"analyse!$B$1","v":0},0,0,0,0]
[null,null,{"$f":"IF(ISNA(VLOOKUP(A674,analyse!D:E,2,FALSE))=TRUE,0,(VLOOKUP(A674,analyse!D:E,2,FALSE)))","v":0},{"$f":"analyse!$B$1","v":0},0,0,0,0]
[null,null,{"$f":"IF(ISNA(VLOOKUP(A675,analyse!D:E,2,FALSE))=TRUE,0,(VLOOKUP(A675,analyse!D:E,2,FALSE)))","v":0},{"$f":"analyse!$B$1","v":0},0,0,0,0]
[null,null,{"$f":"IF(ISNA(VLOOKUP(A676,analyse!D:E,2,FALSE))=TRUE,0,(VLOOKUP(A676,analyse!D:E,2,FALSE)))","v":0},{"$f":"analyse!$B$1","v":0},0,0,0,0]
[null,null,{"$f":"IF(ISNA(VLOOKUP(A677,analyse!D:E,2,FALSE))=TRUE,0,(VLOOKUP(A677,analyse!D:E,2,FALSE)))","v":0},{"$f":"analyse!$B$1","v":0},0,0,0,0]
[null,null,{"$f":"IF(ISNA(VLOOKUP(A678,analyse!D:E,2,FALSE))=TRUE,0,(VLOOKUP(A678,analyse!D:E,2,FALSE)))","v":0},{"$f":"analyse!$B$1","v":0},0,0,0,0]
[null,null,{"$f":"IF(ISNA(VLOOKUP(A679,analyse!D:E,2,FALSE))=TRUE,0,(VLOOKUP(A679,analyse!D:E,2,FALSE)))","v":0},{"$f":"analyse!$B$1","v":0},0,0,0,0]
[null,null,{"$f":"IF(ISNA(VLOOKUP(A680,analyse!D:E,2,FALSE))=TRUE,0,(VLOOKUP(A680,analyse!D:E,2,FALSE)))","v":0},{"$f":"analyse!$B$1","v":0},0,0,0,0]
[null,null,{"$f":"IF(ISNA(VLOOKUP(A681,analyse!D:E,2,FALSE))=TRUE,0,(VLOOKUP(A681,analyse!D:E,2,FALSE)))","v":0},{"$f":"analyse!$B$1","v":0},0,0,0,0]
[null,null,{"$f":"IF(ISNA(VLOOKUP(A682,analyse!D:E,2,FALSE))=TRUE,0,(VLOOKUP(A682,analyse!D:E,2,FALSE)))","v":0},{"$f":"analyse!$B$1","v":0},0,0,0,0]
[null,null,{"$f":"IF(ISNA(VLOOKUP(A683,analyse!D:E,2,FALSE))=TRUE,0,(VLOOKUP(A683,analyse!D:E,2,FALSE)))","v":0},{"$f":"analyse!$B$1","v":0},0,0,0,0]
[null,null,{"$f":"IF(ISNA(VLOOKUP(A684,analyse!D:E,2,FALSE))=TRUE,0,(VLOOKUP(A684,analyse!D:E,2,FALSE)))","v":0},{"$f":"analyse!$B$1","v":0},0,0,0,0]
[null,null,{"$f":"IF(ISNA(VLOOKUP(A685,analyse!D:E,2,FALSE))=TRUE,0,(VLOOKUP(A685,analyse!D:E,2,FALSE)))","v":0},{"$f":"analyse!$B$1","v":0},0,0,0,0]
[null,null,{"$f":"IF(ISNA(VLOOKUP(A686,analyse!D:E,2,FALSE))=TRUE,0,(VLOOKUP(A686,analyse!D:E,2,FALSE)))","v":0},{"$f":"analyse!$B$1","v":0},0,0,0,0]
[null,null,{"$f":"IF(ISNA(VLOOKUP(A687,analyse!D:E,2,FALSE))=TRUE,0,(VLOOKUP(A687,analyse!D:E,2,FALSE)))","v":0},{"$f":"analyse!$B$1","v":0},0,0,0,0]
[null,null,{"$f":"IF(ISNA(VLOOKUP(A688,analyse!D:E,2,FALSE))=TRUE,0,(VLOOKUP(A688,analyse!D:E,2,FALSE)))","v":0},{"$f":"analyse!$B$1","v":0},0,0,0,0]
[null,null,{"$f":"IF(ISNA(VLOOKUP(A689,analyse!D:E,2,FALSE))=TRUE,0,(VLOOKUP(A689,analyse!D:E,2,FALSE)))","v":0},{"$f":"analyse!$B$1","v":0},0,0,0,0]
[null,null,{"$f":"IF(ISNA(VLOOKUP(A690,analyse!D:E,2,FALSE))=TRUE,0,(VLOOKUP(A690,analyse!D:E,2,FALSE)))","v":0},{"$f":"analyse!$B$1","v":0},0,0,0,0]
[null,null,{"$f":"IF(ISNA(VLOOKUP(A691,analyse!D:E,2,FALSE))=TRUE,0,(VLOOKUP(A691,analyse!D:E,2,FALSE)))","v":0},{"$f":"analyse!$B$1","v":0},0,0,0,0]
[null,null,{"$f":"IF(ISNA(VLOOKUP(A692,analyse!D:E,2,FALSE))=TRUE,0,(VLOOKUP(A692,analyse!D:E,2,FALSE)))","v":0},{"$f":"analyse!$B$1","v":0},0,0,0,0]
[null,null,{"$f":"IF(ISNA(VLOOKUP(A693,analyse!D:E,2,FALSE))=TRUE,0,(VLOOKUP(A693,analyse!D:E,2,FALSE)))","v":0},{"$f":"analyse!$B$1","v":0},0,0,0,0]
[null,null,{"$f":"IF(ISNA(VLOOKUP(A694,analyse!D:E,2,FALSE))=TRUE,0,(VLOOKUP(A694,analyse!D:E,2,FALSE)))","v":0},{"$f":"analyse!$B$1","v":0},0,0,0,0]
[null,null,{"$f":"IF(ISNA(VLOOKUP(A695,analyse!D:E,2,FALSE))=TRUE,0,(VLOOKUP(A695,analyse!D:E,2,FALSE)))","v":0},{"$f":"analyse!$B$1","v":0},0,0,0,0]
[null,null,{"$f":"IF(ISNA(VLOOKUP(A696,analyse!D:E,2,FALSE))=TRUE,0,(VLOOKUP(A696,analyse!D:E,2,FALSE)))","v":0},{"$f":"analyse!$B$1","v":0},0,0,0,0]
[null,null,{"$f":"IF(ISNA(VLOOKUP(A697,analyse!D:E,2,FALSE))=TRUE,0,(VLOOKUP(A697,analyse!D:E,2,FALSE)))","v":0},{"$f":"analyse!$B$1","v":0},0,0,0,0]
[null,null,{"$f":"IF(ISNA(VLOOKUP(A698,analyse!D:E,2,FALSE))=TRUE,0,(VLOOKUP(A698,analyse!D:E,2,FALSE)))","v":0},{"$f":"analyse!$B$1","v":0},0,0,0,0]
[null,null,{"$f":"IF(ISNA(VLOOKUP(A699,analyse!D:E,2,FALSE))=TRUE,0,(VLOOKUP(A699,analyse!D:E,2,FALSE)))","v":0},{"$f":"analyse!$B$1","v":0},0,0,0,0]
[null,null,{"$f":"IF(ISNA(VLOOKUP(A700,analyse!D:E,2,FALSE))=TRUE,0,(VLOOKUP(A700,analyse!D:E,2,FALSE)))","v":0},{"$f":"analyse!$B$1","v":0},0,0,0,0]
[null,null,{"$f":"IF(ISNA(VLOOKUP(A701,analyse!D:E,2,FALSE))=TRUE,0,(VLOOKUP(A701,analyse!D:E,2,FALSE)))","v":0},{"$f":"analyse!$B$1","v":0},0,0,0,0]
[null,null,{"$f":"IF(ISNA(VLOOKUP(A702,analyse!D:E,2,FALSE))=TRUE,0,(VLOOKUP(A702,analyse!D:E,2,FALSE)))","v":0},{"$f":"analyse!$B$1","v":0},0,0,0,0]
[null,null,{"$f":"IF(ISNA(VLOOKUP(A703,analyse!D:E,2,FALSE))=TRUE,0,(VLOOKUP(A703,analyse!D:E,2,FALSE)))","v":0},{"$f":"analyse!$B$1","v":0},0,0,0,0]
[null,null,{"$f":"IF(ISNA(VLOOKUP(A704,analyse!D:E,2,FALSE))=TRUE,0,(VLOOKUP(A704,analyse!D:E,2,FALSE)))","v":0},{"$f":"analyse!$B$1","v":0},0,0,0,0]
[null,null,{"$f":"IF(ISNA(VLOOKUP(A705,analyse!D:E,2,FALSE))=TRUE,0,(VLOOKUP(A705,analyse!D:E,2,FALSE)))","v":0},{"$f":"analyse!$B$1","v":0},0,0,0,0]
[null,null,{"$f":"IF(ISNA(VLOOKUP(A706,analyse!D:E,2,FALSE))=TRUE,0,(VLOOKUP(A706,analyse!D:E,2,FALSE)))","v":0},{"$f":"analyse!$B$1","v":0},{"$f":"D706-C706","v":0},{"$f":"E706+C706","v":0},{"$f":"IF(F706<E706,D706-1,D706)","v":0},{"$f":"IF(A706=\"S20.G01.00.001\",H705+1,H705)","v":0}]
[null,null,{"$f":"IF(ISNA(VLOOKUP(A707,analyse!D:E,2,FALSE))=TRUE,0,(VLOOKUP(A707,analyse!D:E,2,FALSE)))","v":0},{"$f":"analyse!$B$1","v":0},0,0,0,0]
[null,null,{"$f":"IF(ISNA(VLOOKUP(A708,analyse!D:E,2,FALSE))=TRUE,0,(VLOOKUP(A708,analyse!D:E,2,FALSE)))","v":0},{"$f":"analyse!$B$1","v":0},0,0,0,0]
[null,null,{"$f":"IF(ISNA(VLOOKUP(A709,analyse!D:E,2,FALSE))=TRUE,0,(VLOOKUP(A709,analyse!D:E,2,FALSE)))","v":0},{"$f":"analyse!$B$1","v":0},0,0,0,0]
[null,null,{"$f":"IF(ISNA(VLOOKUP(A710,analyse!D:E,2,FALSE))=TRUE,0,(VLOOKUP(A710,analyse!D:E,2,FALSE)))","v":0},{"$f":"analyse!$B$1","v":0},0,0,0,0]
[null,null,{"$f":"IF(ISNA(VLOOKUP(A711,analyse!D:E,2,FALSE))=TRUE,0,(VLOOKUP(A711,analyse!D:E,2,FALSE)))","v":0},{"$f":"analyse!$B$1","v":0},0,0,0,0]
[null,null,{"$f":"IF(ISNA(VLOOKUP(A712,analyse!D:E,2,FALSE))=TRUE,0,(VLOOKUP(A712,analyse!D:E,2,FALSE)))","v":0},{"$f":"analyse!$B$1","v":0},0,0,0,0]
[null,null,{"$f":"IF(ISNA(VLOOKUP(A713,analyse!D:E,2,FALSE))=TRUE,0,(VLOOKUP(A713,analyse!D:E,2,FALSE)))","v":0},{"$f":"analyse!$B$1","v":0},0,0,0,0]
[null,null,{"$f":"IF(ISNA(VLOOKUP(A714,analyse!D:E,2,FALSE))=TRUE,0,(VLOOKUP(A714,analyse!D:E,2,FALSE)))","v":0},{"$f":"analyse!$B$1","v":0},0,0,0,0]
[null,null,{"$f":"IF(ISNA(VLOOKUP(A715,analyse!D:E,2,FALSE))=TRUE,0,(VLOOKUP(A715,analyse!D:E,2,FALSE)))","v":0},{"$f":"analyse!$B$1","v":0},0,0,0,0]
[null,null,{"$f":"IF(ISNA(VLOOKUP(A716,analyse!D:E,2,FALSE))=TRUE,0,(VLOOKUP(A716,analyse!D:E,2,FALSE)))","v":0},{"$f":"analyse!$B$1","v":0},0,0,0,0]
[null,null,{"$f":"IF(ISNA(VLOOKUP(A717,analyse!D:E,2,FALSE))=TRUE,0,(VLOOKUP(A717,analyse!D:E,2,FALSE)))","v":0},{"$f":"analyse!$B$1","v":0},0,0,0,0]
[null,null,{"$f":"IF(ISNA(VLOOKUP(A718,analyse!D:E,2,FALSE))=TRUE,0,(VLOOKUP(A718,analyse!D:E,2,FALSE)))","v":0},{"$f":"analyse!$B$1","v":0},0,0,0,0]
[null,null,{"$f":"IF(ISNA(VLOOKUP(A719,analyse!D:E,2,FALSE))=TRUE,0,(VLOOKUP(A719,analyse!D:E,2,FALSE)))","v":0},{"$f":"analyse!$B$1","v":0},0,0,0,0]
[null,null,{"$f":"IF(ISNA(VLOOKUP(A720,analyse!D:E,2,FALSE))=TRUE,0,(VLOOKUP(A720,analyse!D:E,2,FALSE)))","v":0},{"$f":"analyse!$B$1","v":0},0,0,0,0]
[null,null,{"$f":"IF(ISNA(VLOOKUP(A721,analyse!D:E,2,FALSE))=TRUE,0,(VLOOKUP(A721,analyse!D:E,2,FALSE)))","v":0},{"$f":"analyse!$B$1","v":0},0,0,0,0]
[null,null,{"$f":"IF(ISNA(VLOOKUP(A722,analyse!D:E,2,FALSE))=TRUE,0,(VLOOKUP(A722,analyse!D:E,2,FALSE)))","v":0},{"$f":"analyse!$B$1","v":0},0,0,0,0]
[null,null,{"$f":"IF(ISNA(VLOOKUP(A723,analyse!D:E,2,FALSE))=TRUE,0,(VLOOKUP(A723,analyse!D:E,2,FALSE)))","v":0},{"$f":"analyse!$B$1","v":0},0,0,0,0]
[null,null,{"$f":"IF(ISNA(VLOOKUP(A724,analyse!D:E,2,FALSE))=TRUE,0,(VLOOKUP(A724,analyse!D:E,2,FALSE)))","v":0},{"$f":"analyse!$B$1","v":0},0,0,0,0]
[null,null,{"$f":"IF(ISNA(VLOOKUP(A725,analyse!D:E,2,FALSE))=TRUE,0,(VLOOKUP(A725,analyse!D:E,2,FALSE)))","v":0},{"$f":"analyse!$B$1","v":0},0,0,0,0]
[null,null,{"$f":"IF(ISNA(VLOOKUP(A726,analyse!D:E,2,FALSE))=TRUE,0,(VLOOKUP(A726,analyse!D:E,2,FALSE)))","v":0},{"$f":"analyse!$B$1","v":0},0,0,0,0]
[null,null,{"$f":"IF(ISNA(VLOOKUP(A727,analyse!D:E,2,FALSE))=TRUE,0,(VLOOKUP(A727,analyse!D:E,2,FALSE)))","v":0},{"$f":"analyse!$B$1","v":0},0,0,0,0]
[null,null,{"$f":"IF(ISNA(VLOOKUP(A728,analyse!D:E,2,FALSE))=TRUE,0,(VLOOKUP(A728,analyse!D:E,2,FALSE)))","v":0},{"$f":"analyse!$B$1","v":0},0,0,0,0]
[null,null,{"$f":"IF(ISNA(VLOOKUP(A729,analyse!D:E,2,FALSE))=TRUE,0,(VLOOKUP(A729,analyse!D:E,2,FALSE)))","v":0},{"$f":"analyse!$B$1","v":0},0,0,0,0]
[null,null,{"$f":"IF(ISNA(VLOOKUP(A730,analyse!D:E,2,FALSE))=TRUE,0,(VLOOKUP(A730,analyse!D:E,2,FALSE)))","v":0},{"$f":"analyse!$B$1","v":0},0,0,0,0]
[null,null,{"$f":"IF(ISNA(VLOOKUP(A731,analyse!D:E,2,FALSE))=TRUE,0,(VLOOKUP(A731,analyse!D:E,2,FALSE)))","v":0},{"$f":"analyse!$B$1","v":0},0,0,0,0]
[null,null,{"$f":"IF(ISNA(VLOOKUP(A732,analyse!D:E,2,FALSE))=TRUE,0,(VLOOKUP(A732,analyse!D:E,2,FALSE)))","v":0},{"$f":"analyse!$B$1","v":0},0,0,0,0]
[null,null,{"$f":"IF(ISNA(VLOOKUP(A733,analyse!D:E,2,FALSE))=TRUE,0,(VLOOKUP(A733,analyse!D:E,2,FALSE)))","v":0},{"$f":"analyse!$B$1","v":0},0,0,0,0]
[null,null,{"$f":"IF(ISNA(VLOOKUP(A734,analyse!D:E,2,FALSE))=TRUE,0,(VLOOKUP(A734,analyse!D:E,2,FALSE)))","v":0},{"$f":"analyse!$B$1","v":0},0,0,0,0]
[null,null,{"$f":"IF(ISNA(VLOOKUP(A735,analyse!D:E,2,FALSE))=TRUE,0,(VLOOKUP(A735,analyse!D:E,2,FALSE)))","v":0},{"$f":"analyse!$B$1","v":0},0,0,0,0]
[null,null,{"$f":"IF(ISNA(VLOOKUP(A736,analyse!D:E,2,FALSE))=TRUE,0,(VLOOKUP(A736,analyse!D:E,2,FALSE)))","v":0},{"$f":"analyse!$B$1","v":0},0,0,0,0]
[null,null,{"$f":"IF(ISNA(VLOOKUP(A737,analyse!D:E,2,FALSE))=TRUE,0,(VLOOKUP(A737,analyse!D:E,2,FALSE)))","v":0},{"$f":"analyse!$B$1","v":0},0,0,0,0]
[null,null,{"$f":"IF(ISNA(VLOOKUP(A738,analyse!D:E,2,FALSE))=TRUE,0,(VLOOKUP(A738,analyse!D:E,2,FALSE)))","v":0},{"$f":"analyse!$B$1","v":0},0,0,0,0]
[null,null,{"$f":"IF(ISNA(VLOOKUP(A739,analyse!D:E,2,FALSE))=TRUE,0,(VLOOKUP(A739,analyse!D:E,2,FALSE)))","v":0},{"$f":"analyse!$B$1","v":0},0,0,0,0]
[null,null,{"$f":"IF(ISNA(VLOOKUP(A740,analyse!D:E,2,FALSE))=TRUE,0,(VLOOKUP(A740,analyse!D:E,2,FALSE)))","v":0},{"$f":"analyse!$B$1","v":0},0,0,0,0]
[null,null,{"$f":"IF(ISNA(VLOOKUP(A741,analyse!D:E,2,FALSE))=TRUE,0,(VLOOKUP(A741,analyse!D:E,2,FALSE)))","v":0},{"$f":"analyse!$B$1","v":0},0,0,0,0]
[null,null,{"$f":"IF(ISNA(VLOOKUP(A742,analyse!D:E,2,FALSE))=TRUE,0,(VLOOKUP(A742,analyse!D:E,2,FALSE)))","v":0},{"$f":"analyse!$B$1","v":0},0,0,0,0]
[null,null,{"$f":"IF(ISNA(VLOOKUP(A743,analyse!D:E,2,FALSE))=TRUE,0,(VLOOKUP(A743,analyse!D:E,2,FALSE)))","v":0},{"$f":"analyse!$B$1","v":0},0,0,0,0]
[null,null,{"$f":"IF(ISNA(VLOOKUP(A744,analyse!D:E,2,FALSE))=TRUE,0,(VLOOKUP(A744,analyse!D:E,2,FALSE)))","v":0},{"$f":"analyse!$B$1","v":0},0,0,0,0]
[null,null,{"$f":"IF(ISNA(VLOOKUP(A745,analyse!D:E,2,FALSE))=TRUE,0,(VLOOKUP(A745,analyse!D:E,2,FALSE)))","v":0},{"$f":"analyse!$B$1","v":0},0,0,0,0]
[null,null,{"$f":"IF(ISNA(VLOOKUP(A746,analyse!D:E,2,FALSE))=TRUE,0,(VLOOKUP(A746,analyse!D:E,2,FALSE)))","v":0},{"$f":"analyse!$B$1","v":0},0,0,0,0]
[null,null,{"$f":"IF(ISNA(VLOOKUP(A747,analyse!D:E,2,FALSE))=TRUE,0,(VLOOKUP(A747,analyse!D:E,2,FALSE)))","v":0},{"$f":"analyse!$B$1","v":0},0,0,0,0]
[null,null,{"$f":"IF(ISNA(VLOOKUP(A748,analyse!D:E,2,FALSE))=TRUE,0,(VLOOKUP(A748,analyse!D:E,2,FALSE)))","v":0},{"$f":"analyse!$B$1","v":0},0,0,0,0]
[null,null,{"$f":"IF(ISNA(VLOOKUP(A749,analyse!D:E,2,FALSE))=TRUE,0,(VLOOKUP(A749,analyse!D:E,2,FALSE)))","v":0},{"$f":"analyse!$B$1","v":0},0,0,0,0]
[null,null,{"$f":"IF(ISNA(VLOOKUP(A750,analyse!D:E,2,FALSE))=TRUE,0,(VLOOKUP(A750,analyse!D:E,2,FALSE)))","v":0},{"$f":"analyse!$B$1","v":0},0,0,0,0]
[null,null,{"$f":"IF(ISNA(VLOOKUP(A751,analyse!D:E,2,FALSE))=TRUE,0,(VLOOKUP(A751,analyse!D:E,2,FALSE)))","v":0},{"$f":"analyse!$B$1","v":0},0,0,0,0]
[null,null,{"$f":"IF(ISNA(VLOOKUP(A752,analyse!D:E,2,FALSE))=TRUE,0,(VLOOKUP(A752,analyse!D:E,2,FALSE)))","v":0},{"$f":"analyse!$B$1","v":0},0,0,0,0]
[null,null,{"$f":"IF(ISNA(VLOOKUP(A753,analyse!D:E,2,FALSE))=TRUE,0,(VLOOKUP(A753,analyse!D:E,2,FALSE)))","v":0},{"$f":"analyse!$B$1","v":0},0,0,0,0]
[null,null,{"$f":"IF(ISNA(VLOOKUP(A754,analyse!D:E,2,FALSE))=TRUE,0,(VLOOKUP(A754,analyse!D:E,2,FALSE)))","v":0},{"$f":"analyse!$B$1","v":0},0,0,0,0]
[null,null,{"$f":"IF(ISNA(VLOOKUP(A755,analyse!D:E,2,FALSE))=TRUE,0,(VLOOKUP(A755,analyse!D:E,2,FALSE)))","v":0},{"$f":"analyse!$B$1","v":0},0,0,0,0]
[null,null,{"$f":"IF(ISNA(VLOOKUP(A756,analyse!D:E,2,FALSE))=TRUE,0,(VLOOKUP(A756,analyse!D:E,2,FALSE)))","v":0},{"$f":"analyse!$B$1","v":0},0,0,0,0]
[null,null,{"$f":"IF(ISNA(VLOOKUP(A757,analyse!D:E,2,FALSE))=TRUE,0,(VLOOKUP(A757,analyse!D:E,2,FALSE)))","v":0},{"$f":"analyse!$B$1","v":0},0,0,0,0]
[null,null,{"$f":"IF(ISNA(VLOOKUP(A758,analyse!D:E,2,FALSE))=TRUE,0,(VLOOKUP(A758,analyse!D:E,2,FALSE)))","v":0},{"$f":"analyse!$B$1","v":0},0,0,0,0]
[null,null,{"$f":"IF(ISNA(VLOOKUP(A759,analyse!D:E,2,FALSE))=TRUE,0,(VLOOKUP(A759,analyse!D:E,2,FALSE)))","v":0},{"$f":"analyse!$B$1","v":0},0,0,0,0]
[null,null,{"$f":"IF(ISNA(VLOOKUP(A760,analyse!D:E,2,FALSE))=TRUE,0,(VLOOKUP(A760,analyse!D:E,2,FALSE)))","v":0},{"$f":"analyse!$B$1","v":0},0,0,0,0]
[null,null,{"$f":"IF(ISNA(VLOOKUP(A761,analyse!D:E,2,FALSE))=TRUE,0,(VLOOKUP(A761,analyse!D:E,2,FALSE)))","v":0},{"$f":"analyse!$B$1","v":0},0,0,0,0]
[null,null,{"$f":"IF(ISNA(VLOOKUP(A762,analyse!D:E,2,FALSE))=TRUE,0,(VLOOKUP(A762,analyse!D:E,2,FALSE)))","v":0},{"$f":"analyse!$B$1","v":0},0,0,0,0]
[null,null,{"$f":"IF(ISNA(VLOOKUP(A763,analyse!D:E,2,FALSE))=TRUE,0,(VLOOKUP(A763,analyse!D:E,2,FALSE)))","v":0},{"$f":"analyse!$B$1","v":0},0,0,0,0]
[null,null,{"$f":"IF(ISNA(VLOOKUP(A764,analyse!D:E,2,FALSE))=TRUE,0,(VLOOKUP(A764,analyse!D:E,2,FALSE)))","v":0},{"$f":"analyse!$B$1","v":0},0,0,0,0]
[null,null,{"$f":"IF(ISNA(VLOOKUP(A765,analyse!D:E,2,FALSE))=TRUE,0,(VLOOKUP(A765,analyse!D:E,2,FALSE)))","v":0},{"$f":"analyse!$B$1","v":0},0,0,0,0]
[null,null,{"$f":"IF(ISNA(VLOOKUP(A766,analyse!D:E,2,FALSE))=TRUE,0,(VLOOKUP(A766,analyse!D:E,2,FALSE)))","v":0},{"$f":"analyse!$B$1","v":0},0,0,0,0]
[null,null,{"$f":"IF(ISNA(VLOOKUP(A767,analyse!D:E,2,FALSE))=TRUE,0,(VLOOKUP(A767,analyse!D:E,2,FALSE)))","v":0},{"$f":"analyse!$B$1","v":0},0,0,0,0]
[null,null,{"$f":"IF(ISNA(VLOOKUP(A768,analyse!D:E,2,FALSE))=TRUE,0,(VLOOKUP(A768,analyse!D:E,2,FALSE)))","v":0},{"$f":"analyse!$B$1","v":0},0,0,0,0]
[null,null,{"$f":"IF(ISNA(VLOOKUP(A769,analyse!D:E,2,FALSE))=TRUE,0,(VLOOKUP(A769,analyse!D:E,2,FALSE)))","v":0},{"$f":"analyse!$B$1","v":0},0,0,0,0]
[null,null,{"$f":"IF(ISNA(VLOOKUP(A770,analyse!D:E,2,FALSE))=TRUE,0,(VLOOKUP(A770,analyse!D:E,2,FALSE)))","v":0},{"$f":"analyse!$B$1","v":0},{"$f":"D770-C770","v":0},{"$f":"E770+C770","v":0},{"$f":"IF(F770<E770,D770-1,D770)","v":0},{"$f":"IF(A770=\"S20.G01.00.001\",H769+1,H769)","v":0}]
[null,null,{"$f":"IF(ISNA(VLOOKUP(A771,analyse!D:E,2,FALSE))=TRUE,0,(VLOOKUP(A771,analyse!D:E,2,FALSE)))","v":0},{"$f":"analyse!$B$1","v":0},0,0,0,0]
[null,null,{"$f":"IF(ISNA(VLOOKUP(A772,analyse!D:E,2,FALSE))=TRUE,0,(VLOOKUP(A772,analyse!D:E,2,FALSE)))","v":0},{"$f":"analyse!$B$1","v":0},0,0,0,0]
[null,null,{"$f":"IF(ISNA(VLOOKUP(A773,analyse!D:E,2,FALSE))=TRUE,0,(VLOOKUP(A773,analyse!D:E,2,FALSE)))","v":0},{"$f":"analyse!$B$1","v":0},0,0,0,0]
[null,null,{"$f":"IF(ISNA(VLOOKUP(A774,analyse!D:E,2,FALSE))=TRUE,0,(VLOOKUP(A774,analyse!D:E,2,FALSE)))","v":0},{"$f":"analyse!$B$1","v":0},0,0,0,0]
[null,null,{"$f":"IF(ISNA(VLOOKUP(A775,analyse!D:E,2,FALSE))=TRUE,0,(VLOOKUP(A775,analyse!D:E,2,FALSE)))","v":0},{"$f":"analyse!$B$1","v":0},0,0,0,0]
[null,null,{"$f":"IF(ISNA(VLOOKUP(A776,analyse!D:E,2,FALSE))=TRUE,0,(VLOOKUP(A776,analyse!D:E,2,FALSE)))","v":0},{"$f":"analyse!$B$1","v":0},0,0,0,0]
[null,null,{"$f":"IF(ISNA(VLOOKUP(A777,analyse!D:E,2,FALSE))=TRUE,0,(VLOOKUP(A777,analyse!D:E,2,FALSE)))","v":0},{"$f":"analyse!$B$1","v":0},0,0,0,0]
[null,null,{"$f":"IF(ISNA(VLOOKUP(A778,analyse!D:E,2,FALSE))=TRUE,0,(VLOOKUP(A778,analyse!D:E,2,FALSE)))","v":0},{"$f":"analyse!$B$1","v":0},0,0,0,0]
[null,null,{"$f":"IF(ISNA(VLOOKUP(A779,analyse!D:E,2,FALSE))=TRUE,0,(VLOOKUP(A779,analyse!D:E,2,FALSE)))","v":0},{"$f":"analyse!$B$1","v":0},0,0,0,0]
[null,null,{"$f":"IF(ISNA(VLOOKUP(A780,analyse!D:E,2,FALSE))=TRUE,0,(VLOOKUP(A780,analyse!D:E,2,FALSE)))","v":0},{"$f":"analyse!$B$1","v":0},0,0,0,0]
[null,null,{"$f":"IF(ISNA(VLOOKUP(A781,analyse!D:E,2,FALSE))=TRUE,0,(VLOOKUP(A781,analyse!D:E,2,FALSE)))","v":0},{"$f":"analyse!$B$1","v":0},0,0,0,0]
[null,null,{"$f":"IF(ISNA(VLOOKUP(A782,analyse!D:E,2,FALSE))=TRUE,0,(VLOOKUP(A782,analyse!D:E,2,FALSE)))","v":0},{"$f":"analyse!$B$1","v":0},0,0,0,0]
[null,null,{"$f":"IF(ISNA(VLOOKUP(A783,analyse!D:E,2,FALSE))=TRUE,0,(VLOOKUP(A783,analyse!D:E,2,FALSE)))","v":0},{"$f":"analyse!$B$1","v":0},0,0,0,0]
[null,null,{"$f":"IF(ISNA(VLOOKUP(A784,analyse!D:E,2,FALSE))=TRUE,0,(VLOOKUP(A784,analyse!D:E,2,FALSE)))","v":0},{"$f":"analyse!$B$1","v":0},0,0,0,0]
[null,null,{"$f":"IF(ISNA(VLOOKUP(A785,analyse!D:E,2,FALSE))=TRUE,0,(VLOOKUP(A785,analyse!D:E,2,FALSE)))","v":0},{"$f":"analyse!$B$1","v":0},0,0,0,0]
[null,null,{"$f":"IF(ISNA(VLOOKUP(A786,analyse!D:E,2,FALSE))=TRUE,0,(VLOOKUP(A786,analyse!D:E,2,FALSE)))","v":0},{"$f":"analyse!$B$1","v":0},0,0,0,0]
[null,null,{"$f":"IF(ISNA(VLOOKUP(A787,analyse!D:E,2,FALSE))=TRUE,0,(VLOOKUP(A787,analyse!D:E,2,FALSE)))","v":0},{"$f":"analyse!$B$1","v":0},0,0,0,0]
[null,null,{"$f":"IF(ISNA(VLOOKUP(A788,analyse!D:E,2,FALSE))=TRUE,0,(VLOOKUP(A788,analyse!D:E,2,FALSE)))","v":0},{"$f":"analyse!$B$1","v":0},0,0,0,0]
[null,null,{"$f":"IF(ISNA(VLOOKUP(A789,analyse!D:E,2,FALSE))=TRUE,0,(VLOOKUP(A789,analyse!D:E,2,FALSE)))","v":0},{"$f":"analyse!$B$1","v":0},0,0,0,0]
[null,null,{"$f":"IF(ISNA(VLOOKUP(A790,analyse!D:E,2,FALSE))=TRUE,0,(VLOOKUP(A790,analyse!D:E,2,FALSE)))","v":0},{"$f":"analyse!$B$1","v":0},0,0,0,0]
[null,null,{"$f":"IF(ISNA(VLOOKUP(A791,analyse!D:E,2,FALSE))=TRUE,0,(VLOOKUP(A791,analyse!D:E,2,FALSE)))","v":0},{"$f":"analyse!$B$1","v":0},0,0,0,0]
[null,null,{"$f":"IF(ISNA(VLOOKUP(A792,analyse!D:E,2,FALSE))=TRUE,0,(VLOOKUP(A792,analyse!D:E,2,FALSE)))","v":0},{"$f":"analyse!$B$1","v":0},0,0,0,0]
[null,null,{"$f":"IF(ISNA(VLOOKUP(A793,analyse!D:E,2,FALSE))=TRUE,0,(VLOOKUP(A793,analyse!D:E,2,FALSE)))","v":0},{"$f":"analyse!$B$1","v":0},0,0,0,0]
[null,null,{"$f":"IF(ISNA(VLOOKUP(A794,analyse!D:E,2,FALSE))=TRUE,0,(VLOOKUP(A794,analyse!D:E,2,FALSE)))","v":0},{"$f":"analyse!$B$1","v":0},0,0,0,0]
[null,null,{"$f":"IF(ISNA(VLOOKUP(A795,analyse!D:E,2,FALSE))=TRUE,0,(VLOOKUP(A795,analyse!D:E,2,FALSE)))","v":0},{"$f":"analyse!$B$1","v":0},0,0,0,0]
[null,null,{"$f":"IF(ISNA(VLOOKUP(A796,analyse!D:E,2,FALSE))=TRUE,0,(VLOOKUP(A796,analyse!D:E,2,FALSE)))","v":0},{"$f":"analyse!$B$1","v":0},0,0,0,0]
[null,null,{"$f":"IF(ISNA(VLOOKUP(A797,analyse!D:E,2,FALSE))=TRUE,0,(VLOOKUP(A797,analyse!D:E,2,FALSE)))","v":0},{"$f":"analyse!$B$1","v":0},0,0,0,0]
[null,null,{"$f":"IF(ISNA(VLOOKUP(A798,analyse!D:E,2,FALSE))=TRUE,0,(VLOOKUP(A798,analyse!D:E,2,FALSE)))","v":0},{"$f":"analyse!$B$1","v":0},0,0,0,0]
[null,null,{"$f":"IF(ISNA(VLOOKUP(A799,analyse!D:E,2,FALSE))=TRUE,0,(VLOOKUP(A799,analyse!D:E,2,FALSE)))","v":0},{"$f":"analyse!$B$1","v":0},0,0,0,0]
[null,null,{"$f":"IF(ISNA(VLOOKUP(A800,analyse!D:E,2,FALSE))=TRUE,0,(VLOOKUP(A800,analyse!D:E,2,FALSE)))","v":0},{"$f":"analyse!$B$1","v":0},0,0,0,0]
[null,null,{"$f":"IF(ISNA(VLOOKUP(A801,analyse!D:E,2,FALSE))=TRUE,0,(VLOOKUP(A801,analyse!D:E,2,FALSE)))","v":0},{"$f":"analyse!$B$1","v":0},0,0,0,0]
[null,null,{"$f":"IF(ISNA(VLOOKUP(A802,analyse!D:E,2,FALSE))=TRUE,0,(VLOOKUP(A802,analyse!D:E,2,FALSE)))","v":0},{"$f":"analyse!$B$1","v":0},0,0,0,0]
[null,null,{"$f":"IF(ISNA(VLOOKUP(A803,analyse!D:E,2,FALSE))=TRUE,0,(VLOOKUP(A803,analyse!D:E,2,FALSE)))","v":0},{"$f":"analyse!$B$1","v":0},0,0,0,0]
[null,null,{"$f":"IF(ISNA(VLOOKUP(A804,analyse!D:E,2,FALSE))=TRUE,0,(VLOOKUP(A804,analyse!D:E,2,FALSE)))","v":0},{"$f":"analyse!$B$1","v":0},0,0,0,0]
[null,null,{"$f":"IF(ISNA(VLOOKUP(A805,analyse!D:E,2,FALSE))=TRUE,0,(VLOOKUP(A805,analyse!D:E,2,FALSE)))","v":0},{"$f":"analyse!$B$1","v":0},0,0,0,0]
[null,null,{"$f":"IF(ISNA(VLOOKUP(A806,analyse!D:E,2,FALSE))=TRUE,0,(VLOOKUP(A806,analyse!D:E,2,FALSE)))","v":0},{"$f":"analyse!$B$1","v":0},0,0,0,0]
[null,null,{"$f":"IF(ISNA(VLOOKUP(A807,analyse!D:E,2,FALSE))=TRUE,0,(VLOOKUP(A807,analyse!D:E,2,FALSE)))","v":0},{"$f":"analyse!$B$1","v":0},0,0,0,0]
[null,null,{"$f":"IF(ISNA(VLOOKUP(A808,analyse!D:E,2,FALSE))=TRUE,0,(VLOOKUP(A808,analyse!D:E,2,FALSE)))","v":0},{"$f":"analyse!$B$1","v":0},0,0,0,0]
[null,null,{"$f":"IF(ISNA(VLOOKUP(A809,analyse!D:E,2,FALSE))=TRUE,0,(VLOOKUP(A809,analyse!D:E,2,FALSE)))","v":0},{"$f":"analyse!$B$1","v":0},0,0,0,0]
[null,null,{"$f":"IF(ISNA(VLOOKUP(A810,analyse!D:E,2,FALSE))=TRUE,0,(VLOOKUP(A810,analyse!D:E,2,FALSE)))","v":0},{"$f":"analyse!$B$1","v":0},0,0,0,0]
[null,null,{"$f":"IF(ISNA(VLOOKUP(A811,analyse!D:E,2,FALSE))=TRUE,0,(VLOOKUP(A811,analyse!D:E,2,FALSE)))","v":0},{"$f":"analyse!$B$1","v":0},0,0,0,0]
[null,null,{"$f":"IF(ISNA(VLOOKUP(A812,analyse!D:E,2,FALSE))=TRUE,0,(VLOOKUP(A812,analyse!D:E,2,FALSE)))","v":0},{"$f":"analyse!$B$1","v":0},0,0,0,0]
[null,null,{"$f":"IF(ISNA(VLOOKUP(A813,analyse!D:E,2,FALSE))=TRUE,0,(VLOOKUP(A813,analyse!D:E,2,FALSE)))","v":0},{"$f":"analyse!$B$1","v":0},0,0,0,0]
[null,null,{"$f":"IF(ISNA(VLOOKUP(A814,analyse!D:E,2,FALSE))=TRUE,0,(VLOOKUP(A814,analyse!D:E,2,FALSE)))","v":0},{"$f":"analyse!$B$1","v":0},0,0,0,0]
[null,null,{"$f":"IF(ISNA(VLOOKUP(A815,analyse!D:E,2,FALSE))=TRUE,0,(VLOOKUP(A815,analyse!D:E,2,FALSE)))","v":0},{"$f":"analyse!$B$1","v":0},0,0,0,0]
[null,null,{"$f":"IF(ISNA(VLOOKUP(A816,analyse!D:E,2,FALSE))=TRUE,0,(VLOOKUP(A816,analyse!D:E,2,FALSE)))","v":0},{"$f":"analyse!$B$1","v":0},0,0,0,0]
[null,null,{"$f":"IF(ISNA(VLOOKUP(A817,analyse!D:E,2,FALSE))=TRUE,0,(VLOOKUP(A817,analyse!D:E,2,FALSE)))","v":0},{"$f":"analyse!$B$1","v":0},0,0,0,0]
[null,null,{"$f":"IF(ISNA(VLOOKUP(A818,analyse!D:E,2,FALSE))=TRUE,0,(VLOOKUP(A818,analyse!D:E,2,FALSE)))","v":0},{"$f":"analyse!$B$1","v":0},0,0,0,0]
[null,null,{"$f":"IF(ISNA(VLOOKUP(A819,analyse!D:E,2,FALSE))=TRUE,0,(VLOOKUP(A819,analyse!D:E,2,FALSE)))","v":0},{"$f":"analyse!$B$1","v":0},0,0,0,0]
[null,null,{"$f":"IF(ISNA(VLOOKUP(A820,analyse!D:E,2,FALSE))=TRUE,0,(VLOOKUP(A820,analyse!D:E,2,FALSE)))","v":0},{"$f":"analyse!$B$1","v":0},0,0,0,0]
[null,null,{"$f":"IF(ISNA(VLOOKUP(A821,analyse!D:E,2,FALSE))=TRUE,0,(VLOOKUP(A821,analyse!D:E,2,FALSE)))","v":0},{"$f":"analyse!$B$1","v":0},0,0,0,0]
[null,null,{"$f":"IF(ISNA(VLOOKUP(A822,analyse!D:E,2,FALSE))=TRUE,0,(VLOOKUP(A822,analyse!D:E,2,FALSE)))","v":0},{"$f":"analyse!$B$1","v":0},0,0,0,0]
[null,null,{"$f":"IF(ISNA(VLOOKUP(A823,analyse!D:E,2,FALSE))=TRUE,0,(VLOOKUP(A823,analyse!D:E,2,FALSE)))","v":0},{"$f":"analyse!$B$1","v":0},0,0,0,0]
[null,null,{"$f":"IF(ISNA(VLOOKUP(A824,analyse!D:E,2,FALSE))=TRUE,0,(VLOOKUP(A824,analyse!D:E,2,FALSE)))","v":0},{"$f":"analyse!$B$1","v":0},0,0,0,0]
[null,null,{"$f":"IF(ISNA(VLOOKUP(A825,analyse!D:E,2,FALSE))=TRUE,0,(VLOOKUP(A825,analyse!D:E,2,FALSE)))","v":0},{"$f":"analyse!$B$1","v":0},0,0,0,0]
[null,null,{"$f":"IF(ISNA(VLOOKUP(A826,analyse!D:E,2,FALSE))=TRUE,0,(VLOOKUP(A826,analyse!D:E,2,FALSE)))","v":0},{"$f":"analyse!$B$1","v":0},0,0,0,0]
[null,null,{"$f":"IF(ISNA(VLOOKUP(A827,analyse!D:E,2,FALSE))=TRUE,0,(VLOOKUP(A827,analyse!D:E,2,FALSE)))","v":0},{"$f":"analyse!$B$1","v":0},0,0,0,0]
[null,null,{"$f":"IF(ISNA(VLOOKUP(A828,analyse!D:E,2,FALSE))=TRUE,0,(VLOOKUP(A828,analyse!D:E,2,FALSE)))","v":0},{"$f":"analyse!$B$1","v":0},0,0,0,0]
[null,null,{"$f":"IF(ISNA(VLOOKUP(A829,analyse!D:E,2,FALSE))=TRUE,0,(VLOOKUP(A829,analyse!D:E,2,FALSE)))","v":0},{"$f":"analyse!$B$1","v":0},0,0,0,0]
[null,null,{"$f":"IF(ISNA(VLOOKUP(A830,analyse!D:E,2,FALSE))=TRUE,0,(VLOOKUP(A830,analyse!D:E,2,FALSE)))","v":0},{"$f":"analyse!$B$1","v":0},0,0,0,0]
[null,null,{"$f":"IF(ISNA(VLOOKUP(A831,analyse!D:E,2,FALSE))=TRUE,0,(VLOOKUP(A831,analyse!D:E,2,FALSE)))","v":0},{"$f":"analyse!$B$1","v":0},0,0,0,0]
[null,null,{"$f":"IF(ISNA(VLOOKUP(A832,analyse!D:E,2,FALSE))=TRUE,0,(VLOOKUP(A832,analyse!D:E,2,FALSE)))","v":0},{"$f":"analyse!$B$1","v":0},0,0,0,0]
[null,null,{"$f":"IF(ISNA(VLOOKUP(A833,analyse!D:E,2,FALSE))=TRUE,0,(VLOOKUP(A833,analyse!D:E,2,FALSE)))","v":0},{"$f":"analyse!$B$1","v":0},0,0,0,0]
[null,null,{"$f":"IF(ISNA(VLOOKUP(A834,analyse!D:E,2,FALSE))=TRUE,0,(VLOOKUP(A834,analyse!D:E,2,FALSE)))","v":0},{"$f":"analyse!$B$1","v":0},{"$f":"D834-C834","v":0},{"$f":"E834+C834","v":0},{"$f":"IF(F834<E834,D834-1,D834)","v":0},{"$f":"IF(A834=\"S20.G01.00.001\",H833+1,H833)","v":0}]
[null,null,{"$f":"IF(ISNA(VLOOKUP(A835,analyse!D:E,2,FALSE))=TRUE,0,(VLOOKUP(A835,analyse!D:E,2,FALSE)))","v":0},{"$f":"analyse!$B$1","v":0},0,0,0,0]
[null,null,{"$f":"IF(ISNA(VLOOKUP(A836,analyse!D:E,2,FALSE))=TRUE,0,(VLOOKUP(A836,analyse!D:E,2,FALSE)))","v":0},{"$f":"analyse!$B$1","v":0},0,0,0,0]
[null,null,{"$f":"IF(ISNA(VLOOKUP(A837,analyse!D:E,2,FALSE))=TRUE,0,(VLOOKUP(A837,analyse!D:E,2,FALSE)))","v":0},{"$f":"analyse!$B$1","v":0},0,0,0,0]
[null,null,{"$f":"IF(ISNA(VLOOKUP(A838,analyse!D:E,2,FALSE))=TRUE,0,(VLOOKUP(A838,analyse!D:E,2,FALSE)))","v":0},{"$f":"analyse!$B$1","v":0},0,0,0,0]
[null,null,{"$f":"IF(ISNA(VLOOKUP(A839,analyse!D:E,2,FALSE))=TRUE,0,(VLOOKUP(A839,analyse!D:E,2,FALSE)))","v":0},{"$f":"analyse!$B$1","v":0},0,0,0,0]
[null,null,{"$f":"IF(ISNA(VLOOKUP(A840,analyse!D:E,2,FALSE))=TRUE,0,(VLOOKUP(A840,analyse!D:E,2,FALSE)))","v":0},{"$f":"analyse!$B$1","v":0},0,0,0,0]
[null,null,{"$f":"IF(ISNA(VLOOKUP(A841,analyse!D:E,2,FALSE))=TRUE,0,(VLOOKUP(A841,analyse!D:E,2,FALSE)))","v":0},{"$f":"analyse!$B$1","v":0},0,0,0,0]
[null,null,{"$f":"IF(ISNA(VLOOKUP(A842,analyse!D:E,2,FALSE))=TRUE,0,(VLOOKUP(A842,analyse!D:E,2,FALSE)))","v":0},{"$f":"analyse!$B$1","v":0},0,0,0,0]
[null,null,{"$f":"IF(ISNA(VLOOKUP(A843,analyse!D:E,2,FALSE))=TRUE,0,(VLOOKUP(A843,analyse!D:E,2,FALSE)))","v":0},{"$f":"analyse!$B$1","v":0},0,0,0,0]
[null,null,{"$f":"IF(ISNA(VLOOKUP(A844,analyse!D:E,2,FALSE))=TRUE,0,(VLOOKUP(A844,analyse!D:E,2,FALSE)))","v":0},{"$f":"analyse!$B$1","v":0},0,0,0,0]
[null,null,{"$f":"IF(ISNA(VLOOKUP(A845,analyse!D:E,2,FALSE))=TRUE,0,(VLOOKUP(A845,analyse!D:E,2,FALSE)))","v":0},{"$f":"analyse!$B$1","v":0},0,0,0,0]
[null,null,{"$f":"IF(ISNA(VLOOKUP(A846,analyse!D:E,2,FALSE))=TRUE,0,(VLOOKUP(A846,analyse!D:E,2,FALSE)))","v":0},{"$f":"analyse!$B$1","v":0},0,0,0,0]
[null,null,{"$f":"IF(ISNA(VLOOKUP(A847,analyse!D:E,2,FALSE))=TRUE,0,(VLOOKUP(A847,analyse!D:E,2,FALSE)))","v":0},{"$f":"analyse!$B$1","v":0},0,0,0,0]
[null,null,{"$f":"IF(ISNA(VLOOKUP(A848,analyse!D:E,2,FALSE))=TRUE,0,(VLOOKUP(A848,analyse!D:E,2,FALSE)))","v":0},{"$f":"analyse!$B$1","v":0},0,0,0,0]
[null,null,{"$f":"IF(ISNA(VLOOKUP(A849,analyse!D:E,2,FALSE))=TRUE,0,(VLOOKUP(A849,analyse!D:E,2,FALSE)))","v":0},{"$f":"analyse!$B$1","v":0},0,0,0,0]
[null,null,{"$f":"IF(ISNA(VLOOKUP(A850,analyse!D:E,2,FALSE))=TRUE,0,(VLOOKUP(A850,analyse!D:E,2,FALSE)))","v":0},{"$f":"analyse!$B$1","v":0},0,0,0,0]
[null,null,{"$f":"IF(ISNA(VLOOKUP(A851,analyse!D:E,2,FALSE))=TRUE,0,(VLOOKUP(A851,analyse!D:E,2,FALSE)))","v":0},{"$f":"analyse!$B$1","v":0},0,0,0,0]
[null,null,{"$f":"IF(ISNA(VLOOKUP(A852,analyse!D:E,2,FALSE))=TRUE,0,(VLOOKUP(A852,analyse!D:E,2,FALSE)))","v":0},{"$f":"analyse!$B$1","v":0},0,0,0,0]
[null,null,{"$f":"IF(ISNA(VLOOKUP(A853,analyse!D:E,2,FALSE))=TRUE,0,(VLOOKUP(A853,analyse!D:E,2,FALSE)))","v":0},{"$f":"analyse!$B$1","v":0},0,0,0,0]
[null,null,{"$f":"IF(ISNA(VLOOKUP(A854,analyse!D:E,2,FALSE))=TRUE,0,(VLOOKUP(A854,analyse!D:E,2,FALSE)))","v":0},{"$f":"analyse!$B$1","v":0},0,0,0,0]
[null,null,{"$f":"IF(ISNA(VLOOKUP(A855,analyse!D:E,2,FALSE))=TRUE,0,(VLOOKUP(A855,analyse!D:E,2,FALSE)))","v":0},{"$f":"analyse!$B$1","v":0},0,0,0,0]
[null,null,{"$f":"IF(ISNA(VLOOKUP(A856,analyse!D:E,2,FALSE))=TRUE,0,(VLOOKUP(A856,analyse!D:E,2,FALSE)))","v":0},{"$f":"analyse!$B$1","v":0},0,0,0,0]
[null,null,{"$f":"IF(ISNA(VLOOKUP(A857,analyse!D:E,2,FALSE))=TRUE,0,(VLOOKUP(A857,analyse!D:E,2,FALSE)))","v":0},{"$f":"analyse!$B$1","v":0},0,0,0,0]
[null,null,{"$f":"IF(ISNA(VLOOKUP(A858,analyse!D:E,2,FALSE))=TRUE,0,(VLOOKUP(A858,analyse!D:E,2,FALSE)))","v":0},{"$f":"analyse!$B$1","v":0},0,0,0,0]
[null,null,{"$f":"IF(ISNA(VLOOKUP(A859,analyse!D:E,2,FALSE))=TRUE,0,(VLOOKUP(A859,analyse!D:E,2,FALSE)))","v":0},{"$f":"analyse!$B$1","v":0},0,0,0,0]
[null,null,{"$f":"IF(ISNA(VLOOKUP(A860,analyse!D:E,2,FALSE))=TRUE,0,(VLOOKUP(A860,analyse!D:E,2,FALSE)))","v":0},{"$f":"analyse!$B$1","v":0},0,0,0,0]
[null,null,{"$f":"IF(ISNA(VLOOKUP(A861,analyse!D:E,2,FALSE))=TRUE,0,(VLOOKUP(A861,analyse!D:E,2,FALSE)))","v":0},{"$f":"analyse!$B$1","v":0},0,0,0,0]
[null,null,{"$f":"IF(ISNA(VLOOKUP(A862,analyse!D:E,2,FALSE))=TRUE,0,(VLOOKUP(A862,analyse!D:E,2,FALSE)))","v":0},{"$f":"analyse!$B$1","v":0},0,0,0,0]
[null,null,{"$f":"IF(ISNA(VLOOKUP(A863,analyse!D:E,2,FALSE))=TRUE,0,(VLOOKUP(A863,analyse!D:E,2,FALSE)))","v":0},{"$f":"analyse!$B$1","v":0},0,0,0,0]
[null,null,{"$f":"IF(ISNA(VLOOKUP(A864,analyse!D:E,2,FALSE))=TRUE,0,(VLOOKUP(A864,analyse!D:E,2,FALSE)))","v":0},{"$f":"analyse!$B$1","v":0},0,0,0,0]
[null,null,{"$f":"IF(ISNA(VLOOKUP(A865,analyse!D:E,2,FALSE))=TRUE,0,(VLOOKUP(A865,analyse!D:E,2,FALSE)))","v":0},{"$f":"analyse!$B$1","v":0},0,0,0,0]
[null,null,{"$f":"IF(ISNA(VLOOKUP(A866,analyse!D:E,2,FALSE))=TRUE,0,(VLOOKUP(A866,analyse!D:E,2,FALSE)))","v":0},{"$f":"analyse!$B$1","v":0},0,0,0,0]
[null,null,{"$f":"IF(ISNA(VLOOKUP(A867,analyse!D:E,2,FALSE))=TRUE,0,(VLOOKUP(A867,analyse!D:E,2,FALSE)))","v":0},{"$f":"analyse!$B$1","v":0},0,0,0,0]
[null,null,{"$f":"IF(ISNA(VLOOKUP(A868,analyse!D:E,2,FALSE))=TRUE,0,(VLOOKUP(A868,analyse!D:E,2,FALSE)))","v":0},{"$f":"analyse!$B$1","v":0},0,0,0,0]
[null,null,{"$f":"IF(ISNA(VLOOKUP(A869,analyse!D:E,2,FALSE))=TRUE,0,(VLOOKUP(A869,analyse!D:E,2,FALSE)))","v":0},{"$f":"analyse!$B$1","v":0},0,0,0,0]
[null,null,{"$f":"IF(ISNA(VLOOKUP(A870,analyse!D:E,2,FALSE))=TRUE,0,(VLOOKUP(A870,analyse!D:E,2,FALSE)))","v":0},{"$f":"analyse!$B$1","v":0},0,0,0,0]
[null,null,{"$f":"IF(ISNA(VLOOKUP(A871,analyse!D:E,2,FALSE))=TRUE,0,(VLOOKUP(A871,analyse!D:E,2,FALSE)))","v":0},{"$f":"analyse!$B$1","v":0},0,0,0,0]
[null,null,{"$f":"IF(ISNA(VLOOKUP(A872,analyse!D:E,2,FALSE))=TRUE,0,(VLOOKUP(A872,analyse!D:E,2,FALSE)))","v":0},{"$f":"analyse!$B$1","v":0},0,0,0,0]
[null,null,{"$f":"IF(ISNA(VLOOKUP(A873,analyse!D:E,2,FALSE))=TRUE,0,(VLOOKUP(A873,analyse!D:E,2,FALSE)))","v":0},{"$f":"analyse!$B$1","v":0},0,0,0,0]
[null,null,{"$f":"IF(ISNA(VLOOKUP(A874,analyse!D:E,2,FALSE))=TRUE,0,(VLOOKUP(A874,analyse!D:E,2,FALSE)))","v":0},{"$f":"analyse!$B$1","v":0},0,0,0,0]
[null,null,{"$f":"IF(ISNA(VLOOKUP(A875,analyse!D:E,2,FALSE))=TRUE,0,(VLOOKUP(A875,analyse!D:E,2,FALSE)))","v":0},{"$f":"analyse!$B$1","v":0},0,0,0,0]
[null,null,{"$f":"IF(ISNA(VLOOKUP(A876,analyse!D:E,2,FALSE))=TRUE,0,(VLOOKUP(A876,analyse!D:E,2,FALSE)))","v":0},{"$f":"analyse!$B$1","v":0},0,0,0,0]
[null,null,{"$f":"IF(ISNA(VLOOKUP(A877,analyse!D:E,2,FALSE))=TRUE,0,(VLOOKUP(A877,analyse!D:E,2,FALSE)))","v":0},{"$f":"analyse!$B$1","v":0},0,0,0,0]
[null,null,{"$f":"IF(ISNA(VLOOKUP(A878,analyse!D:E,2,FALSE))=TRUE,0,(VLOOKUP(A878,analyse!D:E,2,FALSE)))","v":0},{"$f":"analyse!$B$1","v":0},0,0,0,0]
[null,null,{"$f":"IF(ISNA(VLOOKUP(A879,analyse!D:E,2,FALSE))=TRUE,0,(VLOOKUP(A879,analyse!D:E,2,FALSE)))","v":0},{"$f":"analyse!$B$1","v":0},0,0,0,0]
[null,null,{"$f":"IF(ISNA(VLOOKUP(A880,analyse!D:E,2,FALSE))=TRUE,0,(VLOOKUP(A880,analyse!D:E,2,FALSE)))","v":0},{"$f":"analyse!$B$1","v":0},0,0,0,0]
[null,null,{"$f":"IF(ISNA(VLOOKUP(A881,analyse!D:E,2,FALSE))=TRUE,0,(VLOOKUP(A881,analyse!D:E,2,FALSE)))","v":0},{"$f":"analyse!$B$1","v":0},0,0,0,0]
[null,null,{"$f":"IF(ISNA(VLOOKUP(A882,analyse!D:E,2,FALSE))=TRUE,0,(VLOOKUP(A882,analyse!D:E,2,FALSE)))","v":0},{"$f":"analyse!$B$1","v":0},0,0,0,0]
[null,null,{"$f":"IF(ISNA(VLOOKUP(A883,analyse!D:E,2,FALSE))=TRUE,0,(VLOOKUP(A883,analyse!D:E,2,FALSE)))","v":0},{"$f":"analyse!$B$1","v":0},0,0,0,0]
[null,null,{"$f":"IF(ISNA(VLOOKUP(A884,analyse!D:E,2,FALSE))=TRUE,0,(VLOOKUP(A884,analyse!D:E,2,FALSE)))","v":0},{"$f":"analyse!$B$1","v":0},0,0,0,0]
[null,null,{"$f":"IF(ISNA(VLOOKUP(A885,analyse!D:E,2,FALSE))=TRUE,0,(VLOOKUP(A885,analyse!D:E,2,FALSE)))","v":0},{"$f":"analyse!$B$1","v":0},0,0,0,0]
[null,null,{"$f":"IF(ISNA(VLOOKUP(A886,analyse!D:E,2,FALSE))=TRUE,0,(VLOOKUP(A886,analyse!D:E,2,FALSE)))","v":0},{"$f":"analyse!$B$1","v":0},0,0,0,0]
[null,null,{"$f":"IF(ISNA(VLOOKUP(A887,analyse!D:E,2,FALSE))=TRUE,0,(VLOOKUP(A887,analyse!D:E,2,FALSE)))","v":0},{"$f":"analyse!$B$1","v":0},0,0,0,0]
[null,null,{"$f":"IF(ISNA(VLOOKUP(A888,analyse!D:E,2,FALSE))=TRUE,0,(VLOOKUP(A888,analyse!D:E,2,FALSE)))","v":0},{"$f":"analyse!$B$1","v":0},0,0,0,0]
[null,null,{"$f":"IF(ISNA(VLOOKUP(A889,analyse!D:E,2,FALSE))=TRUE,0,(VLOOKUP(A889,analyse!D:E,2,FALSE)))","v":0},{"$f":"analyse!$B$1","v":0},0,0,0,0]
[null,null,{"$f":"IF(ISNA(VLOOKUP(A890,analyse!D:E,2,FALSE))=TRUE,0,(VLOOKUP(A890,analyse!D:E,2,FALSE)))","v":0},{"$f":"analyse!$B$1","v":0},0,0,0,0]
[null,null,{"$f":"IF(ISNA(VLOOKUP(A891,analyse!D:E,2,FALSE))=TRUE,0,(VLOOKUP(A891,analyse!D:E,2,FALSE)))","v":0},{"$f":"analyse!$B$1","v":0},0,0,0,0]
[null,null,{"$f":"IF(ISNA(VLOOKUP(A892,analyse!D:E,2,FALSE))=TRUE,0,(VLOOKUP(A892,analyse!D:E,2,FALSE)))","v":0},{"$f":"analyse!$B$1","v":0},0,0,0,0]
[null,null,{"$f":"IF(ISNA(VLOOKUP(A893,analyse!D:E,2,FALSE))=TRUE,0,(VLOOKUP(A893,analyse!D:E,2,FALSE)))","v":0},{"$f":"analyse!$B$1","v":0},0,0,0,0]
[null,null,{"$f":"IF(ISNA(VLOOKUP(A894,analyse!D:E,2,FALSE))=TRUE,0,(VLOOKUP(A894,analyse!D:E,2,FALSE)))","v":0},{"$f":"analyse!$B$1","v":0},0,0,0,0]
[null,null,{"$f":"IF(ISNA(VLOOKUP(A895,analyse!D:E,2,FALSE))=TRUE,0,(VLOOKUP(A895,analyse!D:E,2,FALSE)))","v":0},{"$f":"analyse!$B$1","v":0},0,0,0,0]
[null,null,{"$f":"IF(ISNA(VLOOKUP(A896,analyse!D:E,2,FALSE))=TRUE,0,(VLOOKUP(A896,analyse!D:E,2,FALSE)))","v":0},{"$f":"analyse!$B$1","v":0},0,0,0,0]
[null,null,{"$f":"IF(ISNA(VLOOKUP(A897,analyse!D:E,2,FALSE))=TRUE,0,(VLOOKUP(A897,analyse!D:E,2,FALSE)))","v":0},{"$f":"analyse!$B$1","v":0},0,0,0,0]
[null,null,{"$f":"IF(ISNA(VLOOKUP(A898,analyse!D:E,2,FALSE))=TRUE,0,(VLOOKUP(A898,analyse!D:E,2,FALSE)))","v":0},{"$f":"analyse!$B$1","v":0},{"$f":"D898-C898","v":0},{"$f":"E898+C898","v":0},{"$f":"IF(F898<E898,D898-1,D898)","v":0},{"$f":"IF(A898=\"S20.G01.00.001\",H897+1,H897)","v":0}]
[null,null,{"$f":"IF(ISNA(VLOOKUP(A899,analyse!D:E,2,FALSE))=TRUE,0,(VLOOKUP(A899,analyse!D:E,2,FALSE)))","v":0},{"$f":"analyse!$B$1","v":0},0,0,0,0]
[null,null,{"$f":"IF(ISNA(VLOOKUP(A900,analyse!D:E,2,FALSE))=TRUE,0,(VLOOKUP(A900,analyse!D:E,2,FALSE)))","v":0},{"$f":"analyse!$B$1","v":0},0,0,0,0]
[null,null,{"$f":"IF(ISNA(VLOOKUP(A901,analyse!D:E,2,FALSE))=TRUE,0,(VLOOKUP(A901,analyse!D:E,2,FALSE)))","v":0},{"$f":"analyse!$B$1","v":0},0,0,0,0]
[null,null,{"$f":"IF(ISNA(VLOOKUP(A902,analyse!D:E,2,FALSE))=TRUE,0,(VLOOKUP(A902,analyse!D:E,2,FALSE)))","v":0},{"$f":"analyse!$B$1","v":0},0,0,0,0]
[null,null,{"$f":"IF(ISNA(VLOOKUP(A903,analyse!D:E,2,FALSE))=TRUE,0,(VLOOKUP(A903,analyse!D:E,2,FALSE)))","v":0},{"$f":"analyse!$B$1","v":0},0,0,0,0]
[null,null,{"$f":"IF(ISNA(VLOOKUP(A904,analyse!D:E,2,FALSE))=TRUE,0,(VLOOKUP(A904,analyse!D:E,2,FALSE)))","v":0},{"$f":"analyse!$B$1","v":0},0,0,0,0]
[null,null,{"$f":"IF(ISNA(VLOOKUP(A905,analyse!D:E,2,FALSE))=TRUE,0,(VLOOKUP(A905,analyse!D:E,2,FALSE)))","v":0},{"$f":"analyse!$B$1","v":0},0,0,0,0]
[null,null,{"$f":"IF(ISNA(VLOOKUP(A906,analyse!D:E,2,FALSE))=TRUE,0,(VLOOKUP(A906,analyse!D:E,2,FALSE)))","v":0},{"$f":"analyse!$B$1","v":0},0,0,0,0]
[null,null,{"$f":"IF(ISNA(VLOOKUP(A907,analyse!D:E,2,FALSE))=TRUE,0,(VLOOKUP(A907,analyse!D:E,2,FALSE)))","v":0},{"$f":"analyse!$B$1","v":0},0,0,0,0]
[null,null,{"$f":"IF(ISNA(VLOOKUP(A908,analyse!D:E,2,FALSE))=TRUE,0,(VLOOKUP(A908,analyse!D:E,2,FALSE)))","v":0},{"$f":"analyse!$B$1","v":0},0,0,0,0]
[null,null,{"$f":"IF(ISNA(VLOOKUP(A909,analyse!D:E,2,FALSE))=TRUE,0,(VLOOKUP(A909,analyse!D:E,2,FALSE)))","v":0},{"$f":"analyse!$B$1","v":0},0,0,0,0]
[null,null,{"$f":"IF(ISNA(VLOOKUP(A910,analyse!D:E,2,FALSE))=TRUE,0,(VLOOKUP(A910,analyse!D:E,2,FALSE)))","v":0},{"$f":"analyse!$B$1","v":0},0,0,0,0]
[null,null,{"$f":"IF(ISNA(VLOOKUP(A911,analyse!D:E,2,FALSE))=TRUE,0,(VLOOKUP(A911,analyse!D:E,2,FALSE)))","v":0},{"$f":"analyse!$B$1","v":0},0,0,0,0]
[null,null,{"$f":"IF(ISNA(VLOOKUP(A912,analyse!D:E,2,FALSE))=TRUE,0,(VLOOKUP(A912,analyse!D:E,2,FALSE)))","v":0},{"$f":"analyse!$B$1","v":0},0,0,0,0]
[null,null,{"$f":"IF(ISNA(VLOOKUP(A913,analyse!D:E,2,FALSE))=TRUE,0,(VLOOKUP(A913,analyse!D:E,2,FALSE)))","v":0},{"$f":"analyse!$B$1","v":0},0,0,0,0]
[null,null,{"$f":"IF(ISNA(VLOOKUP(A914,analyse!D:E,2,FALSE))=TRUE,0,(VLOOKUP(A914,analyse!D:E,2,FALSE)))","v":0},{"$f":"analyse!$B$1","v":0},0,0,0,0]
[null,null,{"$f":"IF(ISNA(VLOOKUP(A915,analyse!D:E,2,FALSE))=TRUE,0,(VLOOKUP(A915,analyse!D:E,2,FALSE)))","v":0},{"$f":"analyse!$B$1","v":0},0,0,0,0]
[null,null,{"$f":"IF(ISNA(VLOOKUP(A916,analyse!D:E,2,FALSE))=TRUE,0,(VLOOKUP(A916,analyse!D:E,2,FALSE)))","v":0},{"$f":"analyse!$B$1","v":0},0,0,0,0]
[null,null,{"$f":"IF(ISNA(VLOOKUP(A917,analyse!D:E,2,FALSE))=TRUE,0,(VLOOKUP(A917,analyse!D:E,2,FALSE)))","v":0},{"$f":"analyse!$B$1","v":0},0,0,0,0]
[null,null,{"$f":"IF(ISNA(VLOOKUP(A918,analyse!D:E,2,FALSE))=TRUE,0,(VLOOKUP(A918,analyse!D:E,2,FALSE)))","v":0},{"$f":"analyse!$B$1","v":0},0,0,0,0]
[null,null,{"$f":"IF(ISNA(VLOOKUP(A919,analyse!D:E,2,FALSE))=TRUE,0,(VLOOKUP(A919,analyse!D:E,2,FALSE)))","v":0},{"$f":"analyse!$B$1","v":0},0,0,0,0]
[null,null,{"$f":"IF(ISNA(VLOOKUP(A920,analyse!D:E,2,FALSE))=TRUE,0,(VLOOKUP(A920,analyse!D:E,2,FALSE)))","v":0},{"$f":"analyse!$B$1","v":0},0,0,0,0]
[null,null,{"$f":"IF(ISNA(VLOOKUP(A921,analyse!D:E,2,FALSE))=TRUE,0,(VLOOKUP(A921,analyse!D:E,2,FALSE)))","v":0},{"$f":"analyse!$B$1","v":0},0,0,0,0]
[null,null,{"$f":"IF(ISNA(VLOOKUP(A922,analyse!D:E,2,FALSE))=TRUE,0,(VLOOKUP(A922,analyse!D:E,2,FALSE)))","v":0},{"$f":"analyse!$B$1","v":0},0,0,0,0]
[null,null,{"$f":"IF(ISNA(VLOOKUP(A923,analyse!D:E,2,FALSE))=TRUE,0,(VLOOKUP(A923,analyse!D:E,2,FALSE)))","v":0},{"$f":"analyse!$B$1","v":0},0,0,0,0]
[null,null,{"$f":"IF(ISNA(VLOOKUP(A924,analyse!D:E,2,FALSE))=TRUE,0,(VLOOKUP(A924,analyse!D:E,2,FALSE)))","v":0},{"$f":"analyse!$B$1","v":0},0,0,0,0]
[null,null,{"$f":"IF(ISNA(VLOOKUP(A925,analyse!D:E,2,FALSE))=TRUE,0,(VLOOKUP(A925,analyse!D:E,2,FALSE)))","v":0},{"$f":"analyse!$B$1","v":0},0,0,0,0]
[null,null,{"$f":"IF(ISNA(VLOOKUP(A926,analyse!D:E,2,FALSE))=TRUE,0,(VLOOKUP(A926,analyse!D:E,2,FALSE)))","v":0},{"$f":"analyse!$B$1","v":0},0,0,0,0]
[null,null,{"$f":"IF(ISNA(VLOOKUP(A927,analyse!D:E,2,FALSE))=TRUE,0,(VLOOKUP(A927,analyse!D:E,2,FALSE)))","v":0},{"$f":"analyse!$B$1","v":0},0,0,0,0]
[null,null,{"$f":"IF(ISNA(VLOOKUP(A928,analyse!D:E,2,FALSE))=TRUE,0,(VLOOKUP(A928,analyse!D:E,2,FALSE)))","v":0},{"$f":"analyse!$B$1","v":0},0,0,0,0]
[null,null,{"$f":"IF(ISNA(VLOOKUP(A929,analyse!D:E,2,FALSE))=TRUE,0,(VLOOKUP(A929,analyse!D:E,2,FALSE)))","v":0},{"$f":"analyse!$B$1","v":0},0,0,0,0]
[null,null,{"$f":"IF(ISNA(VLOOKUP(A930,analyse!D:E,2,FALSE))=TRUE,0,(VLOOKUP(A930,analyse!D:E,2,FALSE)))","v":0},{"$f":"analyse!$B$1","v":0},0,0,0,0]
[null,null,{"$f":"IF(ISNA(VLOOKUP(A931,analyse!D:E,2,FALSE))=TRUE,0,(VLOOKUP(A931,analyse!D:E,2,FALSE)))","v":0},{"$f":"analyse!$B$1","v":0},0,0,0,0]
[null,null,{"$f":"IF(ISNA(VLOOKUP(A932,analyse!D:E,2,FALSE))=TRUE,0,(VLOOKUP(A932,analyse!D:E,2,FALSE)))","v":0},{"$f":"analyse!$B$1","v":0},0,0,0,0]
[null,null,{"$f":"IF(ISNA(VLOOKUP(A933,analyse!D:E,2,FALSE))=TRUE,0,(VLOOKUP(A933,analyse!D:E,2,FALSE)))","v":0},{"$f":"analyse!$B$1","v":0},0,0,0,0]
[null,null,{"$f":"IF(ISNA(VLOOKUP(A934,analyse!D:E,2,FALSE))=TRUE,0,(VLOOKUP(A934,analyse!D:E,2,FALSE)))","v":0},{"$f":"analyse!$B$1","v":0},0,0,0,0]
[null,null,{"$f":"IF(ISNA(VLOOKUP(A935,analyse!D:E,2,FALSE))=TRUE,0,(VLOOKUP(A935,analyse!D:E,2,FALSE)))","v":0},{"$f":"analyse!$B$1","v":0},0,0,0,0]
[null,null,{"$f":"IF(ISNA(VLOOKUP(A936,analyse!D:E,2,FALSE))=TRUE,0,(VLOOKUP(A936,analyse!D:E,2,FALSE)))","v":0},{"$f":"analyse!$B$1","v":0},0,0,0,0]
[null,null,{"$f":"IF(ISNA(VLOOKUP(A937,analyse!D:E,2,FALSE))=TRUE,0,(VLOOKUP(A937,analyse!D:E,2,FALSE)))","v":0},{"$f":"analyse!$B$1","v":0},0,0,0,0]
[null,null,{"$f":"IF(ISNA(VLOOKUP(A938,analyse!D:E,2,FALSE))=TRUE,0,(VLOOKUP(A938,analyse!D:E,2,FALSE)))","v":0},{"$f":"analyse!$B$1","v":0},0,0,0,0]
[null,null,{"$f":"IF(ISNA(VLOOKUP(A939,analyse!D:E,2,FALSE))=TRUE,0,(VLOOKUP(A939,analyse!D:E,2,FALSE)))","v":0},{"$f":"analyse!$B$1","v":0},0,0,0,0]
[null,null,{"$f":"IF(ISNA(VLOOKUP(A940,analyse!D:E,2,FALSE))=TRUE,0,(VLOOKUP(A940,analyse!D:E,2,FALSE)))","v":0},{"$f":"analyse!$B$1","v":0},0,0,0,0]
[null,null,{"$f":"IF(ISNA(VLOOKUP(A941,analyse!D:E,2,FALSE))=TRUE,0,(VLOOKUP(A941,analyse!D:E,2,FALSE)))","v":0},{"$f":"analyse!$B$1","v":0},0,0,0,0]
[null,null,{"$f":"IF(ISNA(VLOOKUP(A942,analyse!D:E,2,FALSE))=TRUE,0,(VLOOKUP(A942,analyse!D:E,2,FALSE)))","v":0},{"$f":"analyse!$B$1","v":0},0,0,0,0]
[null,null,{"$f":"IF(ISNA(VLOOKUP(A943,analyse!D:E,2,FALSE))=TRUE,0,(VLOOKUP(A943,analyse!D:E,2,FALSE)))","v":0},{"$f":"analyse!$B$1","v":0},0,0,0,0]
[null,null,{"$f":"IF(ISNA(VLOOKUP(A944,analyse!D:E,2,FALSE))=TRUE,0,(VLOOKUP(A944,analyse!D:E,2,FALSE)))","v":0},{"$f":"analyse!$B$1","v":0},0,0,0,0]
[null,null,{"$f":"IF(ISNA(VLOOKUP(A945,analyse!D:E,2,FALSE))=TRUE,0,(VLOOKUP(A945,analyse!D:E,2,FALSE)))","v":0},{"$f":"analyse!$B$1","v":0},0,0,0,0]
[null,null,{"$f":"IF(ISNA(VLOOKUP(A946,analyse!D:E,2,FALSE))=TRUE,0,(VLOOKUP(A946,analyse!D:E,2,FALSE)))","v":0},{"$f":"analyse!$B$1","v":0},0,0,0,0]
[null,null,{"$f":"IF(ISNA(VLOOKUP(A947,analyse!D:E,2,FALSE))=TRUE,0,(VLOOKUP(A947,analyse!D:E,2,FALSE)))","v":0},{"$f":"analyse!$B$1","v":0},0,0,0,0]
[null,null,{"$f":"IF(ISNA(VLOOKUP(A948,analyse!D:E,2,FALSE))=TRUE,0,(VLOOKUP(A948,analyse!D:E,2,FALSE)))","v":0},{"$f":"analyse!$B$1","v":0},0,0,0,0]
[null,null,{"$f":"IF(ISNA(VLOOKUP(A949,analyse!D:E,2,FALSE))=TRUE,0,(VLOOKUP(A949,analyse!D:E,2,FALSE)))","v":0},{"$f":"analyse!$B$1","v":0},0,0,0,0]
[null,null,{"$f":"IF(ISNA(VLOOKUP(A950,analyse!D:E,2,FALSE))=TRUE,0,(VLOOKUP(A950,analyse!D:E,2,FALSE)))","v":0},{"$f":"analyse!$B$1","v":0},0,0,0,0]
[null,null,{"$f":"IF(ISNA(VLOOKUP(A951,analyse!D:E,2,FALSE))=TRUE,0,(VLOOKUP(A951,analyse!D:E,2,FALSE)))","v":0},{"$f":"analyse!$B$1","v":0},0,0,0,0]
[null,null,{"$f":"IF(ISNA(VLOOKUP(A952,analyse!D:E,2,FALSE))=TRUE,0,(VLOOKUP(A952,analyse!D:E,2,FALSE)))","v":0},{"$f":"analyse!$B$1","v":0},0,0,0,0]
[null,null,{"$f":"IF(ISNA(VLOOKUP(A953,analyse!D:E,2,FALSE))=TRUE,0,(VLOOKUP(A953,analyse!D:E,2,FALSE)))","v":0},{"$f":"analyse!$B$1","v":0},0,0,0,0]
[null,null,{"$f":"IF(ISNA(VLOOKUP(A954,analyse!D:E,2,FALSE))=TRUE,0,(VLOOKUP(A954,analyse!D:E,2,FALSE)))","v":0},{"$f":"analyse!$B$1","v":0},0,0,0,0]
[null,null,{"$f":"IF(ISNA(VLOOKUP(A955,analyse!D:E,2,FALSE))=TRUE,0,(VLOOKUP(A955,analyse!D:E,2,FALSE)))","v":0},{"$f":"analyse!$B$1","v":0},0,0,0,0]
[null,null,{"$f":"IF(ISNA(VLOOKUP(A956,analyse!D:E,2,FALSE))=TRUE,0,(VLOOKUP(A956,analyse!D:E,2,FALSE)))","v":0},{"$f":"analyse!$B$1","v":0},0,0,0,0]
[null,null,{"$f":"IF(ISNA(VLOOKUP(A957,analyse!D:E,2,FALSE))=TRUE,0,(VLOOKUP(A957,analyse!D:E,2,FALSE)))","v":0},{"$f":"analyse!$B$1","v":0},0,0,0,0]
[null,null,{"$f":"IF(ISNA(VLOOKUP(A958,analyse!D:E,2,FALSE))=TRUE,0,(VLOOKUP(A958,analyse!D:E,2,FALSE)))","v":0},{"$f":"analyse!$B$1","v":0},0,0,0,0]
[null,null,{"$f":"IF(ISNA(VLOOKUP(A959,analyse!D:E,2,FALSE))=TRUE,0,(VLOOKUP(A959,analyse!D:E,2,FALSE)))","v":0},{"$f":"analyse!$B$1","v":0},0,0,0,0]
[null,null,{"$f":"IF(ISNA(VLOOKUP(A960,analyse!D:E,2,FALSE))=TRUE,0,(VLOOKUP(A960,analyse!D:E,2,FALSE)))","v":0},{"$f":"analyse!$B$1","v":0},0,0,0,0]
[null,null,{"$f":"IF(ISNA(VLOOKUP(A961,analyse!D:E,2,FALSE))=TRUE,0,(VLOOKUP(A961,analyse!D:E,2,FALSE)))","v":0},{"$f":"analyse!$B$1","v":0},0,0,0,0]
[null,null,{"$f":"IF(ISNA(VLOOKUP(A962,analyse!D:E,2,FALSE))=TRUE,0,(VLOOKUP(A962,analyse!D:E,2,FALSE)))","v":0},{"$f":"analyse!$B$1","v":0},{"$f":"D962-C962","v":0},{"$f":"E962+C962","v":0},{"$f":"IF(F962<E962,D962-1,D962)","v":0},{"$f":"IF(A962=\"S20.G01.00.001\",H961+1,H961)","v":0}]
[null,null,{"$f":"IF(ISNA(VLOOKUP(A963,analyse!D:E,2,FALSE))=TRUE,0,(VLOOKUP(A963,analyse!D:E,2,FALSE)))","v":0},{"$f":"analyse!$B$1","v":0},0,0,0,0]
[null,null,{"$f":"IF(ISNA(VLOOKUP(A964,analyse!D:E,2,FALSE))=TRUE,0,(VLOOKUP(A964,analyse!D:E,2,FALSE)))","v":0},{"$f":"analyse!$B$1","v":0},0,0,0,0]
[null,null,{"$f":"IF(ISNA(VLOOKUP(A965,analyse!D:E,2,FALSE))=TRUE,0,(VLOOKUP(A965,analyse!D:E,2,FALSE)))","v":0},{"$f":"analyse!$B$1","v":0},0,0,0,0]
[null,null,{"$f":"IF(ISNA(VLOOKUP(A966,analyse!D:E,2,FALSE))=TRUE,0,(VLOOKUP(A966,analyse!D:E,2,FALSE)))","v":0},{"$f":"analyse!$B$1","v":0},0,0,0,0]
[null,null,{"$f":"IF(ISNA(VLOOKUP(A967,analyse!D:E,2,FALSE))=TRUE,0,(VLOOKUP(A967,analyse!D:E,2,FALSE)))","v":0},{"$f":"analyse!$B$1","v":0},0,0,0,0]
[null,null,{"$f":"IF(ISNA(VLOOKUP(A968,analyse!D:E,2,FALSE))=TRUE,0,(VLOOKUP(A968,analyse!D:E,2,FALSE)))","v":0},{"$f":"analyse!$B$1","v":0},0,0,0,0]
[null,null,{"$f":"IF(ISNA(VLOOKUP(A969,analyse!D:E,2,FALSE))=TRUE,0,(VLOOKUP(A969,analyse!D:E,2,FALSE)))","v":0},{"$f":"analyse!$B$1","v":0},0,0,0,0]
[null,null,{"$f":"IF(ISNA(VLOOKUP(A970,analyse!D:E,2,FALSE))=TRUE,0,(VLOOKUP(A970,analyse!D:E,2,FALSE)))","v":0},{"$f":"analyse!$B$1","v":0},0,0,0,0]
[null,null,{"$f":"IF(ISNA(VLOOKUP(A971,analyse!D:E,2,FALSE))=TRUE,0,(VLOOKUP(A971,analyse!D:E,2,FALSE)))","v":0},{"$f":"analyse!$B$1","v":0},0,0,0,0]
[null,null,{"$f":"IF(ISNA(VLOOKUP(A972,analyse!D:E,2,FALSE))=TRUE,0,(VLOOKUP(A972,analyse!D:E,2,FALSE)))","v":0},{"$f":"analyse!$B$1","v":0},0,0,0,0]
[null,null,{"$f":"IF(ISNA(VLOOKUP(A973,analyse!D:E,2,FALSE))=TRUE,0,(VLOOKUP(A973,analyse!D:E,2,FALSE)))","v":0},{"$f":"analyse!$B$1","v":0},0,0,0,0]
[null,null,{"$f":"IF(ISNA(VLOOKUP(A974,analyse!D:E,2,FALSE))=TRUE,0,(VLOOKUP(A974,analyse!D:E,2,FALSE)))","v":0},{"$f":"analyse!$B$1","v":0},0,0,0,0]
[null,null,{"$f":"IF(ISNA(VLOOKUP(A975,analyse!D:E,2,FALSE))=TRUE,0,(VLOOKUP(A975,analyse!D:E,2,FALSE)))","v":0},{"$f":"analyse!$B$1","v":0},0,0,0,0]
[null,null,{"$f":"IF(ISNA(VLOOKUP(A976,analyse!D:E,2,FALSE))=TRUE,0,(VLOOKUP(A976,analyse!D:E,2,FALSE)))","v":0},{"$f":"analyse!$B$1","v":0},0,0,0,0]
[null,null,{"$f":"IF(ISNA(VLOOKUP(A977,analyse!D:E,2,FALSE))=TRUE,0,(VLOOKUP(A977,analyse!D:E,2,FALSE)))","v":0},{"$f":"analyse!$B$1","v":0},0,0,0,0]
[null,null,{"$f":"IF(ISNA(VLOOKUP(A978,analyse!D:E,2,FALSE))=TRUE,0,(VLOOKUP(A978,analyse!D:E,2,FALSE)))","v":0},{"$f":"analyse!$B$1","v":0},0,0,0,0]
[null,null,{"$f":"IF(ISNA(VLOOKUP(A979,analyse!D:E,2,FALSE))=TRUE,0,(VLOOKUP(A979,analyse!D:E,2,FALSE)))","v":0},{"$f":"analyse!$B$1","v":0},0,0,0,0]
[null,null,{"$f":"IF(ISNA(VLOOKUP(A980,analyse!D:E,2,FALSE))=TRUE,0,(VLOOKUP(A980,analyse!D:E,2,FALSE)))","v":0},{"$f":"analyse!$B$1","v":0},0,0,0,0]
[null,null,{"$f":"IF(ISNA(VLOOKUP(A981,analyse!D:E,2,FALSE))=TRUE,0,(VLOOKUP(A981,analyse!D:E,2,FALSE)))","v":0},{"$f":"analyse!$B$1","v":0},0,0,0,0]
[null,null,{"$f":"IF(ISNA(VLOOKUP(A982,analyse!D:E,2,FALSE))=TRUE,0,(VLOOKUP(A982,analyse!D:E,2,FALSE)))","v":0},{"$f":"analyse!$B$1","v":0},0,0,0,0]
[null,null,{"$f":"IF(ISNA(VLOOKUP(A983,analyse!D:E,2,FALSE))=TRUE,0,(VLOOKUP(A983,analyse!D:E,2,FALSE)))","v":0},{"$f":"analyse!$B$1","v":0},0,0,0,0]
[null,null,{"$f":"IF(ISNA(VLOOKUP(A984,analyse!D:E,2,FALSE))=TRUE,0,(VLOOKUP(A984,analyse!D:E,2,FALSE)))","v":0},{"$f":"analyse!$B$1","v":0},0,0,0,0]
[null,null,{"$f":"IF(ISNA(VLOOKUP(A985,analyse!D:E,2,FALSE))=TRUE,0,(VLOOKUP(A985,analyse!D:E,2,FALSE)))","v":0},{"$f":"analyse!$B$1","v":0},0,0,0,0]
[null,null,{"$f":"IF(ISNA(VLOOKUP(A986,analyse!D:E,2,FALSE))=TRUE,0,(VLOOKUP(A986,analyse!D:E,2,FALSE)))","v":0},{"$f":"analyse!$B$1","v":0},0,0,0,0]
[null,null,{"$f":"IF(ISNA(VLOOKUP(A987,analyse!D:E,2,FALSE))=TRUE,0,(VLOOKUP(A987,analyse!D:E,2,FALSE)))","v":0},{"$f":"analyse!$B$1","v":0},0,0,0,0]
[null,null,{"$f":"IF(ISNA(VLOOKUP(A988,analyse!D:E,2,FALSE))=TRUE,0,(VLOOKUP(A988,analyse!D:E,2,FALSE)))","v":0},{"$f":"analyse!$B$1","v":0},0,0,0,0]
[null,null,{"$f":"IF(ISNA(VLOOKUP(A989,analyse!D:E,2,FALSE))=TRUE,0,(VLOOKUP(A989,analyse!D:E,2,FALSE)))","v":0},{"$f":"analyse!$B$1","v":0},0,0,0,0]
[null,null,{"$f":"IF(ISNA(VLOOKUP(A990,analyse!D:E,2,FALSE))=TRUE,0,(VLOOKUP(A990,analyse!D:E,2,FALSE)))","v":0},{"$f":"analyse!$B$1","v":0},0,0,0,0]
[null,null,{"$f":"IF(ISNA(VLOOKUP(A991,analyse!D:E,2,FALSE))=TRUE,0,(VLOOKUP(A991,analyse!D:E,2,FALSE)))","v":0},{"$f":"analyse!$B$1","v":0},0,0,0,0]
[null,null,{"$f":"IF(ISNA(VLOOKUP(A992,analyse!D:E,2,FALSE))=TRUE,0,(VLOOKUP(A992,analyse!D:E,2,FALSE)))","v":0},{"$f":"analyse!$B$1","v":0},0,0,0,0]
[null,null,{"$f":"IF(ISNA(VLOOKUP(A993,analyse!D:E,2,FALSE))=TRUE,0,(VLOOKUP(A993,analyse!D:E,2,FALSE)))","v":0},{"$f":"analyse!$B$1","v":0},0,0,0,0]
[null,null,{"$f":"IF(ISNA(VLOOKUP(A994,analyse!D:E,2,FALSE))=TRUE,0,(VLOOKUP(A994,analyse!D:E,2,FALSE)))","v":0},{"$f":"analyse!$B$1","v":0},0,0,0,0]
[null,null,{"$f":"IF(ISNA(VLOOKUP(A995,analyse!D:E,2,FALSE))=TRUE,0,(VLOOKUP(A995,analyse!D:E,2,FALSE)))","v":0},{"$f":"analyse!$B$1","v":0},0,0,0,0]
[null,null,{"$f":"IF(ISNA(VLOOKUP(A996,analyse!D:E,2,FALSE))=TRUE,0,(VLOOKUP(A996,analyse!D:E,2,FALSE)))","v":0},{"$f":"analyse!$B$1","v":0},0,0,0,0]
[null,null,{"$f":"IF(ISNA(VLOOKUP(A997,analyse!D:E,2,FALSE))=TRUE,0,(VLOOKUP(A997,analyse!D:E,2,FALSE)))","v":0},{"$f":"analyse!$B$1","v":0},0,0,0,0]
[null,null,{"$f":"IF(ISNA(VLOOKUP(A998,analyse!D:E,2,FALSE))=TRUE,0,(VLOOKUP(A998,analyse!D:E,2,FALSE)))","v":0},{"$f":"analyse!$B$1","v":0},0,0,0,0]
[null,null,{"$f":"IF(ISNA(VLOOKUP(A999,analyse!D:E,2,FALSE))=TRUE,0,(VLOOKUP(A999,analyse!D:E,2,FALSE)))","v":0},{"$f":"analyse!$B$1","v":0},0,0,0,0]
[null,null,{"$f":"IF(ISNA(VLOOKUP(A1000,analyse!D:E,2,FALSE))=TRUE,0,(VLOOKUP(A1000,analyse!D:E,2,FALSE)))","v":0},{"$f":"analyse!$B$1","v":0},0,0,0,0]
[null,null,{"$f":"IF(ISNA(VLOOKUP(A1001,analyse!D:E,2,FALSE))=TRUE,0,(VLOOKUP(A1001,analyse!D:E,2,FALSE)))","v":0},{"$f":"analyse!$B$1","v":0},0,0,0,0]
[null,null,{"$f":"IF(ISNA(VLOOKUP(A1002,analyse!D:E,2,FALSE))=TRUE,0,(VLOOKUP(A1002,analyse!D:E,2,FALSE)))","v":0},{"$f":"analyse!$B$1","v":0},0,0,0,0]
[null,null,{"$f":"IF(ISNA(VLOOKUP(A1003,analyse!D:E,2,FALSE))=TRUE,0,(VLOOKUP(A1003,analyse!D:E,2,FALSE)))","v":0},{"$f":"analyse!$B$1","v":0},0,0,0,0]
[null,null,{"$f":"IF(ISNA(VLOOKUP(A1004,analyse!D:E,2,FALSE))=TRUE,0,(VLOOKUP(A1004,analyse!D:E,2,FALSE)))","v":0},{"$f":"analyse!$B$1","v":0},0,0,0,0]
[null,null,{"$f":"IF(ISNA(VLOOKUP(A1005,analyse!D:E,2,FALSE))=TRUE,0,(VLOOKUP(A1005,analyse!D:E,2,FALSE)))","v":0},{"$f":"analyse!$B$1","v":0},0,0,0,0]
[null,null,{"$f":"IF(ISNA(VLOOKUP(A1006,analyse!D:E,2,FALSE))=TRUE,0,(VLOOKUP(A1006,analyse!D:E,2,FALSE)))","v":0},{"$f":"analyse!$B$1","v":0},0,0,0,0]
[null,null,{"$f":"IF(ISNA(VLOOKUP(A1007,analyse!D:E,2,FALSE))=TRUE,0,(VLOOKUP(A1007,analyse!D:E,2,FALSE)))","v":0},{"$f":"analyse!$B$1","v":0},0,0,0,0]
[null,null,{"$f":"IF(ISNA(VLOOKUP(A1008,analyse!D:E,2,FALSE))=TRUE,0,(VLOOKUP(A1008,analyse!D:E,2,FALSE)))","v":0},{"$f":"analyse!$B$1","v":0},0,0,0,0]
[null,null,{"$f":"IF(ISNA(VLOOKUP(A1009,analyse!D:E,2,FALSE))=TRUE,0,(VLOOKUP(A1009,analyse!D:E,2,FALSE)))","v":0},{"$f":"analyse!$B$1","v":0},0,0,0,0]
[null,null,{"$f":"IF(ISNA(VLOOKUP(A1010,analyse!D:E,2,FALSE))=TRUE,0,(VLOOKUP(A1010,analyse!D:E,2,FALSE)))","v":0},{"$f":"analyse!$B$1","v":0},0,0,0,0]
[null,null,{"$f":"IF(ISNA(VLOOKUP(A1011,analyse!D:E,2,FALSE))=TRUE,0,(VLOOKUP(A1011,analyse!D:E,2,FALSE)))","v":0},{"$f":"analyse!$B$1","v":0},0,0,0,0]
[null,null,{"$f":"IF(ISNA(VLOOKUP(A1012,analyse!D:E,2,FALSE))=TRUE,0,(VLOOKUP(A1012,analyse!D:E,2,FALSE)))","v":0},{"$f":"analyse!$B$1","v":0},0,0,0,0]
[null,null,{"$f":"IF(ISNA(VLOOKUP(A1013,analyse!D:E,2,FALSE))=TRUE,0,(VLOOKUP(A1013,analyse!D:E,2,FALSE)))","v":0},{"$f":"analyse!$B$1","v":0},0,0,0,0]
[null,null,{"$f":"IF(ISNA(VLOOKUP(A1014,analyse!D:E,2,FALSE))=TRUE,0,(VLOOKUP(A1014,analyse!D:E,2,FALSE)))","v":0},{"$f":"analyse!$B$1","v":0},0,0,0,0]
[null,null,{"$f":"IF(ISNA(VLOOKUP(A1015,analyse!D:E,2,FALSE))=TRUE,0,(VLOOKUP(A1015,analyse!D:E,2,FALSE)))","v":0},{"$f":"analyse!$B$1","v":0},0,0,0,0]
[null,null,{"$f":"IF(ISNA(VLOOKUP(A1016,analyse!D:E,2,FALSE))=TRUE,0,(VLOOKUP(A1016,analyse!D:E,2,FALSE)))","v":0},{"$f":"analyse!$B$1","v":0},0,0,0,0]
[null,null,{"$f":"IF(ISNA(VLOOKUP(A1017,analyse!D:E,2,FALSE))=TRUE,0,(VLOOKUP(A1017,analyse!D:E,2,FALSE)))","v":0},{"$f":"analyse!$B$1","v":0},0,0,0,0]
[null,null,{"$f":"IF(ISNA(VLOOKUP(A1018,analyse!D:E,2,FALSE))=TRUE,0,(VLOOKUP(A1018,analyse!D:E,2,FALSE)))","v":0},{"$f":"analyse!$B$1","v":0},0,0,0,0]
[null,null,{"$f":"IF(ISNA(VLOOKUP(A1019,analyse!D:E,2,FALSE))=TRUE,0,(VLOOKUP(A1019,analyse!D:E,2,FALSE)))","v":0},{"$f":"analyse!$B$1","v":0},0,0,0,0]
[null,null,{"$f":"IF(ISNA(VLOOKUP(A1020,analyse!D:E,2,FALSE))=TRUE,0,(VLOOKUP(A1020,analyse!D:E,2,FALSE)))","v":0},{"$f":"analyse!$B$1","v":0},0,0,0,0]
[null,null,{"$f":"IF(ISNA(VLOOKUP(A1021,analyse!D:E,2,FALSE))=TRUE,0,(VLOOKUP(A1021,analyse!D:E,2,FALSE)))","v":0},{"$f":"analyse!$B$1","v":0},0,0,0,0]
[null,null,{"$f":"IF(ISNA(VLOOKUP(A1022,analyse!D:E,2,FALSE))=TRUE,0,(VLOOKUP(A1022,analyse!D:E,2,FALSE)))","v":0},{"$f":"analyse!$B$1","v":0},0,0,0,0]
[null,null,{"$f":"IF(ISNA(VLOOKUP(A1023,analyse!D:E,2,FALSE))=TRUE,0,(VLOOKUP(A1023,analyse!D:E,2,FALSE)))","v":0},{"$f":"analyse!$B$1","v":0},0,0,0,0]
[null,null,{"$f":"IF(ISNA(VLOOKUP(A1024,analyse!D:E,2,FALSE))=TRUE,0,(VLOOKUP(A1024,analyse!D:E,2,FALSE)))","v":0},{"$f":"analyse!$B$1","v":0},0,0,0,0]
[null,null,{"$f":"IF(ISNA(VLOOKUP(A1025,analyse!D:E,2,FALSE))=TRUE,0,(VLOOKUP(A1025,analyse!D:E,2,FALSE)))","v":0},{"$f":"analyse!$B$1","v":0},0,0,0,0]
[null,null,{"$f":"IF(ISNA(VLOOKUP(A1026,analyse!D:E,2,FALSE))=TRUE,0,(VLOOKUP(A1026,analyse!D:E,2,FALSE)))","v":0},{"$f":"analyse!$B$1","v":0},{"$f":"D1026-C1026","v":0},{"$f":"E1026+C1026","v":0},{"$f":"IF(F1026<E1026,D1026-1,D1026)","v":0},{"$f":"IF(A1026=\"S20.G01.00.001\",H1025+1,H1025)","v":0}]
[null,null,{"$f":"IF(ISNA(VLOOKUP(A1027,analyse!D:E,2,FALSE))=TRUE,0,(VLOOKUP(A1027,analyse!D:E,2,FALSE)))","v":0},{"$f":"analyse!$B$1","v":0},0,0,0,0]
[null,null,{"$f":"IF(ISNA(VLOOKUP(A1028,analyse!D:E,2,FALSE))=TRUE,0,(VLOOKUP(A1028,analyse!D:E,2,FALSE)))","v":0},{"$f":"analyse!$B$1","v":0},0,0,0,0]
[null,null,{"$f":"IF(ISNA(VLOOKUP(A1029,analyse!D:E,2,FALSE))=TRUE,0,(VLOOKUP(A1029,analyse!D:E,2,FALSE)))","v":0},{"$f":"analyse!$B$1","v":0},0,0,0,0]
[null,null,{"$f":"IF(ISNA(VLOOKUP(A1030,analyse!D:E,2,FALSE))=TRUE,0,(VLOOKUP(A1030,analyse!D:E,2,FALSE)))","v":0},{"$f":"analyse!$B$1","v":0},0,0,0,0]
[null,null,{"$f":"IF(ISNA(VLOOKUP(A1031,analyse!D:E,2,FALSE))=TRUE,0,(VLOOKUP(A1031,analyse!D:E,2,FALSE)))","v":0},{"$f":"analyse!$B$1","v":0},0,0,0,0]
[null,null,{"$f":"IF(ISNA(VLOOKUP(A1032,analyse!D:E,2,FALSE))=TRUE,0,(VLOOKUP(A1032,analyse!D:E,2,FALSE)))","v":0},{"$f":"analyse!$B$1","v":0},0,0,0,0]
[null,null,{"$f":"IF(ISNA(VLOOKUP(A1033,analyse!D:E,2,FALSE))=TRUE,0,(VLOOKUP(A1033,analyse!D:E,2,FALSE)))","v":0},{"$f":"analyse!$B$1","v":0},0,0,0,0]
[null,null,{"$f":"IF(ISNA(VLOOKUP(A1034,analyse!D:E,2,FALSE))=TRUE,0,(VLOOKUP(A1034,analyse!D:E,2,FALSE)))","v":0},{"$f":"analyse!$B$1","v":0},0,0,0,0]
[null,null,{"$f":"IF(ISNA(VLOOKUP(A1035,analyse!D:E,2,FALSE))=TRUE,0,(VLOOKUP(A1035,analyse!D:E,2,FALSE)))","v":0},{"$f":"analyse!$B$1","v":0},0,0,0,0]
[null,null,{"$f":"IF(ISNA(VLOOKUP(A1036,analyse!D:E,2,FALSE))=TRUE,0,(VLOOKUP(A1036,analyse!D:E,2,FALSE)))","v":0},{"$f":"analyse!$B$1","v":0},0,0,0,0]
[null,null,{"$f":"IF(ISNA(VLOOKUP(A1037,analyse!D:E,2,FALSE))=TRUE,0,(VLOOKUP(A1037,analyse!D:E,2,FALSE)))","v":0},{"$f":"analyse!$B$1","v":0},0,0,0,0]
[null,null,{"$f":"IF(ISNA(VLOOKUP(A1038,analyse!D:E,2,FALSE))=TRUE,0,(VLOOKUP(A1038,analyse!D:E,2,FALSE)))","v":0},{"$f":"analyse!$B$1","v":0},0,0,0,0]
[null,null,{"$f":"IF(ISNA(VLOOKUP(A1039,analyse!D:E,2,FALSE))=TRUE,0,(VLOOKUP(A1039,analyse!D:E,2,FALSE)))","v":0},{"$f":"analyse!$B$1","v":0},0,0,0,0]
[null,null,{"$f":"IF(ISNA(VLOOKUP(A1040,analyse!D:E,2,FALSE))=TRUE,0,(VLOOKUP(A1040,analyse!D:E,2,FALSE)))","v":0},{"$f":"analyse!$B$1","v":0},0,0,0,0]
[null,null,{"$f":"IF(ISNA(VLOOKUP(A1041,analyse!D:E,2,FALSE))=TRUE,0,(VLOOKUP(A1041,analyse!D:E,2,FALSE)))","v":0},{"$f":"analyse!$B$1","v":0},0,0,0,0]
[null,null,{"$f":"IF(ISNA(VLOOKUP(A1042,analyse!D:E,2,FALSE))=TRUE,0,(VLOOKUP(A1042,analyse!D:E,2,FALSE)))","v":0},{"$f":"analyse!$B$1","v":0},0,0,0,0]
[null,null,{"$f":"IF(ISNA(VLOOKUP(A1043,analyse!D:E,2,FALSE))=TRUE,0,(VLOOKUP(A1043,analyse!D:E,2,FALSE)))","v":0},{"$f":"analyse!$B$1","v":0},0,0,0,0]
[null,null,{"$f":"IF(ISNA(VLOOKUP(A1044,analyse!D:E,2,FALSE))=TRUE,0,(VLOOKUP(A1044,analyse!D:E,2,FALSE)))","v":0},{"$f":"analyse!$B$1","v":0},0,0,0,0]
[null,null,{"$f":"IF(ISNA(VLOOKUP(A1045,analyse!D:E,2,FALSE))=TRUE,0,(VLOOKUP(A1045,analyse!D:E,2,FALSE)))","v":0},{"$f":"analyse!$B$1","v":0},0,0,0,0]
[null,null,{"$f":"IF(ISNA(VLOOKUP(A1046,analyse!D:E,2,FALSE))=TRUE,0,(VLOOKUP(A1046,analyse!D:E,2,FALSE)))","v":0},{"$f":"analyse!$B$1","v":0},0,0,0,0]
[null,null,{"$f":"IF(ISNA(VLOOKUP(A1047,analyse!D:E,2,FALSE))=TRUE,0,(VLOOKUP(A1047,analyse!D:E,2,FALSE)))","v":0},{"$f":"analyse!$B$1","v":0},0,0,0,0]
[null,null,{"$f":"IF(ISNA(VLOOKUP(A1048,analyse!D:E,2,FALSE))=TRUE,0,(VLOOKUP(A1048,analyse!D:E,2,FALSE)))","v":0},{"$f":"analyse!$B$1","v":0},0,0,0,0]
[null,null,{"$f":"IF(ISNA(VLOOKUP(A1049,analyse!D:E,2,FALSE))=TRUE,0,(VLOOKUP(A1049,analyse!D:E,2,FALSE)))","v":0},{"$f":"analyse!$B$1","v":0},0,0,0,0]
[null,null,{"$f":"IF(ISNA(VLOOKUP(A1050,analyse!D:E,2,FALSE))=TRUE,0,(VLOOKUP(A1050,analyse!D:E,2,FALSE)))","v":0},{"$f":"analyse!$B$1","v":0},0,0,0,0]
[null,null,{"$f":"IF(ISNA(VLOOKUP(A1051,analyse!D:E,2,FALSE))=TRUE,0,(VLOOKUP(A1051,analyse!D:E,2,FALSE)))","v":0},{"$f":"analyse!$B$1","v":0},0,0,0,0]
[null,null,{"$f":"IF(ISNA(VLOOKUP(A1052,analyse!D:E,2,FALSE))=TRUE,0,(VLOOKUP(A1052,analyse!D:E,2,FALSE)))","v":0},{"$f":"analyse!$B$1","v":0},0,0,0,0]
[null,null,{"$f":"IF(ISNA(VLOOKUP(A1053,analyse!D:E,2,FALSE))=TRUE,0,(VLOOKUP(A1053,analyse!D:E,2,FALSE)))","v":0},{"$f":"analyse!$B$1","v":0},0,0,0,0]
[null,null,{"$f":"IF(ISNA(VLOOKUP(A1054,analyse!D:E,2,FALSE))=TRUE,0,(VLOOKUP(A1054,analyse!D:E,2,FALSE)))","v":0},{"$f":"analyse!$B$1","v":0},0,0,0,0]
[null,null,{"$f":"IF(ISNA(VLOOKUP(A1055,analyse!D:E,2,FALSE))=TRUE,0,(VLOOKUP(A1055,analyse!D:E,2,FALSE)))","v":0},{"$f":"analyse!$B$1","v":0},0,0,0,0]
[null,null,{"$f":"IF(ISNA(VLOOKUP(A1056,analyse!D:E,2,FALSE))=TRUE,0,(VLOOKUP(A1056,analyse!D:E,2,FALSE)))","v":0},{"$f":"analyse!$B$1","v":0},0,0,0,0]
[null,null,{"$f":"IF(ISNA(VLOOKUP(A1057,analyse!D:E,2,FALSE))=TRUE,0,(VLOOKUP(A1057,analyse!D:E,2,FALSE)))","v":0},{"$f":"analyse!$B$1","v":0},0,0,0,0]
[null,null,{"$f":"IF(ISNA(VLOOKUP(A1058,analyse!D:E,2,FALSE))=TRUE,0,(VLOOKUP(A1058,analyse!D:E,2,FALSE)))","v":0},{"$f":"analyse!$B$1","v":0},0,0,0,0]
[null,null,{"$f":"IF(ISNA(VLOOKUP(A1059,analyse!D:E,2,FALSE))=TRUE,0,(VLOOKUP(A1059,analyse!D:E,2,FALSE)))","v":0},{"$f":"analyse!$B$1","v":0},0,0,0,0]
[null,null,{"$f":"IF(ISNA(VLOOKUP(A1060,analyse!D:E,2,FALSE))=TRUE,0,(VLOOKUP(A1060,analyse!D:E,2,FALSE)))","v":0},{"$f":"analyse!$B$1","v":0},0,0,0,0]
[null,null,{"$f":"IF(ISNA(VLOOKUP(A1061,analyse!D:E,2,FALSE))=TRUE,0,(VLOOKUP(A1061,analyse!D:E,2,FALSE)))","v":0},{"$f":"analyse!$B$1","v":0},0,0,0,0]
[null,null,{"$f":"IF(ISNA(VLOOKUP(A1062,analyse!D:E,2,FALSE))=TRUE,0,(VLOOKUP(A1062,analyse!D:E,2,FALSE)))","v":0},{"$f":"analyse!$B$1","v":0},0,0,0,0]
[null,null,{"$f":"IF(ISNA(VLOOKUP(A1063,analyse!D:E,2,FALSE))=TRUE,0,(VLOOKUP(A1063,analyse!D:E,2,FALSE)))","v":0},{"$f":"analyse!$B$1","v":0},0,0,0,0]
[null,null,{"$f":"IF(ISNA(VLOOKUP(A1064,analyse!D:E,2,FALSE))=TRUE,0,(VLOOKUP(A1064,analyse!D:E,2,FALSE)))","v":0},{"$f":"analyse!$B$1","v":0},0,0,0,0]
[null,null,{"$f":"IF(ISNA(VLOOKUP(A1065,analyse!D:E,2,FALSE))=TRUE,0,(VLOOKUP(A1065,analyse!D:E,2,FALSE)))","v":0},{"$f":"analyse!$B$1","v":0},0,0,0,0]
[null,null,{"$f":"IF(ISNA(VLOOKUP(A1066,analyse!D:E,2,FALSE))=TRUE,0,(VLOOKUP(A1066,analyse!D:E,2,FALSE)))","v":0},{"$f":"analyse!$B$1","v":0},0,0,0,0]
[null,null,{"$f":"IF(ISNA(VLOOKUP(A1067,analyse!D:E,2,FALSE))=TRUE,0,(VLOOKUP(A1067,analyse!D:E,2,FALSE)))","v":0},{"$f":"analyse!$B$1","v":0},0,0,0,0]
[null,null,{"$f":"IF(ISNA(VLOOKUP(A1068,analyse!D:E,2,FALSE))=TRUE,0,(VLOOKUP(A1068,analyse!D:E,2,FALSE)))","v":0},{"$f":"analyse!$B$1","v":0},0,0,0,0]
[null,null,{"$f":"IF(ISNA(VLOOKUP(A1069,analyse!D:E,2,FALSE))=TRUE,0,(VLOOKUP(A1069,analyse!D:E,2,FALSE)))","v":0},{"$f":"analyse!$B$1","v":0},0,0,0,0]
[null,null,{"$f":"IF(ISNA(VLOOKUP(A1070,analyse!D:E,2,FALSE))=TRUE,0,(VLOOKUP(A1070,analyse!D:E,2,FALSE)))","v":0},{"$f":"analyse!$B$1","v":0},0,0,0,0]
[null,null,{"$f":"IF(ISNA(VLOOKUP(A1071,analyse!D:E,2,FALSE))=TRUE,0,(VLOOKUP(A1071,analyse!D:E,2,FALSE)))","v":0},{"$f":"analyse!$B$1","v":0},0,0,0,0]
[null,null,{"$f":"IF(ISNA(VLOOKUP(A1072,analyse!D:E,2,FALSE))=TRUE,0,(VLOOKUP(A1072,analyse!D:E,2,FALSE)))","v":0},{"$f":"analyse!$B$1","v":0},0,0,0,0]
[null,null,{"$f":"IF(ISNA(VLOOKUP(A1073,analyse!D:E,2,FALSE))=TRUE,0,(VLOOKUP(A1073,analyse!D:E,2,FALSE)))","v":0},{"$f":"analyse!$B$1","v":0},0,0,0,0]
[null,null,{"$f":"IF(ISNA(VLOOKUP(A1074,analyse!D:E,2,FALSE))=TRUE,0,(VLOOKUP(A1074,analyse!D:E,2,FALSE)))","v":0},{"$f":"analyse!$B$1","v":0},0,0,0,0]
[null,null,{"$f":"IF(ISNA(VLOOKUP(A1075,analyse!D:E,2,FALSE))=TRUE,0,(VLOOKUP(A1075,analyse!D:E,2,FALSE)))","v":0},{"$f":"analyse!$B$1","v":0},0,0,0,0]
[null,null,{"$f":"IF(ISNA(VLOOKUP(A1076,analyse!D:E,2,FALSE))=TRUE,0,(VLOOKUP(A1076,analyse!D:E,2,FALSE)))","v":0},{"$f":"analyse!$B$1","v":0},0,0,0,0]
[null,null,{"$f":"IF(ISNA(VLOOKUP(A1077,analyse!D:E,2,FALSE))=TRUE,0,(VLOOKUP(A1077,analyse!D:E,2,FALSE)))","v":0},{"$f":"analyse!$B$1","v":0},0,0,0,0]
[null,null,{"$f":"IF(ISNA(VLOOKUP(A1078,analyse!D:E,2,FALSE))=TRUE,0,(VLOOKUP(A1078,analyse!D:E,2,FALSE)))","v":0},{"$f":"analyse!$B$1","v":0},0,0,0,0]
[null,null,{"$f":"IF(ISNA(VLOOKUP(A1079,analyse!D:E,2,FALSE))=TRUE,0,(VLOOKUP(A1079,analyse!D:E,2,FALSE)))","v":0},{"$f":"analyse!$B$1","v":0},0,0,0,0]
[null,null,{"$f":"IF(ISNA(VLOOKUP(A1080,analyse!D:E,2,FALSE))=TRUE,0,(VLOOKUP(A1080,analyse!D:E,2,FALSE)))","v":0},{"$f":"analyse!$B$1","v":0},0,0,0,0]
[null,null,{"$f":"IF(ISNA(VLOOKUP(A1081,analyse!D:E,2,FALSE))=TRUE,0,(VLOOKUP(A1081,analyse!D:E,2,FALSE)))","v":0},{"$f":"analyse!$B$1","v":0},0,0,0,0]
[null,null,{"$f":"IF(ISNA(VLOOKUP(A1082,analyse!D:E,2,FALSE))=TRUE,0,(VLOOKUP(A1082,analyse!D:E,2,FALSE)))","v":0},{"$f":"analyse!$B$1","v":0},0,0,0,0]
[null,null,{"$f":"IF(ISNA(VLOOKUP(A1083,analyse!D:E,2,FALSE))=TRUE,0,(VLOOKUP(A1083,analyse!D:E,2,FALSE)))","v":0},{"$f":"analyse!$B$1","v":0},0,0,0,0]
[null,null,{"$f":"IF(ISNA(VLOOKUP(A1084,analyse!D:E,2,FALSE))=TRUE,0,(VLOOKUP(A1084,analyse!D:E,2,FALSE)))","v":0},{"$f":"analyse!$B$1","v":0},0,0,0,0]
[null,null,{"$f":"IF(ISNA(VLOOKUP(A1085,analyse!D:E,2,FALSE))=TRUE,0,(VLOOKUP(A1085,analyse!D:E,2,FALSE)))","v":0},{"$f":"analyse!$B$1","v":0},0,0,0,0]
[null,null,{"$f":"IF(ISNA(VLOOKUP(A1086,analyse!D:E,2,FALSE))=TRUE,0,(VLOOKUP(A1086,analyse!D:E,2,FALSE)))","v":0},{"$f":"analyse!$B$1","v":0},0,0,0,0]
[null,null,{"$f":"IF(ISNA(VLOOKUP(A1087,analyse!D:E,2,FALSE))=TRUE,0,(VLOOKUP(A1087,analyse!D:E,2,FALSE)))","v":0},{"$f":"analyse!$B$1","v":0},0,0,0,0]
[null,null,{"$f":"IF(ISNA(VLOOKUP(A1088,analyse!D:E,2,FALSE))=TRUE,0,(VLOOKUP(A1088,analyse!D:E,2,FALSE)))","v":0},{"$f":"analyse!$B$1","v":0},0,0,0,0]
[null,null,{"$f":"IF(ISNA(VLOOKUP(A1089,analyse!D:E,2,FALSE))=TRUE,0,(VLOOKUP(A1089,analyse!D:E,2,FALSE)))","v":0},{"$f":"analyse!$B$1","v":0},0,0,0,0]
[null,null,{"$f":"IF(ISNA(VLOOKUP(A1090,analyse!D:E,2,FALSE))=TRUE,0,(VLOOKUP(A1090,analyse!D:E,2,FALSE)))","v":0},{"$f":"analyse!$B$1","v":0},{"$f":"D1090-C1090","v":0},{"$f":"E1090+C1090","v":0},{"$f":"IF(F1090<E1090,D1090-1,D1090)","v":0},{"$f":"IF(A1090=\"S20.G01.00.001\",H1089+1,H1089)","v":0}]
[null,null,{"$f":"IF(ISNA(VLOOKUP(A1091,analyse!D:E,2,FALSE))=TRUE,0,(VLOOKUP(A1091,analyse!D:E,2,FALSE)))","v":0},{"$f":"analyse!$B$1","v":0},0,0,0,0]
[null,null,{"$f":"IF(ISNA(VLOOKUP(A1092,analyse!D:E,2,FALSE))=TRUE,0,(VLOOKUP(A1092,analyse!D:E,2,FALSE)))","v":0},{"$f":"analyse!$B$1","v":0},0,0,0,0]
[null,null,{"$f":"IF(ISNA(VLOOKUP(A1093,analyse!D:E,2,FALSE))=TRUE,0,(VLOOKUP(A1093,analyse!D:E,2,FALSE)))","v":0},{"$f":"analyse!$B$1","v":0},0,0,0,0]
[null,null,{"$f":"IF(ISNA(VLOOKUP(A1094,analyse!D:E,2,FALSE))=TRUE,0,(VLOOKUP(A1094,analyse!D:E,2,FALSE)))","v":0},{"$f":"analyse!$B$1","v":0},0,0,0,0]
[null,null,{"$f":"IF(ISNA(VLOOKUP(A1095,analyse!D:E,2,FALSE))=TRUE,0,(VLOOKUP(A1095,analyse!D:E,2,FALSE)))","v":0},{"$f":"analyse!$B$1","v":0},0,0,0,0]
[null,null,{"$f":"IF(ISNA(VLOOKUP(A1096,analyse!D:E,2,FALSE))=TRUE,0,(VLOOKUP(A1096,analyse!D:E,2,FALSE)))","v":0},{"$f":"analyse!$B$1","v":0},0,0,0,0]
[null,null,{"$f":"IF(ISNA(VLOOKUP(A1097,analyse!D:E,2,FALSE))=TRUE,0,(VLOOKUP(A1097,analyse!D:E,2,FALSE)))","v":0},{"$f":"analyse!$B$1","v":0},0,0,0,0]
[null,null,{"$f":"IF(ISNA(VLOOKUP(A1098,analyse!D:E,2,FALSE))=TRUE,0,(VLOOKUP(A1098,analyse!D:E,2,FALSE)))","v":0},{"$f":"analyse!$B$1","v":0},0,0,0,0]
[null,null,{"$f":"IF(ISNA(VLOOKUP(A1099,analyse!D:E,2,FALSE))=TRUE,0,(VLOOKUP(A1099,analyse!D:E,2,FALSE)))","v":0},{"$f":"analyse!$B$1","v":0},0,0,0,0]
[null,null,{"$f":"IF(ISNA(VLOOKUP(A1100,analyse!D:E,2,FALSE))=TRUE,0,(VLOOKUP(A1100,analyse!D:E,2,FALSE)))","v":0},{"$f":"analyse!$B$1","v":0},0,0,0,0]
[null,null,{"$f":"IF(ISNA(VLOOKUP(A1101,analyse!D:E,2,FALSE))=TRUE,0,(VLOOKUP(A1101,analyse!D:E,2,FALSE)))","v":0},{"$f":"analyse!$B$1","v":0},0,0,0,0]
[null,null,{"$f":"IF(ISNA(VLOOKUP(A1102,analyse!D:E,2,FALSE))=TRUE,0,(VLOOKUP(A1102,analyse!D:E,2,FALSE)))","v":0},{"$f":"analyse!$B$1","v":0},0,0,0,0]
[null,null,{"$f":"IF(ISNA(VLOOKUP(A1103,analyse!D:E,2,FALSE))=TRUE,0,(VLOOKUP(A1103,analyse!D:E,2,FALSE)))","v":0},{"$f":"analyse!$B$1","v":0},0,0,0,0]
[null,null,{"$f":"IF(ISNA(VLOOKUP(A1104,analyse!D:E,2,FALSE))=TRUE,0,(VLOOKUP(A1104,analyse!D:E,2,FALSE)))","v":0},{"$f":"analyse!$B$1","v":0},0,0,0,0]
[null,null,{"$f":"IF(ISNA(VLOOKUP(A1105,analyse!D:E,2,FALSE))=TRUE,0,(VLOOKUP(A1105,analyse!D:E,2,FALSE)))","v":0},{"$f":"analyse!$B$1","v":0},0,0,0,0]
[null,null,{"$f":"IF(ISNA(VLOOKUP(A1106,analyse!D:E,2,FALSE))=TRUE,0,(VLOOKUP(A1106,analyse!D:E,2,FALSE)))","v":0},{"$f":"analyse!$B$1","v":0},0,0,0,0]
[null,null,{"$f":"IF(ISNA(VLOOKUP(A1107,analyse!D:E,2,FALSE))=TRUE,0,(VLOOKUP(A1107,analyse!D:E,2,FALSE)))","v":0},{"$f":"analyse!$B$1","v":0},0,0,0,0]
[null,null,{"$f":"IF(ISNA(VLOOKUP(A1108,analyse!D:E,2,FALSE))=TRUE,0,(VLOOKUP(A1108,analyse!D:E,2,FALSE)))","v":0},{"$f":"analyse!$B$1","v":0},0,0,0,0]
[null,null,{"$f":"IF(ISNA(VLOOKUP(A1109,analyse!D:E,2,FALSE))=TRUE,0,(VLOOKUP(A1109,analyse!D:E,2,FALSE)))","v":0},{"$f":"analyse!$B$1","v":0},0,0,0,0]
[null,null,{"$f":"IF(ISNA(VLOOKUP(A1110,analyse!D:E,2,FALSE))=TRUE,0,(VLOOKUP(A1110,analyse!D:E,2,FALSE)))","v":0},{"$f":"analyse!$B$1","v":0},0,0,0,0]
[null,null,{"$f":"IF(ISNA(VLOOKUP(A1111,analyse!D:E,2,FALSE))=TRUE,0,(VLOOKUP(A1111,analyse!D:E,2,FALSE)))","v":0},{"$f":"analyse!$B$1","v":0},0,0,0,0]
[null,null,{"$f":"IF(ISNA(VLOOKUP(A1112,analyse!D:E,2,FALSE))=TRUE,0,(VLOOKUP(A1112,analyse!D:E,2,FALSE)))","v":0},{"$f":"analyse!$B$1","v":0},0,0,0,0]
[null,null,{"$f":"IF(ISNA(VLOOKUP(A1113,analyse!D:E,2,FALSE))=TRUE,0,(VLOOKUP(A1113,analyse!D:E,2,FALSE)))","v":0},{"$f":"analyse!$B$1","v":0},0,0,0,0]
[null,null,{"$f":"IF(ISNA(VLOOKUP(A1114,analyse!D:E,2,FALSE))=TRUE,0,(VLOOKUP(A1114,analyse!D:E,2,FALSE)))","v":0},{"$f":"analyse!$B$1","v":0},0,0,0,0]
[null,null,{"$f":"IF(ISNA(VLOOKUP(A1115,analyse!D:E,2,FALSE))=TRUE,0,(VLOOKUP(A1115,analyse!D:E,2,FALSE)))","v":0},{"$f":"analyse!$B$1","v":0},0,0,0,0]
[null,null,{"$f":"IF(ISNA(VLOOKUP(A1116,analyse!D:E,2,FALSE))=TRUE,0,(VLOOKUP(A1116,analyse!D:E,2,FALSE)))","v":0},{"$f":"analyse!$B$1","v":0},0,0,0,0]
[null,null,{"$f":"IF(ISNA(VLOOKUP(A1117,analyse!D:E,2,FALSE))=TRUE,0,(VLOOKUP(A1117,analyse!D:E,2,FALSE)))","v":0},{"$f":"analyse!$B$1","v":0},0,0,0,0]
[null,null,{"$f":"IF(ISNA(VLOOKUP(A1118,analyse!D:E,2,FALSE))=TRUE,0,(VLOOKUP(A1118,analyse!D:E,2,FALSE)))","v":0},{"$f":"analyse!$B$1","v":0},0,0,0,0]
[null,null,{"$f":"IF(ISNA(VLOOKUP(A1119,analyse!D:E,2,FALSE))=TRUE,0,(VLOOKUP(A1119,analyse!D:E,2,FALSE)))","v":0},{"$f":"analyse!$B$1","v":0},0,0,0,0]
[null,null,{"$f":"IF(ISNA(VLOOKUP(A1120,analyse!D:E,2,FALSE))=TRUE,0,(VLOOKUP(A1120,analyse!D:E,2,FALSE)))","v":0},{"$f":"analyse!$B$1","v":0},0,0,0,0]
[null,null,{"$f":"IF(ISNA(VLOOKUP(A1121,analyse!D:E,2,FALSE))=TRUE,0,(VLOOKUP(A1121,analyse!D:E,2,FALSE)))","v":0},{"$f":"analyse!$B$1","v":0},0,0,0,0]
[null,null,{"$f":"IF(ISNA(VLOOKUP(A1122,analyse!D:E,2,FALSE))=TRUE,0,(VLOOKUP(A1122,analyse!D:E,2,FALSE)))","v":0},{"$f":"analyse!$B$1","v":0},0,0,0,0]
[null,null,{"$f":"IF(ISNA(VLOOKUP(A1123,analyse!D:E,2,FALSE))=TRUE,0,(VLOOKUP(A1123,analyse!D:E,2,FALSE)))","v":0},{"$f":"analyse!$B$1","v":0},0,0,0,0]
[null,null,{"$f":"IF(ISNA(VLOOKUP(A1124,analyse!D:E,2,FALSE))=TRUE,0,(VLOOKUP(A1124,analyse!D:E,2,FALSE)))","v":0},{"$f":"analyse!$B$1","v":0},0,0,0,0]
[null,null,{"$f":"IF(ISNA(VLOOKUP(A1125,analyse!D:E,2,FALSE))=TRUE,0,(VLOOKUP(A1125,analyse!D:E,2,FALSE)))","v":0},{"$f":"analyse!$B$1","v":0},0,0,0,0]
[null,null,{"$f":"IF(ISNA(VLOOKUP(A1126,analyse!D:E,2,FALSE))=TRUE,0,(VLOOKUP(A1126,analyse!D:E,2,FALSE)))","v":0},{"$f":"analyse!$B$1","v":0},0,0,0,0]
[null,null,{"$f":"IF(ISNA(VLOOKUP(A1127,analyse!D:E,2,FALSE))=TRUE,0,(VLOOKUP(A1127,analyse!D:E,2,FALSE)))","v":0},{"$f":"analyse!$B$1","v":0},0,0,0,0]
[null,null,{"$f":"IF(ISNA(VLOOKUP(A1128,analyse!D:E,2,FALSE))=TRUE,0,(VLOOKUP(A1128,analyse!D:E,2,FALSE)))","v":0},{"$f":"analyse!$B$1","v":0},0,0,0,0]
[null,null,{"$f":"IF(ISNA(VLOOKUP(A1129,analyse!D:E,2,FALSE))=TRUE,0,(VLOOKUP(A1129,analyse!D:E,2,FALSE)))","v":0},{"$f":"analyse!$B$1","v":0},0,0,0,0]
[null,null,{"$f":"IF(ISNA(VLOOKUP(A1130,analyse!D:E,2,FALSE))=TRUE,0,(VLOOKUP(A1130,analyse!D:E,2,FALSE)))","v":0},{"$f":"analyse!$B$1","v":0},0,0,0,0]
[null,null,{"$f":"IF(ISNA(VLOOKUP(A1131,analyse!D:E,2,FALSE))=TRUE,0,(VLOOKUP(A1131,analyse!D:E,2,FALSE)))","v":0},{"$f":"analyse!$B$1","v":0},0,0,0,0]
[null,null,{"$f":"IF(ISNA(VLOOKUP(A1132,analyse!D:E,2,FALSE))=TRUE,0,(VLOOKUP(A1132,analyse!D:E,2,FALSE)))","v":0},{"$f":"analyse!$B$1","v":0},0,0,0,0]
[null,null,{"$f":"IF(ISNA(VLOOKUP(A1133,analyse!D:E,2,FALSE))=TRUE,0,(VLOOKUP(A1133,analyse!D:E,2,FALSE)))","v":0},{"$f":"analyse!$B$1","v":0},0,0,0,0]
[null,null,{"$f":"IF(ISNA(VLOOKUP(A1134,analyse!D:E,2,FALSE))=TRUE,0,(VLOOKUP(A1134,analyse!D:E,2,FALSE)))","v":0},{"$f":"analyse!$B$1","v":0},0,0,0,0]
[null,null,{"$f":"IF(ISNA(VLOOKUP(A1135,analyse!D:E,2,FALSE))=TRUE,0,(VLOOKUP(A1135,analyse!D:E,2,FALSE)))","v":0},{"$f":"analyse!$B$1","v":0},0,0,0,0]
[null,null,{"$f":"IF(ISNA(VLOOKUP(A1136,analyse!D:E,2,FALSE))=TRUE,0,(VLOOKUP(A1136,analyse!D:E,2,FALSE)))","v":0},{"$f":"analyse!$B$1","v":0},0,0,0,0]
[null,null,{"$f":"IF(ISNA(VLOOKUP(A1137,analyse!D:E,2,FALSE))=TRUE,0,(VLOOKUP(A1137,analyse!D:E,2,FALSE)))","v":0},{"$f":"analyse!$B$1","v":0},0,0,0,0]
[null,null,{"$f":"IF(ISNA(VLOOKUP(A1138,analyse!D:E,2,FALSE))=TRUE,0,(VLOOKUP(A1138,analyse!D:E,2,FALSE)))","v":0},{"$f":"analyse!$B$1","v":0},0,0,0,0]
[null,null,{"$f":"IF(ISNA(VLOOKUP(A1139,analyse!D:E,2,FALSE))=TRUE,0,(VLOOKUP(A1139,analyse!D:E,2,FALSE)))","v":0},{"$f":"analyse!$B$1","v":0},0,0,0,0]
[null,null,{"$f":"IF(ISNA(VLOOKUP(A1140,analyse!D:E,2,FALSE))=TRUE,0,(VLOOKUP(A1140,analyse!D:E,2,FALSE)))","v":0},{"$f":"analyse!$B$1","v":0},0,0,0,0]
[null,null,{"$f":"IF(ISNA(VLOOKUP(A1141,analyse!D:E,2,FALSE))=TRUE,0,(VLOOKUP(A1141,analyse!D:E,2,FALSE)))","v":0},{"$f":"analyse!$B$1","v":0},0,0,0,0]
[null,null,{"$f":"IF(ISNA(VLOOKUP(A1142,analyse!D:E,2,FALSE))=TRUE,0,(VLOOKUP(A1142,analyse!D:E,2,FALSE)))","v":0},{"$f":"analyse!$B$1","v":0},0,0,0,0]
[null,null,{"$f":"IF(ISNA(VLOOKUP(A1143,analyse!D:E,2,FALSE))=TRUE,0,(VLOOKUP(A1143,analyse!D:E,2,FALSE)))","v":0},{"$f":"analyse!$B$1","v":0},0,0,0,0]
[null,null,{"$f":"IF(ISNA(VLOOKUP(A1144,analyse!D:E,2,FALSE))=TRUE,0,(VLOOKUP(A1144,analyse!D:E,2,FALSE)))","v":0},{"$f":"analyse!$B$1","v":0},0,0,0,0]
[null,null,{"$f":"IF(ISNA(VLOOKUP(A1145,analyse!D:E,2,FALSE))=TRUE,0,(VLOOKUP(A1145,analyse!D:E,2,FALSE)))","v":0},{"$f":"analyse!$B$1","v":0},0,0,0,0]
[null,null,{"$f":"IF(ISNA(VLOOKUP(A1146,analyse!D:E,2,FALSE))=TRUE,0,(VLOOKUP(A1146,analyse!D:E,2,FALSE)))","v":0},{"$f":"analyse!$B$1","v":0},0,0,0,0]
[null,null,{"$f":"IF(ISNA(VLOOKUP(A1147,analyse!D:E,2,FALSE))=TRUE,0,(VLOOKUP(A1147,analyse!D:E,2,FALSE)))","v":0},{"$f":"analyse!$B$1","v":0},0,0,0,0]
[null,null,{"$f":"IF(ISNA(VLOOKUP(A1148,analyse!D:E,2,FALSE))=TRUE,0,(VLOOKUP(A1148,analyse!D:E,2,FALSE)))","v":0},{"$f":"analyse!$B$1","v":0},0,0,0,0]
[null,null,{"$f":"IF(ISNA(VLOOKUP(A1149,analyse!D:E,2,FALSE))=TRUE,0,(VLOOKUP(A1149,analyse!D:E,2,FALSE)))","v":0},{"$f":"analyse!$B$1","v":0},0,0,0,0]
[null,null,{"$f":"IF(ISNA(VLOOKUP(A1150,analyse!D:E,2,FALSE))=TRUE,0,(VLOOKUP(A1150,analyse!D:E,2,FALSE)))","v":0},{"$f":"analyse!$B$1","v":0},0,0,0,0]
[null,null,{"$f":"IF(ISNA(VLOOKUP(A1151,analyse!D:E,2,FALSE))=TRUE,0,(VLOOKUP(A1151,analyse!D:E,2,FALSE)))","v":0},{"$f":"analyse!$B$1","v":0},0,0,0,0]
[null,null,{"$f":"IF(ISNA(VLOOKUP(A1152,analyse!D:E,2,FALSE))=TRUE,0,(VLOOKUP(A1152,analyse!D:E,2,FALSE)))","v":0},{"$f":"analyse!$B$1","v":0},0,0,0,0]
[null,null,{"$f":"IF(ISNA(VLOOKUP(A1153,analyse!D:E,2,FALSE))=TRUE,0,(VLOOKUP(A1153,analyse!D:E,2,FALSE)))","v":0},{"$f":"analyse!$B$1","v":0},0,0,0,0]
[null,null,{"$f":"IF(ISNA(VLOOKUP(A1154,analyse!D:E,2,FALSE))=TRUE,0,(VLOOKUP(A1154,analyse!D:E,2,FALSE)))","v":0},{"$f":"analyse!$B$1","v":0},{"$f":"D1154-C1154","v":0},{"$f":"E1154+C1154","v":0},{"$f":"IF(F1154<E1154,D1154-1,D1154)","v":0},{"$f":"IF(A1154=\"S20.G01.00.001\",H1153+1,H1153)","v":0}]
[null,null,{"$f":"IF(ISNA(VLOOKUP(A1155,analyse!D:E,2,FALSE))=TRUE,0,(VLOOKUP(A1155,analyse!D:E,2,FALSE)))","v":0},{"$f":"analyse!$B$1","v":0},0,0,0,0]
[null,null,{"$f":"IF(ISNA(VLOOKUP(A1156,analyse!D:E,2,FALSE))=TRUE,0,(VLOOKUP(A1156,analyse!D:E,2,FALSE)))","v":0},{"$f":"analyse!$B$1","v":0},0,0,0,0]
[null,null,{"$f":"IF(ISNA(VLOOKUP(A1157,analyse!D:E,2,FALSE))=TRUE,0,(VLOOKUP(A1157,analyse!D:E,2,FALSE)))","v":0},{"$f":"analyse!$B$1","v":0},0,0,0,0]
[null,null,{"$f":"IF(ISNA(VLOOKUP(A1158,analyse!D:E,2,FALSE))=TRUE,0,(VLOOKUP(A1158,analyse!D:E,2,FALSE)))","v":0},{"$f":"analyse!$B$1","v":0},0,0,0,0]
[null,null,{"$f":"IF(ISNA(VLOOKUP(A1159,analyse!D:E,2,FALSE))=TRUE,0,(VLOOKUP(A1159,analyse!D:E,2,FALSE)))","v":0},{"$f":"analyse!$B$1","v":0},0,0,0,0]
[null,null,{"$f":"IF(ISNA(VLOOKUP(A1160,analyse!D:E,2,FALSE))=TRUE,0,(VLOOKUP(A1160,analyse!D:E,2,FALSE)))","v":0},{"$f":"analyse!$B$1","v":0},0,0,0,0]
[null,null,{"$f":"IF(ISNA(VLOOKUP(A1161,analyse!D:E,2,FALSE))=TRUE,0,(VLOOKUP(A1161,analyse!D:E,2,FALSE)))","v":0},{"$f":"analyse!$B$1","v":0},0,0,0,0]
[null,null,{"$f":"IF(ISNA(VLOOKUP(A1162,analyse!D:E,2,FALSE))=TRUE,0,(VLOOKUP(A1162,analyse!D:E,2,FALSE)))","v":0},{"$f":"analyse!$B$1","v":0},0,0,0,0]
[null,null,{"$f":"IF(ISNA(VLOOKUP(A1163,analyse!D:E,2,FALSE))=TRUE,0,(VLOOKUP(A1163,analyse!D:E,2,FALSE)))","v":0},{"$f":"analyse!$B$1","v":0},0,0,0,0]
[null,null,{"$f":"IF(ISNA(VLOOKUP(A1164,analyse!D:E,2,FALSE))=TRUE,0,(VLOOKUP(A1164,analyse!D:E,2,FALSE)))","v":0},{"$f":"analyse!$B$1","v":0},0,0,0,0]
[null,null,{"$f":"IF(ISNA(VLOOKUP(A1165,analyse!D:E,2,FALSE))=TRUE,0,(VLOOKUP(A1165,analyse!D:E,2,FALSE)))","v":0},{"$f":"analyse!$B$1","v":0},0,0,0,0]
[null,null,{"$f":"IF(ISNA(VLOOKUP(A1166,analyse!D:E,2,FALSE))=TRUE,0,(VLOOKUP(A1166,analyse!D:E,2,FALSE)))","v":0},{"$f":"analyse!$B$1","v":0},0,0,0,0]
[null,null,{"$f":"IF(ISNA(VLOOKUP(A1167,analyse!D:E,2,FALSE))=TRUE,0,(VLOOKUP(A1167,analyse!D:E,2,FALSE)))","v":0},{"$f":"analyse!$B$1","v":0},0,0,0,0]
[null,null,{"$f":"IF(ISNA(VLOOKUP(A1168,analyse!D:E,2,FALSE))=TRUE,0,(VLOOKUP(A1168,analyse!D:E,2,FALSE)))","v":0},{"$f":"analyse!$B$1","v":0},0,0,0,0]
[null,null,{"$f":"IF(ISNA(VLOOKUP(A1169,analyse!D:E,2,FALSE))=TRUE,0,(VLOOKUP(A1169,analyse!D:E,2,FALSE)))","v":0},{"$f":"analyse!$B$1","v":0},0,0,0,0]
[null,null,{"$f":"IF(ISNA(VLOOKUP(A1170,analyse!D:E,2,FALSE))=TRUE,0,(VLOOKUP(A1170,analyse!D:E,2,FALSE)))","v":0},{"$f":"analyse!$B$1","v":0},0,0,0,0]
[null,null,{"$f":"IF(ISNA(VLOOKUP(A1171,analyse!D:E,2,FALSE))=TRUE,0,(VLOOKUP(A1171,analyse!D:E,2,FALSE)))","v":0},{"$f":"analyse!$B$1","v":0},0,0,0,0]
[null,null,{"$f":"IF(ISNA(VLOOKUP(A1172,analyse!D:E,2,FALSE))=TRUE,0,(VLOOKUP(A1172,analyse!D:E,2,FALSE)))","v":0},{"$f":"analyse!$B$1","v":0},0,0,0,0]
[null,null,{"$f":"IF(ISNA(VLOOKUP(A1173,analyse!D:E,2,FALSE))=TRUE,0,(VLOOKUP(A1173,analyse!D:E,2,FALSE)))","v":0},{"$f":"analyse!$B$1","v":0},0,0,0,0]
[null,null,{"$f":"IF(ISNA(VLOOKUP(A1174,analyse!D:E,2,FALSE))=TRUE,0,(VLOOKUP(A1174,analyse!D:E,2,FALSE)))","v":0},{"$f":"analyse!$B$1","v":0},0,0,0,0]
[null,null,{"$f":"IF(ISNA(VLOOKUP(A1175,analyse!D:E,2,FALSE))=TRUE,0,(VLOOKUP(A1175,analyse!D:E,2,FALSE)))","v":0},{"$f":"analyse!$B$1","v":0},0,0,0,0]
[null,null,{"$f":"IF(ISNA(VLOOKUP(A1176,analyse!D:E,2,FALSE))=TRUE,0,(VLOOKUP(A1176,analyse!D:E,2,FALSE)))","v":0},{"$f":"analyse!$B$1","v":0},0,0,0,0]
[null,null,{"$f":"IF(ISNA(VLOOKUP(A1177,analyse!D:E,2,FALSE))=TRUE,0,(VLOOKUP(A1177,analyse!D:E,2,FALSE)))","v":0},{"$f":"analyse!$B$1","v":0},0,0,0,0]
[null,null,{"$f":"IF(ISNA(VLOOKUP(A1178,analyse!D:E,2,FALSE))=TRUE,0,(VLOOKUP(A1178,analyse!D:E,2,FALSE)))","v":0},{"$f":"analyse!$B$1","v":0},0,0,0,0]
[null,null,{"$f":"IF(ISNA(VLOOKUP(A1179,analyse!D:E,2,FALSE))=TRUE,0,(VLOOKUP(A1179,analyse!D:E,2,FALSE)))","v":0},{"$f":"analyse!$B$1","v":0},0,0,0,0]
[null,null,{"$f":"IF(ISNA(VLOOKUP(A1180,analyse!D:E,2,FALSE))=TRUE,0,(VLOOKUP(A1180,analyse!D:E,2,FALSE)))","v":0},{"$f":"analyse!$B$1","v":0},0,0,0,0]
[null,null,{"$f":"IF(ISNA(VLOOKUP(A1181,analyse!D:E,2,FALSE))=TRUE,0,(VLOOKUP(A1181,analyse!D:E,2,FALSE)))","v":0},{"$f":"analyse!$B$1","v":0},0,0,0,0]
[null,null,{"$f":"IF(ISNA(VLOOKUP(A1182,analyse!D:E,2,FALSE))=TRUE,0,(VLOOKUP(A1182,analyse!D:E,2,FALSE)))","v":0},{"$f":"analyse!$B$1","v":0},0,0,0,0]
[null,null,{"$f":"IF(ISNA(VLOOKUP(A1183,analyse!D:E,2,FALSE))=TRUE,0,(VLOOKUP(A1183,analyse!D:E,2,FALSE)))","v":0},{"$f":"analyse!$B$1","v":0},0,0,0,0]
[null,null,{"$f":"IF(ISNA(VLOOKUP(A1184,analyse!D:E,2,FALSE))=TRUE,0,(VLOOKUP(A1184,analyse!D:E,2,FALSE)))","v":0},{"$f":"analyse!$B$1","v":0},0,0,0,0]
[null,null,{"$f":"IF(ISNA(VLOOKUP(A1185,analyse!D:E,2,FALSE))=TRUE,0,(VLOOKUP(A1185,analyse!D:E,2,FALSE)))","v":0},{"$f":"analyse!$B$1","v":0},0,0,0,0]
[null,null,{"$f":"IF(ISNA(VLOOKUP(A1186,analyse!D:E,2,FALSE))=TRUE,0,(VLOOKUP(A1186,analyse!D:E,2,FALSE)))","v":0},{"$f":"analyse!$B$1","v":0},0,0,0,0]
[null,null,{"$f":"IF(ISNA(VLOOKUP(A1187,analyse!D:E,2,FALSE))=TRUE,0,(VLOOKUP(A1187,analyse!D:E,2,FALSE)))","v":0},{"$f":"analyse!$B$1","v":0},0,0,0,0]
[null,null,{"$f":"IF(ISNA(VLOOKUP(A1188,analyse!D:E,2,FALSE))=TRUE,0,(VLOOKUP(A1188,analyse!D:E,2,FALSE)))","v":0},{"$f":"analyse!$B$1","v":0},0,0,0,0]
[null,null,{"$f":"IF(ISNA(VLOOKUP(A1189,analyse!D:E,2,FALSE))=TRUE,0,(VLOOKUP(A1189,analyse!D:E,2,FALSE)))","v":0},{"$f":"analyse!$B$1","v":0},0,0,0,0]
[null,null,{"$f":"IF(ISNA(VLOOKUP(A1190,analyse!D:E,2,FALSE))=TRUE,0,(VLOOKUP(A1190,analyse!D:E,2,FALSE)))","v":0},{"$f":"analyse!$B$1","v":0},0,0,0,0]
[null,null,{"$f":"IF(ISNA(VLOOKUP(A1191,analyse!D:E,2,FALSE))=TRUE,0,(VLOOKUP(A1191,analyse!D:E,2,FALSE)))","v":0},{"$f":"analyse!$B$1","v":0},0,0,0,0]
[null,null,{"$f":"IF(ISNA(VLOOKUP(A1192,analyse!D:E,2,FALSE))=TRUE,0,(VLOOKUP(A1192,analyse!D:E,2,FALSE)))","v":0},{"$f":"analyse!$B$1","v":0},0,0,0,0]
[null,null,{"$f":"IF(ISNA(VLOOKUP(A1193,analyse!D:E,2,FALSE))=TRUE,0,(VLOOKUP(A1193,analyse!D:E,2,FALSE)))","v":0},{"$f":"analyse!$B$1","v":0},0,0,0,0]
[null,null,{"$f":"IF(ISNA(VLOOKUP(A1194,analyse!D:E,2,FALSE))=TRUE,0,(VLOOKUP(A1194,analyse!D:E,2,FALSE)))","v":0},{"$f":"analyse!$B$1","v":0},0,0,0,0]
[null,null,{"$f":"IF(ISNA(VLOOKUP(A1195,analyse!D:E,2,FALSE))=TRUE,0,(VLOOKUP(A1195,analyse!D:E,2,FALSE)))","v":0},{"$f":"analyse!$B$1","v":0},0,0,0,0]
[null,null,{"$f":"IF(ISNA(VLOOKUP(A1196,analyse!D:E,2,FALSE))=TRUE,0,(VLOOKUP(A1196,analyse!D:E,2,FALSE)))","v":0},{"$f":"analyse!$B$1","v":0},0,0,0,0]
[null,null,{"$f":"IF(ISNA(VLOOKUP(A1197,analyse!D:E,2,FALSE))=TRUE,0,(VLOOKUP(A1197,analyse!D:E,2,FALSE)))","v":0},{"$f":"analyse!$B$1","v":0},0,0,0,0]
[null,null,{"$f":"IF(ISNA(VLOOKUP(A1198,analyse!D:E,2,FALSE))=TRUE,0,(VLOOKUP(A1198,analyse!D:E,2,FALSE)))","v":0},{"$f":"analyse!$B$1","v":0},0,0,0,0]
[null,null,{"$f":"IF(ISNA(VLOOKUP(A1199,analyse!D:E,2,FALSE))=TRUE,0,(VLOOKUP(A1199,analyse!D:E,2,FALSE)))","v":0},{"$f":"analyse!$B$1","v":0},0,0,0,0]
[null,null,{"$f":"IF(ISNA(VLOOKUP(A1200,analyse!D:E,2,FALSE))=TRUE,0,(VLOOKUP(A1200,analyse!D:E,2,FALSE)))","v":0},{"$f":"analyse!$B$1","v":0},0,0,0,0]
[null,null,{"$f":"IF(ISNA(VLOOKUP(A1201,analyse!D:E,2,FALSE))=TRUE,0,(VLOOKUP(A1201,analyse!D:E,2,FALSE)))","v":0},{"$f":"analyse!$B$1","v":0},0,0,0,0]
[null,null,{"$f":"IF(ISNA(VLOOKUP(A1202,analyse!D:E,2,FALSE))=TRUE,0,(VLOOKUP(A1202,analyse!D:E,2,FALSE)))","v":0},{"$f":"analyse!$B$1","v":0},0,0,0,0]
[null,null,{"$f":"IF(ISNA(VLOOKUP(A1203,analyse!D:E,2,FALSE))=TRUE,0,(VLOOKUP(A1203,analyse!D:E,2,FALSE)))","v":0},{"$f":"analyse!$B$1","v":0},0,0,0,0]
[null,null,{"$f":"IF(ISNA(VLOOKUP(A1204,analyse!D:E,2,FALSE))=TRUE,0,(VLOOKUP(A1204,analyse!D:E,2,FALSE)))","v":0},{"$f":"analyse!$B$1","v":0},0,0,0,0]
[null,null,{"$f":"IF(ISNA(VLOOKUP(A1205,analyse!D:E,2,FALSE))=TRUE,0,(VLOOKUP(A1205,analyse!D:E,2,FALSE)))","v":0},{"$f":"analyse!$B$1","v":0},0,0,0,0]
[null,null,{"$f":"IF(ISNA(VLOOKUP(A1206,analyse!D:E,2,FALSE))=TRUE,0,(VLOOKUP(A1206,analyse!D:E,2,FALSE)))","v":0},{"$f":"analyse!$B$1","v":0},0,0,0,0]
[null,null,{"$f":"IF(ISNA(VLOOKUP(A1207,analyse!D:E,2,FALSE))=TRUE,0,(VLOOKUP(A1207,analyse!D:E,2,FALSE)))","v":0},{"$f":"analyse!$B$1","v":0},0,0,0,0]
[null,null,{"$f":"IF(ISNA(VLOOKUP(A1208,analyse!D:E,2,FALSE))=TRUE,0,(VLOOKUP(A1208,analyse!D:E,2,FALSE)))","v":0},{"$f":"analyse!$B$1","v":0},0,0,0,0]
[null,null,{"$f":"IF(ISNA(VLOOKUP(A1209,analyse!D:E,2,FALSE))=TRUE,0,(VLOOKUP(A1209,analyse!D:E,2,FALSE)))","v":0},{"$f":"analyse!$B$1","v":0},0,0,0,0]
[null,null,{"$f":"IF(ISNA(VLOOKUP(A1210,analyse!D:E,2,FALSE))=TRUE,0,(VLOOKUP(A1210,analyse!D:E,2,FALSE)))","v":0},{"$f":"analyse!$B$1","v":0},0,0,0,0]
[null,null,{"$f":"IF(ISNA(VLOOKUP(A1211,analyse!D:E,2,FALSE))=TRUE,0,(VLOOKUP(A1211,analyse!D:E,2,FALSE)))","v":0},{"$f":"analyse!$B$1","v":0},0,0,0,0]
[null,null,{"$f":"IF(ISNA(VLOOKUP(A1212,analyse!D:E,2,FALSE))=TRUE,0,(VLOOKUP(A1212,analyse!D:E,2,FALSE)))","v":0},{"$f":"analyse!$B$1","v":0},0,0,0,0]
[null,null,{"$f":"IF(ISNA(VLOOKUP(A1213,analyse!D:E,2,FALSE))=TRUE,0,(VLOOKUP(A1213,analyse!D:E,2,FALSE)))","v":0},{"$f":"analyse!$B$1","v":0},0,0,0,0]
[null,null,{"$f":"IF(ISNA(VLOOKUP(A1214,analyse!D:E,2,FALSE))=TRUE,0,(VLOOKUP(A1214,analyse!D:E,2,FALSE)))","v":0},{"$f":"analyse!$B$1","v":0},0,0,0,0]
[null,null,{"$f":"IF(ISNA(VLOOKUP(A1215,analyse!D:E,2,FALSE))=TRUE,0,(VLOOKUP(A1215,analyse!D:E,2,FALSE)))","v":0},{"$f":"analyse!$B$1","v":0},0,0,0,0]
[null,null,{"$f":"IF(ISNA(VLOOKUP(A1216,analyse!D:E,2,FALSE))=TRUE,0,(VLOOKUP(A1216,analyse!D:E,2,FALSE)))","v":0},{"$f":"analyse!$B$1","v":0},0,0,0,0]
[null,null,{"$f":"IF(ISNA(VLOOKUP(A1217,analyse!D:E,2,FALSE))=TRUE,0,(VLOOKUP(A1217,analyse!D:E,2,FALSE)))","v":0},{"$f":"analyse!$B$1","v":0},0,0,0,0]
[null,null,{"$f":"IF(ISNA(VLOOKUP(A1218,analyse!D:E,2,FALSE))=TRUE,0,(VLOOKUP(A1218,analyse!D:E,2,FALSE)))","v":0},{"$f":"analyse!$B$1","v":0},{"$f":"D1218-C1218","v":0},{"$f":"E1218+C1218","v":0},{"$f":"IF(F1218<E1218,D1218-1,D1218)","v":0},{"$f":"IF(A1218=\"S20.G01.00.001\",H1217+1,H1217)","v":0}]
[null,null,{"$f":"IF(ISNA(VLOOKUP(A1219,analyse!D:E,2,FALSE))=TRUE,0,(VLOOKUP(A1219,analyse!D:E,2,FALSE)))","v":0},{"$f":"analyse!$B$1","v":0},0,0,0,0]
[null,null,{"$f":"IF(ISNA(VLOOKUP(A1220,analyse!D:E,2,FALSE))=TRUE,0,(VLOOKUP(A1220,analyse!D:E,2,FALSE)))","v":0},{"$f":"analyse!$B$1","v":0},0,0,0,0]
[null,null,{"$f":"IF(ISNA(VLOOKUP(A1221,analyse!D:E,2,FALSE))=TRUE,0,(VLOOKUP(A1221,analyse!D:E,2,FALSE)))","v":0},{"$f":"analyse!$B$1","v":0},0,0,0,0]
[null,null,{"$f":"IF(ISNA(VLOOKUP(A1222,analyse!D:E,2,FALSE))=TRUE,0,(VLOOKUP(A1222,analyse!D:E,2,FALSE)))","v":0},{"$f":"analyse!$B$1","v":0},0,0,0,0]
[null,null,{"$f":"IF(ISNA(VLOOKUP(A1223,analyse!D:E,2,FALSE))=TRUE,0,(VLOOKUP(A1223,analyse!D:E,2,FALSE)))","v":0},{"$f":"analyse!$B$1","v":0},0,0,0,0]
[null,null,{"$f":"IF(ISNA(VLOOKUP(A1224,analyse!D:E,2,FALSE))=TRUE,0,(VLOOKUP(A1224,analyse!D:E,2,FALSE)))","v":0},{"$f":"analyse!$B$1","v":0},0,0,0,0]
[null,null,{"$f":"IF(ISNA(VLOOKUP(A1225,analyse!D:E,2,FALSE))=TRUE,0,(VLOOKUP(A1225,analyse!D:E,2,FALSE)))","v":0},{"$f":"analyse!$B$1","v":0},0,0,0,0]
[null,null,{"$f":"IF(ISNA(VLOOKUP(A1226,analyse!D:E,2,FALSE))=TRUE,0,(VLOOKUP(A1226,analyse!D:E,2,FALSE)))","v":0},{"$f":"analyse!$B$1","v":0},0,0,0,0]
[null,null,{"$f":"IF(ISNA(VLOOKUP(A1227,analyse!D:E,2,FALSE))=TRUE,0,(VLOOKUP(A1227,analyse!D:E,2,FALSE)))","v":0},{"$f":"analyse!$B$1","v":0},0,0,0,0]
[null,null,{"$f":"IF(ISNA(VLOOKUP(A1228,analyse!D:E,2,FALSE))=TRUE,0,(VLOOKUP(A1228,analyse!D:E,2,FALSE)))","v":0},{"$f":"analyse!$B$1","v":0},0,0,0,0]
[null,null,{"$f":"IF(ISNA(VLOOKUP(A1229,analyse!D:E,2,FALSE))=TRUE,0,(VLOOKUP(A1229,analyse!D:E,2,FALSE)))","v":0},{"$f":"analyse!$B$1","v":0},0,0,0,0]
[null,null,{"$f":"IF(ISNA(VLOOKUP(A1230,analyse!D:E,2,FALSE))=TRUE,0,(VLOOKUP(A1230,analyse!D:E,2,FALSE)))","v":0},{"$f":"analyse!$B$1","v":0},0,0,0,0]
[null,null,{"$f":"IF(ISNA(VLOOKUP(A1231,analyse!D:E,2,FALSE))=TRUE,0,(VLOOKUP(A1231,analyse!D:E,2,FALSE)))","v":0},{"$f":"analyse!$B$1","v":0},0,0,0,0]
[null,null,{"$f":"IF(ISNA(VLOOKUP(A1232,analyse!D:E,2,FALSE))=TRUE,0,(VLOOKUP(A1232,analyse!D:E,2,FALSE)))","v":0},{"$f":"analyse!$B$1","v":0},0,0,0,0]
[null,null,{"$f":"IF(ISNA(VLOOKUP(A1233,analyse!D:E,2,FALSE))=TRUE,0,(VLOOKUP(A1233,analyse!D:E,2,FALSE)))","v":0},{"$f":"analyse!$B$1","v":0},0,0,0,0]
[null,null,{"$f":"IF(ISNA(VLOOKUP(A1234,analyse!D:E,2,FALSE))=TRUE,0,(VLOOKUP(A1234,analyse!D:E,2,FALSE)))","v":0},{"$f":"analyse!$B$1","v":0},0,0,0,0]
[null,null,{"$f":"IF(ISNA(VLOOKUP(A1235,analyse!D:E,2,FALSE))=TRUE,0,(VLOOKUP(A1235,analyse!D:E,2,FALSE)))","v":0},{"$f":"analyse!$B$1","v":0},0,0,0,0]
[null,null,{"$f":"IF(ISNA(VLOOKUP(A1236,analyse!D:E,2,FALSE))=TRUE,0,(VLOOKUP(A1236,analyse!D:E,2,FALSE)))","v":0},{"$f":"analyse!$B$1","v":0},0,0,0,0]
[null,null,{"$f":"IF(ISNA(VLOOKUP(A1237,analyse!D:E,2,FALSE))=TRUE,0,(VLOOKUP(A1237,analyse!D:E,2,FALSE)))","v":0},{"$f":"analyse!$B$1","v":0},0,0,0,0]
[null,null,{"$f":"IF(ISNA(VLOOKUP(A1238,analyse!D:E,2,FALSE))=TRUE,0,(VLOOKUP(A1238,analyse!D:E,2,FALSE)))","v":0},{"$f":"analyse!$B$1","v":0},0,0,0,0]
[null,null,{"$f":"IF(ISNA(VLOOKUP(A1239,analyse!D:E,2,FALSE))=TRUE,0,(VLOOKUP(A1239,analyse!D:E,2,FALSE)))","v":0},{"$f":"analyse!$B$1","v":0},0,0,0,0]
[null,null,{"$f":"IF(ISNA(VLOOKUP(A1240,analyse!D:E,2,FALSE))=TRUE,0,(VLOOKUP(A1240,analyse!D:E,2,FALSE)))","v":0},{"$f":"analyse!$B$1","v":0},0,0,0,0]
[null,null,{"$f":"IF(ISNA(VLOOKUP(A1241,analyse!D:E,2,FALSE))=TRUE,0,(VLOOKUP(A1241,analyse!D:E,2,FALSE)))","v":0},{"$f":"analyse!$B$1","v":0},0,0,0,0]
[null,null,{"$f":"IF(ISNA(VLOOKUP(A1242,analyse!D:E,2,FALSE))=TRUE,0,(VLOOKUP(A1242,analyse!D:E,2,FALSE)))","v":0},{"$f":"analyse!$B$1","v":0},0,0,0,0]
[null,null,{"$f":"IF(ISNA(VLOOKUP(A1243,analyse!D:E,2,FALSE))=TRUE,0,(VLOOKUP(A1243,analyse!D:E,2,FALSE)))","v":0},{"$f":"analyse!$B$1","v":0},0,0,0,0]
[null,null,{"$f":"IF(ISNA(VLOOKUP(A1244,analyse!D:E,2,FALSE))=TRUE,0,(VLOOKUP(A1244,analyse!D:E,2,FALSE)))","v":0},{"$f":"analyse!$B$1","v":0},0,0,0,0]
[null,null,{"$f":"IF(ISNA(VLOOKUP(A1245,analyse!D:E,2,FALSE))=TRUE,0,(VLOOKUP(A1245,analyse!D:E,2,FALSE)))","v":0},{"$f":"analyse!$B$1","v":0},0,0,0,0]
[null,null,{"$f":"IF(ISNA(VLOOKUP(A1246,analyse!D:E,2,FALSE))=TRUE,0,(VLOOKUP(A1246,analyse!D:E,2,FALSE)))","v":0},{"$f":"analyse!$B$1","v":0},0,0,0,0]
[null,null,{"$f":"IF(ISNA(VLOOKUP(A1247,analyse!D:E,2,FALSE))=TRUE,0,(VLOOKUP(A1247,analyse!D:E,2,FALSE)))","v":0},{"$f":"analyse!$B$1","v":0},0,0,0,0]
[null,null,{"$f":"IF(ISNA(VLOOKUP(A1248,analyse!D:E,2,FALSE))=TRUE,0,(VLOOKUP(A1248,analyse!D:E,2,FALSE)))","v":0},{"$f":"analyse!$B$1","v":0},0,0,0,0]
[null,null,{"$f":"IF(ISNA(VLOOKUP(A1249,analyse!D:E,2,FALSE))=TRUE,0,(VLOOKUP(A1249,analyse!D:E,2,FALSE)))","v":0},{"$f":"analyse!$B$1","v":0},0,0,0,0]
[null,null,{"$f":"IF(ISNA(VLOOKUP(A1250,analyse!D:E,2,FALSE))=TRUE,0,(VLOOKUP(A1250,analyse!D:E,2,FALSE)))","v":0},{"$f":"analyse!$B$1","v":0},0,0,0,0]
[null,null,{"$f":"IF(ISNA(VLOOKUP(A1251,analyse!D:E,2,FALSE))=TRUE,0,(VLOOKUP(A1251,analyse!D:E,2,FALSE)))","v":0},{"$f":"analyse!$B$1","v":0},0,0,0,0]
[null,null,{"$f":"IF(ISNA(VLOOKUP(A1252,analyse!D:E,2,FALSE))=TRUE,0,(VLOOKUP(A1252,analyse!D:E,2,FALSE)))","v":0},{"$f":"analyse!$B$1","v":0},0,0,0,0]
[null,null,{"$f":"IF(ISNA(VLOOKUP(A1253,analyse!D:E,2,FALSE))=TRUE,0,(VLOOKUP(A1253,analyse!D:E,2,FALSE)))","v":0},{"$f":"analyse!$B$1","v":0},0,0,0,0]
[null,null,{"$f":"IF(ISNA(VLOOKUP(A1254,analyse!D:E,2,FALSE))=TRUE,0,(VLOOKUP(A1254,analyse!D:E,2,FALSE)))","v":0},{"$f":"analyse!$B$1","v":0},0,0,0,0]
[null,null,{"$f":"IF(ISNA(VLOOKUP(A1255,analyse!D:E,2,FALSE))=TRUE,0,(VLOOKUP(A1255,analyse!D:E,2,FALSE)))","v":0},{"$f":"analyse!$B$1","v":0},0,0,0,0]
[null,null,{"$f":"IF(ISNA(VLOOKUP(A1256,analyse!D:E,2,FALSE))=TRUE,0,(VLOOKUP(A1256,analyse!D:E,2,FALSE)))","v":0},{"$f":"analyse!$B$1","v":0},0,0,0,0]
[null,null,{"$f":"IF(ISNA(VLOOKUP(A1257,analyse!D:E,2,FALSE))=TRUE,0,(VLOOKUP(A1257,analyse!D:E,2,FALSE)))","v":0},{"$f":"analyse!$B$1","v":0},0,0,0,0]
[null,null,{"$f":"IF(ISNA(VLOOKUP(A1258,analyse!D:E,2,FALSE))=TRUE,0,(VLOOKUP(A1258,analyse!D:E,2,FALSE)))","v":0},{"$f":"analyse!$B$1","v":0},0,0,0,0]
[null,null,{"$f":"IF(ISNA(VLOOKUP(A1259,analyse!D:E,2,FALSE))=TRUE,0,(VLOOKUP(A1259,analyse!D:E,2,FALSE)))","v":0},{"$f":"analyse!$B$1","v":0},0,0,0,0]
[null,null,{"$f":"IF(ISNA(VLOOKUP(A1260,analyse!D:E,2,FALSE))=TRUE,0,(VLOOKUP(A1260,analyse!D:E,2,FALSE)))","v":0},{"$f":"analyse!$B$1","v":0},0,0,0,0]
[null,null,{"$f":"IF(ISNA(VLOOKUP(A1261,analyse!D:E,2,FALSE))=TRUE,0,(VLOOKUP(A1261,analyse!D:E,2,FALSE)))","v":0},{"$f":"analyse!$B$1","v":0},0,0,0,0]
[null,null,{"$f":"IF(ISNA(VLOOKUP(A1262,analyse!D:E,2,FALSE))=TRUE,0,(VLOOKUP(A1262,analyse!D:E,2,FALSE)))","v":0},{"$f":"analyse!$B$1","v":0},0,0,0,0]
[null,null,{"$f":"IF(ISNA(VLOOKUP(A1263,analyse!D:E,2,FALSE))=TRUE,0,(VLOOKUP(A1263,analyse!D:E,2,FALSE)))","v":0},{"$f":"analyse!$B$1","v":0},0,0,0,0]
[null,null,{"$f":"IF(ISNA(VLOOKUP(A1264,analyse!D:E,2,FALSE))=TRUE,0,(VLOOKUP(A1264,analyse!D:E,2,FALSE)))","v":0},{"$f":"analyse!$B$1","v":0},0,0,0,0]
[null,null,{"$f":"IF(ISNA(VLOOKUP(A1265,analyse!D:E,2,FALSE))=TRUE,0,(VLOOKUP(A1265,analyse!D:E,2,FALSE)))","v":0},{"$f":"analyse!$B$1","v":0},0,0,0,0]
[null,null,{"$f":"IF(ISNA(VLOOKUP(A1266,analyse!D:E,2,FALSE))=TRUE,0,(VLOOKUP(A1266,analyse!D:E,2,FALSE)))","v":0},{"$f":"analyse!$B$1","v":0},0,0,0,0]
[null,null,{"$f":"IF(ISNA(VLOOKUP(A1267,analyse!D:E,2,FALSE))=TRUE,0,(VLOOKUP(A1267,analyse!D:E,2,FALSE)))","v":0},{"$f":"analyse!$B$1","v":0},0,0,0,0]
[null,null,{"$f":"IF(ISNA(VLOOKUP(A1268,analyse!D:E,2,FALSE))=TRUE,0,(VLOOKUP(A1268,analyse!D:E,2,FALSE)))","v":0},{"$f":"analyse!$B$1","v":0},0,0,0,0]
[null,null,{"$f":"IF(ISNA(VLOOKUP(A1269,analyse!D:E,2,FALSE))=TRUE,0,(VLOOKUP(A1269,analyse!D:E,2,FALSE)))","v":0},{"$f":"analyse!$B$1","v":0},0,0,0,0]
[null,null,{"$f":"IF(ISNA(VLOOKUP(A1270,analyse!D:E,2,FALSE))=TRUE,0,(VLOOKUP(A1270,analyse!D:E,2,FALSE)))","v":0},{"$f":"analyse!$B$1","v":0},0,0,0,0]
[null,null,{"$f":"IF(ISNA(VLOOKUP(A1271,analyse!D:E,2,FALSE))=TRUE,0,(VLOOKUP(A1271,analyse!D:E,2,FALSE)))","v":0},{"$f":"analyse!$B$1","v":0},0,0,0,0]
[null,null,{"$f":"IF(ISNA(VLOOKUP(A1272,analyse!D:E,2,FALSE))=TRUE,0,(VLOOKUP(A1272,analyse!D:E,2,FALSE)))","v":0},{"$f":"analyse!$B$1","v":0},0,0,0,0]
[null,null,{"$f":"IF(ISNA(VLOOKUP(A1273,analyse!D:E,2,FALSE))=TRUE,0,(VLOOKUP(A1273,analyse!D:E,2,FALSE)))","v":0},{"$f":"analyse!$B$1","v":0},0,0,0,0]
[null,null,{"$f":"IF(ISNA(VLOOKUP(A1274,analyse!D:E,2,FALSE))=TRUE,0,(VLOOKUP(A1274,analyse!D:E,2,FALSE)))","v":0},{"$f":"analyse!$B$1","v":0},0,0,0,0]
[null,null,{"$f":"IF(ISNA(VLOOKUP(A1275,analyse!D:E,2,FALSE))=TRUE,0,(VLOOKUP(A1275,analyse!D:E,2,FALSE)))","v":0},{"$f":"analyse!$B$1","v":0},0,0,0,0]
[null,null,{"$f":"IF(ISNA(VLOOKUP(A1276,analyse!D:E,2,FALSE))=TRUE,0,(VLOOKUP(A1276,analyse!D:E,2,FALSE)))","v":0},{"$f":"analyse!$B$1","v":0},0,0,0,0]
[null,null,{"$f":"IF(ISNA(VLOOKUP(A1277,analyse!D:E,2,FALSE))=TRUE,0,(VLOOKUP(A1277,analyse!D:E,2,FALSE)))","v":0},{"$f":"analyse!$B$1","v":0},0,0,0,0]
[null,null,{"$f":"IF(ISNA(VLOOKUP(A1278,analyse!D:E,2,FALSE))=TRUE,0,(VLOOKUP(A1278,analyse!D:E,2,FALSE)))","v":0},{"$f":"analyse!$B$1","v":0},0,0,0,0]
[null,null,{"$f":"IF(ISNA(VLOOKUP(A1279,analyse!D:E,2,FALSE))=TRUE,0,(VLOOKUP(A1279,analyse!D:E,2,FALSE)))","v":0},{"$f":"analyse!$B$1","v":0},0,0,0,0]
[null,null,{"$f":"IF(ISNA(VLOOKUP(A1280,analyse!D:E,2,FALSE))=TRUE,0,(VLOOKUP(A1280,analyse!D:E,2,FALSE)))","v":0},{"$f":"analyse!$B$1","v":0},0,0,0,0]
[null,null,{"$f":"IF(ISNA(VLOOKUP(A1281,analyse!D:E,2,FALSE))=TRUE,0,(VLOOKUP(A1281,analyse!D:E,2,FALSE)))","v":0},{"$f":"analyse!$B$1","v":0},0,0,0,0]
[null,null,{"$f":"IF(ISNA(VLOOKUP(A1282,analyse!D:E,2,FALSE))=TRUE,0,(VLOOKUP(A1282,analyse!D:E,2,FALSE)))","v":0},{"$f":"analyse!$B$1","v":0},{"$f":"D1282-C1282","v":0},{"$f":"E1282+C1282","v":0},{"$f":"IF(F1282<E1282,D1282-1,D1282)","v":0},{"$f":"IF(A1282=\"S20.G01.00.001\",H1281+1,H1281)","v":0}]
[null,null,{"$f":"IF(ISNA(VLOOKUP(A1283,analyse!D:E,2,FALSE))=TRUE,0,(VLOOKUP(A1283,analyse!D:E,2,FALSE)))","v":0},{"$f":"analyse!$B$1","v":0},0,0,0,0]
[null,null,{"$f":"IF(ISNA(VLOOKUP(A1284,analyse!D:E,2,FALSE))=TRUE,0,(VLOOKUP(A1284,analyse!D:E,2,FALSE)))","v":0},{"$f":"analyse!$B$1","v":0},0,0,0,0]
[null,null,{"$f":"IF(ISNA(VLOOKUP(A1285,analyse!D:E,2,FALSE))=TRUE,0,(VLOOKUP(A1285,analyse!D:E,2,FALSE)))","v":0},{"$f":"analyse!$B$1","v":0},0,0,0,0]
[null,null,{"$f":"IF(ISNA(VLOOKUP(A1286,analyse!D:E,2,FALSE))=TRUE,0,(VLOOKUP(A1286,analyse!D:E,2,FALSE)))","v":0},{"$f":"analyse!$B$1","v":0},0,0,0,0]
[null,null,{"$f":"IF(ISNA(VLOOKUP(A1287,analyse!D:E,2,FALSE))=TRUE,0,(VLOOKUP(A1287,analyse!D:E,2,FALSE)))","v":0},{"$f":"analyse!$B$1","v":0},0,0,0,0]
[null,null,{"$f":"IF(ISNA(VLOOKUP(A1288,analyse!D:E,2,FALSE))=TRUE,0,(VLOOKUP(A1288,analyse!D:E,2,FALSE)))","v":0},{"$f":"analyse!$B$1","v":0},0,0,0,0]
[null,null,{"$f":"IF(ISNA(VLOOKUP(A1289,analyse!D:E,2,FALSE))=TRUE,0,(VLOOKUP(A1289,analyse!D:E,2,FALSE)))","v":0},{"$f":"analyse!$B$1","v":0},0,0,0,0]
[null,null,{"$f":"IF(ISNA(VLOOKUP(A1290,analyse!D:E,2,FALSE))=TRUE,0,(VLOOKUP(A1290,analyse!D:E,2,FALSE)))","v":0},{"$f":"analyse!$B$1","v":0},0,0,0,0]
[null,null,{"$f":"IF(ISNA(VLOOKUP(A1291,analyse!D:E,2,FALSE))=TRUE,0,(VLOOKUP(A1291,analyse!D:E,2,FALSE)))","v":0},{"$f":"analyse!$B$1","v":0},0,0,0,0]
[null,null,{"$f":"IF(ISNA(VLOOKUP(A1292,analyse!D:E,2,FALSE))=TRUE,0,(VLOOKUP(A1292,analyse!D:E,2,FALSE)))","v":0},{"$f":"analyse!$B$1","v":0},0,0,0,0]
[null,null,{"$f":"IF(ISNA(VLOOKUP(A1293,analyse!D:E,2,FALSE))=TRUE,0,(VLOOKUP(A1293,analyse!D:E,2,FALSE)))","v":0},{"$f":"analyse!$B$1","v":0},0,0,0,0]
[null,null,{"$f":"IF(ISNA(VLOOKUP(A1294,analyse!D:E,2,FALSE))=TRUE,0,(VLOOKUP(A1294,analyse!D:E,2,FALSE)))","v":0},{"$f":"analyse!$B$1","v":0},0,0,0,0]
[null,null,{"$f":"IF(ISNA(VLOOKUP(A1295,analyse!D:E,2,FALSE))=TRUE,0,(VLOOKUP(A1295,analyse!D:E,2,FALSE)))","v":0},{"$f":"analyse!$B$1","v":0},0,0,0,0]
[null,null,{"$f":"IF(ISNA(VLOOKUP(A1296,analyse!D:E,2,FALSE))=TRUE,0,(VLOOKUP(A1296,analyse!D:E,2,FALSE)))","v":0},{"$f":"analyse!$B$1","v":0},0,0,0,0]
[null,null,{"$f":"IF(ISNA(VLOOKUP(A1297,analyse!D:E,2,FALSE))=TRUE,0,(VLOOKUP(A1297,analyse!D:E,2,FALSE)))","v":0},{"$f":"analyse!$B$1","v":0},0,0,0,0]
[null,null,{"$f":"IF(ISNA(VLOOKUP(A1298,analyse!D:E,2,FALSE))=TRUE,0,(VLOOKUP(A1298,analyse!D:E,2,FALSE)))","v":0},{"$f":"analyse!$B$1","v":0},0,0,0,0]
[null,null,{"$f":"IF(ISNA(VLOOKUP(A1299,analyse!D:E,2,FALSE))=TRUE,0,(VLOOKUP(A1299,analyse!D:E,2,FALSE)))","v":0},{"$f":"analyse!$B$1","v":0},0,0,0,0]
[null,null,{"$f":"IF(ISNA(VLOOKUP(A1300,analyse!D:E,2,FALSE))=TRUE,0,(VLOOKUP(A1300,analyse!D:E,2,FALSE)))","v":0},{"$f":"analyse!$B$1","v":0},0,0,0,0]
[null,null,{"$f":"IF(ISNA(VLOOKUP(A1301,analyse!D:E,2,FALSE))=TRUE,0,(VLOOKUP(A1301,analyse!D:E,2,FALSE)))","v":0},{"$f":"analyse!$B$1","v":0},0,0,0,0]
[null,null,{"$f":"IF(ISNA(VLOOKUP(A1302,analyse!D:E,2,FALSE))=TRUE,0,(VLOOKUP(A1302,analyse!D:E,2,FALSE)))","v":0},{"$f":"analyse!$B$1","v":0},0,0,0,0]
[null,null,{"$f":"IF(ISNA(VLOOKUP(A1303,analyse!D:E,2,FALSE))=TRUE,0,(VLOOKUP(A1303,analyse!D:E,2,FALSE)))","v":0},{"$f":"analyse!$B$1","v":0},0,0,0,0]
[null,null,{"$f":"IF(ISNA(VLOOKUP(A1304,analyse!D:E,2,FALSE))=TRUE,0,(VLOOKUP(A1304,analyse!D:E,2,FALSE)))","v":0},{"$f":"analyse!$B$1","v":0},0,0,0,0]
[null,null,{"$f":"IF(ISNA(VLOOKUP(A1305,analyse!D:E,2,FALSE))=TRUE,0,(VLOOKUP(A1305,analyse!D:E,2,FALSE)))","v":0},{"$f":"analyse!$B$1","v":0},0,0,0,0]
[null,null,{"$f":"IF(ISNA(VLOOKUP(A1306,analyse!D:E,2,FALSE))=TRUE,0,(VLOOKUP(A1306,analyse!D:E,2,FALSE)))","v":0},{"$f":"analyse!$B$1","v":0},0,0,0,0]
[null,null,{"$f":"IF(ISNA(VLOOKUP(A1307,analyse!D:E,2,FALSE))=TRUE,0,(VLOOKUP(A1307,analyse!D:E,2,FALSE)))","v":0},{"$f":"analyse!$B$1","v":0},0,0,0,0]
[null,null,{"$f":"IF(ISNA(VLOOKUP(A1308,analyse!D:E,2,FALSE))=TRUE,0,(VLOOKUP(A1308,analyse!D:E,2,FALSE)))","v":0},{"$f":"analyse!$B$1","v":0},0,0,0,0]
[null,null,{"$f":"IF(ISNA(VLOOKUP(A1309,analyse!D:E,2,FALSE))=TRUE,0,(VLOOKUP(A1309,analyse!D:E,2,FALSE)))","v":0},{"$f":"analyse!$B$1","v":0},0,0,0,0]
[null,null,{"$f":"IF(ISNA(VLOOKUP(A1310,analyse!D:E,2,FALSE))=TRUE,0,(VLOOKUP(A1310,analyse!D:E,2,FALSE)))","v":0},{"$f":"analyse!$B$1","v":0},0,0,0,0]
[null,null,{"$f":"IF(ISNA(VLOOKUP(A1311,analyse!D:E,2,FALSE))=TRUE,0,(VLOOKUP(A1311,analyse!D:E,2,FALSE)))","v":0},{"$f":"analyse!$B$1","v":0},0,0,0,0]
[null,null,{"$f":"IF(ISNA(VLOOKUP(A1312,analyse!D:E,2,FALSE))=TRUE,0,(VLOOKUP(A1312,analyse!D:E,2,FALSE)))","v":0},{"$f":"analyse!$B$1","v":0},0,0,0,0]
[null,null,{"$f":"IF(ISNA(VLOOKUP(A1313,analyse!D:E,2,FALSE))=TRUE,0,(VLOOKUP(A1313,analyse!D:E,2,FALSE)))","v":0},{"$f":"analyse!$B$1","v":0},0,0,0,0]
[null,null,{"$f":"IF(ISNA(VLOOKUP(A1314,analyse!D:E,2,FALSE))=TRUE,0,(VLOOKUP(A1314,analyse!D:E,2,FALSE)))","v":0},{"$f":"analyse!$B$1","v":0},0,0,0,0]
[null,null,{"$f":"IF(ISNA(VLOOKUP(A1315,analyse!D:E,2,FALSE))=TRUE,0,(VLOOKUP(A1315,analyse!D:E,2,FALSE)))","v":0},{"$f":"analyse!$B$1","v":0},0,0,0,0]
[null,null,{"$f":"IF(ISNA(VLOOKUP(A1316,analyse!D:E,2,FALSE))=TRUE,0,(VLOOKUP(A1316,analyse!D:E,2,FALSE)))","v":0},{"$f":"analyse!$B$1","v":0},0,0,0,0]
[null,null,{"$f":"IF(ISNA(VLOOKUP(A1317,analyse!D:E,2,FALSE))=TRUE,0,(VLOOKUP(A1317,analyse!D:E,2,FALSE)))","v":0},{"$f":"analyse!$B$1","v":0},0,0,0,0]
[null,null,{"$f":"IF(ISNA(VLOOKUP(A1318,analyse!D:E,2,FALSE))=TRUE,0,(VLOOKUP(A1318,analyse!D:E,2,FALSE)))","v":0},{"$f":"analyse!$B$1","v":0},0,0,0,0]
[null,null,{"$f":"IF(ISNA(VLOOKUP(A1319,analyse!D:E,2,FALSE))=TRUE,0,(VLOOKUP(A1319,analyse!D:E,2,FALSE)))","v":0},{"$f":"analyse!$B$1","v":0},0,0,0,0]
[null,null,{"$f":"IF(ISNA(VLOOKUP(A1320,analyse!D:E,2,FALSE))=TRUE,0,(VLOOKUP(A1320,analyse!D:E,2,FALSE)))","v":0},{"$f":"analyse!$B$1","v":0},0,0,0,0]
[null,null,{"$f":"IF(ISNA(VLOOKUP(A1321,analyse!D:E,2,FALSE))=TRUE,0,(VLOOKUP(A1321,analyse!D:E,2,FALSE)))","v":0},{"$f":"analyse!$B$1","v":0},0,0,0,0]
[null,null,{"$f":"IF(ISNA(VLOOKUP(A1322,analyse!D:E,2,FALSE))=TRUE,0,(VLOOKUP(A1322,analyse!D:E,2,FALSE)))","v":0},{"$f":"analyse!$B$1","v":0},0,0,0,0]
[null,null,{"$f":"IF(ISNA(VLOOKUP(A1323,analyse!D:E,2,FALSE))=TRUE,0,(VLOOKUP(A1323,analyse!D:E,2,FALSE)))","v":0},{"$f":"analyse!$B$1","v":0},0,0,0,0]
[null,null,{"$f":"IF(ISNA(VLOOKUP(A1324,analyse!D:E,2,FALSE))=TRUE,0,(VLOOKUP(A1324,analyse!D:E,2,FALSE)))","v":0},{"$f":"analyse!$B$1","v":0},0,0,0,0]
[null,null,{"$f":"IF(ISNA(VLOOKUP(A1325,analyse!D:E,2,FALSE))=TRUE,0,(VLOOKUP(A1325,analyse!D:E,2,FALSE)))","v":0},{"$f":"analyse!$B$1","v":0},0,0,0,0]
[null,null,{"$f":"IF(ISNA(VLOOKUP(A1326,analyse!D:E,2,FALSE))=TRUE,0,(VLOOKUP(A1326,analyse!D:E,2,FALSE)))","v":0},{"$f":"analyse!$B$1","v":0},0,0,0,0]
[null,null,{"$f":"IF(ISNA(VLOOKUP(A1327,analyse!D:E,2,FALSE))=TRUE,0,(VLOOKUP(A1327,analyse!D:E,2,FALSE)))","v":0},{"$f":"analyse!$B$1","v":0},0,0,0,0]
[null,null,{"$f":"IF(ISNA(VLOOKUP(A1328,analyse!D:E,2,FALSE))=TRUE,0,(VLOOKUP(A1328,analyse!D:E,2,FALSE)))","v":0},{"$f":"analyse!$B$1","v":0},0,0,0,0]
[null,null,{"$f":"IF(ISNA(VLOOKUP(A1329,analyse!D:E,2,FALSE))=TRUE,0,(VLOOKUP(A1329,analyse!D:E,2,FALSE)))","v":0},{"$f":"analyse!$B$1","v":0},0,0,0,0]
[null,null,{"$f":"IF(ISNA(VLOOKUP(A1330,analyse!D:E,2,FALSE))=TRUE,0,(VLOOKUP(A1330,analyse!D:E,2,FALSE)))","v":0},{"$f":"analyse!$B$1","v":0},0,0,0,0]
[null,null,{"$f":"IF(ISNA(VLOOKUP(A1331,analyse!D:E,2,FALSE))=TRUE,0,(VLOOKUP(A1331,analyse!D:E,2,FALSE)))","v":0},{"$f":"analyse!$B$1","v":0},0,0,0,0]
[null,null,{"$f":"IF(ISNA(VLOOKUP(A1332,analyse!D:E,2,FALSE))=TRUE,0,(VLOOKUP(A1332,analyse!D:E,2,FALSE)))","v":0},{"$f":"analyse!$B$1","v":0},0,0,0,0]
[null,null,{"$f":"IF(ISNA(VLOOKUP(A1333,analyse!D:E,2,FALSE))=TRUE,0,(VLOOKUP(A1333,analyse!D:E,2,FALSE)))","v":0},{"$f":"analyse!$B$1","v":0},0,0,0,0]
[null,null,{"$f":"IF(ISNA(VLOOKUP(A1334,analyse!D:E,2,FALSE))=TRUE,0,(VLOOKUP(A1334,analyse!D:E,2,FALSE)))","v":0},{"$f":"analyse!$B$1","v":0},0,0,0,0]
[null,null,{"$f":"IF(ISNA(VLOOKUP(A1335,analyse!D:E,2,FALSE))=TRUE,0,(VLOOKUP(A1335,analyse!D:E,2,FALSE)))","v":0},{"$f":"analyse!$B$1","v":0},0,0,0,0]
[null,null,{"$f":"IF(ISNA(VLOOKUP(A1336,analyse!D:E,2,FALSE))=TRUE,0,(VLOOKUP(A1336,analyse!D:E,2,FALSE)))","v":0},{"$f":"analyse!$B$1","v":0},0,0,0,0]
[null,null,{"$f":"IF(ISNA(VLOOKUP(A1337,analyse!D:E,2,FALSE))=TRUE,0,(VLOOKUP(A1337,analyse!D:E,2,FALSE)))","v":0},{"$f":"analyse!$B$1","v":0},0,0,0,0]
[null,null,{"$f":"IF(ISNA(VLOOKUP(A1338,analyse!D:E,2,FALSE))=TRUE,0,(VLOOKUP(A1338,analyse!D:E,2,FALSE)))","v":0},{"$f":"analyse!$B$1","v":0},0,0,0,0]
[null,null,{"$f":"IF(ISNA(VLOOKUP(A1339,analyse!D:E,2,FALSE))=TRUE,0,(VLOOKUP(A1339,analyse!D:E,2,FALSE)))","v":0},{"$f":"analyse!$B$1","v":0},0,0,0,0]
[null,null,{"$f":"IF(ISNA(VLOOKUP(A1340,analyse!D:E,2,FALSE))=TRUE,0,(VLOOKUP(A1340,analyse!D:E,2,FALSE)))","v":0},{"$f":"analyse!$B$1","v":0},0,0,0,0]
[null,null,{"$f":"IF(ISNA(VLOOKUP(A1341,analyse!D:E,2,FALSE))=TRUE,0,(VLOOKUP(A1341,analyse!D:E,2,FALSE)))","v":0},{"$f":"analyse!$B$1","v":0},0,0,0,0]
[null,null,{"$f":"IF(ISNA(VLOOKUP(A1342,analyse!D:E,2,FALSE))=TRUE,0,(VLOOKUP(A1342,analyse!D:E,2,FALSE)))","v":0},{"$f":"analyse!$B$1","v":0},0,0,0,0]
[null,null,{"$f":"IF(ISNA(VLOOKUP(A1343,analyse!D:E,2,FALSE))=TRUE,0,(VLOOKUP(A1343,analyse!D:E,2,FALSE)))","v":0},{"$f":"analyse!$B$1","v":0},0,0,0,0]
[null,null,{"$f":"IF(ISNA(VLOOKUP(A1344,analyse!D:E,2,FALSE))=TRUE,0,(VLOOKUP(A1344,analyse!D:E,2,FALSE)))","v":0},{"$f":"analyse!$B$1","v":0},0,0,0,0]
[null,null,{"$f":"IF(ISNA(VLOOKUP(A1345,analyse!D:E,2,FALSE))=TRUE,0,(VLOOKUP(A1345,analyse!D:E,2,FALSE)))","v":0},{"$f":"analyse!$B$1","v":0},0,0,0,0]
[null,null,{"$f":"IF(ISNA(VLOOKUP(A1346,analyse!D:E,2,FALSE))=TRUE,0,(VLOOKUP(A1346,analyse!D:E,2,FALSE)))","v":0},{"$f":"analyse!$B$1","v":0},{"$f":"D1346-C1346","v":0},{"$f":"E1346+C1346","v":0},{"$f":"IF(F1346<E1346,D1346-1,D1346)","v":0},{"$f":"IF(A1346=\"S20.G01.00.001\",H1345+1,H1345)","v":0}]
[null,null,{"$f":"IF(ISNA(VLOOKUP(A1347,analyse!D:E,2,FALSE))=TRUE,0,(VLOOKUP(A1347,analyse!D:E,2,FALSE)))","v":0},{"$f":"analyse!$B$1","v":0},0,0,0,0]
[null,null,{"$f":"IF(ISNA(VLOOKUP(A1348,analyse!D:E,2,FALSE))=TRUE,0,(VLOOKUP(A1348,analyse!D:E,2,FALSE)))","v":0},{"$f":"analyse!$B$1","v":0},0,0,0,0]
[null,null,{"$f":"IF(ISNA(VLOOKUP(A1349,analyse!D:E,2,FALSE))=TRUE,0,(VLOOKUP(A1349,analyse!D:E,2,FALSE)))","v":0},{"$f":"analyse!$B$1","v":0},0,0,0,0]
[null,null,{"$f":"IF(ISNA(VLOOKUP(A1350,analyse!D:E,2,FALSE))=TRUE,0,(VLOOKUP(A1350,analyse!D:E,2,FALSE)))","v":0},{"$f":"analyse!$B$1","v":0},0,0,0,0]
[null,null,{"$f":"IF(ISNA(VLOOKUP(A1351,analyse!D:E,2,FALSE))=TRUE,0,(VLOOKUP(A1351,analyse!D:E,2,FALSE)))","v":0},{"$f":"analyse!$B$1","v":0},0,0,0,0]
[null,null,{"$f":"IF(ISNA(VLOOKUP(A1352,analyse!D:E,2,FALSE))=TRUE,0,(VLOOKUP(A1352,analyse!D:E,2,FALSE)))","v":0},{"$f":"analyse!$B$1","v":0},0,0,0,0]
[null,null,{"$f":"IF(ISNA(VLOOKUP(A1353,analyse!D:E,2,FALSE))=TRUE,0,(VLOOKUP(A1353,analyse!D:E,2,FALSE)))","v":0},{"$f":"analyse!$B$1","v":0},0,0,0,0]
[null,null,{"$f":"IF(ISNA(VLOOKUP(A1354,analyse!D:E,2,FALSE))=TRUE,0,(VLOOKUP(A1354,analyse!D:E,2,FALSE)))","v":0},{"$f":"analyse!$B$1","v":0},0,0,0,0]
[null,null,{"$f":"IF(ISNA(VLOOKUP(A1355,analyse!D:E,2,FALSE))=TRUE,0,(VLOOKUP(A1355,analyse!D:E,2,FALSE)))","v":0},{"$f":"analyse!$B$1","v":0},0,0,0,0]
[null,null,{"$f":"IF(ISNA(VLOOKUP(A1356,analyse!D:E,2,FALSE))=TRUE,0,(VLOOKUP(A1356,analyse!D:E,2,FALSE)))","v":0},{"$f":"analyse!$B$1","v":0},0,0,0,0]
[null,null,{"$f":"IF(ISNA(VLOOKUP(A1357,analyse!D:E,2,FALSE))=TRUE,0,(VLOOKUP(A1357,analyse!D:E,2,FALSE)))","v":0},{"$f":"analyse!$B$1","v":0},0,0,0,0]
[null,null,{"$f":"IF(ISNA(VLOOKUP(A1358,analyse!D:E,2,FALSE))=TRUE,0,(VLOOKUP(A1358,analyse!D:E,2,FALSE)))","v":0},{"$f":"analyse!$B$1","v":0},0,0,0,0]
[null,null,{"$f":"IF(ISNA(VLOOKUP(A1359,analyse!D:E,2,FALSE))=TRUE,0,(VLOOKUP(A1359,analyse!D:E,2,FALSE)))","v":0},{"$f":"analyse!$B$1","v":0},0,0,0,0]
[null,null,{"$f":"IF(ISNA(VLOOKUP(A1360,analyse!D:E,2,FALSE))=TRUE,0,(VLOOKUP(A1360,analyse!D:E,2,FALSE)))","v":0},{"$f":"analyse!$B$1","v":0},0,0,0,0]
[null,null,{"$f":"IF(ISNA(VLOOKUP(A1361,analyse!D:E,2,FALSE))=TRUE,0,(VLOOKUP(A1361,analyse!D:E,2,FALSE)))","v":0},{"$f":"analyse!$B$1","v":0},0,0,0,0]
[null,null,{"$f":"IF(ISNA(VLOOKUP(A1362,analyse!D:E,2,FALSE))=TRUE,0,(VLOOKUP(A1362,analyse!D:E,2,FALSE)))","v":0},{"$f":"analyse!$B$1","v":0},0,0,0,0]
[null,null,{"$f":"IF(ISNA(VLOOKUP(A1363,analyse!D:E,2,FALSE))=TRUE,0,(VLOOKUP(A1363,analyse!D:E,2,FALSE)))","v":0},{"$f":"analyse!$B$1","v":0},0,0,0,0]
[null,null,{"$f":"IF(ISNA(VLOOKUP(A1364,analyse!D:E,2,FALSE))=TRUE,0,(VLOOKUP(A1364,analyse!D:E,2,FALSE)))","v":0},{"$f":"analyse!$B$1","v":0},0,0,0,0]
[null,null,{"$f":"IF(ISNA(VLOOKUP(A1365,analyse!D:E,2,FALSE))=TRUE,0,(VLOOKUP(A1365,analyse!D:E,2,FALSE)))","v":0},{"$f":"analyse!$B$1","v":0},0,0,0,0]
[null,null,{"$f":"IF(ISNA(VLOOKUP(A1366,analyse!D:E,2,FALSE))=TRUE,0,(VLOOKUP(A1366,analyse!D:E,2,FALSE)))","v":0},{"$f":"analyse!$B$1","v":0},0,0,0,0]
[null,null,{"$f":"IF(ISNA(VLOOKUP(A1367,analyse!D:E,2,FALSE))=TRUE,0,(VLOOKUP(A1367,analyse!D:E,2,FALSE)))","v":0},{"$f":"analyse!$B$1","v":0},0,0,0,0]
[null,null,{"$f":"IF(ISNA(VLOOKUP(A1368,analyse!D:E,2,FALSE))=TRUE,0,(VLOOKUP(A1368,analyse!D:E,2,FALSE)))","v":0},{"$f":"analyse!$B$1","v":0},0,0,0,0]
[null,null,{"$f":"IF(ISNA(VLOOKUP(A1369,analyse!D:E,2,FALSE))=TRUE,0,(VLOOKUP(A1369,analyse!D:E,2,FALSE)))","v":0},{"$f":"analyse!$B$1","v":0},0,0,0,0]
[null,null,{"$f":"IF(ISNA(VLOOKUP(A1370,analyse!D:E,2,FALSE))=TRUE,0,(VLOOKUP(A1370,analyse!D:E,2,FALSE)))","v":0},{"$f":"analyse!$B$1","v":0},0,0,0,0]
[null,null,{"$f":"IF(ISNA(VLOOKUP(A1371,analyse!D:E,2,FALSE))=TRUE,0,(VLOOKUP(A1371,analyse!D:E,2,FALSE)))","v":0},{"$f":"analyse!$B$1","v":0},0,0,0,0]
[null,null,{"$f":"IF(ISNA(VLOOKUP(A1372,analyse!D:E,2,FALSE))=TRUE,0,(VLOOKUP(A1372,analyse!D:E,2,FALSE)))","v":0},{"$f":"analyse!$B$1","v":0},0,0,0,0]
[null,null,{"$f":"IF(ISNA(VLOOKUP(A1373,analyse!D:E,2,FALSE))=TRUE,0,(VLOOKUP(A1373,analyse!D:E,2,FALSE)))","v":0},{"$f":"analyse!$B$1","v":0},0,0,0,0]
[null,null,{"$f":"IF(ISNA(VLOOKUP(A1374,analyse!D:E,2,FALSE))=TRUE,0,(VLOOKUP(A1374,analyse!D:E,2,FALSE)))","v":0},{"$f":"analyse!$B$1","v":0},0,0,0,0]
[null,null,{"$f":"IF(ISNA(VLOOKUP(A1375,analyse!D:E,2,FALSE))=TRUE,0,(VLOOKUP(A1375,analyse!D:E,2,FALSE)))","v":0},{"$f":"analyse!$B$1","v":0},0,0,0,0]
[null,null,{"$f":"IF(ISNA(VLOOKUP(A1376,analyse!D:E,2,FALSE))=TRUE,0,(VLOOKUP(A1376,analyse!D:E,2,FALSE)))","v":0},{"$f":"analyse!$B$1","v":0},0,0,0,0]
[null,null,{"$f":"IF(ISNA(VLOOKUP(A1377,analyse!D:E,2,FALSE))=TRUE,0,(VLOOKUP(A1377,analyse!D:E,2,FALSE)))","v":0},{"$f":"analyse!$B$1","v":0},0,0,0,0]
[null,null,{"$f":"IF(ISNA(VLOOKUP(A1378,analyse!D:E,2,FALSE))=TRUE,0,(VLOOKUP(A1378,analyse!D:E,2,FALSE)))","v":0},{"$f":"analyse!$B$1","v":0},0,0,0,0]
[null,null,{"$f":"IF(ISNA(VLOOKUP(A1379,analyse!D:E,2,FALSE))=TRUE,0,(VLOOKUP(A1379,analyse!D:E,2,FALSE)))","v":0},{"$f":"analyse!$B$1","v":0},0,0,0,0]
[null,null,{"$f":"IF(ISNA(VLOOKUP(A1380,analyse!D:E,2,FALSE))=TRUE,0,(VLOOKUP(A1380,analyse!D:E,2,FALSE)))","v":0},{"$f":"analyse!$B$1","v":0},0,0,0,0]
[null,null,{"$f":"IF(ISNA(VLOOKUP(A1381,analyse!D:E,2,FALSE))=TRUE,0,(VLOOKUP(A1381,analyse!D:E,2,FALSE)))","v":0},{"$f":"analyse!$B$1","v":0},0,0,0,0]
[null,null,{"$f":"IF(ISNA(VLOOKUP(A1382,analyse!D:E,2,FALSE))=TRUE,0,(VLOOKUP(A1382,analyse!D:E,2,FALSE)))","v":0},{"$f":"analyse!$B$1","v":0},0,0,0,0]
[null,null,{"$f":"IF(ISNA(VLOOKUP(A1383,analyse!D:E,2,FALSE))=TRUE,0,(VLOOKUP(A1383,analyse!D:E,2,FALSE)))","v":0},{"$f":"analyse!$B$1","v":0},0,0,0,0]
[null,null,{"$f":"IF(ISNA(VLOOKUP(A1384,analyse!D:E,2,FALSE))=TRUE,0,(VLOOKUP(A1384,analyse!D:E,2,FALSE)))","v":0},{"$f":"analyse!$B$1","v":0},0,0,0,0]
[null,null,{"$f":"IF(ISNA(VLOOKUP(A1385,analyse!D:E,2,FALSE))=TRUE,0,(VLOOKUP(A1385,analyse!D:E,2,FALSE)))","v":0},{"$f":"analyse!$B$1","v":0},0,0,0,0]
[null,null,{"$f":"IF(ISNA(VLOOKUP(A1386,analyse!D:E,2,FALSE))=TRUE,0,(VLOOKUP(A1386,analyse!D:E,2,FALSE)))","v":0},{"$f":"analyse!$B$1","v":0},0,0,0,0]
[null,null,{"$f":"IF(ISNA(VLOOKUP(A1387,analyse!D:E,2,FALSE))=TRUE,0,(VLOOKUP(A1387,analyse!D:E,2,FALSE)))","v":0},{"$f":"analyse!$B$1","v":0},0,0,0,0]
[null,null,{"$f":"IF(ISNA(VLOOKUP(A1388,analyse!D:E,2,FALSE))=TRUE,0,(VLOOKUP(A1388,analyse!D:E,2,FALSE)))","v":0},{"$f":"analyse!$B$1","v":0},0,0,0,0]
[null,null,{"$f":"IF(ISNA(VLOOKUP(A1389,analyse!D:E,2,FALSE))=TRUE,0,(VLOOKUP(A1389,analyse!D:E,2,FALSE)))","v":0},{"$f":"analyse!$B$1","v":0},0,0,0,0]
[null,null,{"$f":"IF(ISNA(VLOOKUP(A1390,analyse!D:E,2,FALSE))=TRUE,0,(VLOOKUP(A1390,analyse!D:E,2,FALSE)))","v":0},{"$f":"analyse!$B$1","v":0},0,0,0,0]
[null,null,{"$f":"IF(ISNA(VLOOKUP(A1391,analyse!D:E,2,FALSE))=TRUE,0,(VLOOKUP(A1391,analyse!D:E,2,FALSE)))","v":0},{"$f":"analyse!$B$1","v":0},0,0,0,0]
[null,null,{"$f":"IF(ISNA(VLOOKUP(A1392,analyse!D:E,2,FALSE))=TRUE,0,(VLOOKUP(A1392,analyse!D:E,2,FALSE)))","v":0},{"$f":"analyse!$B$1","v":0},0,0,0,0]
[null,null,{"$f":"IF(ISNA(VLOOKUP(A1393,analyse!D:E,2,FALSE))=TRUE,0,(VLOOKUP(A1393,analyse!D:E,2,FALSE)))","v":0},{"$f":"analyse!$B$1","v":0},0,0,0,0]
[null,null,{"$f":"IF(ISNA(VLOOKUP(A1394,analyse!D:E,2,FALSE))=TRUE,0,(VLOOKUP(A1394,analyse!D:E,2,FALSE)))","v":0},{"$f":"analyse!$B$1","v":0},0,0,0,0]
[null,null,{"$f":"IF(ISNA(VLOOKUP(A1395,analyse!D:E,2,FALSE))=TRUE,0,(VLOOKUP(A1395,analyse!D:E,2,FALSE)))","v":0},{"$f":"analyse!$B$1","v":0},0,0,0,0]
[null,null,{"$f":"IF(ISNA(VLOOKUP(A1396,analyse!D:E,2,FALSE))=TRUE,0,(VLOOKUP(A1396,analyse!D:E,2,FALSE)))","v":0},{"$f":"analyse!$B$1","v":0},0,0,0,0]
[null,null,{"$f":"IF(ISNA(VLOOKUP(A1397,analyse!D:E,2,FALSE))=TRUE,0,(VLOOKUP(A1397,analyse!D:E,2,FALSE)))","v":0},{"$f":"analyse!$B$1","v":0},0,0,0,0]
[null,null,{"$f":"IF(ISNA(VLOOKUP(A1398,analyse!D:E,2,FALSE))=TRUE,0,(VLOOKUP(A1398,analyse!D:E,2,FALSE)))","v":0},{"$f":"analyse!$B$1","v":0},0,0,0,0]
[null,null,{"$f":"IF(ISNA(VLOOKUP(A1399,analyse!D:E,2,FALSE))=TRUE,0,(VLOOKUP(A1399,analyse!D:E,2,FALSE)))","v":0},{"$f":"analyse!$B$1","v":0},0,0,0,0]
[null,null,{"$f":"IF(ISNA(VLOOKUP(A1400,analyse!D:E,2,FALSE))=TRUE,0,(VLOOKUP(A1400,analyse!D:E,2,FALSE)))","v":0},{"$f":"analyse!$B$1","v":0},0,0,0,0]
[null,null,{"$f":"IF(ISNA(VLOOKUP(A1401,analyse!D:E,2,FALSE))=TRUE,0,(VLOOKUP(A1401,analyse!D:E,2,FALSE)))","v":0},{"$f":"analyse!$B$1","v":0},0,0,0,0]
[null,null,{"$f":"IF(ISNA(VLOOKUP(A1402,analyse!D:E,2,FALSE))=TRUE,0,(VLOOKUP(A1402,analyse!D:E,2,FALSE)))","v":0},{"$f":"analyse!$B$1","v":0},0,0,0,0]
[null,null,{"$f":"IF(ISNA(VLOOKUP(A1403,analyse!D:E,2,FALSE))=TRUE,0,(VLOOKUP(A1403,analyse!D:E,2,FALSE)))","v":0},{"$f":"analyse!$B$1","v":0},0,0,0,0]
[null,null,{"$f":"IF(ISNA(VLOOKUP(A1404,analyse!D:E,2,FALSE))=TRUE,0,(VLOOKUP(A1404,analyse!D:E,2,FALSE)))","v":0},{"$f":"analyse!$B$1","v":0},0,0,0,0]
[null,null,{"$f":"IF(ISNA(VLOOKUP(A1405,analyse!D:E,2,FALSE))=TRUE,0,(VLOOKUP(A1405,analyse!D:E,2,FALSE)))","v":0},{"$f":"analyse!$B$1","v":0},0,0,0,0]
[null,null,{"$f":"IF(ISNA(VLOOKUP(A1406,analyse!D:E,2,FALSE))=TRUE,0,(VLOOKUP(A1406,analyse!D:E,2,FALSE)))","v":0},{"$f":"analyse!$B$1","v":0},0,0,0,0]
[null,null,{"$f":"IF(ISNA(VLOOKUP(A1407,analyse!D:E,2,FALSE))=TRUE,0,(VLOOKUP(A1407,analyse!D:E,2,FALSE)))","v":0},{"$f":"analyse!$B$1","v":0},0,0,0,0]
[null,null,{"$f":"IF(ISNA(VLOOKUP(A1408,analyse!D:E,2,FALSE))=TRUE,0,(VLOOKUP(A1408,analyse!D:E,2,FALSE)))","v":0},{"$f":"analyse!$B$1","v":0},0,0,0,0]
[null,null,{"$f":"IF(ISNA(VLOOKUP(A1409,analyse!D:E,2,FALSE))=TRUE,0,(VLOOKUP(A1409,analyse!D:E,2,FALSE)))","v":0},{"$f":"analyse!$B$1","v":0},0,0,0,0]
[null,null,{"$f":"IF(ISNA(VLOOKUP(A1410,analyse!D:E,2,FALSE))=TRUE,0,(VLOOKUP(A1410,analyse!D:E,2,FALSE)))","v":0},{"$f":"analyse!$B$1","v":0},{"$f":"D1410-C1410","v":0},{"$f":"E1410+C1410","v":0},{"$f":"IF(F1410<E1410,D1410-1,D1410)","v":0},{"$f":"IF(A1410=\"S20.G01.00.001\",H1409+1,H1409)","v":0}]
[null,null,{"$f":"IF(ISNA(VLOOKUP(A1411,analyse!D:E,2,FALSE))=TRUE,0,(VLOOKUP(A1411,analyse!D:E,2,FALSE)))","v":0},{"$f":"analyse!$B$1","v":0},0,0,0,0]
[null,null,{"$f":"IF(ISNA(VLOOKUP(A1412,analyse!D:E,2,FALSE))=TRUE,0,(VLOOKUP(A1412,analyse!D:E,2,FALSE)))","v":0},{"$f":"analyse!$B$1","v":0},0,0,0,0]
[null,null,{"$f":"IF(ISNA(VLOOKUP(A1413,analyse!D:E,2,FALSE))=TRUE,0,(VLOOKUP(A1413,analyse!D:E,2,FALSE)))","v":0},{"$f":"analyse!$B$1","v":0},0,0,0,0]
[null,null,{"$f":"IF(ISNA(VLOOKUP(A1414,analyse!D:E,2,FALSE))=TRUE,0,(VLOOKUP(A1414,analyse!D:E,2,FALSE)))","v":0},{"$f":"analyse!$B$1","v":0},0,0,0,0]
[null,null,{"$f":"IF(ISNA(VLOOKUP(A1415,analyse!D:E,2,FALSE))=TRUE,0,(VLOOKUP(A1415,analyse!D:E,2,FALSE)))","v":0},{"$f":"analyse!$B$1","v":0},0,0,0,0]
[null,null,{"$f":"IF(ISNA(VLOOKUP(A1416,analyse!D:E,2,FALSE))=TRUE,0,(VLOOKUP(A1416,analyse!D:E,2,FALSE)))","v":0},{"$f":"analyse!$B$1","v":0},0,0,0,0]
[null,null,{"$f":"IF(ISNA(VLOOKUP(A1417,analyse!D:E,2,FALSE))=TRUE,0,(VLOOKUP(A1417,analyse!D:E,2,FALSE)))","v":0},{"$f":"analyse!$B$1","v":0},0,0,0,0]
[null,null,{"$f":"IF(ISNA(VLOOKUP(A1418,analyse!D:E,2,FALSE))=TRUE,0,(VLOOKUP(A1418,analyse!D:E,2,FALSE)))","v":0},{"$f":"analyse!$B$1","v":0},0,0,0,0]
[null,null,{"$f":"IF(ISNA(VLOOKUP(A1419,analyse!D:E,2,FALSE))=TRUE,0,(VLOOKUP(A1419,analyse!D:E,2,FALSE)))","v":0},{"$f":"analyse!$B$1","v":0},0,0,0,0]
[null,null,{"$f":"IF(ISNA(VLOOKUP(A1420,analyse!D:E,2,FALSE))=TRUE,0,(VLOOKUP(A1420,analyse!D:E,2,FALSE)))","v":0},{"$f":"analyse!$B$1","v":0},0,0,0,0]
[null,null,{"$f":"IF(ISNA(VLOOKUP(A1421,analyse!D:E,2,FALSE))=TRUE,0,(VLOOKUP(A1421,analyse!D:E,2,FALSE)))","v":0},{"$f":"analyse!$B$1","v":0},0,0,0,0]
[null,null,{"$f":"IF(ISNA(VLOOKUP(A1422,analyse!D:E,2,FALSE))=TRUE,0,(VLOOKUP(A1422,analyse!D:E,2,FALSE)))","v":0},{"$f":"analyse!$B$1","v":0},0,0,0,0]
[null,null,{"$f":"IF(ISNA(VLOOKUP(A1423,analyse!D:E,2,FALSE))=TRUE,0,(VLOOKUP(A1423,analyse!D:E,2,FALSE)))","v":0},{"$f":"analyse!$B$1","v":0},0,0,0,0]
[null,null,{"$f":"IF(ISNA(VLOOKUP(A1424,analyse!D:E,2,FALSE))=TRUE,0,(VLOOKUP(A1424,analyse!D:E,2,FALSE)))","v":0},{"$f":"analyse!$B$1","v":0},0,0,0,0]
[null,null,{"$f":"IF(ISNA(VLOOKUP(A1425,analyse!D:E,2,FALSE))=TRUE,0,(VLOOKUP(A1425,analyse!D:E,2,FALSE)))","v":0},{"$f":"analyse!$B$1","v":0},0,0,0,0]
[null,null,{"$f":"IF(ISNA(VLOOKUP(A1426,analyse!D:E,2,FALSE))=TRUE,0,(VLOOKUP(A1426,analyse!D:E,2,FALSE)))","v":0},{"$f":"analyse!$B$1","v":0},0,0,0,0]
[null,null,{"$f":"IF(ISNA(VLOOKUP(A1427,analyse!D:E,2,FALSE))=TRUE,0,(VLOOKUP(A1427,analyse!D:E,2,FALSE)))","v":0},{"$f":"analyse!$B$1","v":0},0,0,0,0]
[null,null,{"$f":"IF(ISNA(VLOOKUP(A1428,analyse!D:E,2,FALSE))=TRUE,0,(VLOOKUP(A1428,analyse!D:E,2,FALSE)))","v":0},{"$f":"analyse!$B$1","v":0},0,0,0,0]
[null,null,{"$f":"IF(ISNA(VLOOKUP(A1429,analyse!D:E,2,FALSE))=TRUE,0,(VLOOKUP(A1429,analyse!D:E,2,FALSE)))","v":0},{"$f":"analyse!$B$1","v":0},0,0,0,0]
[null,null,{"$f":"IF(ISNA(VLOOKUP(A1430,analyse!D:E,2,FALSE))=TRUE,0,(VLOOKUP(A1430,analyse!D:E,2,FALSE)))","v":0},{"$f":"analyse!$B$1","v":0},0,0,0,0]
[null,null,{"$f":"IF(ISNA(VLOOKUP(A1431,analyse!D:E,2,FALSE))=TRUE,0,(VLOOKUP(A1431,analyse!D:E,2,FALSE)))","v":0},{"$f":"analyse!$B$1","v":0},0,0,0,0]
[null,null,{"$f":"IF(ISNA(VLOOKUP(A1432,analyse!D:E,2,FALSE))=TRUE,0,(VLOOKUP(A1432,analyse!D:E,2,FALSE)))","v":0},{"$f":"analyse!$B$1","v":0},0,0,0,0]
[null,null,{"$f":"IF(ISNA(VLOOKUP(A1433,analyse!D:E,2,FALSE))=TRUE,0,(VLOOKUP(A1433,analyse!D:E,2,FALSE)))","v":0},{"$f":"analyse!$B$1","v":0},0,0,0,0]
[null,null,{"$f":"IF(ISNA(VLOOKUP(A1434,analyse!D:E,2,FALSE))=TRUE,0,(VLOOKUP(A1434,analyse!D:E,2,FALSE)))","v":0},{"$f":"analyse!$B$1","v":0},0,0,0,0]
[null,null,{"$f":"IF(ISNA(VLOOKUP(A1435,analyse!D:E,2,FALSE))=TRUE,0,(VLOOKUP(A1435,analyse!D:E,2,FALSE)))","v":0},{"$f":"analyse!$B$1","v":0},0,0,0,0]
[null,null,{"$f":"IF(ISNA(VLOOKUP(A1436,analyse!D:E,2,FALSE))=TRUE,0,(VLOOKUP(A1436,analyse!D:E,2,FALSE)))","v":0},{"$f":"analyse!$B$1","v":0},0,0,0,0]
[null,null,{"$f":"IF(ISNA(VLOOKUP(A1437,analyse!D:E,2,FALSE))=TRUE,0,(VLOOKUP(A1437,analyse!D:E,2,FALSE)))","v":0},{"$f":"analyse!$B$1","v":0},0,0,0,0]
[null,null,{"$f":"IF(ISNA(VLOOKUP(A1438,analyse!D:E,2,FALSE))=TRUE,0,(VLOOKUP(A1438,analyse!D:E,2,FALSE)))","v":0},{"$f":"analyse!$B$1","v":0},0,0,0,0]
[null,null,{"$f":"IF(ISNA(VLOOKUP(A1439,analyse!D:E,2,FALSE))=TRUE,0,(VLOOKUP(A1439,analyse!D:E,2,FALSE)))","v":0},{"$f":"analyse!$B$1","v":0},0,0,0,0]
[null,null,{"$f":"IF(ISNA(VLOOKUP(A1440,analyse!D:E,2,FALSE))=TRUE,0,(VLOOKUP(A1440,analyse!D:E,2,FALSE)))","v":0},{"$f":"analyse!$B$1","v":0},0,0,0,0]
[null,null,{"$f":"IF(ISNA(VLOOKUP(A1441,analyse!D:E,2,FALSE))=TRUE,0,(VLOOKUP(A1441,analyse!D:E,2,FALSE)))","v":0},{"$f":"analyse!$B$1","v":0},0,0,0,0]
[null,null,{"$f":"IF(ISNA(VLOOKUP(A1442,analyse!D:E,2,FALSE))=TRUE,0,(VLOOKUP(A1442,analyse!D:E,2,FALSE)))","v":0},{"$f":"analyse!$B$1","v":0},0,0,0,0]
[null,null,{"$f":"IF(ISNA(VLOOKUP(A1443,analyse!D:E,2,FALSE))=TRUE,0,(VLOOKUP(A1443,analyse!D:E,2,FALSE)))","v":0},{"$f":"analyse!$B$1","v":0},0,0,0,0]
[null,null,{"$f":"IF(ISNA(VLOOKUP(A1444,analyse!D:E,2,FALSE))=TRUE,0,(VLOOKUP(A1444,analyse!D:E,2,FALSE)))","v":0},{"$f":"analyse!$B$1","v":0},0,0,0,0]
[null,null,{"$f":"IF(ISNA(VLOOKUP(A1445,analyse!D:E,2,FALSE))=TRUE,0,(VLOOKUP(A1445,analyse!D:E,2,FALSE)))","v":0},{"$f":"analyse!$B$1","v":0},0,0,0,0]
[null,null,{"$f":"IF(ISNA(VLOOKUP(A1446,analyse!D:E,2,FALSE))=TRUE,0,(VLOOKUP(A1446,analyse!D:E,2,FALSE)))","v":0},{"$f":"analyse!$B$1","v":0},0,0,0,0]
[null,null,{"$f":"IF(ISNA(VLOOKUP(A1447,analyse!D:E,2,FALSE))=TRUE,0,(VLOOKUP(A1447,analyse!D:E,2,FALSE)))","v":0},{"$f":"analyse!$B$1","v":0},0,0,0,0]
[null,null,{"$f":"IF(ISNA(VLOOKUP(A1448,analyse!D:E,2,FALSE))=TRUE,0,(VLOOKUP(A1448,analyse!D:E,2,FALSE)))","v":0},{"$f":"analyse!$B$1","v":0},0,0,0,0]
[null,null,{"$f":"IF(ISNA(VLOOKUP(A1449,analyse!D:E,2,FALSE))=TRUE,0,(VLOOKUP(A1449,analyse!D:E,2,FALSE)))","v":0},{"$f":"analyse!$B$1","v":0},0,0,0,0]
[null,null,{"$f":"IF(ISNA(VLOOKUP(A1450,analyse!D:E,2,FALSE))=TRUE,0,(VLOOKUP(A1450,analyse!D:E,2,FALSE)))","v":0},{"$f":"analyse!$B$1","v":0},0,0,0,0]
[null,null,{"$f":"IF(ISNA(VLOOKUP(A1451,analyse!D:E,2,FALSE))=TRUE,0,(VLOOKUP(A1451,analyse!D:E,2,FALSE)))","v":0},{"$f":"analyse!$B$1","v":0},0,0,0,0]
[null,null,{"$f":"IF(ISNA(VLOOKUP(A1452,analyse!D:E,2,FALSE))=TRUE,0,(VLOOKUP(A1452,analyse!D:E,2,FALSE)))","v":0},{"$f":"analyse!$B$1","v":0},0,0,0,0]
[null,null,{"$f":"IF(ISNA(VLOOKUP(A1453,analyse!D:E,2,FALSE))=TRUE,0,(VLOOKUP(A1453,analyse!D:E,2,FALSE)))","v":0},{"$f":"analyse!$B$1","v":0},0,0,0,0]
[null,null,{"$f":"IF(ISNA(VLOOKUP(A1454,analyse!D:E,2,FALSE))=TRUE,0,(VLOOKUP(A1454,analyse!D:E,2,FALSE)))","v":0},{"$f":"analyse!$B$1","v":0},0,0,0,0]
[null,null,{"$f":"IF(ISNA(VLOOKUP(A1455,analyse!D:E,2,FALSE))=TRUE,0,(VLOOKUP(A1455,analyse!D:E,2,FALSE)))","v":0},{"$f":"analyse!$B$1","v":0},0,0,0,0]
[null,null,{"$f":"IF(ISNA(VLOOKUP(A1456,analyse!D:E,2,FALSE))=TRUE,0,(VLOOKUP(A1456,analyse!D:E,2,FALSE)))","v":0},{"$f":"analyse!$B$1","v":0},0,0,0,0]
[null,null,{"$f":"IF(ISNA(VLOOKUP(A1457,analyse!D:E,2,FALSE))=TRUE,0,(VLOOKUP(A1457,analyse!D:E,2,FALSE)))","v":0},{"$f":"analyse!$B$1","v":0},0,0,0,0]
[null,null,{"$f":"IF(ISNA(VLOOKUP(A1458,analyse!D:E,2,FALSE))=TRUE,0,(VLOOKUP(A1458,analyse!D:E,2,FALSE)))","v":0},{"$f":"analyse!$B$1","v":0},0,0,0,0]
[null,null,{"$f":"IF(ISNA(VLOOKUP(A1459,analyse!D:E,2,FALSE))=TRUE,0,(VLOOKUP(A1459,analyse!D:E,2,FALSE)))","v":0},{"$f":"analyse!$B$1","v":0},0,0,0,0]
[null,null,{"$f":"IF(ISNA(VLOOKUP(A1460,analyse!D:E,2,FALSE))=TRUE,0,(VLOOKUP(A1460,analyse!D:E,2,FALSE)))","v":0},{"$f":"analyse!$B$1","v":0},0,0,0,0]
[null,null,{"$f":"IF(ISNA(VLOOKUP(A1461,analyse!D:E,2,FALSE))=TRUE,0,(VLOOKUP(A1461,analyse!D:E,2,FALSE)))","v":0},{"$f":"analyse!$B$1","v":0},0,0,0,0]
[null,null,{"$f":"IF(ISNA(VLOOKUP(A1462,analyse!D:E,2,FALSE))=TRUE,0,(VLOOKUP(A1462,analyse!D:E,2,FALSE)))","v":0},{"$f":"analyse!$B$1","v":0},0,0,0,0]
[null,null,{"$f":"IF(ISNA(VLOOKUP(A1463,analyse!D:E,2,FALSE))=TRUE,0,(VLOOKUP(A1463,analyse!D:E,2,FALSE)))","v":0},{"$f":"analyse!$B$1","v":0},0,0,0,0]
[null,null,{"$f":"IF(ISNA(VLOOKUP(A1464,analyse!D:E,2,FALSE))=TRUE,0,(VLOOKUP(A1464,analyse!D:E,2,FALSE)))","v":0},{"$f":"analyse!$B$1","v":0},0,0,0,0]
[null,null,{"$f":"IF(ISNA(VLOOKUP(A1465,analyse!D:E,2,FALSE))=TRUE,0,(VLOOKUP(A1465,analyse!D:E,2,FALSE)))","v":0},{"$f":"analyse!$B$1","v":0},0,0,0,0]
[null,null,{"$f":"IF(ISNA(VLOOKUP(A1466,analyse!D:E,2,FALSE))=TRUE,0,(VLOOKUP(A1466,analyse!D:E,2,FALSE)))","v":0},{"$f":"analyse!$B$1","v":0},0,0,0,0]
[null,null,{"$f":"IF(ISNA(VLOOKUP(A1467,analyse!D:E,2,FALSE))=TRUE,0,(VLOOKUP(A1467,analyse!D:E,2,FALSE)))","v":0},{"$f":"analyse!$B$1","v":0},0,0,0,0]
[null,null,{"$f":"IF(ISNA(VLOOKUP(A1468,analyse!D:E,2,FALSE))=TRUE,0,(VLOOKUP(A1468,analyse!D:E,2,FALSE)))","v":0},{"$f":"analyse!$B$1","v":0},0,0,0,0]
[null,null,{"$f":"IF(ISNA(VLOOKUP(A1469,analyse!D:E,2,FALSE))=TRUE,0,(VLOOKUP(A1469,analyse!D:E,2,FALSE)))","v":0},{"$f":"analyse!$B$1","v":0},0,0,0,0]
[null,null,{"$f":"IF(ISNA(VLOOKUP(A1470,analyse!D:E,2,FALSE))=TRUE,0,(VLOOKUP(A1470,analyse!D:E,2,FALSE)))","v":0},{"$f":"analyse!$B$1","v":0},0,0,0,0]
[null,null,{"$f":"IF(ISNA(VLOOKUP(A1471,analyse!D:E,2,FALSE))=TRUE,0,(VLOOKUP(A1471,analyse!D:E,2,FALSE)))","v":0},{"$f":"analyse!$B$1","v":0},0,0,0,0]
[null,null,{"$f":"IF(ISNA(VLOOKUP(A1472,analyse!D:E,2,FALSE))=TRUE,0,(VLOOKUP(A1472,analyse!D:E,2,FALSE)))","v":0},{"$f":"analyse!$B$1","v":0},0,0,0,0]
[null,null,{"$f":"IF(ISNA(VLOOKUP(A1473,analyse!D:E,2,FALSE))=TRUE,0,(VLOOKUP(A1473,analyse!D:E,2,FALSE)))","v":0},{"$f":"analyse!$B$1","v":0},0,0,0,0]
[null,null,{"$f":"IF(ISNA(VLOOKUP(A1474,analyse!D:E,2,FALSE))=TRUE,0,(VLOOKUP(A1474,analyse!D:E,2,FALSE)))","v":0},{"$f":"analyse!$B$1","v":0},{"$f":"D1474-C1474","v":0},{"$f":"E1474+C1474","v":0},{"$f":"IF(F1474<E1474,D1474-1,D1474)","v":0},{"$f":"IF(A1474=\"S20.G01.00.001\",H1473+1,H1473)","v":0}]
[null,null,{"$f":"IF(ISNA(VLOOKUP(A1475,analyse!D:E,2,FALSE))=TRUE,0,(VLOOKUP(A1475,analyse!D:E,2,FALSE)))","v":0},{"$f":"analyse!$B$1","v":0},0,0,0,0]
[null,null,{"$f":"IF(ISNA(VLOOKUP(A1476,analyse!D:E,2,FALSE))=TRUE,0,(VLOOKUP(A1476,analyse!D:E,2,FALSE)))","v":0},{"$f":"analyse!$B$1","v":0},0,0,0,0]
[null,null,{"$f":"IF(ISNA(VLOOKUP(A1477,analyse!D:E,2,FALSE))=TRUE,0,(VLOOKUP(A1477,analyse!D:E,2,FALSE)))","v":0},{"$f":"analyse!$B$1","v":0},0,0,0,0]
[null,null,{"$f":"IF(ISNA(VLOOKUP(A1478,analyse!D:E,2,FALSE))=TRUE,0,(VLOOKUP(A1478,analyse!D:E,2,FALSE)))","v":0},{"$f":"analyse!$B$1","v":0},0,0,0,0]
[null,null,{"$f":"IF(ISNA(VLOOKUP(A1479,analyse!D:E,2,FALSE))=TRUE,0,(VLOOKUP(A1479,analyse!D:E,2,FALSE)))","v":0},{"$f":"analyse!$B$1","v":0},0,0,0,0]
[null,null,{"$f":"IF(ISNA(VLOOKUP(A1480,analyse!D:E,2,FALSE))=TRUE,0,(VLOOKUP(A1480,analyse!D:E,2,FALSE)))","v":0},{"$f":"analyse!$B$1","v":0},0,0,0,0]
[null,null,{"$f":"IF(ISNA(VLOOKUP(A1481,analyse!D:E,2,FALSE))=TRUE,0,(VLOOKUP(A1481,analyse!D:E,2,FALSE)))","v":0},{"$f":"analyse!$B$1","v":0},0,0,0,0]
[null,null,{"$f":"IF(ISNA(VLOOKUP(A1482,analyse!D:E,2,FALSE))=TRUE,0,(VLOOKUP(A1482,analyse!D:E,2,FALSE)))","v":0},{"$f":"analyse!$B$1","v":0},0,0,0,0]
[null,null,{"$f":"IF(ISNA(VLOOKUP(A1483,analyse!D:E,2,FALSE))=TRUE,0,(VLOOKUP(A1483,analyse!D:E,2,FALSE)))","v":0},{"$f":"analyse!$B$1","v":0},0,0,0,0]
[null,null,{"$f":"IF(ISNA(VLOOKUP(A1484,analyse!D:E,2,FALSE))=TRUE,0,(VLOOKUP(A1484,analyse!D:E,2,FALSE)))","v":0},{"$f":"analyse!$B$1","v":0},0,0,0,0]
[null,null,{"$f":"IF(ISNA(VLOOKUP(A1485,analyse!D:E,2,FALSE))=TRUE,0,(VLOOKUP(A1485,analyse!D:E,2,FALSE)))","v":0},{"$f":"analyse!$B$1","v":0},0,0,0,0]
[null,null,{"$f":"IF(ISNA(VLOOKUP(A1486,analyse!D:E,2,FALSE))=TRUE,0,(VLOOKUP(A1486,analyse!D:E,2,FALSE)))","v":0},{"$f":"analyse!$B$1","v":0},0,0,0,0]
[null,null,{"$f":"IF(ISNA(VLOOKUP(A1487,analyse!D:E,2,FALSE))=TRUE,0,(VLOOKUP(A1487,analyse!D:E,2,FALSE)))","v":0},{"$f":"analyse!$B$1","v":0},0,0,0,0]
[null,null,{"$f":"IF(ISNA(VLOOKUP(A1488,analyse!D:E,2,FALSE))=TRUE,0,(VLOOKUP(A1488,analyse!D:E,2,FALSE)))","v":0},{"$f":"analyse!$B$1","v":0},0,0,0,0]
[null,null,{"$f":"IF(ISNA(VLOOKUP(A1489,analyse!D:E,2,FALSE))=TRUE,0,(VLOOKUP(A1489,analyse!D:E,2,FALSE)))","v":0},{"$f":"analyse!$B$1","v":0},0,0,0,0]
[null,null,{"$f":"IF(ISNA(VLOOKUP(A1490,analyse!D:E,2,FALSE))=TRUE,0,(VLOOKUP(A1490,analyse!D:E,2,FALSE)))","v":0},{"$f":"analyse!$B$1","v":0},0,0,0,0]
[null,null,{"$f":"IF(ISNA(VLOOKUP(A1491,analyse!D:E,2,FALSE))=TRUE,0,(VLOOKUP(A1491,analyse!D:E,2,FALSE)))","v":0},{"$f":"analyse!$B$1","v":0},0,0,0,0]
[null,null,{"$f":"IF(ISNA(VLOOKUP(A1492,analyse!D:E,2,FALSE))=TRUE,0,(VLOOKUP(A1492,analyse!D:E,2,FALSE)))","v":0},{"$f":"analyse!$B$1","v":0},0,0,0,0]
[null,null,{"$f":"IF(ISNA(VLOOKUP(A1493,analyse!D:E,2,FALSE))=TRUE,0,(VLOOKUP(A1493,analyse!D:E,2,FALSE)))","v":0},{"$f":"analyse!$B$1","v":0},0,0,0,0]
[null,null,{"$f":"IF(ISNA(VLOOKUP(A1494,analyse!D:E,2,FALSE))=TRUE,0,(VLOOKUP(A1494,analyse!D:E,2,FALSE)))","v":0},{"$f":"analyse!$B$1","v":0},0,0,0,0]
[null,null,{"$f":"IF(ISNA(VLOOKUP(A1495,analyse!D:E,2,FALSE))=TRUE,0,(VLOOKUP(A1495,analyse!D:E,2,FALSE)))","v":0},{"$f":"analyse!$B$1","v":0},0,0,0,0]
[null,null,{"$f":"IF(ISNA(VLOOKUP(A1496,analyse!D:E,2,FALSE))=TRUE,0,(VLOOKUP(A1496,analyse!D:E,2,FALSE)))","v":0},{"$f":"analyse!$B$1","v":0},0,0,0,0]
[null,null,{"$f":"IF(ISNA(VLOOKUP(A1497,analyse!D:E,2,FALSE))=TRUE,0,(VLOOKUP(A1497,analyse!D:E,2,FALSE)))","v":0},{"$f":"analyse!$B$1","v":0},0,0,0,0]
[null,null,{"$f":"IF(ISNA(VLOOKUP(A1498,analyse!D:E,2,FALSE))=TRUE,0,(VLOOKUP(A1498,analyse!D:E,2,FALSE)))","v":0},{"$f":"analyse!$B$1","v":0},0,0,0,0]
[null,null,{"$f":"IF(ISNA(VLOOKUP(A1499,analyse!D:E,2,FALSE))=TRUE,0,(VLOOKUP(A1499,analyse!D:E,2,FALSE)))","v":0},{"$f":"analyse!$B$1","v":0},0,0,0,0]
[null,null,{"$f":"IF(ISNA(VLOOKUP(A1500,analyse!D:E,2,FALSE))=TRUE,0,(VLOOKUP(A1500,analyse!D:E,2,FALSE)))","v":0},{"$f":"analyse!$B$1","v":0},0,0,0,0]
[null,null,{"$f":"IF(ISNA(VLOOKUP(A1501,analyse!D:E,2,FALSE))=TRUE,0,(VLOOKUP(A1501,analyse!D:E,2,FALSE)))","v":0},{"$f":"analyse!$B$1","v":0},0,0,0,0]
[null,null,{"$f":"IF(ISNA(VLOOKUP(A1502,analyse!D:E,2,FALSE))=TRUE,0,(VLOOKUP(A1502,analyse!D:E,2,FALSE)))","v":0},{"$f":"analyse!$B$1","v":0},0,0,0,0]
[null,null,{"$f":"IF(ISNA(VLOOKUP(A1503,analyse!D:E,2,FALSE))=TRUE,0,(VLOOKUP(A1503,analyse!D:E,2,FALSE)))","v":0},{"$f":"analyse!$B$1","v":0},0,0,0,0]
[null,null,{"$f":"IF(ISNA(VLOOKUP(A1504,analyse!D:E,2,FALSE))=TRUE,0,(VLOOKUP(A1504,analyse!D:E,2,FALSE)))","v":0},{"$f":"analyse!$B$1","v":0},0,0,0,0]
[null,null,{"$f":"IF(ISNA(VLOOKUP(A1505,analyse!D:E,2,FALSE))=TRUE,0,(VLOOKUP(A1505,analyse!D:E,2,FALSE)))","v":0},{"$f":"analyse!$B$1","v":0},0,0,0,0]
[null,null,{"$f":"IF(ISNA(VLOOKUP(A1506,analyse!D:E,2,FALSE))=TRUE,0,(VLOOKUP(A1506,analyse!D:E,2,FALSE)))","v":0},{"$f":"analyse!$B$1","v":0},0,0,0,0]
[null,null,{"$f":"IF(ISNA(VLOOKUP(A1507,analyse!D:E,2,FALSE))=TRUE,0,(VLOOKUP(A1507,analyse!D:E,2,FALSE)))","v":0},{"$f":"analyse!$B$1","v":0},0,0,0,0]
[null,null,{"$f":"IF(ISNA(VLOOKUP(A1508,analyse!D:E,2,FALSE))=TRUE,0,(VLOOKUP(A1508,analyse!D:E,2,FALSE)))","v":0},{"$f":"analyse!$B$1","v":0},0,0,0,0]
[null,null,{"$f":"IF(ISNA(VLOOKUP(A1509,analyse!D:E,2,FALSE))=TRUE,0,(VLOOKUP(A1509,analyse!D:E,2,FALSE)))","v":0},{"$f":"analyse!$B$1","v":0},0,0,0,0]
[null,null,{"$f":"IF(ISNA(VLOOKUP(A1510,analyse!D:E,2,FALSE))=TRUE,0,(VLOOKUP(A1510,analyse!D:E,2,FALSE)))","v":0},{"$f":"analyse!$B$1","v":0},0,0,0,0]
[null,null,{"$f":"IF(ISNA(VLOOKUP(A1511,analyse!D:E,2,FALSE))=TRUE,0,(VLOOKUP(A1511,analyse!D:E,2,FALSE)))","v":0},{"$f":"analyse!$B$1","v":0},0,0,0,0]
[null,null,{"$f":"IF(ISNA(VLOOKUP(A1512,analyse!D:E,2,FALSE))=TRUE,0,(VLOOKUP(A1512,analyse!D:E,2,FALSE)))","v":0},{"$f":"analyse!$B$1","v":0},0,0,0,0]
[null,null,{"$f":"IF(ISNA(VLOOKUP(A1513,analyse!D:E,2,FALSE))=TRUE,0,(VLOOKUP(A1513,analyse!D:E,2,FALSE)))","v":0},{"$f":"analyse!$B$1","v":0},0,0,0,0]
[null,null,{"$f":"IF(ISNA(VLOOKUP(A1514,analyse!D:E,2,FALSE))=TRUE,0,(VLOOKUP(A1514,analyse!D:E,2,FALSE)))","v":0},{"$f":"analyse!$B$1","v":0},0,0,0,0]
[null,null,{"$f":"IF(ISNA(VLOOKUP(A1515,analyse!D:E,2,FALSE))=TRUE,0,(VLOOKUP(A1515,analyse!D:E,2,FALSE)))","v":0},{"$f":"analyse!$B$1","v":0},0,0,0,0]
[null,null,{"$f":"IF(ISNA(VLOOKUP(A1516,analyse!D:E,2,FALSE))=TRUE,0,(VLOOKUP(A1516,analyse!D:E,2,FALSE)))","v":0},{"$f":"analyse!$B$1","v":0},0,0,0,0]
[null,null,{"$f":"IF(ISNA(VLOOKUP(A1517,analyse!D:E,2,FALSE))=TRUE,0,(VLOOKUP(A1517,analyse!D:E,2,FALSE)))","v":0},{"$f":"analyse!$B$1","v":0},0,0,0,0]
[null,null,{"$f":"IF(ISNA(VLOOKUP(A1518,analyse!D:E,2,FALSE))=TRUE,0,(VLOOKUP(A1518,analyse!D:E,2,FALSE)))","v":0},{"$f":"analyse!$B$1","v":0},0,0,0,0]
[null,null,{"$f":"IF(ISNA(VLOOKUP(A1519,analyse!D:E,2,FALSE))=TRUE,0,(VLOOKUP(A1519,analyse!D:E,2,FALSE)))","v":0},{"$f":"analyse!$B$1","v":0},0,0,0,0]
[null,null,{"$f":"IF(ISNA(VLOOKUP(A1520,analyse!D:E,2,FALSE))=TRUE,0,(VLOOKUP(A1520,analyse!D:E,2,FALSE)))","v":0},{"$f":"analyse!$B$1","v":0},0,0,0,0]
[null,null,{"$f":"IF(ISNA(VLOOKUP(A1521,analyse!D:E,2,FALSE))=TRUE,0,(VLOOKUP(A1521,analyse!D:E,2,FALSE)))","v":0},{"$f":"analyse!$B$1","v":0},0,0,0,0]
[null,null,{"$f":"IF(ISNA(VLOOKUP(A1522,analyse!D:E,2,FALSE))=TRUE,0,(VLOOKUP(A1522,analyse!D:E,2,FALSE)))","v":0},{"$f":"analyse!$B$1","v":0},0,0,0,0]
[null,null,{"$f":"IF(ISNA(VLOOKUP(A1523,analyse!D:E,2,FALSE))=TRUE,0,(VLOOKUP(A1523,analyse!D:E,2,FALSE)))","v":0},{"$f":"analyse!$B$1","v":0},0,0,0,0]
[null,null,{"$f":"IF(ISNA(VLOOKUP(A1524,analyse!D:E,2,FALSE))=TRUE,0,(VLOOKUP(A1524,analyse!D:E,2,FALSE)))","v":0},{"$f":"analyse!$B$1","v":0},0,0,0,0]
[null,null,{"$f":"IF(ISNA(VLOOKUP(A1525,analyse!D:E,2,FALSE))=TRUE,0,(VLOOKUP(A1525,analyse!D:E,2,FALSE)))","v":0},{"$f":"analyse!$B$1","v":0},0,0,0,0]
[null,null,{"$f":"IF(ISNA(VLOOKUP(A1526,analyse!D:E,2,FALSE))=TRUE,0,(VLOOKUP(A1526,analyse!D:E,2,FALSE)))","v":0},{"$f":"analyse!$B$1","v":0},0,0,0,0]
[null,null,{"$f":"IF(ISNA(VLOOKUP(A1527,analyse!D:E,2,FALSE))=TRUE,0,(VLOOKUP(A1527,analyse!D:E,2,FALSE)))","v":0},{"$f":"analyse!$B$1","v":0},0,0,0,0]
[null,null,{"$f":"IF(ISNA(VLOOKUP(A1528,analyse!D:E,2,FALSE))=TRUE,0,(VLOOKUP(A1528,analyse!D:E,2,FALSE)))","v":0},{"$f":"analyse!$B$1","v":0},0,0,0,0]
[null,null,{"$f":"IF(ISNA(VLOOKUP(A1529,analyse!D:E,2,FALSE))=TRUE,0,(VLOOKUP(A1529,analyse!D:E,2,FALSE)))","v":0},{"$f":"analyse!$B$1","v":0},0,0,0,0]
[null,null,{"$f":"IF(ISNA(VLOOKUP(A1530,analyse!D:E,2,FALSE))=TRUE,0,(VLOOKUP(A1530,analyse!D:E,2,FALSE)))","v":0},{"$f":"analyse!$B$1","v":0},0,0,0,0]
[null,null,{"$f":"IF(ISNA(VLOOKUP(A1531,analyse!D:E,2,FALSE))=TRUE,0,(VLOOKUP(A1531,analyse!D:E,2,FALSE)))","v":0},{"$f":"analyse!$B$1","v":0},0,0,0,0]
[null,null,{"$f":"IF(ISNA(VLOOKUP(A1532,analyse!D:E,2,FALSE))=TRUE,0,(VLOOKUP(A1532,analyse!D:E,2,FALSE)))","v":0},{"$f":"analyse!$B$1","v":0},0,0,0,0]
[null,null,{"$f":"IF(ISNA(VLOOKUP(A1533,analyse!D:E,2,FALSE))=TRUE,0,(VLOOKUP(A1533,analyse!D:E,2,FALSE)))","v":0},{"$f":"analyse!$B$1","v":0},0,0,0,0]
[null,null,{"$f":"IF(ISNA(VLOOKUP(A1534,analyse!D:E,2,FALSE))=TRUE,0,(VLOOKUP(A1534,analyse!D:E,2,FALSE)))","v":0},{"$f":"analyse!$B$1","v":0},0,0,0,0]
[null,null,{"$f":"IF(ISNA(VLOOKUP(A1535,analyse!D:E,2,FALSE))=TRUE,0,(VLOOKUP(A1535,analyse!D:E,2,FALSE)))","v":0},{"$f":"analyse!$B$1","v":0},0,0,0,0]
[null,null,{"$f":"IF(ISNA(VLOOKUP(A1536,analyse!D:E,2,FALSE))=TRUE,0,(VLOOKUP(A1536,analyse!D:E,2,FALSE)))","v":0},{"$f":"analyse!$B$1","v":0},0,0,0,0]
[null,null,{"$f":"IF(ISNA(VLOOKUP(A1537,analyse!D:E,2,FALSE))=TRUE,0,(VLOOKUP(A1537,analyse!D:E,2,FALSE)))","v":0},{"$f":"analyse!$B$1","v":0},0,0,0,0]
[null,null,{"$f":"IF(ISNA(VLOOKUP(A1538,analyse!D:E,2,FALSE))=TRUE,0,(VLOOKUP(A1538,analyse!D:E,2,FALSE)))","v":0},{"$f":"analyse!$B$1","v":0},{"$f":"D1538-C1538","v":0},{"$f":"E1538+C1538","v":0},{"$f":"IF(F1538<E1538,D1538-1,D1538)","v":0},{"$f":"IF(A1538=\"S20.G01.00.001\",H1537+1,H1537)","v":0}]
[null,null,{"$f":"IF(ISNA(VLOOKUP(A1539,analyse!D:E,2,FALSE))=TRUE,0,(VLOOKUP(A1539,analyse!D:E,2,FALSE)))","v":0},{"$f":"analyse!$B$1","v":0},0,0,0,0]
[null,null,{"$f":"IF(ISNA(VLOOKUP(A1540,analyse!D:E,2,FALSE))=TRUE,0,(VLOOKUP(A1540,analyse!D:E,2,FALSE)))","v":0},{"$f":"analyse!$B$1","v":0},0,0,0,0]
[null,null,{"$f":"IF(ISNA(VLOOKUP(A1541,analyse!D:E,2,FALSE))=TRUE,0,(VLOOKUP(A1541,analyse!D:E,2,FALSE)))","v":0},{"$f":"analyse!$B$1","v":0},0,0,0,0]
[null,null,{"$f":"IF(ISNA(VLOOKUP(A1542,analyse!D:E,2,FALSE))=TRUE,0,(VLOOKUP(A1542,analyse!D:E,2,FALSE)))","v":0},{"$f":"analyse!$B$1","v":0},0,0,0,0]
[null,null,{"$f":"IF(ISNA(VLOOKUP(A1543,analyse!D:E,2,FALSE))=TRUE,0,(VLOOKUP(A1543,analyse!D:E,2,FALSE)))","v":0},{"$f":"analyse!$B$1","v":0},0,0,0,0]
[null,null,{"$f":"IF(ISNA(VLOOKUP(A1544,analyse!D:E,2,FALSE))=TRUE,0,(VLOOKUP(A1544,analyse!D:E,2,FALSE)))","v":0},{"$f":"analyse!$B$1","v":0},0,0,0,0]
[null,null,{"$f":"IF(ISNA(VLOOKUP(A1545,analyse!D:E,2,FALSE))=TRUE,0,(VLOOKUP(A1545,analyse!D:E,2,FALSE)))","v":0},{"$f":"analyse!$B$1","v":0},0,0,0,0]
[null,null,{"$f":"IF(ISNA(VLOOKUP(A1546,analyse!D:E,2,FALSE))=TRUE,0,(VLOOKUP(A1546,analyse!D:E,2,FALSE)))","v":0},{"$f":"analyse!$B$1","v":0},0,0,0,0]
[null,null,{"$f":"IF(ISNA(VLOOKUP(A1547,analyse!D:E,2,FALSE))=TRUE,0,(VLOOKUP(A1547,analyse!D:E,2,FALSE)))","v":0},{"$f":"analyse!$B$1","v":0},0,0,0,0]
[null,null,{"$f":"IF(ISNA(VLOOKUP(A1548,analyse!D:E,2,FALSE))=TRUE,0,(VLOOKUP(A1548,analyse!D:E,2,FALSE)))","v":0},{"$f":"analyse!$B$1","v":0},0,0,0,0]
[null,null,{"$f":"IF(ISNA(VLOOKUP(A1549,analyse!D:E,2,FALSE))=TRUE,0,(VLOOKUP(A1549,analyse!D:E,2,FALSE)))","v":0},{"$f":"analyse!$B$1","v":0},0,0,0,0]
[null,null,{"$f":"IF(ISNA(VLOOKUP(A1550,analyse!D:E,2,FALSE))=TRUE,0,(VLOOKUP(A1550,analyse!D:E,2,FALSE)))","v":0},{"$f":"analyse!$B$1","v":0},0,0,0,0]
[null,null,{"$f":"IF(ISNA(VLOOKUP(A1551,analyse!D:E,2,FALSE))=TRUE,0,(VLOOKUP(A1551,analyse!D:E,2,FALSE)))","v":0},{"$f":"analyse!$B$1","v":0},0,0,0,0]
[null,null,{"$f":"IF(ISNA(VLOOKUP(A1552,analyse!D:E,2,FALSE))=TRUE,0,(VLOOKUP(A1552,analyse!D:E,2,FALSE)))","v":0},{"$f":"analyse!$B$1","v":0},0,0,0,0]
[null,null,{"$f":"IF(ISNA(VLOOKUP(A1553,analyse!D:E,2,FALSE))=TRUE,0,(VLOOKUP(A1553,analyse!D:E,2,FALSE)))","v":0},{"$f":"analyse!$B$1","v":0},0,0,0,0]
[null,null,{"$f":"IF(ISNA(VLOOKUP(A1554,analyse!D:E,2,FALSE))=TRUE,0,(VLOOKUP(A1554,analyse!D:E,2,FALSE)))","v":0},{"$f":"analyse!$B$1","v":0},0,0,0,0]
[null,null,{"$f":"IF(ISNA(VLOOKUP(A1555,analyse!D:E,2,FALSE))=TRUE,0,(VLOOKUP(A1555,analyse!D:E,2,FALSE)))","v":0},{"$f":"analyse!$B$1","v":0},0,0,0,0]
[null,null,{"$f":"IF(ISNA(VLOOKUP(A1556,analyse!D:E,2,FALSE))=TRUE,0,(VLOOKUP(A1556,analyse!D:E,2,FALSE)))","v":0},{"$f":"analyse!$B$1","v":0},0,0,0,0]
[null,null,{"$f":"IF(ISNA(VLOOKUP(A1557,analyse!D:E,2,FALSE))=TRUE,0,(VLOOKUP(A1557,analyse!D:E,2,FALSE)))","v":0},{"$f":"analyse!$B$1","v":0},0,0,0,0]
[null,null,{"$f":"IF(ISNA(VLOOKUP(A1558,analyse!D:E,2,FALSE))=TRUE,0,(VLOOKUP(A1558,analyse!D:E,2,FALSE)))","v":0},{"$f":"analyse!$B$1","v":0},0,0,0,0]
[null,null,{"$f":"IF(ISNA(VLOOKUP(A1559,analyse!D:E,2,FALSE))=TRUE,0,(VLOOKUP(A1559,analyse!D:E,2,FALSE)))","v":0},{"$f":"analyse!$B$1","v":0},0,0,0,0]
[null,null,{"$f":"IF(ISNA(VLOOKUP(A1560,analyse!D:E,2,FALSE))=TRUE,0,(VLOOKUP(A1560,analyse!D:E,2,FALSE)))","v":0},{"$f":"analyse!$B$1","v":0},0,0,0,0]
[null,null,{"$f":"IF(ISNA(VLOOKUP(A1561,analyse!D:E,2,FALSE))=TRUE,0,(VLOOKUP(A1561,analyse!D:E,2,FALSE)))","v":0},{"$f":"analyse!$B$1","v":0},0,0,0,0]
[null,null,{"$f":"IF(ISNA(VLOOKUP(A1562,analyse!D:E,2,FALSE))=TRUE,0,(VLOOKUP(A1562,analyse!D:E,2,FALSE)))","v":0},{"$f":"analyse!$B$1","v":0},0,0,0,0]
[null,null,{"$f":"IF(ISNA(VLOOKUP(A1563,analyse!D:E,2,FALSE))=TRUE,0,(VLOOKUP(A1563,analyse!D:E,2,FALSE)))","v":0},{"$f":"analyse!$B$1","v":0},0,0,0,0]
[null,null,{"$f":"IF(ISNA(VLOOKUP(A1564,analyse!D:E,2,FALSE))=TRUE,0,(VLOOKUP(A1564,analyse!D:E,2,FALSE)))","v":0},{"$f":"analyse!$B$1","v":0},0,0,0,0]
[null,null,{"$f":"IF(ISNA(VLOOKUP(A1565,analyse!D:E,2,FALSE))=TRUE,0,(VLOOKUP(A1565,analyse!D:E,2,FALSE)))","v":0},{"$f":"analyse!$B$1","v":0},0,0,0,0]
[null,null,{"$f":"IF(ISNA(VLOOKUP(A1566,analyse!D:E,2,FALSE))=TRUE,0,(VLOOKUP(A1566,analyse!D:E,2,FALSE)))","v":0},{"$f":"analyse!$B$1","v":0},0,0,0,0]
[null,null,{"$f":"IF(ISNA(VLOOKUP(A1567,analyse!D:E,2,FALSE))=TRUE,0,(VLOOKUP(A1567,analyse!D:E,2,FALSE)))","v":0},{"$f":"analyse!$B$1","v":0},0,0,0,0]
[null,null,{"$f":"IF(ISNA(VLOOKUP(A1568,analyse!D:E,2,FALSE))=TRUE,0,(VLOOKUP(A1568,analyse!D:E,2,FALSE)))","v":0},{"$f":"analyse!$B$1","v":0},0,0,0,0]
[null,null,{"$f":"IF(ISNA(VLOOKUP(A1569,analyse!D:E,2,FALSE))=TRUE,0,(VLOOKUP(A1569,analyse!D:E,2,FALSE)))","v":0},{"$f":"analyse!$B$1","v":0},0,0,0,0]
[null,null,{"$f":"IF(ISNA(VLOOKUP(A1570,analyse!D:E,2,FALSE))=TRUE,0,(VLOOKUP(A1570,analyse!D:E,2,FALSE)))","v":0},{"$f":"analyse!$B$1","v":0},0,0,0,0]
[null,null,{"$f":"IF(ISNA(VLOOKUP(A1571,analyse!D:E,2,FALSE))=TRUE,0,(VLOOKUP(A1571,analyse!D:E,2,FALSE)))","v":0},{"$f":"analyse!$B$1","v":0},0,0,0,0]
[null,null,{"$f":"IF(ISNA(VLOOKUP(A1572,analyse!D:E,2,FALSE))=TRUE,0,(VLOOKUP(A1572,analyse!D:E,2,FALSE)))","v":0},{"$f":"analyse!$B$1","v":0},0,0,0,0]
[null,null,{"$f":"IF(ISNA(VLOOKUP(A1573,analyse!D:E,2,FALSE))=TRUE,0,(VLOOKUP(A1573,analyse!D:E,2,FALSE)))","v":0},{"$f":"analyse!$B$1","v":0},0,0,0,0]
[null,null,{"$f":"IF(ISNA(VLOOKUP(A1574,analyse!D:E,2,FALSE))=TRUE,0,(VLOOKUP(A1574,analyse!D:E,2,FALSE)))","v":0},{"$f":"analyse!$B$1","v":0},0,0,0,0]
[null,null,{"$f":"IF(ISNA(VLOOKUP(A1575,analyse!D:E,2,FALSE))=TRUE,0,(VLOOKUP(A1575,analyse!D:E,2,FALSE)))","v":0},{"$f":"analyse!$B$1","v":0},0,0,0,0]
[null,null,{"$f":"IF(ISNA(VLOOKUP(A1576,analyse!D:E,2,FALSE))=TRUE,0,(VLOOKUP(A1576,analyse!D:E,2,FALSE)))","v":0},{"$f":"analyse!$B$1","v":0},0,0,0,0]
[null,null,{"$f":"IF(ISNA(VLOOKUP(A1577,analyse!D:E,2,FALSE))=TRUE,0,(VLOOKUP(A1577,analyse!D:E,2,FALSE)))","v":0},{"$f":"analyse!$B$1","v":0},0,0,0,0]
[null,null,{"$f":"IF(ISNA(VLOOKUP(A1578,analyse!D:E,2,FALSE))=TRUE,0,(VLOOKUP(A1578,analyse!D:E,2,FALSE)))","v":0},{"$f":"analyse!$B$1","v":0},0,0,0,0]
[null,null,{"$f":"IF(ISNA(VLOOKUP(A1579,analyse!D:E,2,FALSE))=TRUE,0,(VLOOKUP(A1579,analyse!D:E,2,FALSE)))","v":0},{"$f":"analyse!$B$1","v":0},0,0,0,0]
[null,null,{"$f":"IF(ISNA(VLOOKUP(A1580,analyse!D:E,2,FALSE))=TRUE,0,(VLOOKUP(A1580,analyse!D:E,2,FALSE)))","v":0},{"$f":"analyse!$B$1","v":0},0,0,0,0]
[null,null,{"$f":"IF(ISNA(VLOOKUP(A1581,analyse!D:E,2,FALSE))=TRUE,0,(VLOOKUP(A1581,analyse!D:E,2,FALSE)))","v":0},{"$f":"analyse!$B$1","v":0},0,0,0,0]
[null,null,{"$f":"IF(ISNA(VLOOKUP(A1582,analyse!D:E,2,FALSE))=TRUE,0,(VLOOKUP(A1582,analyse!D:E,2,FALSE)))","v":0},{"$f":"analyse!$B$1","v":0},0,0,0,0]
[null,null,{"$f":"IF(ISNA(VLOOKUP(A1583,analyse!D:E,2,FALSE))=TRUE,0,(VLOOKUP(A1583,analyse!D:E,2,FALSE)))","v":0},{"$f":"analyse!$B$1","v":0},0,0,0,0]
[null,null,{"$f":"IF(ISNA(VLOOKUP(A1584,analyse!D:E,2,FALSE))=TRUE,0,(VLOOKUP(A1584,analyse!D:E,2,FALSE)))","v":0},{"$f":"analyse!$B$1","v":0},0,0,0,0]
[null,null,{"$f":"IF(ISNA(VLOOKUP(A1585,analyse!D:E,2,FALSE))=TRUE,0,(VLOOKUP(A1585,analyse!D:E,2,FALSE)))","v":0},{"$f":"analyse!$B$1","v":0},0,0,0,0]
[null,null,{"$f":"IF(ISNA(VLOOKUP(A1586,analyse!D:E,2,FALSE))=TRUE,0,(VLOOKUP(A1586,analyse!D:E,2,FALSE)))","v":0},{"$f":"analyse!$B$1","v":0},0,0,0,0]
[null,null,{"$f":"IF(ISNA(VLOOKUP(A1587,analyse!D:E,2,FALSE))=TRUE,0,(VLOOKUP(A1587,analyse!D:E,2,FALSE)))","v":0},{"$f":"analyse!$B$1","v":0},0,0,0,0]
[null,null,{"$f":"IF(ISNA(VLOOKUP(A1588,analyse!D:E,2,FALSE))=TRUE,0,(VLOOKUP(A1588,analyse!D:E,2,FALSE)))","v":0},{"$f":"analyse!$B$1","v":0},0,0,0,0]
[null,null,{"$f":"IF(ISNA(VLOOKUP(A1589,analyse!D:E,2,FALSE))=TRUE,0,(VLOOKUP(A1589,analyse!D:E,2,FALSE)))","v":0},{"$f":"analyse!$B$1","v":0},0,0,0,0]
[null,null,{"$f":"IF(ISNA(VLOOKUP(A1590,analyse!D:E,2,FALSE))=TRUE,0,(VLOOKUP(A1590,analyse!D:E,2,FALSE)))","v":0},{"$f":"analyse!$B$1","v":0},0,0,0,0]
[null,null,{"$f":"IF(ISNA(VLOOKUP(A1591,analyse!D:E,2,FALSE))=TRUE,0,(VLOOKUP(A1591,analyse!D:E,2,FALSE)))","v":0},{"$f":"analyse!$B$1","v":0},0,0,0,0]
[null,null,{"$f":"IF(ISNA(VLOOKUP(A1592,analyse!D:E,2,FALSE))=TRUE,0,(VLOOKUP(A1592,analyse!D:E,2,FALSE)))","v":0},{"$f":"analyse!$B$1","v":0},0,0,0,0]
[null,null,{"$f":"IF(ISNA(VLOOKUP(A1593,analyse!D:E,2,FALSE))=TRUE,0,(VLOOKUP(A1593,analyse!D:E,2,FALSE)))","v":0},{"$f":"analyse!$B$1","v":0},0,0,0,0]
[null,null,{"$f":"IF(ISNA(VLOOKUP(A1594,analyse!D:E,2,FALSE))=TRUE,0,(VLOOKUP(A1594,analyse!D:E,2,FALSE)))","v":0},{"$f":"analyse!$B$1","v":0},0,0,0,0]
[null,null,{"$f":"IF(ISNA(VLOOKUP(A1595,analyse!D:E,2,FALSE))=TRUE,0,(VLOOKUP(A1595,analyse!D:E,2,FALSE)))","v":0},{"$f":"analyse!$B$1","v":0},0,0,0,0]
[null,null,{"$f":"IF(ISNA(VLOOKUP(A1596,analyse!D:E,2,FALSE))=TRUE,0,(VLOOKUP(A1596,analyse!D:E,2,FALSE)))","v":0},{"$f":"analyse!$B$1","v":0},0,0,0,0]
[null,null,{"$f":"IF(ISNA(VLOOKUP(A1597,analyse!D:E,2,FALSE))=TRUE,0,(VLOOKUP(A1597,analyse!D:E,2,FALSE)))","v":0},{"$f":"analyse!$B$1","v":0},0,0,0,0]
[null,null,{"$f":"IF(ISNA(VLOOKUP(A1598,analyse!D:E,2,FALSE))=TRUE,0,(VLOOKUP(A1598,analyse!D:E,2,FALSE)))","v":0},{"$f":"analyse!$B$1","v":0},0,0,0,0]
[null,null,{"$f":"IF(ISNA(VLOOKUP(A1599,analyse!D:E,2,FALSE))=TRUE,0,(VLOOKUP(A1599,analyse!D:E,2,FALSE)))","v":0},{"$f":"analyse!$B$1","v":0},0,0,0,0]
[null,null,{"$f":"IF(ISNA(VLOOKUP(A1600,analyse!D:E,2,FALSE))=TRUE,0,(VLOOKUP(A1600,analyse!D:E,2,FALSE)))","v":0},{"$f":"analyse!$B$1","v":0},0,0,0,0]
[null,null,{"$f":"IF(ISNA(VLOOKUP(A1601,analyse!D:E,2,FALSE))=TRUE,0,(VLOOKUP(A1601,analyse!D:E,2,FALSE)))","v":0},{"$f":"analyse!$B$1","v":0},0,0,0,0]
[null,null,{"$f":"IF(ISNA(VLOOKUP(A1602,analyse!D:E,2,FALSE))=TRUE,0,(VLOOKUP(A1602,analyse!D:E,2,FALSE)))","v":0},{"$f":"analyse!$B$1","v":0},{"$f":"D1602-C1602","v":0},{"$f":"E1602+C1602","v":0},{"$f":"IF(F1602<E1602,D1602-1,D1602)","v":0},{"$f":"IF(A1602=\"S20.G01.00.001\",H1601+1,H1601)","v":0}]
[null,null,{"$f":"IF(ISNA(VLOOKUP(A1603,analyse!D:E,2,FALSE))=TRUE,0,(VLOOKUP(A1603,analyse!D:E,2,FALSE)))","v":0},{"$f":"analyse!$B$1","v":0},0,0,0,0]
[null,null,{"$f":"IF(ISNA(VLOOKUP(A1604,analyse!D:E,2,FALSE))=TRUE,0,(VLOOKUP(A1604,analyse!D:E,2,FALSE)))","v":0},{"$f":"analyse!$B$1","v":0},0,0,0,0]
[null,null,{"$f":"IF(ISNA(VLOOKUP(A1605,analyse!D:E,2,FALSE))=TRUE,0,(VLOOKUP(A1605,analyse!D:E,2,FALSE)))","v":0},{"$f":"analyse!$B$1","v":0},0,0,0,0]
[null,null,{"$f":"IF(ISNA(VLOOKUP(A1606,analyse!D:E,2,FALSE))=TRUE,0,(VLOOKUP(A1606,analyse!D:E,2,FALSE)))","v":0},{"$f":"analyse!$B$1","v":0},0,0,0,0]
[null,null,{"$f":"IF(ISNA(VLOOKUP(A1607,analyse!D:E,2,FALSE))=TRUE,0,(VLOOKUP(A1607,analyse!D:E,2,FALSE)))","v":0},{"$f":"analyse!$B$1","v":0},0,0,0,0]
[null,null,{"$f":"IF(ISNA(VLOOKUP(A1608,analyse!D:E,2,FALSE))=TRUE,0,(VLOOKUP(A1608,analyse!D:E,2,FALSE)))","v":0},{"$f":"analyse!$B$1","v":0},0,0,0,0]
[null,null,{"$f":"IF(ISNA(VLOOKUP(A1609,analyse!D:E,2,FALSE))=TRUE,0,(VLOOKUP(A1609,analyse!D:E,2,FALSE)))","v":0},{"$f":"analyse!$B$1","v":0},0,0,0,0]
[null,null,{"$f":"IF(ISNA(VLOOKUP(A1610,analyse!D:E,2,FALSE))=TRUE,0,(VLOOKUP(A1610,analyse!D:E,2,FALSE)))","v":0},{"$f":"analyse!$B$1","v":0},0,0,0,0]
[null,null,{"$f":"IF(ISNA(VLOOKUP(A1611,analyse!D:E,2,FALSE))=TRUE,0,(VLOOKUP(A1611,analyse!D:E,2,FALSE)))","v":0},{"$f":"analyse!$B$1","v":0},0,0,0,0]
[null,null,{"$f":"IF(ISNA(VLOOKUP(A1612,analyse!D:E,2,FALSE))=TRUE,0,(VLOOKUP(A1612,analyse!D:E,2,FALSE)))","v":0},{"$f":"analyse!$B$1","v":0},0,0,0,0]
[null,null,{"$f":"IF(ISNA(VLOOKUP(A1613,analyse!D:E,2,FALSE))=TRUE,0,(VLOOKUP(A1613,analyse!D:E,2,FALSE)))","v":0},{"$f":"analyse!$B$1","v":0},0,0,0,0]
[null,null,{"$f":"IF(ISNA(VLOOKUP(A1614,analyse!D:E,2,FALSE))=TRUE,0,(VLOOKUP(A1614,analyse!D:E,2,FALSE)))","v":0},{"$f":"analyse!$B$1","v":0},0,0,0,0]
[null,null,{"$f":"IF(ISNA(VLOOKUP(A1615,analyse!D:E,2,FALSE))=TRUE,0,(VLOOKUP(A1615,analyse!D:E,2,FALSE)))","v":0},{"$f":"analyse!$B$1","v":0},0,0,0,0]
[null,null,{"$f":"IF(ISNA(VLOOKUP(A1616,analyse!D:E,2,FALSE))=TRUE,0,(VLOOKUP(A1616,analyse!D:E,2,FALSE)))","v":0},{"$f":"analyse!$B$1","v":0},0,0,0,0]
[null,null,{"$f":"IF(ISNA(VLOOKUP(A1617,analyse!D:E,2,FALSE))=TRUE,0,(VLOOKUP(A1617,analyse!D:E,2,FALSE)))","v":0},{"$f":"analyse!$B$1","v":0},0,0,0,0]
[null,null,{"$f":"IF(ISNA(VLOOKUP(A1618,analyse!D:E,2,FALSE))=TRUE,0,(VLOOKUP(A1618,analyse!D:E,2,FALSE)))","v":0},{"$f":"analyse!$B$1","v":0},0,0,0,0]
[null,null,{"$f":"IF(ISNA(VLOOKUP(A1619,analyse!D:E,2,FALSE))=TRUE,0,(VLOOKUP(A1619,analyse!D:E,2,FALSE)))","v":0},{"$f":"analyse!$B$1","v":0},0,0,0,0]
[null,null,{"$f":"IF(ISNA(VLOOKUP(A1620,analyse!D:E,2,FALSE))=TRUE,0,(VLOOKUP(A1620,analyse!D:E,2,FALSE)))","v":0},{"$f":"analyse!$B$1","v":0},0,0,0,0]
[null,null,{"$f":"IF(ISNA(VLOOKUP(A1621,analyse!D:E,2,FALSE))=TRUE,0,(VLOOKUP(A1621,analyse!D:E,2,FALSE)))","v":0},{"$f":"analyse!$B$1","v":0},0,0,0,0]
[null,null,{"$f":"IF(ISNA(VLOOKUP(A1622,analyse!D:E,2,FALSE))=TRUE,0,(VLOOKUP(A1622,analyse!D:E,2,FALSE)))","v":0},{"$f":"analyse!$B$1","v":0},0,0,0,0]
[null,null,{"$f":"IF(ISNA(VLOOKUP(A1623,analyse!D:E,2,FALSE))=TRUE,0,(VLOOKUP(A1623,analyse!D:E,2,FALSE)))","v":0},{"$f":"analyse!$B$1","v":0},0,0,0,0]
[null,null,{"$f":"IF(ISNA(VLOOKUP(A1624,analyse!D:E,2,FALSE))=TRUE,0,(VLOOKUP(A1624,analyse!D:E,2,FALSE)))","v":0},{"$f":"analyse!$B$1","v":0},0,0,0,0]
[null,null,{"$f":"IF(ISNA(VLOOKUP(A1625,analyse!D:E,2,FALSE))=TRUE,0,(VLOOKUP(A1625,analyse!D:E,2,FALSE)))","v":0},{"$f":"analyse!$B$1","v":0},0,0,0,0]
[null,null,{"$f":"IF(ISNA(VLOOKUP(A1626,analyse!D:E,2,FALSE))=TRUE,0,(VLOOKUP(A1626,analyse!D:E,2,FALSE)))","v":0},{"$f":"analyse!$B$1","v":0},0,0,0,0]
[null,null,{"$f":"IF(ISNA(VLOOKUP(A1627,analyse!D:E,2,FALSE))=TRUE,0,(VLOOKUP(A1627,analyse!D:E,2,FALSE)))","v":0},{"$f":"analyse!$B$1","v":0},0,0,0,0]
[null,null,{"$f":"IF(ISNA(VLOOKUP(A1628,analyse!D:E,2,FALSE))=TRUE,0,(VLOOKUP(A1628,analyse!D:E,2,FALSE)))","v":0},{"$f":"analyse!$B$1","v":0},0,0,0,0]
[null,null,{"$f":"IF(ISNA(VLOOKUP(A1629,analyse!D:E,2,FALSE))=TRUE,0,(VLOOKUP(A1629,analyse!D:E,2,FALSE)))","v":0},{"$f":"analyse!$B$1","v":0},0,0,0,0]
[null,null,{"$f":"IF(ISNA(VLOOKUP(A1630,analyse!D:E,2,FALSE))=TRUE,0,(VLOOKUP(A1630,analyse!D:E,2,FALSE)))","v":0},{"$f":"analyse!$B$1","v":0},0,0,0,0]
[null,null,{"$f":"IF(ISNA(VLOOKUP(A1631,analyse!D:E,2,FALSE))=TRUE,0,(VLOOKUP(A1631,analyse!D:E,2,FALSE)))","v":0},{"$f":"analyse!$B$1","v":0},0,0,0,0]
[null,null,{"$f":"IF(ISNA(VLOOKUP(A1632,analyse!D:E,2,FALSE))=TRUE,0,(VLOOKUP(A1632,analyse!D:E,2,FALSE)))","v":0},{"$f":"analyse!$B$1","v":0},0,0,0,0]
[null,null,{"$f":"IF(ISNA(VLOOKUP(A1633,analyse!D:E,2,FALSE))=TRUE,0,(VLOOKUP(A1633,analyse!D:E,2,FALSE)))","v":0},{"$f":"analyse!$B$1","v":0},0,0,0,0]
[null,null,{"$f":"IF(ISNA(VLOOKUP(A1634,analyse!D:E,2,FALSE))=TRUE,0,(VLOOKUP(A1634,analyse!D:E,2,FALSE)))","v":0},{"$f":"analyse!$B$1","v":0},0,0,0,0]
[null,null,{"$f":"IF(ISNA(VLOOKUP(A1635,analyse!D:E,2,FALSE))=TRUE,0,(VLOOKUP(A1635,analyse!D:E,2,FALSE)))","v":0},{"$f":"analyse!$B$1","v":0},0,0,0,0]
[null,null,{"$f":"IF(ISNA(VLOOKUP(A1636,analyse!D:E,2,FALSE))=TRUE,0,(VLOOKUP(A1636,analyse!D:E,2,FALSE)))","v":0},{"$f":"analyse!$B$1","v":0},0,0,0,0]
[null,null,{"$f":"IF(ISNA(VLOOKUP(A1637,analyse!D:E,2,FALSE))=TRUE,0,(VLOOKUP(A1637,analyse!D:E,2,FALSE)))","v":0},{"$f":"analyse!$B$1","v":0},0,0,0,0]
[null,null,{"$f":"IF(ISNA(VLOOKUP(A1638,analyse!D:E,2,FALSE))=TRUE,0,(VLOOKUP(A1638,analyse!D:E,2,FALSE)))","v":0},{"$f":"analyse!$B$1","v":0},0,0,0,0]
[null,null,{"$f":"IF(ISNA(VLOOKUP(A1639,analyse!D:E,2,FALSE))=TRUE,0,(VLOOKUP(A1639,analyse!D:E,2,FALSE)))","v":0},{"$f":"analyse!$B$1","v":0},0,0,0,0]
[null,null,{"$f":"IF(ISNA(VLOOKUP(A1640,analyse!D:E,2,FALSE))=TRUE,0,(VLOOKUP(A1640,analyse!D:E,2,FALSE)))","v":0},{"$f":"analyse!$B$1","v":0},0,0,0,0]
[null,null,{"$f":"IF(ISNA(VLOOKUP(A1641,analyse!D:E,2,FALSE))=TRUE,0,(VLOOKUP(A1641,analyse!D:E,2,FALSE)))","v":0},{"$f":"analyse!$B$1","v":0},0,0,0,0]
[null,null,{"$f":"IF(ISNA(VLOOKUP(A1642,analyse!D:E,2,FALSE))=TRUE,0,(VLOOKUP(A1642,analyse!D:E,2,FALSE)))","v":0},{"$f":"analyse!$B$1","v":0},0,0,0,0]
[null,null,{"$f":"IF(ISNA(VLOOKUP(A1643,analyse!D:E,2,FALSE))=TRUE,0,(VLOOKUP(A1643,analyse!D:E,2,FALSE)))","v":0},{"$f":"analyse!$B$1","v":0},0,0,0,0]
[null,null,{"$f":"IF(ISNA(VLOOKUP(A1644,analyse!D:E,2,FALSE))=TRUE,0,(VLOOKUP(A1644,analyse!D:E,2,FALSE)))","v":0},{"$f":"analyse!$B$1","v":0},0,0,0,0]
[null,null,{"$f":"IF(ISNA(VLOOKUP(A1645,analyse!D:E,2,FALSE))=TRUE,0,(VLOOKUP(A1645,analyse!D:E,2,FALSE)))","v":0},{"$f":"analyse!$B$1","v":0},0,0,0,0]
[null,null,{"$f":"IF(ISNA(VLOOKUP(A1646,analyse!D:E,2,FALSE))=TRUE,0,(VLOOKUP(A1646,analyse!D:E,2,FALSE)))","v":0},{"$f":"analyse!$B$1","v":0},0,0,0,0]
[null,null,{"$f":"IF(ISNA(VLOOKUP(A1647,analyse!D:E,2,FALSE))=TRUE,0,(VLOOKUP(A1647,analyse!D:E,2,FALSE)))","v":0},{"$f":"analyse!$B$1","v":0},0,0,0,0]
[null,null,{"$f":"IF(ISNA(VLOOKUP(A1648,analyse!D:E,2,FALSE))=TRUE,0,(VLOOKUP(A1648,analyse!D:E,2,FALSE)))","v":0},{"$f":"analyse!$B$1","v":0},0,0,0,0]
[null,null,{"$f":"IF(ISNA(VLOOKUP(A1649,analyse!D:E,2,FALSE))=TRUE,0,(VLOOKUP(A1649,analyse!D:E,2,FALSE)))","v":0},{"$f":"analyse!$B$1","v":0},0,0,0,0]
[null,null,{"$f":"IF(ISNA(VLOOKUP(A1650,analyse!D:E,2,FALSE))=TRUE,0,(VLOOKUP(A1650,analyse!D:E,2,FALSE)))","v":0},{"$f":"analyse!$B$1","v":0},0,0,0,0]
[null,null,{"$f":"IF(ISNA(VLOOKUP(A1651,analyse!D:E,2,FALSE))=TRUE,0,(VLOOKUP(A1651,analyse!D:E,2,FALSE)))","v":0},{"$f":"analyse!$B$1","v":0},0,0,0,0]
[null,null,{"$f":"IF(ISNA(VLOOKUP(A1652,analyse!D:E,2,FALSE))=TRUE,0,(VLOOKUP(A1652,analyse!D:E,2,FALSE)))","v":0},{"$f":"analyse!$B$1","v":0},0,0,0,0]
[null,null,{"$f":"IF(ISNA(VLOOKUP(A1653,analyse!D:E,2,FALSE))=TRUE,0,(VLOOKUP(A1653,analyse!D:E,2,FALSE)))","v":0},{"$f":"analyse!$B$1","v":0},0,0,0,0]
[null,null,{"$f":"IF(ISNA(VLOOKUP(A1654,analyse!D:E,2,FALSE))=TRUE,0,(VLOOKUP(A1654,analyse!D:E,2,FALSE)))","v":0},{"$f":"analyse!$B$1","v":0},0,0,0,0]
[null,null,{"$f":"IF(ISNA(VLOOKUP(A1655,analyse!D:E,2,FALSE))=TRUE,0,(VLOOKUP(A1655,analyse!D:E,2,FALSE)))","v":0},{"$f":"analyse!$B$1","v":0},0,0,0,0]
[null,null,{"$f":"IF(ISNA(VLOOKUP(A1656,analyse!D:E,2,FALSE))=TRUE,0,(VLOOKUP(A1656,analyse!D:E,2,FALSE)))","v":0},{"$f":"analyse!$B$1","v":0},0,0,0,0]
[null,null,{"$f":"IF(ISNA(VLOOKUP(A1657,analyse!D:E,2,FALSE))=TRUE,0,(VLOOKUP(A1657,analyse!D:E,2,FALSE)))","v":0},{"$f":"analyse!$B$1","v":0},0,0,0,0]
[null,null,{"$f":"IF(ISNA(VLOOKUP(A1658,analyse!D:E,2,FALSE))=TRUE,0,(VLOOKUP(A1658,analyse!D:E,2,FALSE)))","v":0},{"$f":"analyse!$B$1","v":0},0,0,0,0]
[null,null,{"$f":"IF(ISNA(VLOOKUP(A1659,analyse!D:E,2,FALSE))=TRUE,0,(VLOOKUP(A1659,analyse!D:E,2,FALSE)))","v":0},{"$f":"analyse!$B$1","v":0},0,0,0,0]
[null,null,{"$f":"IF(ISNA(VLOOKUP(A1660,analyse!D:E,2,FALSE))=TRUE,0,(VLOOKUP(A1660,analyse!D:E,2,FALSE)))","v":0},{"$f":"analyse!$B$1","v":0},0,0,0,0]
[null,null,{"$f":"IF(ISNA(VLOOKUP(A1661,analyse!D:E,2,FALSE))=TRUE,0,(VLOOKUP(A1661,analyse!D:E,2,FALSE)))","v":0},{"$f":"analyse!$B$1","v":0},0,0,0,0]
[null,null,{"$f":"IF(ISNA(VLOOKUP(A1662,analyse!D:E,2,FALSE))=TRUE,0,(VLOOKUP(A1662,analyse!D:E,2,FALSE)))","v":0},{"$f":"analyse!$B$1","v":0},0,0,0,0]
[null,null,{"$f":"IF(ISNA(VLOOKUP(A1663,analyse!D:E,2,FALSE))=TRUE,0,(VLOOKUP(A1663,analyse!D:E,2,FALSE)))","v":0},{"$f":"analyse!$B$1","v":0},0,0,0,0]
[null,null,{"$f":"IF(ISNA(VLOOKUP(A1664,analyse!D:E,2,FALSE))=TRUE,0,(VLOOKUP(A1664,analyse!D:E,2,FALSE)))","v":0},{"$f":"analyse!$B$1","v":0},0,0,0,0]
[null,null,{"$f":"IF(ISNA(VLOOKUP(A1665,analyse!D:E,2,FALSE))=TRUE,0,(VLOOKUP(A1665,analyse!D:E,2,FALSE)))","v":0},{"$f":"analyse!$B$1","v":0},0,0,0,0]
[null,null,{"$f":"IF(ISNA(VLOOKUP(A1666,analyse!D:E,2,FALSE))=TRUE,0,(VLOOKUP(A1666,analyse!D:E,2,FALSE)))","v":0},{"$f":"analyse!$B$1","v":0},{"$f":"D1666-C1666","v":0},{"$f":"E1666+C1666","v":0},{"$f":"IF(F1666<E1666,D1666-1,D1666)","v":0},{"$f":"IF(A1666=\"S20.G01.00.001\",H1665+1,H1665)","v":0}]
[null,null,{"$f":"IF(ISNA(VLOOKUP(A1667,analyse!D:E,2,FALSE))=TRUE,0,(VLOOKUP(A1667,analyse!D:E,2,FALSE)))","v":0},{"$f":"analyse!$B$1","v":0},0,0,0,0]
[null,null,{"$f":"IF(ISNA(VLOOKUP(A1668,analyse!D:E,2,FALSE))=TRUE,0,(VLOOKUP(A1668,analyse!D:E,2,FALSE)))","v":0},{"$f":"analyse!$B$1","v":0},0,0,0,0]
[null,null,{"$f":"IF(ISNA(VLOOKUP(A1669,analyse!D:E,2,FALSE))=TRUE,0,(VLOOKUP(A1669,analyse!D:E,2,FALSE)))","v":0},{"$f":"analyse!$B$1","v":0},0,0,0,0]
[null,null,{"$f":"IF(ISNA(VLOOKUP(A1670,analyse!D:E,2,FALSE))=TRUE,0,(VLOOKUP(A1670,analyse!D:E,2,FALSE)))","v":0},{"$f":"analyse!$B$1","v":0},0,0,0,0]
[null,null,{"$f":"IF(ISNA(VLOOKUP(A1671,analyse!D:E,2,FALSE))=TRUE,0,(VLOOKUP(A1671,analyse!D:E,2,FALSE)))","v":0},{"$f":"analyse!$B$1","v":0},0,0,0,0]
[null,null,{"$f":"IF(ISNA(VLOOKUP(A1672,analyse!D:E,2,FALSE))=TRUE,0,(VLOOKUP(A1672,analyse!D:E,2,FALSE)))","v":0},{"$f":"analyse!$B$1","v":0},0,0,0,0]
[null,null,{"$f":"IF(ISNA(VLOOKUP(A1673,analyse!D:E,2,FALSE))=TRUE,0,(VLOOKUP(A1673,analyse!D:E,2,FALSE)))","v":0},{"$f":"analyse!$B$1","v":0},0,0,0,0]
[null,null,{"$f":"IF(ISNA(VLOOKUP(A1674,analyse!D:E,2,FALSE))=TRUE,0,(VLOOKUP(A1674,analyse!D:E,2,FALSE)))","v":0},{"$f":"analyse!$B$1","v":0},0,0,0,0]
[null,null,{"$f":"IF(ISNA(VLOOKUP(A1675,analyse!D:E,2,FALSE))=TRUE,0,(VLOOKUP(A1675,analyse!D:E,2,FALSE)))","v":0},{"$f":"analyse!$B$1","v":0},0,0,0,0]
[null,null,{"$f":"IF(ISNA(VLOOKUP(A1676,analyse!D:E,2,FALSE))=TRUE,0,(VLOOKUP(A1676,analyse!D:E,2,FALSE)))","v":0},{"$f":"analyse!$B$1","v":0},0,0,0,0]
[null,null,{"$f":"IF(ISNA(VLOOKUP(A1677,analyse!D:E,2,FALSE))=TRUE,0,(VLOOKUP(A1677,analyse!D:E,2,FALSE)))","v":0},{"$f":"analyse!$B$1","v":0},0,0,0,0]
[null,null,{"$f":"IF(ISNA(VLOOKUP(A1678,analyse!D:E,2,FALSE))=TRUE,0,(VLOOKUP(A1678,analyse!D:E,2,FALSE)))","v":0},{"$f":"analyse!$B$1","v":0},0,0,0,0]
[null,null,{"$f":"IF(ISNA(VLOOKUP(A1679,analyse!D:E,2,FALSE))=TRUE,0,(VLOOKUP(A1679,analyse!D:E,2,FALSE)))","v":0},{"$f":"analyse!$B$1","v":0},0,0,0,0]
[null,null,{"$f":"IF(ISNA(VLOOKUP(A1680,analyse!D:E,2,FALSE))=TRUE,0,(VLOOKUP(A1680,analyse!D:E,2,FALSE)))","v":0},{"$f":"analyse!$B$1","v":0},0,0,0,0]
[null,null,{"$f":"IF(ISNA(VLOOKUP(A1681,analyse!D:E,2,FALSE))=TRUE,0,(VLOOKUP(A1681,analyse!D:E,2,FALSE)))","v":0},{"$f":"analyse!$B$1","v":0},0,0,0,0]
[null,null,{"$f":"IF(ISNA(VLOOKUP(A1682,analyse!D:E,2,FALSE))=TRUE,0,(VLOOKUP(A1682,analyse!D:E,2,FALSE)))","v":0},{"$f":"analyse!$B$1","v":0},0,0,0,0]
[null,null,{"$f":"IF(ISNA(VLOOKUP(A1683,analyse!D:E,2,FALSE))=TRUE,0,(VLOOKUP(A1683,analyse!D:E,2,FALSE)))","v":0},{"$f":"analyse!$B$1","v":0},0,0,0,0]
[null,null,{"$f":"IF(ISNA(VLOOKUP(A1684,analyse!D:E,2,FALSE))=TRUE,0,(VLOOKUP(A1684,analyse!D:E,2,FALSE)))","v":0},{"$f":"analyse!$B$1","v":0},0,0,0,0]
[null,null,{"$f":"IF(ISNA(VLOOKUP(A1685,analyse!D:E,2,FALSE))=TRUE,0,(VLOOKUP(A1685,analyse!D:E,2,FALSE)))","v":0},{"$f":"analyse!$B$1","v":0},0,0,0,0]
[null,null,{"$f":"IF(ISNA(VLOOKUP(A1686,analyse!D:E,2,FALSE))=TRUE,0,(VLOOKUP(A1686,analyse!D:E,2,FALSE)))","v":0},{"$f":"analyse!$B$1","v":0},0,0,0,0]
[null,null,{"$f":"IF(ISNA(VLOOKUP(A1687,analyse!D:E,2,FALSE))=TRUE,0,(VLOOKUP(A1687,analyse!D:E,2,FALSE)))","v":0},{"$f":"analyse!$B$1","v":0},0,0,0,0]
[null,null,{"$f":"IF(ISNA(VLOOKUP(A1688,analyse!D:E,2,FALSE))=TRUE,0,(VLOOKUP(A1688,analyse!D:E,2,FALSE)))","v":0},{"$f":"analyse!$B$1","v":0},0,0,0,0]
[null,null,{"$f":"IF(ISNA(VLOOKUP(A1689,analyse!D:E,2,FALSE))=TRUE,0,(VLOOKUP(A1689,analyse!D:E,2,FALSE)))","v":0},{"$f":"analyse!$B$1","v":0},0,0,0,0]
[null,null,{"$f":"IF(ISNA(VLOOKUP(A1690,analyse!D:E,2,FALSE))=TRUE,0,(VLOOKUP(A1690,analyse!D:E,2,FALSE)))","v":0},{"$f":"analyse!$B$1","v":0},0,0,0,0]
[null,null,{"$f":"IF(ISNA(VLOOKUP(A1691,analyse!D:E,2,FALSE))=TRUE,0,(VLOOKUP(A1691,analyse!D:E,2,FALSE)))","v":0},{"$f":"analyse!$B$1","v":0},0,0,0,0]
[null,null,{"$f":"IF(ISNA(VLOOKUP(A1692,analyse!D:E,2,FALSE))=TRUE,0,(VLOOKUP(A1692,analyse!D:E,2,FALSE)))","v":0},{"$f":"analyse!$B$1","v":0},0,0,0,0]
[null,null,{"$f":"IF(ISNA(VLOOKUP(A1693,analyse!D:E,2,FALSE))=TRUE,0,(VLOOKUP(A1693,analyse!D:E,2,FALSE)))","v":0},{"$f":"analyse!$B$1","v":0},0,0,0,0]
[null,null,{"$f":"IF(ISNA(VLOOKUP(A1694,analyse!D:E,2,FALSE))=TRUE,0,(VLOOKUP(A1694,analyse!D:E,2,FALSE)))","v":0},{"$f":"analyse!$B$1","v":0},0,0,0,0]
[null,null,{"$f":"IF(ISNA(VLOOKUP(A1695,analyse!D:E,2,FALSE))=TRUE,0,(VLOOKUP(A1695,analyse!D:E,2,FALSE)))","v":0},{"$f":"analyse!$B$1","v":0},0,0,0,0]
[null,null,{"$f":"IF(ISNA(VLOOKUP(A1696,analyse!D:E,2,FALSE))=TRUE,0,(VLOOKUP(A1696,analyse!D:E,2,FALSE)))","v":0},{"$f":"analyse!$B$1","v":0},0,0,0,0]
[null,null,{"$f":"IF(ISNA(VLOOKUP(A1697,analyse!D:E,2,FALSE))=TRUE,0,(VLOOKUP(A1697,analyse!D:E,2,FALSE)))","v":0},{"$f":"analyse!$B$1","v":0},0,0,0,0]
[null,null,{"$f":"IF(ISNA(VLOOKUP(A1698,analyse!D:E,2,FALSE))=TRUE,0,(VLOOKUP(A1698,analyse!D:E,2,FALSE)))","v":0},{"$f":"analyse!$B$1","v":0},0,0,0,0]
[null,null,{"$f":"IF(ISNA(VLOOKUP(A1699,analyse!D:E,2,FALSE))=TRUE,0,(VLOOKUP(A1699,analyse!D:E,2,FALSE)))","v":0},{"$f":"analyse!$B$1","v":0},0,0,0,0]
[null,null,{"$f":"IF(ISNA(VLOOKUP(A1700,analyse!D:E,2,FALSE))=TRUE,0,(VLOOKUP(A1700,analyse!D:E,2,FALSE)))","v":0},{"$f":"analyse!$B$1","v":0},0,0,0,0]
[null,null,{"$f":"IF(ISNA(VLOOKUP(A1701,analyse!D:E,2,FALSE))=TRUE,0,(VLOOKUP(A1701,analyse!D:E,2,FALSE)))","v":0},{"$f":"analyse!$B$1","v":0},0,0,0,0]
[null,null,{"$f":"IF(ISNA(VLOOKUP(A1702,analyse!D:E,2,FALSE))=TRUE,0,(VLOOKUP(A1702,analyse!D:E,2,FALSE)))","v":0},{"$f":"analyse!$B$1","v":0},0,0,0,0]
[null,null,{"$f":"IF(ISNA(VLOOKUP(A1703,analyse!D:E,2,FALSE))=TRUE,0,(VLOOKUP(A1703,analyse!D:E,2,FALSE)))","v":0},{"$f":"analyse!$B$1","v":0},0,0,0,0]
[null,null,{"$f":"IF(ISNA(VLOOKUP(A1704,analyse!D:E,2,FALSE))=TRUE,0,(VLOOKUP(A1704,analyse!D:E,2,FALSE)))","v":0},{"$f":"analyse!$B$1","v":0},0,0,0,0]
[null,null,{"$f":"IF(ISNA(VLOOKUP(A1705,analyse!D:E,2,FALSE))=TRUE,0,(VLOOKUP(A1705,analyse!D:E,2,FALSE)))","v":0},{"$f":"analyse!$B$1","v":0},0,0,0,0]
[null,null,{"$f":"IF(ISNA(VLOOKUP(A1706,analyse!D:E,2,FALSE))=TRUE,0,(VLOOKUP(A1706,analyse!D:E,2,FALSE)))","v":0},{"$f":"analyse!$B$1","v":0},0,0,0,0]
[null,null,{"$f":"IF(ISNA(VLOOKUP(A1707,analyse!D:E,2,FALSE))=TRUE,0,(VLOOKUP(A1707,analyse!D:E,2,FALSE)))","v":0},{"$f":"analyse!$B$1","v":0},0,0,0,0]
[null,null,{"$f":"IF(ISNA(VLOOKUP(A1708,analyse!D:E,2,FALSE))=TRUE,0,(VLOOKUP(A1708,analyse!D:E,2,FALSE)))","v":0},{"$f":"analyse!$B$1","v":0},0,0,0,0]
[null,null,{"$f":"IF(ISNA(VLOOKUP(A1709,analyse!D:E,2,FALSE))=TRUE,0,(VLOOKUP(A1709,analyse!D:E,2,FALSE)))","v":0},{"$f":"analyse!$B$1","v":0},0,0,0,0]
[null,null,{"$f":"IF(ISNA(VLOOKUP(A1710,analyse!D:E,2,FALSE))=TRUE,0,(VLOOKUP(A1710,analyse!D:E,2,FALSE)))","v":0},{"$f":"analyse!$B$1","v":0},0,0,0,0]
[null,null,{"$f":"IF(ISNA(VLOOKUP(A1711,analyse!D:E,2,FALSE))=TRUE,0,(VLOOKUP(A1711,analyse!D:E,2,FALSE)))","v":0},{"$f":"analyse!$B$1","v":0},0,0,0,0]
[null,null,{"$f":"IF(ISNA(VLOOKUP(A1712,analyse!D:E,2,FALSE))=TRUE,0,(VLOOKUP(A1712,analyse!D:E,2,FALSE)))","v":0},{"$f":"analyse!$B$1","v":0},0,0,0,0]
[null,null,{"$f":"IF(ISNA(VLOOKUP(A1713,analyse!D:E,2,FALSE))=TRUE,0,(VLOOKUP(A1713,analyse!D:E,2,FALSE)))","v":0},{"$f":"analyse!$B$1","v":0},0,0,0,0]
[null,null,{"$f":"IF(ISNA(VLOOKUP(A1714,analyse!D:E,2,FALSE))=TRUE,0,(VLOOKUP(A1714,analyse!D:E,2,FALSE)))","v":0},{"$f":"analyse!$B$1","v":0},0,0,0,0]
[null,null,{"$f":"IF(ISNA(VLOOKUP(A1715,analyse!D:E,2,FALSE))=TRUE,0,(VLOOKUP(A1715,analyse!D:E,2,FALSE)))","v":0},{"$f":"analyse!$B$1","v":0},0,0,0,0]
[null,null,{"$f":"IF(ISNA(VLOOKUP(A1716,analyse!D:E,2,FALSE))=TRUE,0,(VLOOKUP(A1716,analyse!D:E,2,FALSE)))","v":0},{"$f":"analyse!$B$1","v":0},0,0,0,0]
[null,null,{"$f":"IF(ISNA(VLOOKUP(A1717,analyse!D:E,2,FALSE))=TRUE,0,(VLOOKUP(A1717,analyse!D:E,2,FALSE)))","v":0},{"$f":"analyse!$B$1","v":0},0,0,0,0]
[null,null,{"$f":"IF(ISNA(VLOOKUP(A1718,analyse!D:E,2,FALSE))=TRUE,0,(VLOOKUP(A1718,analyse!D:E,2,FALSE)))","v":0},{"$f":"analyse!$B$1","v":0},0,0,0,0]
[null,null,{"$f":"IF(ISNA(VLOOKUP(A1719,analyse!D:E,2,FALSE))=TRUE,0,(VLOOKUP(A1719,analyse!D:E,2,FALSE)))","v":0},{"$f":"analyse!$B$1","v":0},0,0,0,0]
[null,null,{"$f":"IF(ISNA(VLOOKUP(A1720,analyse!D:E,2,FALSE))=TRUE,0,(VLOOKUP(A1720,analyse!D:E,2,FALSE)))","v":0},{"$f":"analyse!$B$1","v":0},0,0,0,0]
[null,null,{"$f":"IF(ISNA(VLOOKUP(A1721,analyse!D:E,2,FALSE))=TRUE,0,(VLOOKUP(A1721,analyse!D:E,2,FALSE)))","v":0},{"$f":"analyse!$B$1","v":0},0,0,0,0]
[null,null,{"$f":"IF(ISNA(VLOOKUP(A1722,analyse!D:E,2,FALSE))=TRUE,0,(VLOOKUP(A1722,analyse!D:E,2,FALSE)))","v":0},{"$f":"analyse!$B$1","v":0},0,0,0,0]
[null,null,{"$f":"IF(ISNA(VLOOKUP(A1723,analyse!D:E,2,FALSE))=TRUE,0,(VLOOKUP(A1723,analyse!D:E,2,FALSE)))","v":0},{"$f":"analyse!$B$1","v":0},0,0,0,0]
[null,null,{"$f":"IF(ISNA(VLOOKUP(A1724,analyse!D:E,2,FALSE))=TRUE,0,(VLOOKUP(A1724,analyse!D:E,2,FALSE)))","v":0},{"$f":"analyse!$B$1","v":0},0,0,0,0]
[null,null,{"$f":"IF(ISNA(VLOOKUP(A1725,analyse!D:E,2,FALSE))=TRUE,0,(VLOOKUP(A1725,analyse!D:E,2,FALSE)))","v":0},{"$f":"analyse!$B$1","v":0},0,0,0,0]
[null,null,{"$f":"IF(ISNA(VLOOKUP(A1726,analyse!D:E,2,FALSE))=TRUE,0,(VLOOKUP(A1726,analyse!D:E,2,FALSE)))","v":0},{"$f":"analyse!$B$1","v":0},0,0,0,0]
[null,null,{"$f":"IF(ISNA(VLOOKUP(A1727,analyse!D:E,2,FALSE))=TRUE,0,(VLOOKUP(A1727,analyse!D:E,2,FALSE)))","v":0},{"$f":"analyse!$B$1","v":0},0,0,0,0]
[null,null,{"$f":"IF(ISNA(VLOOKUP(A1728,analyse!D:E,2,FALSE))=TRUE,0,(VLOOKUP(A1728,analyse!D:E,2,FALSE)))","v":0},{"$f":"analyse!$B$1","v":0},0,0,0,0]
[null,null,{"$f":"IF(ISNA(VLOOKUP(A1729,analyse!D:E,2,FALSE))=TRUE,0,(VLOOKUP(A1729,analyse!D:E,2,FALSE)))","v":0},{"$f":"analyse!$B$1","v":0},0,0,0,0]
[null,null,{"$f":"IF(ISNA(VLOOKUP(A1730,analyse!D:E,2,FALSE))=TRUE,0,(VLOOKUP(A1730,analyse!D:E,2,FALSE)))","v":0},{"$f":"analyse!$B$1","v":0},{"$f":"D1730-C1730","v":0},{"$f":"E1730+C1730","v":0},{"$f":"IF(F1730<E1730,D1730-1,D1730)","v":0},{"$f":"IF(A1730=\"S20.G01.00.001\",H1729+1,H1729)","v":0}]
[null,null,{"$f":"IF(ISNA(VLOOKUP(A1731,analyse!D:E,2,FALSE))=TRUE,0,(VLOOKUP(A1731,analyse!D:E,2,FALSE)))","v":0},{"$f":"analyse!$B$1","v":0},0,0,0,0]
[null,null,{"$f":"IF(ISNA(VLOOKUP(A1732,analyse!D:E,2,FALSE))=TRUE,0,(VLOOKUP(A1732,analyse!D:E,2,FALSE)))","v":0},{"$f":"analyse!$B$1","v":0},0,0,0,0]
[null,null,{"$f":"IF(ISNA(VLOOKUP(A1733,analyse!D:E,2,FALSE))=TRUE,0,(VLOOKUP(A1733,analyse!D:E,2,FALSE)))","v":0},{"$f":"analyse!$B$1","v":0},0,0,0,0]
[null,null,{"$f":"IF(ISNA(VLOOKUP(A1734,analyse!D:E,2,FALSE))=TRUE,0,(VLOOKUP(A1734,analyse!D:E,2,FALSE)))","v":0},{"$f":"analyse!$B$1","v":0},0,0,0,0]
[null,null,{"$f":"IF(ISNA(VLOOKUP(A1735,analyse!D:E,2,FALSE))=TRUE,0,(VLOOKUP(A1735,analyse!D:E,2,FALSE)))","v":0},{"$f":"analyse!$B$1","v":0},0,0,0,0]
[null,null,{"$f":"IF(ISNA(VLOOKUP(A1736,analyse!D:E,2,FALSE))=TRUE,0,(VLOOKUP(A1736,analyse!D:E,2,FALSE)))","v":0},{"$f":"analyse!$B$1","v":0},0,0,0,0]
[null,null,{"$f":"IF(ISNA(VLOOKUP(A1737,analyse!D:E,2,FALSE))=TRUE,0,(VLOOKUP(A1737,analyse!D:E,2,FALSE)))","v":0},{"$f":"analyse!$B$1","v":0},0,0,0,0]
[null,null,{"$f":"IF(ISNA(VLOOKUP(A1738,analyse!D:E,2,FALSE))=TRUE,0,(VLOOKUP(A1738,analyse!D:E,2,FALSE)))","v":0},{"$f":"analyse!$B$1","v":0},0,0,0,0]
[null,null,{"$f":"IF(ISNA(VLOOKUP(A1739,analyse!D:E,2,FALSE))=TRUE,0,(VLOOKUP(A1739,analyse!D:E,2,FALSE)))","v":0},{"$f":"analyse!$B$1","v":0},0,0,0,0]
[null,null,{"$f":"IF(ISNA(VLOOKUP(A1740,analyse!D:E,2,FALSE))=TRUE,0,(VLOOKUP(A1740,analyse!D:E,2,FALSE)))","v":0},{"$f":"analyse!$B$1","v":0},0,0,0,0]
[null,null,{"$f":"IF(ISNA(VLOOKUP(A1741,analyse!D:E,2,FALSE))=TRUE,0,(VLOOKUP(A1741,analyse!D:E,2,FALSE)))","v":0},{"$f":"analyse!$B$1","v":0},0,0,0,0]
[null,null,{"$f":"IF(ISNA(VLOOKUP(A1742,analyse!D:E,2,FALSE))=TRUE,0,(VLOOKUP(A1742,analyse!D:E,2,FALSE)))","v":0},{"$f":"analyse!$B$1","v":0},0,0,0,0]
[null,null,{"$f":"IF(ISNA(VLOOKUP(A1743,analyse!D:E,2,FALSE))=TRUE,0,(VLOOKUP(A1743,analyse!D:E,2,FALSE)))","v":0},{"$f":"analyse!$B$1","v":0},0,0,0,0]
[null,null,{"$f":"IF(ISNA(VLOOKUP(A1744,analyse!D:E,2,FALSE))=TRUE,0,(VLOOKUP(A1744,analyse!D:E,2,FALSE)))","v":0},{"$f":"analyse!$B$1","v":0},0,0,0,0]
[null,null,{"$f":"IF(ISNA(VLOOKUP(A1745,analyse!D:E,2,FALSE))=TRUE,0,(VLOOKUP(A1745,analyse!D:E,2,FALSE)))","v":0},{"$f":"analyse!$B$1","v":0},0,0,0,0]
[null,null,{"$f":"IF(ISNA(VLOOKUP(A1746,analyse!D:E,2,FALSE))=TRUE,0,(VLOOKUP(A1746,analyse!D:E,2,FALSE)))","v":0},{"$f":"analyse!$B$1","v":0},0,0,0,0]
[null,null,{"$f":"IF(ISNA(VLOOKUP(A1747,analyse!D:E,2,FALSE))=TRUE,0,(VLOOKUP(A1747,analyse!D:E,2,FALSE)))","v":0},{"$f":"analyse!$B$1","v":0},0,0,0,0]
[null,null,{"$f":"IF(ISNA(VLOOKUP(A1748,analyse!D:E,2,FALSE))=TRUE,0,(VLOOKUP(A1748,analyse!D:E,2,FALSE)))","v":0},{"$f":"analyse!$B$1","v":0},0,0,0,0]
[null,null,{"$f":"IF(ISNA(VLOOKUP(A1749,analyse!D:E,2,FALSE))=TRUE,0,(VLOOKUP(A1749,analyse!D:E,2,FALSE)))","v":0},{"$f":"analyse!$B$1","v":0},0,0,0,0]
[null,null,{"$f":"IF(ISNA(VLOOKUP(A1750,analyse!D:E,2,FALSE))=TRUE,0,(VLOOKUP(A1750,analyse!D:E,2,FALSE)))","v":0},{"$f":"analyse!$B$1","v":0},0,0,0,0]
[null,null,{"$f":"IF(ISNA(VLOOKUP(A1751,analyse!D:E,2,FALSE))=TRUE,0,(VLOOKUP(A1751,analyse!D:E,2,FALSE)))","v":0},{"$f":"analyse!$B$1","v":0},0,0,0,0]
[null,null,{"$f":"IF(ISNA(VLOOKUP(A1752,analyse!D:E,2,FALSE))=TRUE,0,(VLOOKUP(A1752,analyse!D:E,2,FALSE)))","v":0},{"$f":"analyse!$B$1","v":0},0,0,0,0]
[null,null,{"$f":"IF(ISNA(VLOOKUP(A1753,analyse!D:E,2,FALSE))=TRUE,0,(VLOOKUP(A1753,analyse!D:E,2,FALSE)))","v":0},{"$f":"analyse!$B$1","v":0},0,0,0,0]
[null,null,{"$f":"IF(ISNA(VLOOKUP(A1754,analyse!D:E,2,FALSE))=TRUE,0,(VLOOKUP(A1754,analyse!D:E,2,FALSE)))","v":0},{"$f":"analyse!$B$1","v":0},0,0,0,0]
[null,null,{"$f":"IF(ISNA(VLOOKUP(A1755,analyse!D:E,2,FALSE))=TRUE,0,(VLOOKUP(A1755,analyse!D:E,2,FALSE)))","v":0},{"$f":"analyse!$B$1","v":0},0,0,0,0]
[null,null,{"$f":"IF(ISNA(VLOOKUP(A1756,analyse!D:E,2,FALSE))=TRUE,0,(VLOOKUP(A1756,analyse!D:E,2,FALSE)))","v":0},{"$f":"analyse!$B$1","v":0},0,0,0,0]
[null,null,{"$f":"IF(ISNA(VLOOKUP(A1757,analyse!D:E,2,FALSE))=TRUE,0,(VLOOKUP(A1757,analyse!D:E,2,FALSE)))","v":0},{"$f":"analyse!$B$1","v":0},0,0,0,0]
[null,null,{"$f":"IF(ISNA(VLOOKUP(A1758,analyse!D:E,2,FALSE))=TRUE,0,(VLOOKUP(A1758,analyse!D:E,2,FALSE)))","v":0},{"$f":"analyse!$B$1","v":0},0,0,0,0]
[null,null,{"$f":"IF(ISNA(VLOOKUP(A1759,analyse!D:E,2,FALSE))=TRUE,0,(VLOOKUP(A1759,analyse!D:E,2,FALSE)))","v":0},{"$f":"analyse!$B$1","v":0},0,0,0,0]
[null,null,{"$f":"IF(ISNA(VLOOKUP(A1760,analyse!D:E,2,FALSE))=TRUE,0,(VLOOKUP(A1760,analyse!D:E,2,FALSE)))","v":0},{"$f":"analyse!$B$1","v":0},0,0,0,0]
[null,null,{"$f":"IF(ISNA(VLOOKUP(A1761,analyse!D:E,2,FALSE))=TRUE,0,(VLOOKUP(A1761,analyse!D:E,2,FALSE)))","v":0},{"$f":"analyse!$B$1","v":0},0,0,0,0]
[null,null,{"$f":"IF(ISNA(VLOOKUP(A1762,analyse!D:E,2,FALSE))=TRUE,0,(VLOOKUP(A1762,analyse!D:E,2,FALSE)))","v":0},{"$f":"analyse!$B$1","v":0},0,0,0,0]
[null,null,{"$f":"IF(ISNA(VLOOKUP(A1763,analyse!D:E,2,FALSE))=TRUE,0,(VLOOKUP(A1763,analyse!D:E,2,FALSE)))","v":0},{"$f":"analyse!$B$1","v":0},0,0,0,0]
[null,null,{"$f":"IF(ISNA(VLOOKUP(A1764,analyse!D:E,2,FALSE))=TRUE,0,(VLOOKUP(A1764,analyse!D:E,2,FALSE)))","v":0},{"$f":"analyse!$B$1","v":0},0,0,0,0]
[null,null,{"$f":"IF(ISNA(VLOOKUP(A1765,analyse!D:E,2,FALSE))=TRUE,0,(VLOOKUP(A1765,analyse!D:E,2,FALSE)))","v":0},{"$f":"analyse!$B$1","v":0},0,0,0,0]
[null,null,{"$f":"IF(ISNA(VLOOKUP(A1766,analyse!D:E,2,FALSE))=TRUE,0,(VLOOKUP(A1766,analyse!D:E,2,FALSE)))","v":0},{"$f":"analyse!$B$1","v":0},0,0,0,0]
[null,null,{"$f":"IF(ISNA(VLOOKUP(A1767,analyse!D:E,2,FALSE))=TRUE,0,(VLOOKUP(A1767,analyse!D:E,2,FALSE)))","v":0},{"$f":"analyse!$B$1","v":0},0,0,0,0]
[null,null,{"$f":"IF(ISNA(VLOOKUP(A1768,analyse!D:E,2,FALSE))=TRUE,0,(VLOOKUP(A1768,analyse!D:E,2,FALSE)))","v":0},{"$f":"analyse!$B$1","v":0},0,0,0,0]
[null,null,{"$f":"IF(ISNA(VLOOKUP(A1769,analyse!D:E,2,FALSE))=TRUE,0,(VLOOKUP(A1769,analyse!D:E,2,FALSE)))","v":0},{"$f":"analyse!$B$1","v":0},0,0,0,0]
[null,null,{"$f":"IF(ISNA(VLOOKUP(A1770,analyse!D:E,2,FALSE))=TRUE,0,(VLOOKUP(A1770,analyse!D:E,2,FALSE)))","v":0},{"$f":"analyse!$B$1","v":0},0,0,0,0]
[null,null,{"$f":"IF(ISNA(VLOOKUP(A1771,analyse!D:E,2,FALSE))=TRUE,0,(VLOOKUP(A1771,analyse!D:E,2,FALSE)))","v":0},{"$f":"analyse!$B$1","v":0},0,0,0,0]
[null,null,{"$f":"IF(ISNA(VLOOKUP(A1772,analyse!D:E,2,FALSE))=TRUE,0,(VLOOKUP(A1772,analyse!D:E,2,FALSE)))","v":0},{"$f":"analyse!$B$1","v":0},0,0,0,0]
[null,null,{"$f":"IF(ISNA(VLOOKUP(A1773,analyse!D:E,2,FALSE))=TRUE,0,(VLOOKUP(A1773,analyse!D:E,2,FALSE)))","v":0},{"$f":"analyse!$B$1","v":0},0,0,0,0]
[null,null,{"$f":"IF(ISNA(VLOOKUP(A1774,analyse!D:E,2,FALSE))=TRUE,0,(VLOOKUP(A1774,analyse!D:E,2,FALSE)))","v":0},{"$f":"analyse!$B$1","v":0},0,0,0,0]
[null,null,{"$f":"IF(ISNA(VLOOKUP(A1775,analyse!D:E,2,FALSE))=TRUE,0,(VLOOKUP(A1775,analyse!D:E,2,FALSE)))","v":0},{"$f":"analyse!$B$1","v":0},0,0,0,0]
[null,null,{"$f":"IF(ISNA(VLOOKUP(A1776,analyse!D:E,2,FALSE))=TRUE,0,(VLOOKUP(A1776,analyse!D:E,2,FALSE)))","v":0},{"$f":"analyse!$B$1","v":0},0,0,0,0]
[null,null,{"$f":"IF(ISNA(VLOOKUP(A1777,analyse!D:E,2,FALSE))=TRUE,0,(VLOOKUP(A1777,analyse!D:E,2,FALSE)))","v":0},{"$f":"analyse!$B$1","v":0},0,0,0,0]
[null,null,{"$f":"IF(ISNA(VLOOKUP(A1778,analyse!D:E,2,FALSE))=TRUE,0,(VLOOKUP(A1778,analyse!D:E,2,FALSE)))","v":0},{"$f":"analyse!$B$1","v":0},0,0,0,0]
[null,null,{"$f":"IF(ISNA(VLOOKUP(A1779,analyse!D:E,2,FALSE))=TRUE,0,(VLOOKUP(A1779,analyse!D:E,2,FALSE)))","v":0},{"$f":"analyse!$B$1","v":0},0,0,0,0]
[null,null,{"$f":"IF(ISNA(VLOOKUP(A1780,analyse!D:E,2,FALSE))=TRUE,0,(VLOOKUP(A1780,analyse!D:E,2,FALSE)))","v":0},{"$f":"analyse!$B$1","v":0},0,0,0,0]
[null,null,{"$f":"IF(ISNA(VLOOKUP(A1781,analyse!D:E,2,FALSE))=TRUE,0,(VLOOKUP(A1781,analyse!D:E,2,FALSE)))","v":0},{"$f":"analyse!$B$1","v":0},0,0,0,0]
[null,null,{"$f":"IF(ISNA(VLOOKUP(A1782,analyse!D:E,2,FALSE))=TRUE,0,(VLOOKUP(A1782,analyse!D:E,2,FALSE)))","v":0},{"$f":"analyse!$B$1","v":0},0,0,0,0]
[null,null,{"$f":"IF(ISNA(VLOOKUP(A1783,analyse!D:E,2,FALSE))=TRUE,0,(VLOOKUP(A1783,analyse!D:E,2,FALSE)))","v":0},{"$f":"analyse!$B$1","v":0},0,0,0,0]
[null,null,{"$f":"IF(ISNA(VLOOKUP(A1784,analyse!D:E,2,FALSE))=TRUE,0,(VLOOKUP(A1784,analyse!D:E,2,FALSE)))","v":0},{"$f":"analyse!$B$1","v":0},0,0,0,0]
[null,null,{"$f":"IF(ISNA(VLOOKUP(A1785,analyse!D:E,2,FALSE))=TRUE,0,(VLOOKUP(A1785,analyse!D:E,2,FALSE)))","v":0},{"$f":"analyse!$B$1","v":0},0,0,0,0]
[null,null,{"$f":"IF(ISNA(VLOOKUP(A1786,analyse!D:E,2,FALSE))=TRUE,0,(VLOOKUP(A1786,analyse!D:E,2,FALSE)))","v":0},{"$f":"analyse!$B$1","v":0},0,0,0,0]
[null,null,{"$f":"IF(ISNA(VLOOKUP(A1787,analyse!D:E,2,FALSE))=TRUE,0,(VLOOKUP(A1787,analyse!D:E,2,FALSE)))","v":0},{"$f":"analyse!$B$1","v":0},0,0,0,0]
[null,null,{"$f":"IF(ISNA(VLOOKUP(A1788,analyse!D:E,2,FALSE))=TRUE,0,(VLOOKUP(A1788,analyse!D:E,2,FALSE)))","v":0},{"$f":"analyse!$B$1","v":0},0,0,0,0]
[null,null,{"$f":"IF(ISNA(VLOOKUP(A1789,analyse!D:E,2,FALSE))=TRUE,0,(VLOOKUP(A1789,analyse!D:E,2,FALSE)))","v":0},{"$f":"analyse!$B$1","v":0},0,0,0,0]
[null,null,{"$f":"IF(ISNA(VLOOKUP(A1790,analyse!D:E,2,FALSE))=TRUE,0,(VLOOKUP(A1790,analyse!D:E,2,FALSE)))","v":0},{"$f":"analyse!$B$1","v":0},0,0,0,0]
[null,null,{"$f":"IF(ISNA(VLOOKUP(A1791,analyse!D:E,2,FALSE))=TRUE,0,(VLOOKUP(A1791,analyse!D:E,2,FALSE)))","v":0},{"$f":"analyse!$B$1","v":0},0,0,0,0]
[null,null,{"$f":"IF(ISNA(VLOOKUP(A1792,analyse!D:E,2,FALSE))=TRUE,0,(VLOOKUP(A1792,analyse!D:E,2,FALSE)))","v":0},{"$f":"analyse!$B$1","v":0},0,0,0,0]
[null,null,{"$f":"IF(ISNA(VLOOKUP(A1793,analyse!D:E,2,FALSE))=TRUE,0,(VLOOKUP(A1793,analyse!D:E,2,FALSE)))","v":0},{"$f":"analyse!$B$1","v":0},0,0,0,0]
[null,null,{"$f":"IF(ISNA(VLOOKUP(A1794,analyse!D:E,2,FALSE))=TRUE,0,(VLOOKUP(A1794,analyse!D:E,2,FALSE)))","v":0},{"$f":"analyse!$B$1","v":0},{"$f":"D1794-C1794","v":0},{"$f":"E1794+C1794","v":0},{"$f":"IF(F1794<E1794,D1794-1,D1794)","v":0},{"$f":"IF(A1794=\"S20.G01.00.001\",H1793+1,H1793)","v":0}]
[null,null,{"$f":"IF(ISNA(VLOOKUP(A1795,analyse!D:E,2,FALSE))=TRUE,0,(VLOOKUP(A1795,analyse!D:E,2,FALSE)))","v":0},{"$f":"analyse!$B$1","v":0},0,0,0,0]
[null,null,{"$f":"IF(ISNA(VLOOKUP(A1796,analyse!D:E,2,FALSE))=TRUE,0,(VLOOKUP(A1796,analyse!D:E,2,FALSE)))","v":0},{"$f":"analyse!$B$1","v":0},0,0,0,0]
[null,null,{"$f":"IF(ISNA(VLOOKUP(A1797,analyse!D:E,2,FALSE))=TRUE,0,(VLOOKUP(A1797,analyse!D:E,2,FALSE)))","v":0},{"$f":"analyse!$B$1","v":0},0,0,0,0]
[null,null,{"$f":"IF(ISNA(VLOOKUP(A1798,analyse!D:E,2,FALSE))=TRUE,0,(VLOOKUP(A1798,analyse!D:E,2,FALSE)))","v":0},{"$f":"analyse!$B$1","v":0},0,0,0,0]
[null,null,{"$f":"IF(ISNA(VLOOKUP(A1799,analyse!D:E,2,FALSE))=TRUE,0,(VLOOKUP(A1799,analyse!D:E,2,FALSE)))","v":0},{"$f":"analyse!$B$1","v":0},0,0,0,0]
[null,null,{"$f":"IF(ISNA(VLOOKUP(A1800,analyse!D:E,2,FALSE))=TRUE,0,(VLOOKUP(A1800,analyse!D:E,2,FALSE)))","v":0},{"$f":"analyse!$B$1","v":0},0,0,0,0]
[null,null,{"$f":"IF(ISNA(VLOOKUP(A1801,analyse!D:E,2,FALSE))=TRUE,0,(VLOOKUP(A1801,analyse!D:E,2,FALSE)))","v":0},{"$f":"analyse!$B$1","v":0},0,0,0,0]
[null,null,{"$f":"IF(ISNA(VLOOKUP(A1802,analyse!D:E,2,FALSE))=TRUE,0,(VLOOKUP(A1802,analyse!D:E,2,FALSE)))","v":0},{"$f":"analyse!$B$1","v":0},0,0,0,0]
[null,null,{"$f":"IF(ISNA(VLOOKUP(A1803,analyse!D:E,2,FALSE))=TRUE,0,(VLOOKUP(A1803,analyse!D:E,2,FALSE)))","v":0},{"$f":"analyse!$B$1","v":0},0,0,0,0]
[null,null,{"$f":"IF(ISNA(VLOOKUP(A1804,analyse!D:E,2,FALSE))=TRUE,0,(VLOOKUP(A1804,analyse!D:E,2,FALSE)))","v":0},{"$f":"analyse!$B$1","v":0},0,0,0,0]
[null,null,{"$f":"IF(ISNA(VLOOKUP(A1805,analyse!D:E,2,FALSE))=TRUE,0,(VLOOKUP(A1805,analyse!D:E,2,FALSE)))","v":0},{"$f":"analyse!$B$1","v":0},0,0,0,0]
[null,null,{"$f":"IF(ISNA(VLOOKUP(A1806,analyse!D:E,2,FALSE))=TRUE,0,(VLOOKUP(A1806,analyse!D:E,2,FALSE)))","v":0},{"$f":"analyse!$B$1","v":0},0,0,0,0]
[null,null,{"$f":"IF(ISNA(VLOOKUP(A1807,analyse!D:E,2,FALSE))=TRUE,0,(VLOOKUP(A1807,analyse!D:E,2,FALSE)))","v":0},{"$f":"analyse!$B$1","v":0},0,0,0,0]
[null,null,{"$f":"IF(ISNA(VLOOKUP(A1808,analyse!D:E,2,FALSE))=TRUE,0,(VLOOKUP(A1808,analyse!D:E,2,FALSE)))","v":0},{"$f":"analyse!$B$1","v":0},0,0,0,0]
[null,null,{"$f":"IF(ISNA(VLOOKUP(A1809,analyse!D:E,2,FALSE))=TRUE,0,(VLOOKUP(A1809,analyse!D:E,2,FALSE)))","v":0},{"$f":"analyse!$B$1","v":0},0,0,0,0]
[null,null,{"$f":"IF(ISNA(VLOOKUP(A1810,analyse!D:E,2,FALSE))=TRUE,0,(VLOOKUP(A1810,analyse!D:E,2,FALSE)))","v":0},{"$f":"analyse!$B$1","v":0},0,0,0,0]
[null,null,{"$f":"IF(ISNA(VLOOKUP(A1811,analyse!D:E,2,FALSE))=TRUE,0,(VLOOKUP(A1811,analyse!D:E,2,FALSE)))","v":0},{"$f":"analyse!$B$1","v":0},0,0,0,0]
[null,null,{"$f":"IF(ISNA(VLOOKUP(A1812,analyse!D:E,2,FALSE))=TRUE,0,(VLOOKUP(A1812,analyse!D:E,2,FALSE)))","v":0},{"$f":"analyse!$B$1","v":0},0,0,0,0]
[null,null,{"$f":"IF(ISNA(VLOOKUP(A1813,analyse!D:E,2,FALSE))=TRUE,0,(VLOOKUP(A1813,analyse!D:E,2,FALSE)))","v":0},{"$f":"analyse!$B$1","v":0},0,0,0,0]
[null,null,{"$f":"IF(ISNA(VLOOKUP(A1814,analyse!D:E,2,FALSE))=TRUE,0,(VLOOKUP(A1814,analyse!D:E,2,FALSE)))","v":0},{"$f":"analyse!$B$1","v":0},0,0,0,0]
[null,null,{"$f":"IF(ISNA(VLOOKUP(A1815,analyse!D:E,2,FALSE))=TRUE,0,(VLOOKUP(A1815,analyse!D:E,2,FALSE)))","v":0},{"$f":"analyse!$B$1","v":0},0,0,0,0]
[null,null,{"$f":"IF(ISNA(VLOOKUP(A1816,analyse!D:E,2,FALSE))=TRUE,0,(VLOOKUP(A1816,analyse!D:E,2,FALSE)))","v":0},{"$f":"analyse!$B$1","v":0},0,0,0,0]
[null,null,{"$f":"IF(ISNA(VLOOKUP(A1817,analyse!D:E,2,FALSE))=TRUE,0,(VLOOKUP(A1817,analyse!D:E,2,FALSE)))","v":0},{"$f":"analyse!$B$1","v":0},0,0,0,0]
[null,null,{"$f":"IF(ISNA(VLOOKUP(A1818,analyse!D:E,2,FALSE))=TRUE,0,(VLOOKUP(A1818,analyse!D:E,2,FALSE)))","v":0},{"$f":"analyse!$B$1","v":0},0,0,0,0]
[null,null,{"$f":"IF(ISNA(VLOOKUP(A1819,analyse!D:E,2,FALSE))=TRUE,0,(VLOOKUP(A1819,analyse!D:E,2,FALSE)))","v":0},{"$f":"analyse!$B$1","v":0},0,0,0,0]
[null,null,{"$f":"IF(ISNA(VLOOKUP(A1820,analyse!D:E,2,FALSE))=TRUE,0,(VLOOKUP(A1820,analyse!D:E,2,FALSE)))","v":0},{"$f":"analyse!$B$1","v":0},0,0,0,0]
[null,null,{"$f":"IF(ISNA(VLOOKUP(A1821,analyse!D:E,2,FALSE))=TRUE,0,(VLOOKUP(A1821,analyse!D:E,2,FALSE)))","v":0},{"$f":"analyse!$B$1","v":0},0,0,0,0]
[null,null,{"$f":"IF(ISNA(VLOOKUP(A1822,analyse!D:E,2,FALSE))=TRUE,0,(VLOOKUP(A1822,analyse!D:E,2,FALSE)))","v":0},{"$f":"analyse!$B$1","v":0},0,0,0,0]
[null,null,{"$f":"IF(ISNA(VLOOKUP(A1823,analyse!D:E,2,FALSE))=TRUE,0,(VLOOKUP(A1823,analyse!D:E,2,FALSE)))","v":0},{"$f":"analyse!$B$1","v":0},0,0,0,0]
[null,null,{"$f":"IF(ISNA(VLOOKUP(A1824,analyse!D:E,2,FALSE))=TRUE,0,(VLOOKUP(A1824,analyse!D:E,2,FALSE)))","v":0},{"$f":"analyse!$B$1","v":0},0,0,0,0]
[null,null,{"$f":"IF(ISNA(VLOOKUP(A1825,analyse!D:E,2,FALSE))=TRUE,0,(VLOOKUP(A1825,analyse!D:E,2,FALSE)))","v":0},{"$f":"analyse!$B$1","v":0},0,0,0,0]
[null,null,{"$f":"IF(ISNA(VLOOKUP(A1826,analyse!D:E,2,FALSE))=TRUE,0,(VLOOKUP(A1826,analyse!D:E,2,FALSE)))","v":0},{"$f":"analyse!$B$1","v":0},0,0,0,0]
[null,null,{"$f":"IF(ISNA(VLOOKUP(A1827,analyse!D:E,2,FALSE))=TRUE,0,(VLOOKUP(A1827,analyse!D:E,2,FALSE)))","v":0},{"$f":"analyse!$B$1","v":0},0,0,0,0]
[null,null,{"$f":"IF(ISNA(VLOOKUP(A1828,analyse!D:E,2,FALSE))=TRUE,0,(VLOOKUP(A1828,analyse!D:E,2,FALSE)))","v":0},{"$f":"analyse!$B$1","v":0},0,0,0,0]
[null,null,{"$f":"IF(ISNA(VLOOKUP(A1829,analyse!D:E,2,FALSE))=TRUE,0,(VLOOKUP(A1829,analyse!D:E,2,FALSE)))","v":0},{"$f":"analyse!$B$1","v":0},0,0,0,0]
[null,null,{"$f":"IF(ISNA(VLOOKUP(A1830,analyse!D:E,2,FALSE))=TRUE,0,(VLOOKUP(A1830,analyse!D:E,2,FALSE)))","v":0},{"$f":"analyse!$B$1","v":0},0,0,0,0]
[null,null,{"$f":"IF(ISNA(VLOOKUP(A1831,analyse!D:E,2,FALSE))=TRUE,0,(VLOOKUP(A1831,analyse!D:E,2,FALSE)))","v":0},{"$f":"analyse!$B$1","v":0},0,0,0,0]
[null,null,{"$f":"IF(ISNA(VLOOKUP(A1832,analyse!D:E,2,FALSE))=TRUE,0,(VLOOKUP(A1832,analyse!D:E,2,FALSE)))","v":0},{"$f":"analyse!$B$1","v":0},0,0,0,0]
[null,null,{"$f":"IF(ISNA(VLOOKUP(A1833,analyse!D:E,2,FALSE))=TRUE,0,(VLOOKUP(A1833,analyse!D:E,2,FALSE)))","v":0},{"$f":"analyse!$B$1","v":0},0,0,0,0]
[null,null,{"$f":"IF(ISNA(VLOOKUP(A1834,analyse!D:E,2,FALSE))=TRUE,0,(VLOOKUP(A1834,analyse!D:E,2,FALSE)))","v":0},{"$f":"analyse!$B$1","v":0},0,0,0,0]
[null,null,{"$f":"IF(ISNA(VLOOKUP(A1835,analyse!D:E,2,FALSE))=TRUE,0,(VLOOKUP(A1835,analyse!D:E,2,FALSE)))","v":0},{"$f":"analyse!$B$1","v":0},0,0,0,0]
[null,null,{"$f":"IF(ISNA(VLOOKUP(A1836,analyse!D:E,2,FALSE))=TRUE,0,(VLOOKUP(A1836,analyse!D:E,2,FALSE)))","v":0},{"$f":"analyse!$B$1","v":0},0,0,0,0]
[null,null,{"$f":"IF(ISNA(VLOOKUP(A1837,analyse!D:E,2,FALSE))=TRUE,0,(VLOOKUP(A1837,analyse!D:E,2,FALSE)))","v":0},{"$f":"analyse!$B$1","v":0},0,0,0,0]
[null,null,{"$f":"IF(ISNA(VLOOKUP(A1838,analyse!D:E,2,FALSE))=TRUE,0,(VLOOKUP(A1838,analyse!D:E,2,FALSE)))","v":0},{"$f":"analyse!$B$1","v":0},0,0,0,0]
[null,null,{"$f":"IF(ISNA(VLOOKUP(A1839,analyse!D:E,2,FALSE))=TRUE,0,(VLOOKUP(A1839,analyse!D:E,2,FALSE)))","v":0},{"$f":"analyse!$B$1","v":0},0,0,0,0]
[null,null,{"$f":"IF(ISNA(VLOOKUP(A1840,analyse!D:E,2,FALSE))=TRUE,0,(VLOOKUP(A1840,analyse!D:E,2,FALSE)))","v":0},{"$f":"analyse!$B$1","v":0},0,0,0,0]
[null,null,{"$f":"IF(ISNA(VLOOKUP(A1841,analyse!D:E,2,FALSE))=TRUE,0,(VLOOKUP(A1841,analyse!D:E,2,FALSE)))","v":0},{"$f":"analyse!$B$1","v":0},0,0,0,0]
[null,null,{"$f":"IF(ISNA(VLOOKUP(A1842,analyse!D:E,2,FALSE))=TRUE,0,(VLOOKUP(A1842,analyse!D:E,2,FALSE)))","v":0},{"$f":"analyse!$B$1","v":0},0,0,0,0]
[null,null,{"$f":"IF(ISNA(VLOOKUP(A1843,analyse!D:E,2,FALSE))=TRUE,0,(VLOOKUP(A1843,analyse!D:E,2,FALSE)))","v":0},{"$f":"analyse!$B$1","v":0},0,0,0,0]
[null,null,{"$f":"IF(ISNA(VLOOKUP(A1844,analyse!D:E,2,FALSE))=TRUE,0,(VLOOKUP(A1844,analyse!D:E,2,FALSE)))","v":0},{"$f":"analyse!$B$1","v":0},0,0,0,0]
[null,null,{"$f":"IF(ISNA(VLOOKUP(A1845,analyse!D:E,2,FALSE))=TRUE,0,(VLOOKUP(A1845,analyse!D:E,2,FALSE)))","v":0},{"$f":"analyse!$B$1","v":0},0,0,0,0]
[null,null,{"$f":"IF(ISNA(VLOOKUP(A1846,analyse!D:E,2,FALSE))=TRUE,0,(VLOOKUP(A1846,analyse!D:E,2,FALSE)))","v":0},{"$f":"analyse!$B$1","v":0},0,0,0,0]
[null,null,{"$f":"IF(ISNA(VLOOKUP(A1847,analyse!D:E,2,FALSE))=TRUE,0,(VLOOKUP(A1847,analyse!D:E,2,FALSE)))","v":0},{"$f":"analyse!$B$1","v":0},0,0,0,0]
[null,null,{"$f":"IF(ISNA(VLOOKUP(A1848,analyse!D:E,2,FALSE))=TRUE,0,(VLOOKUP(A1848,analyse!D:E,2,FALSE)))","v":0},{"$f":"analyse!$B$1","v":0},0,0,0,0]
[null,null,{"$f":"IF(ISNA(VLOOKUP(A1849,analyse!D:E,2,FALSE))=TRUE,0,(VLOOKUP(A1849,analyse!D:E,2,FALSE)))","v":0},{"$f":"analyse!$B$1","v":0},0,0,0,0]
[null,null,{"$f":"IF(ISNA(VLOOKUP(A1850,analyse!D:E,2,FALSE))=TRUE,0,(VLOOKUP(A1850,analyse!D:E,2,FALSE)))","v":0},{"$f":"analyse!$B$1","v":0},0,0,0,0]
[null,null,{"$f":"IF(ISNA(VLOOKUP(A1851,analyse!D:E,2,FALSE))=TRUE,0,(VLOOKUP(A1851,analyse!D:E,2,FALSE)))","v":0},{"$f":"analyse!$B$1","v":0},0,0,0,0]
[null,null,{"$f":"IF(ISNA(VLOOKUP(A1852,analyse!D:E,2,FALSE))=TRUE,0,(VLOOKUP(A1852,analyse!D:E,2,FALSE)))","v":0},{"$f":"analyse!$B$1","v":0},0,0,0,0]
[null,null,{"$f":"IF(ISNA(VLOOKUP(A1853,analyse!D:E,2,FALSE))=TRUE,0,(VLOOKUP(A1853,analyse!D:E,2,FALSE)))","v":0},{"$f":"analyse!$B$1","v":0},0,0,0,0]
[null,null,{"$f":"IF(ISNA(VLOOKUP(A1854,analyse!D:E,2,FALSE))=TRUE,0,(VLOOKUP(A1854,analyse!D:E,2,FALSE)))","v":0},{"$f":"analyse!$B$1","v":0},0,0,0,0]
[null,null,{"$f":"IF(ISNA(VLOOKUP(A1855,analyse!D:E,2,FALSE))=TRUE,0,(VLOOKUP(A1855,analyse!D:E,2,FALSE)))","v":0},{"$f":"analyse!$B$1","v":0},0,0,0,0]
[null,null,{"$f":"IF(ISNA(VLOOKUP(A1856,analyse!D:E,2,FALSE))=TRUE,0,(VLOOKUP(A1856,analyse!D:E,2,FALSE)))","v":0},{"$f":"analyse!$B$1","v":0},0,0,0,0]
[null,null,{"$f":"IF(ISNA(VLOOKUP(A1857,analyse!D:E,2,FALSE))=TRUE,0,(VLOOKUP(A1857,analyse!D:E,2,FALSE)))","v":0},{"$f":"analyse!$B$1","v":0},0,0,0,0]
[null,null,{"$f":"IF(ISNA(VLOOKUP(A1858,analyse!D:E,2,FALSE))=TRUE,0,(VLOOKUP(A1858,analyse!D:E,2,FALSE)))","v":0},{"$f":"analyse!$B$1","v":0},{"$f":"D1858-C1858","v":0},{"$f":"E1858+C1858","v":0},{"$f":"IF(F1858<E1858,D1858-1,D1858)","v":0},{"$f":"IF(A1858=\"S20.G01.00.001\",H1857+1,H1857)","v":0}]
[null,null,{"$f":"IF(ISNA(VLOOKUP(A1859,analyse!D:E,2,FALSE))=TRUE,0,(VLOOKUP(A1859,analyse!D:E,2,FALSE)))","v":0},{"$f":"analyse!$B$1","v":0},0,0,0,0]
[null,null,{"$f":"IF(ISNA(VLOOKUP(A1860,analyse!D:E,2,FALSE))=TRUE,0,(VLOOKUP(A1860,analyse!D:E,2,FALSE)))","v":0},{"$f":"analyse!$B$1","v":0},0,0,0,0]
[null,null,{"$f":"IF(ISNA(VLOOKUP(A1861,analyse!D:E,2,FALSE))=TRUE,0,(VLOOKUP(A1861,analyse!D:E,2,FALSE)))","v":0},{"$f":"analyse!$B$1","v":0},0,0,0,0]
[null,null,{"$f":"IF(ISNA(VLOOKUP(A1862,analyse!D:E,2,FALSE))=TRUE,0,(VLOOKUP(A1862,analyse!D:E,2,FALSE)))","v":0},{"$f":"analyse!$B$1","v":0},0,0,0,0]
[null,null,{"$f":"IF(ISNA(VLOOKUP(A1863,analyse!D:E,2,FALSE))=TRUE,0,(VLOOKUP(A1863,analyse!D:E,2,FALSE)))","v":0},{"$f":"analyse!$B$1","v":0},0,0,0,0]
[null,null,{"$f":"IF(ISNA(VLOOKUP(A1864,analyse!D:E,2,FALSE))=TRUE,0,(VLOOKUP(A1864,analyse!D:E,2,FALSE)))","v":0},{"$f":"analyse!$B$1","v":0},0,0,0,0]
[null,null,{"$f":"IF(ISNA(VLOOKUP(A1865,analyse!D:E,2,FALSE))=TRUE,0,(VLOOKUP(A1865,analyse!D:E,2,FALSE)))","v":0},{"$f":"analyse!$B$1","v":0},0,0,0,0]
[null,null,{"$f":"IF(ISNA(VLOOKUP(A1866,analyse!D:E,2,FALSE))=TRUE,0,(VLOOKUP(A1866,analyse!D:E,2,FALSE)))","v":0},{"$f":"analyse!$B$1","v":0},0,0,0,0]
[null,null,{"$f":"IF(ISNA(VLOOKUP(A1867,analyse!D:E,2,FALSE))=TRUE,0,(VLOOKUP(A1867,analyse!D:E,2,FALSE)))","v":0},{"$f":"analyse!$B$1","v":0},0,0,0,0]
[null,null,{"$f":"IF(ISNA(VLOOKUP(A1868,analyse!D:E,2,FALSE))=TRUE,0,(VLOOKUP(A1868,analyse!D:E,2,FALSE)))","v":0},{"$f":"analyse!$B$1","v":0},0,0,0,0]
[null,null,{"$f":"IF(ISNA(VLOOKUP(A1869,analyse!D:E,2,FALSE))=TRUE,0,(VLOOKUP(A1869,analyse!D:E,2,FALSE)))","v":0},{"$f":"analyse!$B$1","v":0},0,0,0,0]
[null,null,{"$f":"IF(ISNA(VLOOKUP(A1870,analyse!D:E,2,FALSE))=TRUE,0,(VLOOKUP(A1870,analyse!D:E,2,FALSE)))","v":0},{"$f":"analyse!$B$1","v":0},0,0,0,0]
[null,null,{"$f":"IF(ISNA(VLOOKUP(A1871,analyse!D:E,2,FALSE))=TRUE,0,(VLOOKUP(A1871,analyse!D:E,2,FALSE)))","v":0},{"$f":"analyse!$B$1","v":0},0,0,0,0]
[null,null,{"$f":"IF(ISNA(VLOOKUP(A1872,analyse!D:E,2,FALSE))=TRUE,0,(VLOOKUP(A1872,analyse!D:E,2,FALSE)))","v":0},{"$f":"analyse!$B$1","v":0},0,0,0,0]
[null,null,{"$f":"IF(ISNA(VLOOKUP(A1873,analyse!D:E,2,FALSE))=TRUE,0,(VLOOKUP(A1873,analyse!D:E,2,FALSE)))","v":0},{"$f":"analyse!$B$1","v":0},0,0,0,0]
[null,null,{"$f":"IF(ISNA(VLOOKUP(A1874,analyse!D:E,2,FALSE))=TRUE,0,(VLOOKUP(A1874,analyse!D:E,2,FALSE)))","v":0},{"$f":"analyse!$B$1","v":0},0,0,0,0]
[null,null,{"$f":"IF(ISNA(VLOOKUP(A1875,analyse!D:E,2,FALSE))=TRUE,0,(VLOOKUP(A1875,analyse!D:E,2,FALSE)))","v":0},{"$f":"analyse!$B$1","v":0},0,0,0,0]
[null,null,{"$f":"IF(ISNA(VLOOKUP(A1876,analyse!D:E,2,FALSE))=TRUE,0,(VLOOKUP(A1876,analyse!D:E,2,FALSE)))","v":0},{"$f":"analyse!$B$1","v":0},0,0,0,0]
[null,null,{"$f":"IF(ISNA(VLOOKUP(A1877,analyse!D:E,2,FALSE))=TRUE,0,(VLOOKUP(A1877,analyse!D:E,2,FALSE)))","v":0},{"$f":"analyse!$B$1","v":0},0,0,0,0]
[null,null,{"$f":"IF(ISNA(VLOOKUP(A1878,analyse!D:E,2,FALSE))=TRUE,0,(VLOOKUP(A1878,analyse!D:E,2,FALSE)))","v":0},{"$f":"analyse!$B$1","v":0},0,0,0,0]
[null,null,{"$f":"IF(ISNA(VLOOKUP(A1879,analyse!D:E,2,FALSE))=TRUE,0,(VLOOKUP(A1879,analyse!D:E,2,FALSE)))","v":0},{"$f":"analyse!$B$1","v":0},0,0,0,0]
[null,null,{"$f":"IF(ISNA(VLOOKUP(A1880,analyse!D:E,2,FALSE))=TRUE,0,(VLOOKUP(A1880,analyse!D:E,2,FALSE)))","v":0},{"$f":"analyse!$B$1","v":0},0,0,0,0]
[null,null,{"$f":"IF(ISNA(VLOOKUP(A1881,analyse!D:E,2,FALSE))=TRUE,0,(VLOOKUP(A1881,analyse!D:E,2,FALSE)))","v":0},{"$f":"analyse!$B$1","v":0},0,0,0,0]
[null,null,{"$f":"IF(ISNA(VLOOKUP(A1882,analyse!D:E,2,FALSE))=TRUE,0,(VLOOKUP(A1882,analyse!D:E,2,FALSE)))","v":0},{"$f":"analyse!$B$1","v":0},0,0,0,0]
[null,null,{"$f":"IF(ISNA(VLOOKUP(A1883,analyse!D:E,2,FALSE))=TRUE,0,(VLOOKUP(A1883,analyse!D:E,2,FALSE)))","v":0},{"$f":"analyse!$B$1","v":0},0,0,0,0]
[null,null,{"$f":"IF(ISNA(VLOOKUP(A1884,analyse!D:E,2,FALSE))=TRUE,0,(VLOOKUP(A1884,analyse!D:E,2,FALSE)))","v":0},{"$f":"analyse!$B$1","v":0},0,0,0,0]
[null,null,{"$f":"IF(ISNA(VLOOKUP(A1885,analyse!D:E,2,FALSE))=TRUE,0,(VLOOKUP(A1885,analyse!D:E,2,FALSE)))","v":0},{"$f":"analyse!$B$1","v":0},0,0,0,0]
[null,null,{"$f":"IF(ISNA(VLOOKUP(A1886,analyse!D:E,2,FALSE))=TRUE,0,(VLOOKUP(A1886,analyse!D:E,2,FALSE)))","v":0},{"$f":"analyse!$B$1","v":0},0,0,0,0]
[null,null,{"$f":"IF(ISNA(VLOOKUP(A1887,analyse!D:E,2,FALSE))=TRUE,0,(VLOOKUP(A1887,analyse!D:E,2,FALSE)))","v":0},{"$f":"analyse!$B$1","v":0},0,0,0,0]
[null,null,{"$f":"IF(ISNA(VLOOKUP(A1888,analyse!D:E,2,FALSE))=TRUE,0,(VLOOKUP(A1888,analyse!D:E,2,FALSE)))","v":0},{"$f":"analyse!$B$1","v":0},0,0,0,0]
[null,null,{"$f":"IF(ISNA(VLOOKUP(A1889,analyse!D:E,2,FALSE))=TRUE,0,(VLOOKUP(A1889,analyse!D:E,2,FALSE)))","v":0},{"$f":"analyse!$B$1","v":0},0,0,0,0]
[null,null,{"$f":"IF(ISNA(VLOOKUP(A1890,analyse!D:E,2,FALSE))=TRUE,0,(VLOOKUP(A1890,analyse!D:E,2,FALSE)))","v":0},{"$f":"analyse!$B$1","v":0},0,0,0,0]
[null,null,{"$f":"IF(ISNA(VLOOKUP(A1891,analyse!D:E,2,FALSE))=TRUE,0,(VLOOKUP(A1891,analyse!D:E,2,FALSE)))","v":0},{"$f":"analyse!$B$1","v":0},0,0,0,0]
[null,null,{"$f":"IF(ISNA(VLOOKUP(A1892,analyse!D:E,2,FALSE))=TRUE,0,(VLOOKUP(A1892,analyse!D:E,2,FALSE)))","v":0},{"$f":"analyse!$B$1","v":0},0,0,0,0]
[null,null,{"$f":"IF(ISNA(VLOOKUP(A1893,analyse!D:E,2,FALSE))=TRUE,0,(VLOOKUP(A1893,analyse!D:E,2,FALSE)))","v":0},{"$f":"analyse!$B$1","v":0},0,0,0,0]
[null,null,{"$f":"IF(ISNA(VLOOKUP(A1894,analyse!D:E,2,FALSE))=TRUE,0,(VLOOKUP(A1894,analyse!D:E,2,FALSE)))","v":0},{"$f":"analyse!$B$1","v":0},0,0,0,0]
[null,null,{"$f":"IF(ISNA(VLOOKUP(A1895,analyse!D:E,2,FALSE))=TRUE,0,(VLOOKUP(A1895,analyse!D:E,2,FALSE)))","v":0},{"$f":"analyse!$B$1","v":0},0,0,0,0]
[null,null,{"$f":"IF(ISNA(VLOOKUP(A1896,analyse!D:E,2,FALSE))=TRUE,0,(VLOOKUP(A1896,analyse!D:E,2,FALSE)))","v":0},{"$f":"analyse!$B$1","v":0},0,0,0,0]
[null,null,{"$f":"IF(ISNA(VLOOKUP(A1897,analyse!D:E,2,FALSE))=TRUE,0,(VLOOKUP(A1897,analyse!D:E,2,FALSE)))","v":0},{"$f":"analyse!$B$1","v":0},0,0,0,0]
[null,null,{"$f":"IF(ISNA(VLOOKUP(A1898,analyse!D:E,2,FALSE))=TRUE,0,(VLOOKUP(A1898,analyse!D:E,2,FALSE)))","v":0},{"$f":"analyse!$B$1","v":0},0,0,0,0]
[null,null,{"$f":"IF(ISNA(VLOOKUP(A1899,analyse!D:E,2,FALSE))=TRUE,0,(VLOOKUP(A1899,analyse!D:E,2,FALSE)))","v":0},{"$f":"analyse!$B$1","v":0},0,0,0,0]
[null,null,{"$f":"IF(ISNA(VLOOKUP(A1900,analyse!D:E,2,FALSE))=TRUE,0,(VLOOKUP(A1900,analyse!D:E,2,FALSE)))","v":0},{"$f":"analyse!$B$1","v":0},0,0,0,0]
[null,null,{"$f":"IF(ISNA(VLOOKUP(A1901,analyse!D:E,2,FALSE))=TRUE,0,(VLOOKUP(A1901,analyse!D:E,2,FALSE)))","v":0},{"$f":"analyse!$B$1","v":0},0,0,0,0]
[null,null,{"$f":"IF(ISNA(VLOOKUP(A1902,analyse!D:E,2,FALSE))=TRUE,0,(VLOOKUP(A1902,analyse!D:E,2,FALSE)))","v":0},{"$f":"analyse!$B$1","v":0},0,0,0,0]
[null,null,{"$f":"IF(ISNA(VLOOKUP(A1903,analyse!D:E,2,FALSE))=TRUE,0,(VLOOKUP(A1903,analyse!D:E,2,FALSE)))","v":0},{"$f":"analyse!$B$1","v":0},0,0,0,0]
[null,null,{"$f":"IF(ISNA(VLOOKUP(A1904,analyse!D:E,2,FALSE))=TRUE,0,(VLOOKUP(A1904,analyse!D:E,2,FALSE)))","v":0},{"$f":"analyse!$B$1","v":0},0,0,0,0]
[null,null,{"$f":"IF(ISNA(VLOOKUP(A1905,analyse!D:E,2,FALSE))=TRUE,0,(VLOOKUP(A1905,analyse!D:E,2,FALSE)))","v":0},{"$f":"analyse!$B$1","v":0},0,0,0,0]
[null,null,{"$f":"IF(ISNA(VLOOKUP(A1906,analyse!D:E,2,FALSE))=TRUE,0,(VLOOKUP(A1906,analyse!D:E,2,FALSE)))","v":0},{"$f":"analyse!$B$1","v":0},0,0,0,0]
[null,null,{"$f":"IF(ISNA(VLOOKUP(A1907,analyse!D:E,2,FALSE))=TRUE,0,(VLOOKUP(A1907,analyse!D:E,2,FALSE)))","v":0},{"$f":"analyse!$B$1","v":0},0,0,0,0]
[null,null,{"$f":"IF(ISNA(VLOOKUP(A1908,analyse!D:E,2,FALSE))=TRUE,0,(VLOOKUP(A1908,analyse!D:E,2,FALSE)))","v":0},{"$f":"analyse!$B$1","v":0},0,0,0,0]
[null,null,{"$f":"IF(ISNA(VLOOKUP(A1909,analyse!D:E,2,FALSE))=TRUE,0,(VLOOKUP(A1909,analyse!D:E,2,FALSE)))","v":0},{"$f":"analyse!$B$1","v":0},0,0,0,0]
[null,null,{"$f":"IF(ISNA(VLOOKUP(A1910,analyse!D:E,2,FALSE))=TRUE,0,(VLOOKUP(A1910,analyse!D:E,2,FALSE)))","v":0},{"$f":"analyse!$B$1","v":0},0,0,0,0]
[null,null,{"$f":"IF(ISNA(VLOOKUP(A1911,analyse!D:E,2,FALSE))=TRUE,0,(VLOOKUP(A1911,analyse!D:E,2,FALSE)))","v":0},{"$f":"analyse!$B$1","v":0},0,0,0,0]
[null,null,{"$f":"IF(ISNA(VLOOKUP(A1912,analyse!D:E,2,FALSE))=TRUE,0,(VLOOKUP(A1912,analyse!D:E,2,FALSE)))","v":0},{"$f":"analyse!$B$1","v":0},0,0,0,0]
[null,null,{"$f":"IF(ISNA(VLOOKUP(A1913,analyse!D:E,2,FALSE))=TRUE,0,(VLOOKUP(A1913,analyse!D:E,2,FALSE)))","v":0},{"$f":"analyse!$B$1","v":0},0,0,0,0]
[null,null,{"$f":"IF(ISNA(VLOOKUP(A1914,analyse!D:E,2,FALSE))=TRUE,0,(VLOOKUP(A1914,analyse!D:E,2,FALSE)))","v":0},{"$f":"analyse!$B$1","v":0},0,0,0,0]
[null,null,{"$f":"IF(ISNA(VLOOKUP(A1915,analyse!D:E,2,FALSE))=TRUE,0,(VLOOKUP(A1915,analyse!D:E,2,FALSE)))","v":0},{"$f":"analyse!$B$1","v":0},0,0,0,0]
[null,null,{"$f":"IF(ISNA(VLOOKUP(A1916,analyse!D:E,2,FALSE))=TRUE,0,(VLOOKUP(A1916,analyse!D:E,2,FALSE)))","v":0},{"$f":"analyse!$B$1","v":0},0,0,0,0]
[null,null,{"$f":"IF(ISNA(VLOOKUP(A1917,analyse!D:E,2,FALSE))=TRUE,0,(VLOOKUP(A1917,analyse!D:E,2,FALSE)))","v":0},{"$f":"analyse!$B$1","v":0},0,0,0,0]
[null,null,{"$f":"IF(ISNA(VLOOKUP(A1918,analyse!D:E,2,FALSE))=TRUE,0,(VLOOKUP(A1918,analyse!D:E,2,FALSE)))","v":0},{"$f":"analyse!$B$1","v":0},0,0,0,0]
[null,null,{"$f":"IF(ISNA(VLOOKUP(A1919,analyse!D:E,2,FALSE))=TRUE,0,(VLOOKUP(A1919,analyse!D:E,2,FALSE)))","v":0},{"$f":"analyse!$B$1","v":0},0,0,0,0]
[null,null,{"$f":"IF(ISNA(VLOOKUP(A1920,analyse!D:E,2,FALSE))=TRUE,0,(VLOOKUP(A1920,analyse!D:E,2,FALSE)))","v":0},{"$f":"analyse!$B$1","v":0},0,0,0,0]
[null,null,{"$f":"IF(ISNA(VLOOKUP(A1921,analyse!D:E,2,FALSE))=TRUE,0,(VLOOKUP(A1921,analyse!D:E,2,FALSE)))","v":0},{"$f":"analyse!$B$1","v":0},0,0,0,0]
[null,null,{"$f":"IF(ISNA(VLOOKUP(A1922,analyse!D:E,2,FALSE))=TRUE,0,(VLOOKUP(A1922,analyse!D:E,2,FALSE)))","v":0},{"$f":"analyse!$B$1","v":0},{"$f":"D1922-C1922","v":0},{"$f":"E1922+C1922","v":0},{"$f":"IF(F1922<E1922,D1922-1,D1922)","v":0},{"$f":"IF(A1922=\"S20.G01.00.001\",H1921+1,H1921)","v":0}]
[null,null,{"$f":"IF(ISNA(VLOOKUP(A1923,analyse!D:E,2,FALSE))=TRUE,0,(VLOOKUP(A1923,analyse!D:E,2,FALSE)))","v":0},{"$f":"analyse!$B$1","v":0},0,0,0,0]
[null,null,{"$f":"IF(ISNA(VLOOKUP(A1924,analyse!D:E,2,FALSE))=TRUE,0,(VLOOKUP(A1924,analyse!D:E,2,FALSE)))","v":0},{"$f":"analyse!$B$1","v":0},0,0,0,0]
[null,null,{"$f":"IF(ISNA(VLOOKUP(A1925,analyse!D:E,2,FALSE))=TRUE,0,(VLOOKUP(A1925,analyse!D:E,2,FALSE)))","v":0},{"$f":"analyse!$B$1","v":0},0,0,0,0]
[null,null,{"$f":"IF(ISNA(VLOOKUP(A1926,analyse!D:E,2,FALSE))=TRUE,0,(VLOOKUP(A1926,analyse!D:E,2,FALSE)))","v":0},{"$f":"analyse!$B$1","v":0},0,0,0,0]
[null,null,{"$f":"IF(ISNA(VLOOKUP(A1927,analyse!D:E,2,FALSE))=TRUE,0,(VLOOKUP(A1927,analyse!D:E,2,FALSE)))","v":0},{"$f":"analyse!$B$1","v":0},0,0,0,0]
[null,null,{"$f":"IF(ISNA(VLOOKUP(A1928,analyse!D:E,2,FALSE))=TRUE,0,(VLOOKUP(A1928,analyse!D:E,2,FALSE)))","v":0},{"$f":"analyse!$B$1","v":0},0,0,0,0]
[null,null,{"$f":"IF(ISNA(VLOOKUP(A1929,analyse!D:E,2,FALSE))=TRUE,0,(VLOOKUP(A1929,analyse!D:E,2,FALSE)))","v":0},{"$f":"analyse!$B$1","v":0},0,0,0,0]
[null,null,{"$f":"IF(ISNA(VLOOKUP(A1930,analyse!D:E,2,FALSE))=TRUE,0,(VLOOKUP(A1930,analyse!D:E,2,FALSE)))","v":0},{"$f":"analyse!$B$1","v":0},0,0,0,0]
[null,null,{"$f":"IF(ISNA(VLOOKUP(A1931,analyse!D:E,2,FALSE))=TRUE,0,(VLOOKUP(A1931,analyse!D:E,2,FALSE)))","v":0},{"$f":"analyse!$B$1","v":0},0,0,0,0]
[null,null,{"$f":"IF(ISNA(VLOOKUP(A1932,analyse!D:E,2,FALSE))=TRUE,0,(VLOOKUP(A1932,analyse!D:E,2,FALSE)))","v":0},{"$f":"analyse!$B$1","v":0},0,0,0,0]
[null,null,{"$f":"IF(ISNA(VLOOKUP(A1933,analyse!D:E,2,FALSE))=TRUE,0,(VLOOKUP(A1933,analyse!D:E,2,FALSE)))","v":0},{"$f":"analyse!$B$1","v":0},0,0,0,0]
[null,null,{"$f":"IF(ISNA(VLOOKUP(A1934,analyse!D:E,2,FALSE))=TRUE,0,(VLOOKUP(A1934,analyse!D:E,2,FALSE)))","v":0},{"$f":"analyse!$B$1","v":0},0,0,0,0]
[null,null,{"$f":"IF(ISNA(VLOOKUP(A1935,analyse!D:E,2,FALSE))=TRUE,0,(VLOOKUP(A1935,analyse!D:E,2,FALSE)))","v":0},{"$f":"analyse!$B$1","v":0},0,0,0,0]
[null,null,{"$f":"IF(ISNA(VLOOKUP(A1936,analyse!D:E,2,FALSE))=TRUE,0,(VLOOKUP(A1936,analyse!D:E,2,FALSE)))","v":0},{"$f":"analyse!$B$1","v":0},0,0,0,0]
[null,null,{"$f":"IF(ISNA(VLOOKUP(A1937,analyse!D:E,2,FALSE))=TRUE,0,(VLOOKUP(A1937,analyse!D:E,2,FALSE)))","v":0},{"$f":"analyse!$B$1","v":0},0,0,0,0]
[null,null,{"$f":"IF(ISNA(VLOOKUP(A1938,analyse!D:E,2,FALSE))=TRUE,0,(VLOOKUP(A1938,analyse!D:E,2,FALSE)))","v":0},{"$f":"analyse!$B$1","v":0},0,0,0,0]
[null,null,{"$f":"IF(ISNA(VLOOKUP(A1939,analyse!D:E,2,FALSE))=TRUE,0,(VLOOKUP(A1939,analyse!D:E,2,FALSE)))","v":0},{"$f":"analyse!$B$1","v":0},0,0,0,0]
[null,null,{"$f":"IF(ISNA(VLOOKUP(A1940,analyse!D:E,2,FALSE))=TRUE,0,(VLOOKUP(A1940,analyse!D:E,2,FALSE)))","v":0},{"$f":"analyse!$B$1","v":0},0,0,0,0]
[null,null,{"$f":"IF(ISNA(VLOOKUP(A1941,analyse!D:E,2,FALSE))=TRUE,0,(VLOOKUP(A1941,analyse!D:E,2,FALSE)))","v":0},{"$f":"analyse!$B$1","v":0},0,0,0,0]
[null,null,{"$f":"IF(ISNA(VLOOKUP(A1942,analyse!D:E,2,FALSE))=TRUE,0,(VLOOKUP(A1942,analyse!D:E,2,FALSE)))","v":0},{"$f":"analyse!$B$1","v":0},0,0,0,0]
[null,null,{"$f":"IF(ISNA(VLOOKUP(A1943,analyse!D:E,2,FALSE))=TRUE,0,(VLOOKUP(A1943,analyse!D:E,2,FALSE)))","v":0},{"$f":"analyse!$B$1","v":0},0,0,0,0]
[null,null,{"$f":"IF(ISNA(VLOOKUP(A1944,analyse!D:E,2,FALSE))=TRUE,0,(VLOOKUP(A1944,analyse!D:E,2,FALSE)))","v":0},{"$f":"analyse!$B$1","v":0},0,0,0,0]
[null,null,{"$f":"IF(ISNA(VLOOKUP(A1945,analyse!D:E,2,FALSE))=TRUE,0,(VLOOKUP(A1945,analyse!D:E,2,FALSE)))","v":0},{"$f":"analyse!$B$1","v":0},0,0,0,0]
[null,null,{"$f":"IF(ISNA(VLOOKUP(A1946,analyse!D:E,2,FALSE))=TRUE,0,(VLOOKUP(A1946,analyse!D:E,2,FALSE)))","v":0},{"$f":"analyse!$B$1","v":0},0,0,0,0]
[null,null,{"$f":"IF(ISNA(VLOOKUP(A1947,analyse!D:E,2,FALSE))=TRUE,0,(VLOOKUP(A1947,analyse!D:E,2,FALSE)))","v":0},{"$f":"analyse!$B$1","v":0},0,0,0,0]
[null,null,{"$f":"IF(ISNA(VLOOKUP(A1948,analyse!D:E,2,FALSE))=TRUE,0,(VLOOKUP(A1948,analyse!D:E,2,FALSE)))","v":0},{"$f":"analyse!$B$1","v":0},0,0,0,0]
[null,null,{"$f":"IF(ISNA(VLOOKUP(A1949,analyse!D:E,2,FALSE))=TRUE,0,(VLOOKUP(A1949,analyse!D:E,2,FALSE)))","v":0},{"$f":"analyse!$B$1","v":0},0,0,0,0]
[null,null,{"$f":"IF(ISNA(VLOOKUP(A1950,analyse!D:E,2,FALSE))=TRUE,0,(VLOOKUP(A1950,analyse!D:E,2,FALSE)))","v":0},{"$f":"analyse!$B$1","v":0},0,0,0,0]
[null,null,{"$f":"IF(ISNA(VLOOKUP(A1951,analyse!D:E,2,FALSE))=TRUE,0,(VLOOKUP(A1951,analyse!D:E,2,FALSE)))","v":0},{"$f":"analyse!$B$1","v":0},0,0,0,0]
[null,null,{"$f":"IF(ISNA(VLOOKUP(A1952,analyse!D:E,2,FALSE))=TRUE,0,(VLOOKUP(A1952,analyse!D:E,2,FALSE)))","v":0},{"$f":"analyse!$B$1","v":0},0,0,0,0]
[null,null,{"$f":"IF(ISNA(VLOOKUP(A1953,analyse!D:E,2,FALSE))=TRUE,0,(VLOOKUP(A1953,analyse!D:E,2,FALSE)))","v":0},{"$f":"analyse!$B$1","v":0},0,0,0,0]
[null,null,{"$f":"IF(ISNA(VLOOKUP(A1954,analyse!D:E,2,FALSE))=TRUE,0,(VLOOKUP(A1954,analyse!D:E,2,FALSE)))","v":0},{"$f":"analyse!$B$1","v":0},0,0,0,0]
[null,null,{"$f":"IF(ISNA(VLOOKUP(A1955,analyse!D:E,2,FALSE))=TRUE,0,(VLOOKUP(A1955,analyse!D:E,2,FALSE)))","v":0},{"$f":"analyse!$B$1","v":0},0,0,0,0]
[null,null,{"$f":"IF(ISNA(VLOOKUP(A1956,analyse!D:E,2,FALSE))=TRUE,0,(VLOOKUP(A1956,analyse!D:E,2,FALSE)))","v":0},{"$f":"analyse!$B$1","v":0},0,0,0,0]
[null,null,{"$f":"IF(ISNA(VLOOKUP(A1957,analyse!D:E,2,FALSE))=TRUE,0,(VLOOKUP(A1957,analyse!D:E,2,FALSE)))","v":0},{"$f":"analyse!$B$1","v":0},0,0,0,0]
[null,null,{"$f":"IF(ISNA(VLOOKUP(A1958,analyse!D:E,2,FALSE))=TRUE,0,(VLOOKUP(A1958,analyse!D:E,2,FALSE)))","v":0},{"$f":"analyse!$B$1","v":0},0,0,0,0]
[null,null,{"$f":"IF(ISNA(VLOOKUP(A1959,analyse!D:E,2,FALSE))=TRUE,0,(VLOOKUP(A1959,analyse!D:E,2,FALSE)))","v":0},{"$f":"analyse!$B$1","v":0},0,0,0,0]
[null,null,{"$f":"IF(ISNA(VLOOKUP(A1960,analyse!D:E,2,FALSE))=TRUE,0,(VLOOKUP(A1960,analyse!D:E,2,FALSE)))","v":0},{"$f":"analyse!$B$1","v":0},0,0,0,0]
[null,null,{"$f":"IF(ISNA(VLOOKUP(A1961,analyse!D:E,2,FALSE))=TRUE,0,(VLOOKUP(A1961,analyse!D:E,2,FALSE)))","v":0},{"$f":"analyse!$B$1","v":0},0,0,0,0]
[null,null,{"$f":"IF(ISNA(VLOOKUP(A1962,analyse!D:E,2,FALSE))=TRUE,0,(VLOOKUP(A1962,analyse!D:E,2,FALSE)))","v":0},{"$f":"analyse!$B$1","v":0},0,0,0,0]
[null,null,{"$f":"IF(ISNA(VLOOKUP(A1963,analyse!D:E,2,FALSE))=TRUE,0,(VLOOKUP(A1963,analyse!D:E,2,FALSE)))","v":0},{"$f":"analyse!$B$1","v":0},0,0,0,0]
[null,null,{"$f":"IF(ISNA(VLOOKUP(A1964,analyse!D:E,2,FALSE))=TRUE,0,(VLOOKUP(A1964,analyse!D:E,2,FALSE)))","v":0},{"$f":"analyse!$B$1","v":0},0,0,0,0]
[null,null,{"$f":"IF(ISNA(VLOOKUP(A1965,analyse!D:E,2,FALSE))=TRUE,0,(VLOOKUP(A1965,analyse!D:E,2,FALSE)))","v":0},{"$f":"analyse!$B$1","v":0},0,0,0,0]
[null,null,{"$f":"IF(ISNA(VLOOKUP(A1966,analyse!D:E,2,FALSE))=TRUE,0,(VLOOKUP(A1966,analyse!D:E,2,FALSE)))","v":0},{"$f":"analyse!$B$1","v":0},0,0,0,0]
[null,null,{"$f":"IF(ISNA(VLOOKUP(A1967,analyse!D:E,2,FALSE))=TRUE,0,(VLOOKUP(A1967,analyse!D:E,2,FALSE)))","v":0},{"$f":"analyse!$B$1","v":0},0,0,0,0]
[null,null,{"$f":"IF(ISNA(VLOOKUP(A1968,analyse!D:E,2,FALSE))=TRUE,0,(VLOOKUP(A1968,analyse!D:E,2,FALSE)))","v":0},{"$f":"analyse!$B$1","v":0},0,0,0,0]
[null,null,{"$f":"IF(ISNA(VLOOKUP(A1969,analyse!D:E,2,FALSE))=TRUE,0,(VLOOKUP(A1969,analyse!D:E,2,FALSE)))","v":0},{"$f":"analyse!$B$1","v":0},0,0,0,0]
[null,null,{"$f":"IF(ISNA(VLOOKUP(A1970,analyse!D:E,2,FALSE))=TRUE,0,(VLOOKUP(A1970,analyse!D:E,2,FALSE)))","v":0},{"$f":"analyse!$B$1","v":0},0,0,0,0]
[null,null,{"$f":"IF(ISNA(VLOOKUP(A1971,analyse!D:E,2,FALSE))=TRUE,0,(VLOOKUP(A1971,analyse!D:E,2,FALSE)))","v":0},{"$f":"analyse!$B$1","v":0},0,0,0,0]
[null,null,{"$f":"IF(ISNA(VLOOKUP(A1972,analyse!D:E,2,FALSE))=TRUE,0,(VLOOKUP(A1972,analyse!D:E,2,FALSE)))","v":0},{"$f":"analyse!$B$1","v":0},0,0,0,0]
[null,null,{"$f":"IF(ISNA(VLOOKUP(A1973,analyse!D:E,2,FALSE))=TRUE,0,(VLOOKUP(A1973,analyse!D:E,2,FALSE)))","v":0},{"$f":"analyse!$B$1","v":0},0,0,0,0]
[null,null,{"$f":"IF(ISNA(VLOOKUP(A1974,analyse!D:E,2,FALSE))=TRUE,0,(VLOOKUP(A1974,analyse!D:E,2,FALSE)))","v":0},{"$f":"analyse!$B$1","v":0},0,0,0,0]
[null,null,{"$f":"IF(ISNA(VLOOKUP(A1975,analyse!D:E,2,FALSE))=TRUE,0,(VLOOKUP(A1975,analyse!D:E,2,FALSE)))","v":0},{"$f":"analyse!$B$1","v":0},0,0,0,0]
[null,null,{"$f":"IF(ISNA(VLOOKUP(A1976,analyse!D:E,2,FALSE))=TRUE,0,(VLOOKUP(A1976,analyse!D:E,2,FALSE)))","v":0},{"$f":"analyse!$B$1","v":0},0,0,0,0]
[null,null,{"$f":"IF(ISNA(VLOOKUP(A1977,analyse!D:E,2,FALSE))=TRUE,0,(VLOOKUP(A1977,analyse!D:E,2,FALSE)))","v":0},{"$f":"analyse!$B$1","v":0},0,0,0,0]
[null,null,{"$f":"IF(ISNA(VLOOKUP(A1978,analyse!D:E,2,FALSE))=TRUE,0,(VLOOKUP(A1978,analyse!D:E,2,FALSE)))","v":0},{"$f":"analyse!$B$1","v":0},0,0,0,0]
[null,null,{"$f":"IF(ISNA(VLOOKUP(A1979,analyse!D:E,2,FALSE))=TRUE,0,(VLOOKUP(A1979,analyse!D:E,2,FALSE)))","v":0},{"$f":"analyse!$B$1","v":0},0,0,0,0]
[null,null,{"$f":"IF(ISNA(VLOOKUP(A1980,analyse!D:E,2,FALSE))=TRUE,0,(VLOOKUP(A1980,analyse!D:E,2,FALSE)))","v":0},{"$f":"analyse!$B$1","v":0},0,0,0,0]
[null,null,{"$f":"IF(ISNA(VLOOKUP(A1981,analyse!D:E,2,FALSE))=TRUE,0,(VLOOKUP(A1981,analyse!D:E,2,FALSE)))","v":0},{"$f":"analyse!$B$1","v":0},0,0,0,0]
[null,null,{"$f":"IF(ISNA(VLOOKUP(A1982,analyse!D:E,2,FALSE))=TRUE,0,(VLOOKUP(A1982,analyse!D:E,2,FALSE)))","v":0},{"$f":"analyse!$B$1","v":0},0,0,0,0]
[null,null,{"$f":"IF(ISNA(VLOOKUP(A1983,analyse!D:E,2,FALSE))=TRUE,0,(VLOOKUP(A1983,analyse!D:E,2,FALSE)))","v":0},{"$f":"analyse!$B$1","v":0},0,0,0,0]
[null,null,{"$f":"IF(ISNA(VLOOKUP(A1984,analyse!D:E,2,FALSE))=TRUE,0,(VLOOKUP(A1984,analyse!D:E,2,FALSE)))","v":0},{"$f":"analyse!$B$1","v":0},0,0,0,0]
[null,null,{"$f":"IF(ISNA(VLOOKUP(A1985,analyse!D:E,2,FALSE))=TRUE,0,(VLOOKUP(A1985,analyse!D:E,2,FALSE)))","v":0},{"$f":"analyse!$B$1","v":0},0,0,0,0]
[null,null,{"$f":"IF(ISNA(VLOOKUP(A1986,analyse!D:E,2,FALSE))=TRUE,0,(VLOOKUP(A1986,analyse!D:E,2,FALSE)))","v":0},{"$f":"analyse!$B$1","v":0},{"$f":"D1986-C1986","v":0},{"$f":"E1986+C1986","v":0},{"$f":"IF(F1986<E1986,D1986-1,D1986)","v":0},{"$f":"IF(A1986=\"S20.G01.00.001\",H1985+1,H1985)","v":0}]
[null,null,{"$f":"IF(ISNA(VLOOKUP(A1987,analyse!D:E,2,FALSE))=TRUE,0,(VLOOKUP(A1987,analyse!D:E,2,FALSE)))","v":0},{"$f":"analyse!$B$1","v":0},0,0,0,0]
[null,null,{"$f":"IF(ISNA(VLOOKUP(A1988,analyse!D:E,2,FALSE))=TRUE,0,(VLOOKUP(A1988,analyse!D:E,2,FALSE)))","v":0},{"$f":"analyse!$B$1","v":0},0,0,0,0]
[null,null,{"$f":"IF(ISNA(VLOOKUP(A1989,analyse!D:E,2,FALSE))=TRUE,0,(VLOOKUP(A1989,analyse!D:E,2,FALSE)))","v":0},{"$f":"analyse!$B$1","v":0},0,0,0,0]
[null,null,{"$f":"IF(ISNA(VLOOKUP(A1990,analyse!D:E,2,FALSE))=TRUE,0,(VLOOKUP(A1990,analyse!D:E,2,FALSE)))","v":0},{"$f":"analyse!$B$1","v":0},0,0,0,0]
[null,null,{"$f":"IF(ISNA(VLOOKUP(A1991,analyse!D:E,2,FALSE))=TRUE,0,(VLOOKUP(A1991,analyse!D:E,2,FALSE)))","v":0},{"$f":"analyse!$B$1","v":0},0,0,0,0]
[null,null,{"$f":"IF(ISNA(VLOOKUP(A1992,analyse!D:E,2,FALSE))=TRUE,0,(VLOOKUP(A1992,analyse!D:E,2,FALSE)))","v":0},{"$f":"analyse!$B$1","v":0},0,0,0,0]
[null,null,{"$f":"IF(ISNA(VLOOKUP(A1993,analyse!D:E,2,FALSE))=TRUE,0,(VLOOKUP(A1993,analyse!D:E,2,FALSE)))","v":0},{"$f":"analyse!$B$1","v":0},0,0,0,0]
[null,null,{"$f":"IF(ISNA(VLOOKUP(A1994,analyse!D:E,2,FALSE))=TRUE,0,(VLOOKUP(A1994,analyse!D:E,2,FALSE)))","v":0},{"$f":"analyse!$B$1","v":0},0,0,0,0]
[null,null,{"$f":"IF(ISNA(VLOOKUP(A1995,analyse!D:E,2,FALSE))=TRUE,0,(VLOOKUP(A1995,analyse!D:E,2,FALSE)))","v":0},{"$f":"analyse!$B$1","v":0},0,0,0,0]
[null,null,{"$f":"IF(ISNA(VLOOKUP(A1996,analyse!D:E,2,FALSE))=TRUE,0,(VLOOKUP(A1996,analyse!D:E,2,FALSE)))","v":0},{"$f":"analyse!$B$1","v":0},0,0,0,0]
[null,null,{"$f":"IF(ISNA(VLOOKUP(A1997,analyse!D:E,2,FALSE))=TRUE,0,(VLOOKUP(A1997,analyse!D:E,2,FALSE)))","v":0},{"$f":"analyse!$B$1","v":0},0,0,0,0]
[null,null,{"$f":"IF(ISNA(VLOOKUP(A1998,analyse!D:E,2,FALSE))=TRUE,0,(VLOOKUP(A1998,analyse!D:E,2,FALSE)))","v":0},{"$f":"analyse!$B$1","v":0},0,0,0,0]
[null,null,{"$f":"IF(ISNA(VLOOKUP(A1999,analyse!D:E,2,FALSE))=TRUE,0,(VLOOKUP(A1999,analyse!D:E,2,FALSE)))","v":0},{"$f":"analyse!$B$1","v":0},0,0,0,0]
[null,null,{"$f":"IF(ISNA(VLOOKUP(A2000,analyse!D:E,2,FALSE))=TRUE,0,(VLOOKUP(A2000,analyse!D:E,2,FALSE)))","v":0},{"$f":"analyse!$B$1","v":0},0,0,0,0]
[null,null,{"$f":"IF(ISNA(VLOOKUP(A2026,analyse!D:E,2,FALSE))=TRUE,0,(VLOOKUP(A2026,analyse!D:E,2,FALSE)))","v":0},{"$f":"analyse!$B$1","v":0},0,0,0,0]
[null,null,{"$f":"IF(ISNA(VLOOKUP(A2154,analyse!D:E,2,FALSE))=TRUE,0,(VLOOKUP(A2154,analyse!D:E,2,FALSE)))","v":0},{"$f":"analyse!$B$1","v":0},0,0,0,0]
[null,null,{"$f":"IF(ISNA(VLOOKUP(A2187,analyse!D:E,2,FALSE))=TRUE,0,(VLOOKUP(A2187,analyse!D:E,2,FALSE)))","v":0},{"$f":"analyse!$B$1","v":0},0,0,0,0]
[null,null,{"$f":"IF(ISNA(VLOOKUP(A2242,analyse!D:E,2,FALSE))=TRUE,0,(VLOOKUP(A2242,analyse!D:E,2,FALSE)))","v":0},{"$f":"analyse!$B$1","v":0},{"$f":"D2242-C2242","v":0},{"$f":"E2242+C2242","v":0},{"$f":"IF(F2242<E2242,D2242-1,D2242)","v":0},{"$f":"IF(A2242=\"S20.G01.00.001\",H2241+1,H2241)","v":0}]
[null,null,{"$f":"IF(ISNA(VLOOKUP(A2314,analyse!D:E,2,FALSE))=TRUE,0,(VLOOKUP(A2314,analyse!D:E,2,FALSE)))","v":0},{"$f":"analyse!$B$1","v":0},0,0,0,0]
[null,null,{"$f":"IF(ISNA(VLOOKUP(A2463,analyse!D:E,2,FALSE))=TRUE,0,(VLOOKUP(A2463,analyse!D:E,2,FALSE)))","v":0},{"$f":"analyse!$B$1","v":0},0,0,0,0]
[null,null,{"$f":"IF(ISNA(VLOOKUP(A2518,analyse!D:E,2,FALSE))=TRUE,0,(VLOOKUP(A2518,analyse!D:E,2,FALSE)))","v":0},{"$f":"analyse!$B$1","v":0},0,0,0,0]
[null,null,{"$f":"IF(ISNA(VLOOKUP(A2551,analyse!D:E,2,FALSE))=TRUE,0,(VLOOKUP(A2551,analyse!D:E,2,FALSE)))","v":0},{"$f":"analyse!$B$1","v":0},0,0,0,0]
[null,null,{"$f":"IF(ISNA(VLOOKUP(A2684,analyse!D:E,2,FALSE))=TRUE,0,(VLOOKUP(A2684,analyse!D:E,2,FALSE)))","v":0},{"$f":"analyse!$B$1","v":0},0,0,0,0]
[null,null,{"$f":"IF(ISNA(VLOOKUP(A2730,analyse!D:E,2,FALSE))=TRUE,0,(VLOOKUP(A2730,analyse!D:E,2,FALSE)))","v":0},{"$f":"analyse!$B$1","v":0},0,0,0,0]
[null,null,{"$f":"IF(ISNA(VLOOKUP(A2827,analyse!D:E,2,FALSE))=TRUE,0,(VLOOKUP(A2827,analyse!D:E,2,FALSE)))","v":0},{"$f":"analyse!$B$1","v":0},0,0,0,0]
[null,null,{"$f":"IF(ISNA(VLOOKUP(A2882,analyse!D:E,2,FALSE))=TRUE,0,(VLOOKUP(A2882,analyse!D:E,2,FALSE)))","v":0},{"$f":"analyse!$B$1","v":0},{"$f":"D2882-C2882","v":0},{"$f":"E2882+C2882","v":0},{"$f":"IF(F2882<E2882,D2882-1,D2882)","v":0},{"$f":"IF(A2882=\"S20.G01.00.001\",H2881+1,H2881)","v":0}]
[null,null,{"$f":"IF(ISNA(VLOOKUP(A2993,analyse!D:E,2,FALSE))=TRUE,0,(VLOOKUP(A2993,analyse!D:E,2,FALSE)))","v":0},{"$f":"analyse!$B$1","v":0},0,0,0,0]
[null,null,{"$f":"IF(ISNA(VLOOKUP(A3026,analyse!D:E,2,FALSE))=TRUE,0,(VLOOKUP(A3026,analyse!D:E,2,FALSE)))","v":0},{"$f":"analyse!$B$1","v":0},0,0,0,0]
[null,null,{"$f":"IF(ISNA(VLOOKUP(A3146,analyse!D:E,2,FALSE))=TRUE,0,(VLOOKUP(A3146,analyse!D:E,2,FALSE)))","v":0},{"$f":"analyse!$B$1","v":0},0,0,0,0]
[null,null,{"$f":"IF(ISNA(VLOOKUP(A3191,analyse!D:E,2,FALSE))=TRUE,0,(VLOOKUP(A3191,analyse!D:E,2,FALSE)))","v":0},{"$f":"analyse!$B$1","v":0},0,0,0,0]
[null,null,{"$f":"IF(ISNA(VLOOKUP(A3246,analyse!D:E,2,FALSE))=TRUE,0,(VLOOKUP(A3246,analyse!D:E,2,FALSE)))","v":0},{"$f":"analyse!$B$1","v":0},0,0,0,0]
[null,null,{"$f":"IF(ISNA(VLOOKUP(A3357,analyse!D:E,2,FALSE))=TRUE,0,(VLOOKUP(A3357,analyse!D:E,2,FALSE)))","v":0},{"$f":"analyse!$B$1","v":0},0,0,0,0]
[null,null,{"$f":"IF(ISNA(VLOOKUP(A3468,analyse!D:E,2,FALSE))=TRUE,0,(VLOOKUP(A3468,analyse!D:E,2,FALSE)))","v":0},{"$f":"analyse!$B$1","v":0},0,0,0,0]
[null,null,{"$f":"IF(ISNA(VLOOKUP(A3485,analyse!D:E,2,FALSE))=TRUE,0,(VLOOKUP(A3485,analyse!D:E,2,FALSE)))","v":0},{"$f":"analyse!$B$1","v":0},0,0,0,0]
[null,null,{"$f":"IF(ISNA(VLOOKUP(A3633,analyse!D:E,2,FALSE))=TRUE,0,(VLOOKUP(A3633,analyse!D:E,2,FALSE)))","v":0},{"$f":"analyse!$B$1","v":0},0,0,0,0]
[null,null,{"$f":"IF(ISNA(VLOOKUP(A3688,analyse!D:E,2,FALSE))=TRUE,0,(VLOOKUP(A3688,analyse!D:E,2,FALSE)))","v":0},{"$f":"analyse!$B$1","v":0},0,0,0,0]
[null,null,{"$f":"IF(ISNA(VLOOKUP(A3721,analyse!D:E,2,FALSE))=TRUE,0,(VLOOKUP(A3721,analyse!D:E,2,FALSE)))","v":0},{"$f":"analyse!$B$1","v":0},0,0,0,0]
[null,null,{"$f":"IF(ISNA(VLOOKUP(A3832,analyse!D:E,2,FALSE))=TRUE,0,(VLOOKUP(A3832,analyse!D:E,2,FALSE)))","v":0},{"$f":"analyse!$B$1","v":0},0,0,0,0]
[null,null,{"$f":"IF(ISNA(VLOOKUP(A3901,analyse!D:E,2,FALSE))=TRUE,0,(VLOOKUP(A3901,analyse!D:E,2,FALSE)))","v":0},{"$f":"analyse!$B$1","v":0},0,0,0,0]
[null,null,{"$f":"IF(ISNA(VLOOKUP(A3997,analyse!D:E,2,FALSE))=TRUE,0,(VLOOKUP(A3997,analyse!D:E,2,FALSE)))","v":0},{"$f":"analyse!$B$1","v":0},0,0,0,0]
[null,null,{"$f":"IF(ISNA(VLOOKUP(A4030,analyse!D:E,2,FALSE))=TRUE,0,(VLOOKUP(A4030,analyse!D:E,2,FALSE)))","v":0},{"$f":"analyse!$B$1","v":0},0,0,0,0]
[null,null,{"$f":"IF(ISNA(VLOOKUP(A4163,analyse!D:E,2,FALSE))=TRUE,0,(VLOOKUP(A4163,analyse!D:E,2,FALSE)))","v":0},{"$f":"analyse!$B$1","v":0},0,0,0,0]
[null,null,{"$f":"IF(ISNA(VLOOKUP(A4196,analyse!D:E,2,FALSE))=TRUE,0,(VLOOKUP(A4196,analyse!D:E,2,FALSE)))","v":0},{"$f":"analyse!$B$1","v":0},0,0,0,0]
[null,null,{"$f":"IF(ISNA(VLOOKUP(A4317,analyse!D:E,2,FALSE))=TRUE,0,(VLOOKUP(A4317,analyse!D:E,2,FALSE)))","v":0},{"$f":"analyse!$B$1","v":0},0,0,0,0]
[null,null,{"$f":"IF(ISNA(VLOOKUP(A4361,analyse!D:E,2,FALSE))=TRUE,0,(VLOOKUP(A4361,analyse!D:E,2,FALSE)))","v":0},{"$f":"analyse!$B$1","v":0},0,0,0,0]
[null,null,{"$f":"IF(ISNA(VLOOKUP(A4472,analyse!D:E,2,FALSE))=TRUE,0,(VLOOKUP(A4472,analyse!D:E,2,FALSE)))","v":0},{"$f":"analyse!$B$1","v":0},0,0,0,0]
[null,null,{"$f":"IF(ISNA(VLOOKUP(A4527,analyse!D:E,2,FALSE))=TRUE,0,(VLOOKUP(A4527,analyse!D:E,2,FALSE)))","v":0},{"$f":"analyse!$B$1","v":0},0,0,0,0]
[null,null,{"$f":"IF(ISNA(VLOOKUP(A4638,analyse!D:E,2,FALSE))=TRUE,0,(VLOOKUP(A4638,analyse!D:E,2,FALSE)))","v":0},{"$f":"analyse!$B$1","v":0},0,0,0,0]
[null,null,{"$f":"IF(ISNA(VLOOKUP(A4652,analyse!D:E,2,FALSE))=TRUE,0,(VLOOKUP(A4652,analyse!D:E,2,FALSE)))","v":0},{"$f":"analyse!$B$1","v":0},0,0,0,0]
[null,null,{"$f":"IF(ISNA(VLOOKUP(A4725,analyse!D:E,2,FALSE))=TRUE,0,(VLOOKUP(A4725,analyse!D:E,2,FALSE)))","v":0},{"$f":"analyse!$B$1","v":0},0,0,0,0]
[null,null,{"$f":"IF(ISNA(VLOOKUP(A4836,analyse!D:E,2,FALSE))=TRUE,0,(VLOOKUP(A4836,analyse!D:E,2,FALSE)))","v":0},{"$f":"analyse!$B$1","v":0},0,0,0,0]
[null,null,{"$f":"IF(ISNA(VLOOKUP(A4891,analyse!D:E,2,FALSE))=TRUE,0,(VLOOKUP(A4891,analyse!D:E,2,FALSE)))","v":0},{"$f":"analyse!$B$1","v":0},0,0,0,0]
[null,null,{"$f":"IF(ISNA(VLOOKUP(A5002,analyse!D:E,2,FALSE))=TRUE,0,(VLOOKUP(A5002,analyse!D:E,2,FALSE)))","v":0},{"$f":"analyse!$B$1","v":0},0,0,0,0]
[null,null,{"$f":"IF(ISNA(VLOOKUP(A5068,analyse!D:E,2,FALSE))=TRUE,0,(VLOOKUP(A5068,analyse!D:E,2,FALSE)))","v":0},{"$f":"analyse!$B$1","v":0},0,0,0,0]
[null,null,{"$f":"IF(ISNA(VLOOKUP(A5167,analyse!D:E,2,FALSE))=TRUE,0,(VLOOKUP(A5167,analyse!D:E,2,FALSE)))","v":0},{"$f":"analyse!$B$1","v":0},0,0,0,0]
[null,null,{"$f":"IF(ISNA(VLOOKUP(A5200,analyse!D:E,2,FALSE))=TRUE,0,(VLOOKUP(A5200,analyse!D:E,2,FALSE)))","v":0},{"$f":"analyse!$B$1","v":0},0,0,0,0]
[null,null,{"$f":"IF(ISNA(VLOOKUP(A5333,analyse!D:E,2,FALSE))=TRUE,0,(VLOOKUP(A5333,analyse!D:E,2,FALSE)))","v":0},{"$f":"analyse!$B$1","v":0},0,0,0,0]
[null,null,{"$f":"IF(ISNA(VLOOKUP(A5356,analyse!D:E,2,FALSE))=TRUE,0,(VLOOKUP(A5356,analyse!D:E,2,FALSE)))","v":0},{"$f":"analyse!$B$1","v":0},0,0,0,0]
[null,null,{"$f":"IF(ISNA(VLOOKUP(A5476,analyse!D:E,2,FALSE))=TRUE,0,(VLOOKUP(A5476,analyse!D:E,2,FALSE)))","v":0},{"$f":"analyse!$B$1","v":0},0,0,0,0]
[null,null,{"$f":"IF(ISNA(VLOOKUP(A5531,analyse!D:E,2,FALSE))=TRUE,0,(VLOOKUP(A5531,analyse!D:E,2,FALSE)))","v":0},{"$f":"analyse!$B$1","v":0},0,0,0,0]
[null,null,{"$f":"IF(ISNA(VLOOKUP(A5642,analyse!D:E,2,FALSE))=TRUE,0,(VLOOKUP(A5642,analyse!D:E,2,FALSE)))","v":0},{"$f":"analyse!$B$1","v":0},0,0,0,0]
[null,null,{"$f":"IF(ISNA(VLOOKUP(A5675,analyse!D:E,2,FALSE))=TRUE,0,(VLOOKUP(A5675,analyse!D:E,2,FALSE)))","v":0},{"$f":"analyse!$B$1","v":0},0,0,0,0]
[null,null,{"$f":"IF(ISNA(VLOOKUP(A5772,analyse!D:E,2,FALSE))=TRUE,0,(VLOOKUP(A5772,analyse!D:E,2,FALSE)))","v":0},{"$f":"analyse!$B$1","v":0},0,0,0,0]
[null,null,{"$f":"IF(ISNA(VLOOKUP(A5840,analyse!D:E,2,FALSE))=TRUE,0,(VLOOKUP(A5840,analyse!D:E,2,FALSE)))","v":0},{"$f":"analyse!$B$1","v":0},0,0,0,0]
[null,null,{"$f":"IF(ISNA(VLOOKUP(A5895,analyse!D:E,2,FALSE))=TRUE,0,(VLOOKUP(A5895,analyse!D:E,2,FALSE)))","v":0},{"$f":"analyse!$B$1","v":0},0,0,0,0]
[null,null,{"$f":"IF(ISNA(VLOOKUP(A6006,analyse!D:E,2,FALSE))=TRUE,0,(VLOOKUP(A6006,analyse!D:E,2,FALSE)))","v":0},{"$f":"analyse!$B$1","v":0},0,0,0,0]
[null,null,{"$f":"IF(ISNA(VLOOKUP(A6117,analyse!D:E,2,FALSE))=TRUE,0,(VLOOKUP(A6117,analyse!D:E,2,FALSE)))","v":0},{"$f":"analyse!$B$1","v":0},0,0,0,0]
[null,null,{"$f":"IF(ISNA(VLOOKUP(A6188,analyse!D:E,2,FALSE))=TRUE,0,(VLOOKUP(A6188,analyse!D:E,2,FALSE)))","v":0},{"$f":"analyse!$B$1","v":0},0,0,0,0]
[null,null,{"$f":"IF(ISNA(VLOOKUP(A6204,analyse!D:E,2,FALSE))=TRUE,0,(VLOOKUP(A6204,analyse!D:E,2,FALSE)))","v":0},{"$f":"analyse!$B$1","v":0},0,0,0,0]
[null,null,{"$f":"IF(ISNA(VLOOKUP(A6337,analyse!D:E,2,FALSE))=TRUE,0,(VLOOKUP(A6337,analyse!D:E,2,FALSE)))","v":0},{"$f":"analyse!$B$1","v":0},0,0,0,0]
[null,null,{"$f":"IF(ISNA(VLOOKUP(A6370,analyse!D:E,2,FALSE))=TRUE,0,(VLOOKUP(A6370,analyse!D:E,2,FALSE)))","v":0},{"$f":"analyse!$B$1","v":0},0,0,0,0]
[null,null,{"$f":"IF(ISNA(VLOOKUP(A6481,analyse!D:E,2,FALSE))=TRUE,0,(VLOOKUP(A6481,analyse!D:E,2,FALSE)))","v":0},{"$f":"analyse!$B$1","v":0},0,0,0,0]
[null,null,{"$f":"IF(ISNA(VLOOKUP(A6527,analyse!D:E,2,FALSE))=TRUE,0,(VLOOKUP(A6527,analyse!D:E,2,FALSE)))","v":0},{"$f":"analyse!$B$1","v":0},0,0,0,0]
[null,null,{"$f":"IF(ISNA(VLOOKUP(A6646,analyse!D:E,2,FALSE))=TRUE,0,(VLOOKUP(A6646,analyse!D:E,2,FALSE)))","v":0},{"$f":"analyse!$B$1","v":0},0,0,0,0]
[null,null,{"$f":"IF(ISNA(VLOOKUP(A6679,analyse!D:E,2,FALSE))=TRUE,0,(VLOOKUP(A6679,analyse!D:E,2,FALSE)))","v":0},{"$f":"analyse!$B$1","v":0},0,0,0,0]
[null,null,{"$f":"IF(ISNA(VLOOKUP(A6812,analyse!D:E,2,FALSE))=TRUE,0,(VLOOKUP(A6812,analyse!D:E,2,FALSE)))","v":0},{"$f":"analyse!$B$1","v":0},0,0,0,0]
[null,null,{"$f":"IF(ISNA(VLOOKUP(A6845,analyse!D:E,2,FALSE))=TRUE,0,(VLOOKUP(A6845,analyse!D:E,2,FALSE)))","v":0},{"$f":"analyse!$B$1","v":0},0,0,0,0]
[null,null,{"$f":"IF(ISNA(VLOOKUP(A6943,analyse!D:E,2,FALSE))=TRUE,0,(VLOOKUP(A6943,analyse!D:E,2,FALSE)))","v":0},{"$f":"analyse!$B$1","v":0},0,0,0,0]
[null,null,{"$f":"IF(ISNA(VLOOKUP(A7010,analyse!D:E,2,FALSE))=TRUE,0,(VLOOKUP(A7010,analyse!D:E,2,FALSE)))","v":0},{"$f":"analyse!$B$1","v":0},0,0,0,0]
[null,null,{"$f":"IF(ISNA(VLOOKUP(A7121,analyse!D:E,2,FALSE))=TRUE,0,(VLOOKUP(A7121,analyse!D:E,2,FALSE)))","v":0},{"$f":"analyse!$B$1","v":0},0,0,0,0]
[null,null,{"$f":"IF(ISNA(VLOOKUP(A7176,analyse!D:E,2,FALSE))=TRUE,0,(VLOOKUP(A7176,analyse!D:E,2,FALSE)))","v":0},{"$f":"analyse!$B$1","v":0},0,0,0,0]
[null,null,{"$f":"IF(ISNA(VLOOKUP(A7287,analyse!D:E,2,FALSE))=TRUE,0,(VLOOKUP(A7287,analyse!D:E,2,FALSE)))","v":0},{"$f":"analyse!$B$1","v":0},0,0,0,0]
[null,null,{"$f":"IF(ISNA(VLOOKUP(A7355,analyse!D:E,2,FALSE))=TRUE,0,(VLOOKUP(A7355,analyse!D:E,2,FALSE)))","v":0},{"$f":"analyse!$B$1","v":0},0,0,0,0]
[null,null,{"$f":"IF(ISNA(VLOOKUP(A7374,analyse!D:E,2,FALSE))=TRUE,0,(VLOOKUP(A7374,analyse!D:E,2,FALSE)))","v":0},{"$f":"analyse!$B$1","v":0},0,0,0,0]
[null,null,{"$f":"IF(ISNA(VLOOKUP(A7485,analyse!D:E,2,FALSE))=TRUE,0,(VLOOKUP(A7485,analyse!D:E,2,FALSE)))","v":0},{"$f":"analyse!$B$1","v":0},0,0,0,0]
[null,null,{"$f":"IF(ISNA(VLOOKUP(A7540,analyse!D:E,2,FALSE))=TRUE,0,(VLOOKUP(A7540,analyse!D:E,2,FALSE)))","v":0},{"$f":"analyse!$B$1","v":0},0,0,0,0]
[null,null,{"$f":"IF(ISNA(VLOOKUP(A7651,analyse!D:E,2,FALSE))=TRUE,0,(VLOOKUP(A7651,analyse!D:E,2,FALSE)))","v":0},{"$f":"analyse!$B$1","v":0},0,0,0,0]
[null,null,{"$f":"IF(ISNA(VLOOKUP(A7694,analyse!D:E,2,FALSE))=TRUE,0,(VLOOKUP(A7694,analyse!D:E,2,FALSE)))","v":0},{"$f":"analyse!$B$1","v":0},0,0,0,0]
[null,null,{"$f":"IF(ISNA(VLOOKUP(A7816,analyse!D:E,2,FALSE))=TRUE,0,(VLOOKUP(A7816,analyse!D:E,2,FALSE)))","v":0},{"$f":"analyse!$B$1","v":0},0,0,0,0]
[null,null,{"$f":"IF(ISNA(VLOOKUP(A7849,analyse!D:E,2,FALSE))=TRUE,0,(VLOOKUP(A7849,analyse!D:E,2,FALSE)))","v":0},{"$f":"analyse!$B$1","v":0},0,0,0,0]
[null,null,{"$f":"IF(ISNA(VLOOKUP(A7982,analyse!D:E,2,FALSE))=TRUE,0,(VLOOKUP(A7982,analyse!D:E,2,FALSE)))","v":0},{"$f":"analyse!$B$1","v":0},0,0,0,0]
[null,null,{"$f":"IF(ISNA(VLOOKUP(A8015,analyse!D:E,2,FALSE))=TRUE,0,(VLOOKUP(A8015,analyse!D:E,2,FALSE)))","v":0},{"$f":"analyse!$B$1","v":0},0,0,0,0]
[null,null,{"$f":"IF(ISNA(VLOOKUP(A8110,analyse!D:E,2,FALSE))=TRUE,0,(VLOOKUP(A8110,analyse!D:E,2,FALSE)))","v":0},{"$f":"analyse!$B$1","v":0},0,0,0,0]
[null,null,{"$f":"IF(ISNA(VLOOKUP(A8180,analyse!D:E,2,FALSE))=TRUE,0,(VLOOKUP(A8180,analyse!D:E,2,FALSE)))","v":0},{"$f":"analyse!$B$1","v":0},0,0,0,0]
[null,null,{"$f":"IF(ISNA(VLOOKUP(A8291,analyse!D:E,2,FALSE))=TRUE,0,(VLOOKUP(A8291,analyse!D:E,2,FALSE)))","v":0},{"$f":"analyse!$B$1","v":0},0,0,0,0]
[null,null,{"$f":"IF(ISNA(VLOOKUP(A8324,analyse!D:E,2,FALSE))=TRUE,0,(VLOOKUP(A8324,analyse!D:E,2,FALSE)))","v":0},{"$f":"analyse!$B$1","v":0},0,0,0,0]
[null,null,{"$f":"IF(ISNA(VLOOKUP(A8398,analyse!D:E,2,FALSE))=TRUE,0,(VLOOKUP(A8398,analyse!D:E,2,FALSE)))","v":0},{"$f":"analyse!$B$1","v":0},0,0,0,0]
[null,null,{"$f":"IF(ISNA(VLOOKUP(A8489,analyse!D:E,2,FALSE))=TRUE,0,(VLOOKUP(A8489,analyse!D:E,2,FALSE)))","v":0},{"$f":"analyse!$B$1","v":0},0,0,0,0]
[null,null,{"$f":"IF(ISNA(VLOOKUP(A8544,analyse!D:E,2,FALSE))=TRUE,0,(VLOOKUP(A8544,analyse!D:E,2,FALSE)))","v":0},{"$f":"analyse!$B$1","v":0},0,0,0,0]
[null,null,{"$f":"IF(ISNA(VLOOKUP(A8655,analyse!D:E,2,FALSE))=TRUE,0,(VLOOKUP(A8655,analyse!D:E,2,FALSE)))","v":0},{"$f":"analyse!$B$1","v":0},0,0,0,0]
[null,null,{"$f":"IF(ISNA(VLOOKUP(A8766,analyse!D:E,2,FALSE))=TRUE,0,(VLOOKUP(A8766,analyse!D:E,2,FALSE)))","v":0},{"$f":"analyse!$B$1","v":0},0,0,0,0]
[null,null,{"$f":"IF(ISNA(VLOOKUP(A8814,analyse!D:E,2,FALSE))=TRUE,0,(VLOOKUP(A8814,analyse!D:E,2,FALSE)))","v":0},{"$f":"analyse!$B$1","v":0},0,0,0,0]
[null,null,{"$f":"IF(ISNA(VLOOKUP(A8853,analyse!D:E,2,FALSE))=TRUE,0,(VLOOKUP(A8853,analyse!D:E,2,FALSE)))","v":0},{"$f":"analyse!$B$1","v":0},0,0,0,0]
[null,null,{"$f":"IF(ISNA(VLOOKUP(A8964,analyse!D:E,2,FALSE))=TRUE,0,(VLOOKUP(A8964,analyse!D:E,2,FALSE)))","v":0},{"$f":"analyse!$B$1","v":0},0,0,0,0]
[null,null,{"$f":"IF(ISNA(VLOOKUP(A9019,analyse!D:E,2,FALSE))=TRUE,0,(VLOOKUP(A9019,analyse!D:E,2,FALSE)))","v":0},{"$f":"analyse!$B$1","v":0},0,0,0,0]
[null,null,{"$f":"IF(ISNA(VLOOKUP(A9130,analyse!D:E,2,FALSE))=TRUE,0,(VLOOKUP(A9130,analyse!D:E,2,FALSE)))","v":0},{"$f":"analyse!$B$1","v":0},0,0,0,0]
[null,null,{"$f":"IF(ISNA(VLOOKUP(A9230,analyse!D:E,2,FALSE))=TRUE,0,(VLOOKUP(A9230,analyse!D:E,2,FALSE)))","v":0},{"$f":"analyse!$B$1","v":0},0,0,0,0]
[null,null,{"$f":"IF(ISNA(VLOOKUP(A9295,analyse!D:E,2,FALSE))=TRUE,0,(VLOOKUP(A9295,analyse!D:E,2,FALSE)))","v":0},{"$f":"analyse!$B$1","v":0},0,0,0,0]
[null,null,{"$f":"IF(ISNA(VLOOKUP(A9328,analyse!D:E,2,FALSE))=TRUE,0,(VLOOKUP(A9328,analyse!D:E,2,FALSE)))","v":0},{"$f":"analyse!$B$1","v":0},0,0,0,0]
[null,null,{"$f":"IF(ISNA(VLOOKUP(A9461,analyse!D:E,2,FALSE))=TRUE,0,(VLOOKUP(A9461,analyse!D:E,2,FALSE)))","v":0},{"$f":"analyse!$B$1","v":0},0,0,0,0]
[null,null,{"$f":"IF(ISNA(VLOOKUP(A9494,analyse!D:E,2,FALSE))=TRUE,0,(VLOOKUP(A9494,analyse!D:E,2,FALSE)))","v":0},{"$f":"analyse!$B$1","v":0},0,0,0,0]
[null,null,{"$f":"IF(ISNA(VLOOKUP(A9569,analyse!D:E,2,FALSE))=TRUE,0,(VLOOKUP(A9569,analyse!D:E,2,FALSE)))","v":0},{"$f":"analyse!$B$1","v":0},0,0,0,0]
[null,null,{"$f":"IF(ISNA(VLOOKUP(A9659,analyse!D:E,2,FALSE))=TRUE,0,(VLOOKUP(A9659,analyse!D:E,2,FALSE)))","v":0},{"$f":"analyse!$B$1","v":0},0,0,0,0]
[null,null,{"$f":"IF(ISNA(VLOOKUP(A9770,analyse!D:E,2,FALSE))=TRUE,0,(VLOOKUP(A9770,analyse!D:E,2,FALSE)))","v":0},{"$f":"analyse!$B$1","v":0},0,0,0,0]
[null,null,{"$f":"IF(ISNA(VLOOKUP(A9825,analyse!D:E,2,FALSE))=TRUE,0,(VLOOKUP(A9825,analyse!D:E,2,FALSE)))","v":0},{"$f":"analyse!$B$1","v":0},0,0,0,0]
[null,null,{"$f":"IF(ISNA(VLOOKUP(A9858,analyse!D:E,2,FALSE))=TRUE,0,(VLOOKUP(A9858,analyse!D:E,2,FALSE)))","v":0},{"$f":"analyse!$B$1","v":0},{"$f":"D9858-C9858","v":0},{"$f":"E9858+C9858","v":0},{"$f":"IF(F9858<E9858,D9858-1,D9858)","v":0},{"$f":"IF(A9858=\"S20.G01.00.001\",H9857+1,H9857)","v":0}]
[null,null,{"$f":"IF(ISNA(VLOOKUP(A9981,analyse!D:E,2,FALSE))=TRUE,0,(VLOOKUP(A9981,analyse!D:E,2,FALSE)))","v":0},{"$f":"analyse!$B$1","v":0},0,0,0,0]
[null,null,{"$f":"IF(ISNA(VLOOKUP(A10023,analyse!D:E,2,FALSE))=TRUE,0,(VLOOKUP(A10023,analyse!D:E,2,FALSE)))","v":0},{"$f":"analyse!$B$1","v":0},0,0,0,0]
[null,null,{"$f":"IF(ISNA(VLOOKUP(A10134,analyse!D:E,2,FALSE))=TRUE,0,(VLOOKUP(A10134,analyse!D:E,2,FALSE)))","v":0},{"$f":"analyse!$B$1","v":0},0,0,0,0]
[null,null,{"$f":"IF(ISNA(VLOOKUP(A10189,analyse!D:E,2,FALSE))=TRUE,0,(VLOOKUP(A10189,analyse!D:E,2,FALSE)))","v":0},{"$f":"analyse!$B$1","v":0},0,0,0,0]
[null,null,{"$f":"IF(ISNA(VLOOKUP(A10300,analyse!D:E,2,FALSE))=TRUE,0,(VLOOKUP(A10300,analyse!D:E,2,FALSE)))","v":0},{"$f":"analyse!$B$1","v":0},0,0,0,0]
[null,null,{"$f":"IF(ISNA(VLOOKUP(A10397,analyse!D:E,2,FALSE))=TRUE,0,(VLOOKUP(A10397,analyse!D:E,2,FALSE)))","v":0},{"$f":"analyse!$B$1","v":0},0,0,0,0]
[null,null,{"$f":"IF(ISNA(VLOOKUP(A10465,analyse!D:E,2,FALSE))=TRUE,0,(VLOOKUP(A10465,analyse!D:E,2,FALSE)))","v":0},{"$f":"analyse!$B$1","v":0},0,0,0,0]
[null,null,{"$f":"IF(ISNA(VLOOKUP(A10498,analyse!D:E,2,FALSE))=TRUE,0,(VLOOKUP(A10498,analyse!D:E,2,FALSE)))","v":0},{"$f":"analyse!$B$1","v":0},{"$f":"D10498-C10498","v":0},{"$f":"E10498+C10498","v":0},{"$f":"IF(F10498<E10498,D10498-1,D10498)","v":0},{"$f":"IF(A10498=\"S20.G01.00.001\",H10497+1,H10497)","v":0}]
[null,null,{"$f":"IF(ISNA(VLOOKUP(A10631,analyse!D:E,2,FALSE))=TRUE,0,(VLOOKUP(A10631,analyse!D:E,2,FALSE)))","v":0},{"$f":"analyse!$B$1","v":0},0,0,0,0]
[null,null,{"$f":"IF(ISNA(VLOOKUP(A10664,analyse!D:E,2,FALSE))=TRUE,0,(VLOOKUP(A10664,analyse!D:E,2,FALSE)))","v":0},{"$f":"analyse!$B$1","v":0},0,0,0,0]
[null,null,{"$f":"IF(ISNA(VLOOKUP(A10736,analyse!D:E,2,FALSE))=TRUE,0,(VLOOKUP(A10736,analyse!D:E,2,FALSE)))","v":0},{"$f":"analyse!$B$1","v":0},0,0,0,0]
[null,null,{"$f":"IF(ISNA(VLOOKUP(A10829,analyse!D:E,2,FALSE))=TRUE,0,(VLOOKUP(A10829,analyse!D:E,2,FALSE)))","v":0},{"$f":"analyse!$B$1","v":0},0,0,0,0]
[null,null,{"$f":"IF(ISNA(VLOOKUP(A10940,analyse!D:E,2,FALSE))=TRUE,0,(VLOOKUP(A10940,analyse!D:E,2,FALSE)))","v":0},{"$f":"analyse!$B$1","v":0},0,0,0,0]
[null,null,{"$f":"IF(ISNA(VLOOKUP(A10973,analyse!D:E,2,FALSE))=TRUE,0,(VLOOKUP(A10973,analyse!D:E,2,FALSE)))","v":0},{"$f":"analyse!$B$1","v":0},0,0,0,0]
[null,null,{"$f":"IF(ISNA(VLOOKUP(A11028,analyse!D:E,2,FALSE))=TRUE,0,(VLOOKUP(A11028,analyse!D:E,2,FALSE)))","v":0},{"$f":"analyse!$B$1","v":0},0,0,0,0]
[null,null,{"$f":"IF(ISNA(VLOOKUP(A11152,analyse!D:E,2,FALSE))=TRUE,0,(VLOOKUP(A11152,analyse!D:E,2,FALSE)))","v":0},{"$f":"analyse!$B$1","v":0},0,0,0,0]
[null,null,{"$f":"IF(ISNA(VLOOKUP(A11193,analyse!D:E,2,FALSE))=TRUE,0,(VLOOKUP(A11193,analyse!D:E,2,FALSE)))","v":0},{"$f":"analyse!$B$1","v":0},0,0,0,0]
[null,null,{"$f":"IF(ISNA(VLOOKUP(A11304,analyse!D:E,2,FALSE))=TRUE,0,(VLOOKUP(A11304,analyse!D:E,2,FALSE)))","v":0},{"$f":"analyse!$B$1","v":0},0,0,0,0]
[null,null,{"$f":"IF(ISNA(VLOOKUP(A11337,analyse!D:E,2,FALSE))=TRUE,0,(VLOOKUP(A11337,analyse!D:E,2,FALSE)))","v":0},{"$f":"analyse!$B$1","v":0},0,0,0,0]
[null,null,{"$f":"IF(ISNA(VLOOKUP(A11440,analyse!D:E,2,FALSE))=TRUE,0,(VLOOKUP(A11440,analyse!D:E,2,FALSE)))","v":0},{"$f":"analyse!$B$1","v":0},0,0,0,0]
[null,null,{"$f":"IF(ISNA(VLOOKUP(A11502,analyse!D:E,2,FALSE))=TRUE,0,(VLOOKUP(A11502,analyse!D:E,2,FALSE)))","v":0},{"$f":"analyse!$B$1","v":0},0,0,0,0]
[null,null,{"$f":"IF(ISNA(VLOOKUP(A11613,analyse!D:E,2,FALSE))=TRUE,0,(VLOOKUP(A11613,analyse!D:E,2,FALSE)))","v":0},{"$f":"analyse!$B$1","v":0},0,0,0,0]
[null,null,{"$f":"IF(ISNA(VLOOKUP(A11668,analyse!D:E,2,FALSE))=TRUE,0,(VLOOKUP(A11668,analyse!D:E,2,FALSE)))","v":0},{"$f":"analyse!$B$1","v":0},0,0,0,0]
[null,null,{"$f":"IF(ISNA(VLOOKUP(A11779,analyse!D:E,2,FALSE))=TRUE,0,(VLOOKUP(A11779,analyse!D:E,2,FALSE)))","v":0},{"$f":"analyse!$B$1","v":0},0,0,0,0]
[null,null,{"$f":"IF(ISNA(VLOOKUP(A11856,analyse!D:E,2,FALSE))=TRUE,0,(VLOOKUP(A11856,analyse!D:E,2,FALSE)))","v":0},{"$f":"analyse!$B$1","v":0},0,0,0,0]
[null,null,{"$f":"IF(ISNA(VLOOKUP(A11944,analyse!D:E,2,FALSE))=TRUE,0,(VLOOKUP(A11944,analyse!D:E,2,FALSE)))","v":0},{"$f":"analyse!$B$1","v":0},0,0,0,0]
[null,null,{"$f":"IF(ISNA(VLOOKUP(A11977,analyse!D:E,2,FALSE))=TRUE,0,(VLOOKUP(A11977,analyse!D:E,2,FALSE)))","v":0},{"$f":"analyse!$B$1","v":0},0,0,0,0]
[null,null,{"$f":"IF(ISNA(VLOOKUP(A12110,analyse!D:E,2,FALSE))=TRUE,0,(VLOOKUP(A12110,analyse!D:E,2,FALSE)))","v":0},{"$f":"analyse!$B$1","v":0},0,0,0,0]
[null,null,{"$f":"IF(ISNA(VLOOKUP(A12143,analyse!D:E,2,FALSE))=TRUE,0,(VLOOKUP(A12143,analyse!D:E,2,FALSE)))","v":0},{"$f":"analyse!$B$1","v":0},0,0,0,0]
[null,null,{"$f":"IF(ISNA(VLOOKUP(A12195,analyse!D:E,2,FALSE))=TRUE,0,(VLOOKUP(A12195,analyse!D:E,2,FALSE)))","v":0},{"$f":"analyse!$B$1","v":0},0,0,0,0]
[null,null,{"$f":"IF(ISNA(VLOOKUP(A12308,analyse!D:E,2,FALSE))=TRUE,0,(VLOOKUP(A12308,analyse!D:E,2,FALSE)))","v":0},{"$f":"analyse!$B$1","v":0},0,0,0,0]
[null,null,{"$f":"IF(ISNA(VLOOKUP(A12419,analyse!D:E,2,FALSE))=TRUE,0,(VLOOKUP(A12419,analyse!D:E,2,FALSE)))","v":0},{"$f":"analyse!$B$1","v":0},0,0,0,0]
[null,null,{"$f":"IF(ISNA(VLOOKUP(A12474,analyse!D:E,2,FALSE))=TRUE,0,(VLOOKUP(A12474,analyse!D:E,2,FALSE)))","v":0},{"$f":"analyse!$B$1","v":0},0,0,0,0]
[null,null,{"$f":"IF(ISNA(VLOOKUP(A12507,analyse!D:E,2,FALSE))=TRUE,0,(VLOOKUP(A12507,analyse!D:E,2,FALSE)))","v":0},{"$f":"analyse!$B$1","v":0},0,0,0,0]
[null,null,{"$f":"IF(ISNA(VLOOKUP(A12607,analyse!D:E,2,FALSE))=TRUE,0,(VLOOKUP(A12607,analyse!D:E,2,FALSE)))","v":0},{"$f":"analyse!$B$1","v":0},0,0,0,0]
[null,null,{"$f":"IF(ISNA(VLOOKUP(A12672,analyse!D:E,2,FALSE))=TRUE,0,(VLOOKUP(A12672,analyse!D:E,2,FALSE)))","v":0},{"$f":"analyse!$B$1","v":0},0,0,0,0]
[null,null,{"$f":"IF(ISNA(VLOOKUP(A12783,analyse!D:E,2,FALSE))=TRUE,0,(VLOOKUP(A12783,analyse!D:E,2,FALSE)))","v":0},{"$f":"analyse!$B$1","v":0},0,0,0,0]
[null,null,{"$f":"IF(ISNA(VLOOKUP(A12838,analyse!D:E,2,FALSE))=TRUE,0,(VLOOKUP(A12838,analyse!D:E,2,FALSE)))","v":0},{"$f":"analyse!$B$1","v":0},0,0,0,0]
[null,null,{"$f":"IF(ISNA(VLOOKUP(A12949,analyse!D:E,2,FALSE))=TRUE,0,(VLOOKUP(A12949,analyse!D:E,2,FALSE)))","v":0},{"$f":"analyse!$B$1","v":0},0,0,0,0]
[null,null,{"$f":"IF(ISNA(VLOOKUP(A13023,analyse!D:E,2,FALSE))=TRUE,0,(VLOOKUP(A13023,analyse!D:E,2,FALSE)))","v":0},{"$f":"analyse!$B$1","v":0},0,0,0,0]
[null,null,{"$f":"IF(ISNA(VLOOKUP(A13114,analyse!D:E,2,FALSE))=TRUE,0,(VLOOKUP(A13114,analyse!D:E,2,FALSE)))","v":0},{"$f":"analyse!$B$1","v":0},0,0,0,0]
[null,null,{"$f":"IF(ISNA(VLOOKUP(A13147,analyse!D:E,2,FALSE))=TRUE,0,(VLOOKUP(A13147,analyse!D:E,2,FALSE)))","v":0},{"$f":"analyse!$B$1","v":0},0,0,0,0]
[null,null,{"$f":"IF(ISNA(VLOOKUP(A13280,analyse!D:E,2,FALSE))=TRUE,0,(VLOOKUP(A13280,analyse!D:E,2,FALSE)))","v":0},{"$f":"analyse!$B$1","v":0},0,0,0,0]
[null,null,{"$f":"IF(ISNA(VLOOKUP(A13313,analyse!D:E,2,FALSE))=TRUE,0,(VLOOKUP(A13313,analyse!D:E,2,FALSE)))","v":0},{"$f":"analyse!$B$1","v":0},0,0,0,0]
[null,null,{"$f":"IF(ISNA(VLOOKUP(A13362,analyse!D:E,2,FALSE))=TRUE,0,(VLOOKUP(A13362,analyse!D:E,2,FALSE)))","v":0},{"$f":"analyse!$B$1","v":0},0,0,0,0]
[null,null,{"$f":"IF(ISNA(VLOOKUP(A13478,analyse!D:E,2,FALSE))=TRUE,0,(VLOOKUP(A13478,analyse!D:E,2,FALSE)))","v":0},{"$f":"analyse!$B$1","v":0},0,0,0,0]
[null,null,{"$f":"IF(ISNA(VLOOKUP(A13589,analyse!D:E,2,FALSE))=TRUE,0,(VLOOKUP(A13589,analyse!D:E,2,FALSE)))","v":0},{"$f":"analyse!$B$1","v":0},0,0,0,0]
[null,null,{"$f":"IF(ISNA(VLOOKUP(A13622,analyse!D:E,2,FALSE))=TRUE,0,(VLOOKUP(A13622,analyse!D:E,2,FALSE)))","v":0},{"$f":"analyse!$B$1","v":0},0,0,0,0]
[null,null,{"$f":"IF(ISNA(VLOOKUP(A13677,analyse!D:E,2,FALSE))=TRUE,0,(VLOOKUP(A13677,analyse!D:E,2,FALSE)))","v":0},{"$f":"analyse!$B$1","v":0},0,0,0,0]
[null,null,{"$f":"IF(ISNA(VLOOKUP(A13778,analyse!D:E,2,FALSE))=TRUE,0,(VLOOKUP(A13778,analyse!D:E,2,FALSE)))","v":0},{"$f":"analyse!$B$1","v":0},0,0,0,0]
[null,null,{"$f":"IF(ISNA(VLOOKUP(A13842,analyse!D:E,2,FALSE))=TRUE,0,(VLOOKUP(A13842,analyse!D:E,2,FALSE)))","v":0},{"$f":"analyse!$B$1","v":0},0,0,0,0]
[null,null,{"$f":"IF(ISNA(VLOOKUP(A13953,analyse!D:E,2,FALSE))=TRUE,0,(VLOOKUP(A13953,analyse!D:E,2,FALSE)))","v":0},{"$f":"analyse!$B$1","v":0},0,0,0,0]
[null,null,{"$f":"IF(ISNA(VLOOKUP(A13986,analyse!D:E,2,FALSE))=TRUE,0,(VLOOKUP(A13986,analyse!D:E,2,FALSE)))","v":0},{"$f":"analyse!$B$1","v":0},0,0,0,0]
[null,null,{"$f":"IF(ISNA(VLOOKUP(A14119,analyse!D:E,2,FALSE))=TRUE,0,(VLOOKUP(A14119,analyse!D:E,2,FALSE)))","v":0},{"$f":"analyse!$B$1","v":0},0,0,0,0]
[null,null,{"$f":"IF(ISNA(VLOOKUP(A14194,analyse!D:E,2,FALSE))=TRUE,0,(VLOOKUP(A14194,analyse!D:E,2,FALSE)))","v":0},{"$f":"analyse!$B$1","v":0},0,0,0,0]
[null,null,{"$f":"IF(ISNA(VLOOKUP(A14262,analyse!D:E,2,FALSE))=TRUE,0,(VLOOKUP(A14262,analyse!D:E,2,FALSE)))","v":0},{"$f":"analyse!$B$1","v":0},0,0,0,0]
[null,null,{"$f":"IF(ISNA(VLOOKUP(A14317,analyse!D:E,2,FALSE))=TRUE,0,(VLOOKUP(A14317,analyse!D:E,2,FALSE)))","v":0},{"$f":"analyse!$B$1","v":0},0,0,0,0]
[null,null,{"$f":"IF(ISNA(VLOOKUP(A14428,analyse!D:E,2,FALSE))=TRUE,0,(VLOOKUP(A14428,analyse!D:E,2,FALSE)))","v":0},{"$f":"analyse!$B$1","v":0},0,0,0,0]
[null,null,{"$f":"IF(ISNA(VLOOKUP(A14482,analyse!D:E,2,FALSE))=TRUE,0,(VLOOKUP(A14482,analyse!D:E,2,FALSE)))","v":0},{"$f":"analyse!$B$1","v":0},0,0,0,0]
[null,null,{"$f":"IF(ISNA(VLOOKUP(A14593,analyse!D:E,2,FALSE))=TRUE,0,(VLOOKUP(A14593,analyse!D:E,2,FALSE)))","v":0},{"$f":"analyse!$B$1","v":0},0,0,0,0]
[null,null,{"$f":"IF(ISNA(VLOOKUP(A14626,analyse!D:E,2,FALSE))=TRUE,0,(VLOOKUP(A14626,analyse!D:E,2,FALSE)))","v":0},{"$f":"analyse!$B$1","v":0},0,0,0,0]
[null,null,{"$f":"IF(ISNA(VLOOKUP(A14681,analyse!D:E,2,FALSE))=TRUE,0,(VLOOKUP(A14681,analyse!D:E,2,FALSE)))","v":0},{"$f":"analyse!$B$1","v":0},0,0,0,0]
[null,null,{"$f":"IF(ISNA(VLOOKUP(A14792,analyse!D:E,2,FALSE))=TRUE,0,(VLOOKUP(A14792,analyse!D:E,2,FALSE)))","v":0},{"$f":"analyse!$B$1","v":0},0,0,0,0]
[null,null,{"$f":"IF(ISNA(VLOOKUP(A14898,analyse!D:E,2,FALSE))=TRUE,0,(VLOOKUP(A14898,analyse!D:E,2,FALSE)))","v":0},{"$f":"analyse!$B$1","v":0},0,0,0,0]
[null,null,{"$f":"IF(ISNA(VLOOKUP(A14957,analyse!D:E,2,FALSE))=TRUE,0,(VLOOKUP(A14957,analyse!D:E,2,FALSE)))","v":0},{"$f":"analyse!$B$1","v":0},0,0,0,0]
[null,null,{"$f":"IF(ISNA(VLOOKUP(A15068,analyse!D:E,2,FALSE))=TRUE,0,(VLOOKUP(A15068,analyse!D:E,2,FALSE)))","v":0},{"$f":"analyse!$B$1","v":0},0,0,0,0]
[null,null,{"$f":"IF(ISNA(VLOOKUP(A15123,analyse!D:E,2,FALSE))=TRUE,0,(VLOOKUP(A15123,analyse!D:E,2,FALSE)))","v":0},{"$f":"analyse!$B$1","v":0},0,0,0,0]
[null,null,{"$f":"IF(ISNA(VLOOKUP(A15156,analyse!D:E,2,FALSE))=TRUE,0,(VLOOKUP(A15156,analyse!D:E,2,FALSE)))","v":0},{"$f":"analyse!$B$1","v":0},0,0,0,0]
[null,null,{"$f":"IF(ISNA(VLOOKUP(A15233,analyse!D:E,2,FALSE))=TRUE,0,(VLOOKUP(A15233,analyse!D:E,2,FALSE)))","v":0},{"$f":"analyse!$B$1","v":0},0,0,0,0]
[null,null,{"$f":"IF(ISNA(VLOOKUP(A15321,analyse!D:E,2,FALSE))=TRUE,0,(VLOOKUP(A15321,analyse!D:E,2,FALSE)))","v":0},{"$f":"analyse!$B$1","v":0},0,0,0,0]
[null,null,{"$f":"IF(ISNA(VLOOKUP(A15432,analyse!D:E,2,FALSE))=TRUE,0,(VLOOKUP(A15432,analyse!D:E,2,FALSE)))","v":0},{"$f":"analyse!$B$1","v":0},0,0,0,0]
[null,null,{"$f":"IF(ISNA(VLOOKUP(A15487,analyse!D:E,2,FALSE))=TRUE,0,(VLOOKUP(A15487,analyse!D:E,2,FALSE)))","v":0},{"$f":"analyse!$B$1","v":0},0,0,0,0]
[null,null,{"$f":"IF(ISNA(VLOOKUP(A15598,analyse!D:E,2,FALSE))=TRUE,0,(VLOOKUP(A15598,analyse!D:E,2,FALSE)))","v":0},{"$f":"analyse!$B$1","v":0},0,0,0,0]
[null,null,{"$f":"IF(ISNA(VLOOKUP(A15649,analyse!D:E,2,FALSE))=TRUE,0,(VLOOKUP(A15649,analyse!D:E,2,FALSE)))","v":0},{"$f":"analyse!$B$1","v":0},0,0,0,0]
[null,null,{"$f":"IF(ISNA(VLOOKUP(A15763,analyse!D:E,2,FALSE))=TRUE,0,(VLOOKUP(A15763,analyse!D:E,2,FALSE)))","v":0},{"$f":"analyse!$B$1","v":0},0,0,0,0]
[null,null,{"$f":"IF(ISNA(VLOOKUP(A15796,analyse!D:E,2,FALSE))=TRUE,0,(VLOOKUP(A15796,analyse!D:E,2,FALSE)))","v":0},{"$f":"analyse!$B$1","v":0},0,0,0,0]
[null,null,{"$f":"IF(ISNA(VLOOKUP(A15907,analyse!D:E,2,FALSE))=TRUE,0,(VLOOKUP(A15907,analyse!D:E,2,FALSE)))","v":0},{"$f":"analyse!$B$1","v":0},0,0,0,0]
[null,null,{"$f":"IF(ISNA(VLOOKUP(A15962,analyse!D:E,2,FALSE))=TRUE,0,(VLOOKUP(A15962,analyse!D:E,2,FALSE)))","v":0},{"$f":"analyse!$B$1","v":0},0,0,0,0]
[null,null,{"$f":"IF(ISNA(VLOOKUP(A16065,analyse!D:E,2,FALSE))=TRUE,0,(VLOOKUP(A16065,analyse!D:E,2,FALSE)))","v":0},{"$f":"analyse!$B$1","v":0},0,0,0,0]
[null,null,{"$f":"IF(ISNA(VLOOKUP(A16127,analyse!D:E,2,FALSE))=TRUE,0,(VLOOKUP(A16127,analyse!D:E,2,FALSE)))","v":0},{"$f":"analyse!$B$1","v":0},0,0,0,0]
[null,null,{"$f":"IF(ISNA(VLOOKUP(A16160,analyse!D:E,2,FALSE))=TRUE,0,(VLOOKUP(A16160,analyse!D:E,2,FALSE)))","v":0},{"$f":"analyse!$B$1","v":0},0,0,0,0]
[null,null,{"$f":"IF(ISNA(VLOOKUP(A16271,analyse!D:E,2,FALSE))=TRUE,0,(VLOOKUP(A16271,analyse!D:E,2,FALSE)))","v":0},{"$f":"analyse!$B$1","v":0},0,0,0,0]
[null,null,{"$f":"IF(ISNA(VLOOKUP(A16326,analyse!D:E,2,FALSE))=TRUE,0,(VLOOKUP(A16326,analyse!D:E,2,FALSE)))","v":0},{"$f":"analyse!$B$1","v":0},0,0,0,0]
[null,null,{"$f":"IF(ISNA(VLOOKUP(A16404,analyse!D:E,2,FALSE))=TRUE,0,(VLOOKUP(A16404,analyse!D:E,2,FALSE)))","v":0},{"$f":"analyse!$B$1","v":0},0,0,0,0]
[null,null,{"$f":"IF(ISNA(VLOOKUP(A16491,analyse!D:E,2,FALSE))=TRUE,0,(VLOOKUP(A16491,analyse!D:E,2,FALSE)))","v":0},{"$f":"analyse!$B$1","v":0},0,0,0,0]
[null,null,{"$f":"IF(ISNA(VLOOKUP(A16602,analyse!D:E,2,FALSE))=TRUE,0,(VLOOKUP(A16602,analyse!D:E,2,FALSE)))","v":0},{"$f":"analyse!$B$1","v":0},0,0,0,0]
[null,null,{"$f":"IF(ISNA(VLOOKUP(A16635,analyse!D:E,2,FALSE))=TRUE,0,(VLOOKUP(A16635,analyse!D:E,2,FALSE)))","v":0},{"$f":"analyse!$B$1","v":0},0,0,0,0]
[null,null,{"$f":"IF(ISNA(VLOOKUP(A16768,analyse!D:E,2,FALSE))=TRUE,0,(VLOOKUP(A16768,analyse!D:E,2,FALSE)))","v":0},{"$f":"analyse!$B$1","v":0},0,0,0,0]
[null,null,{"$f":"IF(ISNA(VLOOKUP(A16820,analyse!D:E,2,FALSE))=TRUE,0,(VLOOKUP(A16820,analyse!D:E,2,FALSE)))","v":0},{"$f":"analyse!$B$1","v":0},0,0,0,0]
[null,null,{"$f":"IF(ISNA(VLOOKUP(A16911,analyse!D:E,2,FALSE))=TRUE,0,(VLOOKUP(A16911,analyse!D:E,2,FALSE)))","v":0},{"$f":"analyse!$B$1","v":0},0,0,0,0]
[null,null,{"$f":"IF(ISNA(VLOOKUP(A16966,analyse!D:E,2,FALSE))=TRUE,0,(VLOOKUP(A16966,analyse!D:E,2,FALSE)))","v":0},{"$f":"analyse!$B$1","v":0},0,0,0,0]
[null,null,{"$f":"IF(ISNA(VLOOKUP(A17077,analyse!D:E,2,FALSE))=TRUE,0,(VLOOKUP(A17077,analyse!D:E,2,FALSE)))","v":0},{"$f":"analyse!$B$1","v":0},0,0,0,0]
[null,null,{"$f":"IF(ISNA(VLOOKUP(A17132,analyse!D:E,2,FALSE))=TRUE,0,(VLOOKUP(A17132,analyse!D:E,2,FALSE)))","v":0},{"$f":"analyse!$B$1","v":0},0,0,0,0]
[null,null,{"$f":"IF(ISNA(VLOOKUP(A17236,analyse!D:E,2,FALSE))=TRUE,0,(VLOOKUP(A17236,analyse!D:E,2,FALSE)))","v":0},{"$f":"analyse!$B$1","v":0},0,0,0,0]
[null,null,{"$f":"IF(ISNA(VLOOKUP(A17275,analyse!D:E,2,FALSE))=TRUE,0,(VLOOKUP(A17275,analyse!D:E,2,FALSE)))","v":0},{"$f":"analyse!$B$1","v":0},0,0,0,0]
[null,null,{"$f":"IF(ISNA(VLOOKUP(A17330,analyse!D:E,2,FALSE))=TRUE,0,(VLOOKUP(A17330,analyse!D:E,2,FALSE)))","v":0},{"$f":"analyse!$B$1","v":0},0,0,0,0]
[null,null,{"$f":"IF(ISNA(VLOOKUP(A17441,analyse!D:E,2,FALSE))=TRUE,0,(VLOOKUP(A17441,analyse!D:E,2,FALSE)))","v":0},{"$f":"analyse!$B$1","v":0},0,0,0,0]
[null,null,{"$f":"IF(ISNA(VLOOKUP(A17496,analyse!D:E,2,FALSE))=TRUE,0,(VLOOKUP(A17496,analyse!D:E,2,FALSE)))","v":0},{"$f":"analyse!$B$1","v":0},0,0,0,0]
[null,null,{"$f":"IF(ISNA(VLOOKUP(A17575,analyse!D:E,2,FALSE))=TRUE,0,(VLOOKUP(A17575,analyse!D:E,2,FALSE)))","v":0},{"$f":"analyse!$B$1","v":0},0,0,0,0]
[null,null,{"$f":"IF(ISNA(VLOOKUP(A17639,analyse!D:E,2,FALSE))=TRUE,0,(VLOOKUP(A17639,analyse!D:E,2,FALSE)))","v":0},{"$f":"analyse!$B$1","v":0},0,0,0,0]
[null,null,{"$f":"IF(ISNA(VLOOKUP(A17772,analyse!D:E,2,FALSE))=TRUE,0,(VLOOKUP(A17772,analyse!D:E,2,FALSE)))","v":0},{"$f":"analyse!$B$1","v":0},0,0,0,0]
[null,null,{"$f":"IF(ISNA(VLOOKUP(A17805,analyse!D:E,2,FALSE))=TRUE,0,(VLOOKUP(A17805,analyse!D:E,2,FALSE)))","v":0},{"$f":"analyse!$B$1","v":0},0,0,0,0]
[null,null,{"$f":"IF(ISNA(VLOOKUP(A17936,analyse!D:E,2,FALSE))=TRUE,0,(VLOOKUP(A17936,analyse!D:E,2,FALSE)))","v":0},{"$f":"analyse!$B$1","v":0},0,0,0,0]
[null,null,{"$f":"IF(ISNA(VLOOKUP(A17970,analyse!D:E,2,FALSE))=TRUE,0,(VLOOKUP(A17970,analyse!D:E,2,FALSE)))","v":0},{"$f":"analyse!$B$1","v":0},0,0,0,0]
[null,null,{"$f":"IF(ISNA(VLOOKUP(A18081,analyse!D:E,2,FALSE))=TRUE,0,(VLOOKUP(A18081,analyse!D:E,2,FALSE)))","v":0},{"$f":"analyse!$B$1","v":0},0,0,0,0]
[null,null,{"$f":"IF(ISNA(VLOOKUP(A18136,analyse!D:E,2,FALSE))=TRUE,0,(VLOOKUP(A18136,analyse!D:E,2,FALSE)))","v":0},{"$f":"analyse!$B$1","v":0},0,0,0,0]
[null,null,{"$f":"IF(ISNA(VLOOKUP(A18247,analyse!D:E,2,FALSE))=TRUE,0,(VLOOKUP(A18247,analyse!D:E,2,FALSE)))","v":0},{"$f":"analyse!$B$1","v":0},0,0,0,0]
[null,null,{"$f":"IF(ISNA(VLOOKUP(A18275,analyse!D:E,2,FALSE))=TRUE,0,(VLOOKUP(A18275,analyse!D:E,2,FALSE)))","v":0},{"$f":"analyse!$B$1","v":0},0,0,0,0]
[null,null,{"$f":"IF(ISNA(VLOOKUP(A18412,analyse!D:E,2,FALSE))=TRUE,0,(VLOOKUP(A18412,analyse!D:E,2,FALSE)))","v":0},{"$f":"analyse!$B$1","v":0},0,0,0,0]
[null,null,{"$f":"IF(ISNA(VLOOKUP(A18445,analyse!D:E,2,FALSE))=TRUE,0,(VLOOKUP(A18445,analyse!D:E,2,FALSE)))","v":0},{"$f":"analyse!$B$1","v":0},0,0,0,0]
[null,null,{"$f":"IF(ISNA(VLOOKUP(A18556,analyse!D:E,2,FALSE))=TRUE,0,(VLOOKUP(A18556,analyse!D:E,2,FALSE)))","v":0},{"$f":"analyse!$B$1","v":0},0,0,0,0]
[null,null,{"$f":"IF(ISNA(VLOOKUP(A18611,analyse!D:E,2,FALSE))=TRUE,0,(VLOOKUP(A18611,analyse!D:E,2,FALSE)))","v":0},{"$f":"analyse!$B$1","v":0},0,0,0,0]
[null,null,{"$f":"IF(ISNA(VLOOKUP(A18691,analyse!D:E,2,FALSE))=TRUE,0,(VLOOKUP(A18691,analyse!D:E,2,FALSE)))","v":0},{"$f":"analyse!$B$1","v":0},0,0,0,0]
[null,null,{"$f":"IF(ISNA(VLOOKUP(A18776,analyse!D:E,2,FALSE))=TRUE,0,(VLOOKUP(A18776,analyse!D:E,2,FALSE)))","v":0},{"$f":"analyse!$B$1","v":0},0,0,0,0]
[null,null,{"$f":"IF(ISNA(VLOOKUP(A18809,analyse!D:E,2,FALSE))=TRUE,0,(VLOOKUP(A18809,analyse!D:E,2,FALSE)))","v":0},{"$f":"analyse!$B$1","v":0},0,0,0,0]
[null,null,{"$f":"IF(ISNA(VLOOKUP(A18920,analyse!D:E,2,FALSE))=TRUE,0,(VLOOKUP(A18920,analyse!D:E,2,FALSE)))","v":0},{"$f":"analyse!$B$1","v":0},0,0,0,0]
[null,null,{"$f":"IF(ISNA(VLOOKUP(A18975,analyse!D:E,2,FALSE))=TRUE,0,(VLOOKUP(A18975,analyse!D:E,2,FALSE)))","v":0},{"$f":"analyse!$B$1","v":0},0,0,0,0]
[null,null,{"$f":"IF(ISNA(VLOOKUP(A19107,analyse!D:E,2,FALSE))=TRUE,0,(VLOOKUP(A19107,analyse!D:E,2,FALSE)))","v":0},{"$f":"analyse!$B$1","v":0},0,0,0,0]
[null,null,{"$f":"IF(ISNA(VLOOKUP(A19140,analyse!D:E,2,FALSE))=TRUE,0,(VLOOKUP(A19140,analyse!D:E,2,FALSE)))","v":0},{"$f":"analyse!$B$1","v":0},0,0,0,0]
[null,null,{"$f":"IF(ISNA(VLOOKUP(A19251,analyse!D:E,2,FALSE))=TRUE,0,(VLOOKUP(A19251,analyse!D:E,2,FALSE)))","v":0},{"$f":"analyse!$B$1","v":0},0,0,0,0]
[null,null,{"$f":"IF(ISNA(VLOOKUP(A19284,analyse!D:E,2,FALSE))=TRUE,0,(VLOOKUP(A19284,analyse!D:E,2,FALSE)))","v":0},{"$f":"analyse!$B$1","v":0},0,0,0,0]
[null,null,{"$f":"IF(ISNA(VLOOKUP(A19417,analyse!D:E,2,FALSE))=TRUE,0,(VLOOKUP(A19417,analyse!D:E,2,FALSE)))","v":0},{"$f":"analyse!$B$1","v":0},0,0,0,0]
[null,null,{"$f":"IF(ISNA(VLOOKUP(A19446,analyse!D:E,2,FALSE))=TRUE,0,(VLOOKUP(A19446,analyse!D:E,2,FALSE)))","v":0},{"$f":"analyse!$B$1","v":0},0,0,0,0]
[null,null,{"$f":"IF(ISNA(VLOOKUP(A19560,analyse!D:E,2,FALSE))=TRUE,0,(VLOOKUP(A19560,analyse!D:E,2,FALSE)))","v":0},{"$f":"analyse!$B$1","v":0},0,0,0,0]
[null,null,{"$f":"IF(ISNA(VLOOKUP(A19615,analyse!D:E,2,FALSE))=TRUE,0,(VLOOKUP(A19615,analyse!D:E,2,FALSE)))","v":0},{"$f":"analyse!$B$1","v":0},0,0,0,0]
[null,null,{"$f":"IF(ISNA(VLOOKUP(A19726,analyse!D:E,2,FALSE))=TRUE,0,(VLOOKUP(A19726,analyse!D:E,2,FALSE)))","v":0},{"$f":"analyse!$B$1","v":0},0,0,0,0]
[null,null,{"$f":"IF(ISNA(VLOOKUP(A19781,analyse!D:E,2,FALSE))=TRUE,0,(VLOOKUP(A19781,analyse!D:E,2,FALSE)))","v":0},{"$f":"analyse!$B$1","v":0},0,0,0,0]
[null,null,{"$f":"IF(ISNA(VLOOKUP(A19862,analyse!D:E,2,FALSE))=TRUE,0,(VLOOKUP(A19862,analyse!D:E,2,FALSE)))","v":0},{"$f":"analyse!$B$1","v":0},0,0,0,0]
[null,null,{"$f":"IF(ISNA(VLOOKUP(A19924,analyse!D:E,2,FALSE))=TRUE,0,(VLOOKUP(A19924,analyse!D:E,2,FALSE)))","v":0},{"$f":"analyse!$B$1","v":0},0,0,0,0]
[null,null,{"$f":"IF(ISNA(VLOOKUP(A19979,analyse!D:E,2,FALSE))=TRUE,0,(VLOOKUP(A19979,analyse!D:E,2,FALSE)))","v":0},{"$f":"analyse!$B$1","v":0},0,0,0,0]
[null,null,{"$f":"IF(ISNA(VLOOKUP(A20090,analyse!D:E,2,FALSE))=TRUE,0,(VLOOKUP(A20090,analyse!D:E,2,FALSE)))","v":0},{"$f":"analyse!$B$1","v":0},0,0,0,0]
[null,null,{"$f":"IF(ISNA(VLOOKUP(A20201,analyse!D:E,2,FALSE))=TRUE,0,(VLOOKUP(A20201,analyse!D:E,2,FALSE)))","v":0},{"$f":"analyse!$B$1","v":0},0,0,0,0]
[null,null,{"$f":"IF(ISNA(VLOOKUP(A20278,analyse!D:E,2,FALSE))=TRUE,0,(VLOOKUP(A20278,analyse!D:E,2,FALSE)))","v":0},{"$f":"analyse!$B$1","v":0},0,0,0,0]
[null,null,{"$f":"IF(ISNA(VLOOKUP(A20288,analyse!D:E,2,FALSE))=TRUE,0,(VLOOKUP(A20288,analyse!D:E,2,FALSE)))","v":0},{"$f":"analyse!$B$1","v":0},0,0,0,0]
[null,null,{"$f":"IF(ISNA(VLOOKUP(A20421,analyse!D:E,2,FALSE))=TRUE,0,(VLOOKUP(A20421,analyse!D:E,2,FALSE)))","v":0},{"$f":"analyse!$B$1","v":0},0,0,0,0]
[null,null,{"$f":"IF(ISNA(VLOOKUP(A20454,analyse!D:E,2,FALSE))=TRUE,0,(VLOOKUP(A20454,analyse!D:E,2,FALSE)))","v":0},{"$f":"analyse!$B$1","v":0},0,0,0,0]
[null,null,{"$f":"IF(ISNA(VLOOKUP(A20565,analyse!D:E,2,FALSE))=TRUE,0,(VLOOKUP(A20565,analyse!D:E,2,FALSE)))","v":0},{"$f":"analyse!$B$1","v":0},0,0,0,0]
[null,null,{"$f":"IF(ISNA(VLOOKUP(A20617,analyse!D:E,2,FALSE))=TRUE,0,(VLOOKUP(A20617,analyse!D:E,2,FALSE)))","v":0},{"$f":"analyse!$B$1","v":0},0,0,0,0]
[null,null,{"$f":"IF(ISNA(VLOOKUP(A20730,analyse!D:E,2,FALSE))=TRUE,0,(VLOOKUP(A20730,analyse!D:E,2,FALSE)))","v":0},{"$f":"analyse!$B$1","v":0},0,0,0,0]
[null,null,{"$f":"IF(ISNA(VLOOKUP(A20785,analyse!D:E,2,FALSE))=TRUE,0,(VLOOKUP(A20785,analyse!D:E,2,FALSE)))","v":0},{"$f":"analyse!$B$1","v":0},0,0,0,0]
[null,null,{"$f":"IF(ISNA(VLOOKUP(A20896,analyse!D:E,2,FALSE))=TRUE,0,(VLOOKUP(A20896,analyse!D:E,2,FALSE)))","v":0},{"$f":"analyse!$B$1","v":0},0,0,0,0]
[null,null,{"$f":"IF(ISNA(VLOOKUP(A20978,analyse!D:E,2,FALSE))=TRUE,0,(VLOOKUP(A20978,analyse!D:E,2,FALSE)))","v":0},{"$f":"analyse!$B$1","v":0},0,0,0,0]
[null,null,{"$f":"IF(ISNA(VLOOKUP(A20983,analyse!D:E,2,FALSE))=TRUE,0,(VLOOKUP(A20983,analyse!D:E,2,FALSE)))","v":0},{"$f":"analyse!$B$1","v":0},0,0,0,0]
[null,null,{"$f":"IF(ISNA(VLOOKUP(A21094,analyse!D:E,2,FALSE))=TRUE,0,(VLOOKUP(A21094,analyse!D:E,2,FALSE)))","v":0},{"$f":"analyse!$B$1","v":0},0,0,0,0]
[null,null,{"$f":"IF(ISNA(VLOOKUP(A21205,analyse!D:E,2,FALSE))=TRUE,0,(VLOOKUP(A21205,analyse!D:E,2,FALSE)))","v":0},{"$f":"analyse!$B$1","v":0},0,0,0,0]
[null,null,{"$f":"IF(ISNA(VLOOKUP(A21260,analyse!D:E,2,FALSE))=TRUE,0,(VLOOKUP(A21260,analyse!D:E,2,FALSE)))","v":0},{"$f":"analyse!$B$1","v":0},0,0,0,0]
[null,null,{"$f":"IF(ISNA(VLOOKUP(A21317,analyse!D:E,2,FALSE))=TRUE,0,(VLOOKUP(A21317,analyse!D:E,2,FALSE)))","v":0},{"$f":"analyse!$B$1","v":0},0,0,0,0]
[null,null,{"$f":"IF(ISNA(VLOOKUP(A21425,analyse!D:E,2,FALSE))=TRUE,0,(VLOOKUP(A21425,analyse!D:E,2,FALSE)))","v":0},{"$f":"analyse!$B$1","v":0},0,0,0,0]
[null,null,{"$f":"IF(ISNA(VLOOKUP(A21458,analyse!D:E,2,FALSE))=TRUE,0,(VLOOKUP(A21458,analyse!D:E,2,FALSE)))","v":0},{"$f":"analyse!$B$1","v":0},0,0,0,0]
[null,null,{"$f":"IF(ISNA(VLOOKUP(A21569,analyse!D:E,2,FALSE))=TRUE,0,(VLOOKUP(A21569,analyse!D:E,2,FALSE)))","v":0},{"$f":"analyse!$B$1","v":0},0,0,0,0]
[null,null,{"$f":"IF(ISNA(VLOOKUP(A21624,analyse!D:E,2,FALSE))=TRUE,0,(VLOOKUP(A21624,analyse!D:E,2,FALSE)))","v":0},{"$f":"analyse!$B$1","v":0},0,0,0,0]
[null,null,{"$f":"IF(ISNA(VLOOKUP(A21733,analyse!D:E,2,FALSE))=TRUE,0,(VLOOKUP(A21733,analyse!D:E,2,FALSE)))","v":0},{"$f":"analyse!$B$1","v":0},0,0,0,0]
[null,null,{"$f":"IF(ISNA(VLOOKUP(A21789,analyse!D:E,2,FALSE))=TRUE,0,(VLOOKUP(A21789,analyse!D:E,2,FALSE)))","v":0},{"$f":"analyse!$B$1","v":0},0,0,0,0]
[null,null,{"$f":"IF(ISNA(VLOOKUP(A21900,analyse!D:E,2,FALSE))=TRUE,0,(VLOOKUP(A21900,analyse!D:E,2,FALSE)))","v":0},{"$f":"analyse!$B$1","v":0},0,0,0,0]
[null,null,{"$f":"IF(ISNA(VLOOKUP(A21933,analyse!D:E,2,FALSE))=TRUE,0,(VLOOKUP(A21933,analyse!D:E,2,FALSE)))","v":0},{"$f":"analyse!$B$1","v":0},0,0,0,0]
[null,null,{"$f":"IF(ISNA(VLOOKUP(A22066,analyse!D:E,2,FALSE))=TRUE,0,(VLOOKUP(A22066,analyse!D:E,2,FALSE)))","v":0},{"$f":"analyse!$B$1","v":0},0,0,0,0]
[null,null,{"$f":"IF(ISNA(VLOOKUP(A22072,analyse!D:E,2,FALSE))=TRUE,0,(VLOOKUP(A22072,analyse!D:E,2,FALSE)))","v":0},{"$f":"analyse!$B$1","v":0},0,0,0,0]
[null,null,{"$f":"IF(ISNA(VLOOKUP(A22209,analyse!D:E,2,FALSE))=TRUE,0,(VLOOKUP(A22209,analyse!D:E,2,FALSE)))","v":0},{"$f":"analyse!$B$1","v":0},0,0,0,0]
[null,null,{"$f":"IF(ISNA(VLOOKUP(A22264,analyse!D:E,2,FALSE))=TRUE,0,(VLOOKUP(A22264,analyse!D:E,2,FALSE)))","v":0},{"$f":"analyse!$B$1","v":0},0,0,0,0]
[null,null,{"$f":"IF(ISNA(VLOOKUP(A22375,analyse!D:E,2,FALSE))=TRUE,0,(VLOOKUP(A22375,analyse!D:E,2,FALSE)))","v":0},{"$f":"analyse!$B$1","v":0},0,0,0,0]
[null,null,{"$f":"IF(ISNA(VLOOKUP(A22430,analyse!D:E,2,FALSE))=TRUE,0,(VLOOKUP(A22430,analyse!D:E,2,FALSE)))","v":0},{"$f":"analyse!$B$1","v":0},0,0,0,0]
[null,null,{"$f":"IF(ISNA(VLOOKUP(A22488,analyse!D:E,2,FALSE))=TRUE,0,(VLOOKUP(A22488,analyse!D:E,2,FALSE)))","v":0},{"$f":"analyse!$B$1","v":0},0,0,0,0]
[null,null,{"$f":"IF(ISNA(VLOOKUP(A22573,analyse!D:E,2,FALSE))=TRUE,0,(VLOOKUP(A22573,analyse!D:E,2,FALSE)))","v":0},{"$f":"analyse!$B$1","v":0},0,0,0,0]
[null,null,{"$f":"IF(ISNA(VLOOKUP(A22628,analyse!D:E,2,FALSE))=TRUE,0,(VLOOKUP(A22628,analyse!D:E,2,FALSE)))","v":0},{"$f":"analyse!$B$1","v":0},0,0,0,0]
[null,null,{"$f":"IF(ISNA(VLOOKUP(A22739,analyse!D:E,2,FALSE))=TRUE,0,(VLOOKUP(A22739,analyse!D:E,2,FALSE)))","v":0},{"$f":"analyse!$B$1","v":0},0,0,0,0]
[null,null,{"$f":"IF(ISNA(VLOOKUP(A22772,analyse!D:E,2,FALSE))=TRUE,0,(VLOOKUP(A22772,analyse!D:E,2,FALSE)))","v":0},{"$f":"analyse!$B$1","v":0},0,0,0,0]
[null,null,{"$f":"IF(ISNA(VLOOKUP(A22904,analyse!D:E,2,FALSE))=TRUE,0,(VLOOKUP(A22904,analyse!D:E,2,FALSE)))","v":0},{"$f":"analyse!$B$1","v":0},0,0,0,0]
[null,null,{"$f":"IF(ISNA(VLOOKUP(A22937,analyse!D:E,2,FALSE))=TRUE,0,(VLOOKUP(A22937,analyse!D:E,2,FALSE)))","v":0},{"$f":"analyse!$B$1","v":0},0,0,0,0]
[null,null,{"$f":"IF(ISNA(VLOOKUP(A23070,analyse!D:E,2,FALSE))=TRUE,0,(VLOOKUP(A23070,analyse!D:E,2,FALSE)))","v":0},{"$f":"analyse!$B$1","v":0},0,0,0,0]
[null,null,{"$f":"IF(ISNA(VLOOKUP(A23103,analyse!D:E,2,FALSE))=TRUE,0,(VLOOKUP(A23103,analyse!D:E,2,FALSE)))","v":0},{"$f":"analyse!$B$1","v":0},0,0,0,0]
[null,null,{"$f":"IF(ISNA(VLOOKUP(A23214,analyse!D:E,2,FALSE))=TRUE,0,(VLOOKUP(A23214,analyse!D:E,2,FALSE)))","v":0},{"$f":"analyse!$B$1","v":0},0,0,0,0]
[null,null,{"$f":"IF(ISNA(VLOOKUP(A23243,analyse!D:E,2,FALSE))=TRUE,0,(VLOOKUP(A23243,analyse!D:E,2,FALSE)))","v":0},{"$f":"analyse!$B$1","v":0},0,0,0,0]
[null,null,{"$f":"IF(ISNA(VLOOKUP(A23379,analyse!D:E,2,FALSE))=TRUE,0,(VLOOKUP(A23379,analyse!D:E,2,FALSE)))","v":0},{"$f":"analyse!$B$1","v":0},0,0,0,0]
[null,null,{"$f":"IF(ISNA(VLOOKUP(A23434,analyse!D:E,2,FALSE))=TRUE,0,(VLOOKUP(A23434,analyse!D:E,2,FALSE)))","v":0},{"$f":"analyse!$B$1","v":0},0,0,0,0]
[null,null,{"$f":"IF(ISNA(VLOOKUP(A23545,analyse!D:E,2,FALSE))=TRUE,0,(VLOOKUP(A23545,analyse!D:E,2,FALSE)))","v":0},{"$f":"analyse!$B$1","v":0},0,0,0,0]
[null,null,{"$f":"IF(ISNA(VLOOKUP(A23578,analyse!D:E,2,FALSE))=TRUE,0,(VLOOKUP(A23578,analyse!D:E,2,FALSE)))","v":0},{"$f":"analyse!$B$1","v":0},0,0,0,0]
[null,null,{"$f":"IF(ISNA(VLOOKUP(A23659,analyse!D:E,2,FALSE))=TRUE,0,(VLOOKUP(A23659,analyse!D:E,2,FALSE)))","v":0},{"$f":"analyse!$B$1","v":0},0,0,0,0]
[null,null,{"$f":"IF(ISNA(VLOOKUP(A23743,analyse!D:E,2,FALSE))=TRUE,0,(VLOOKUP(A23743,analyse!D:E,2,FALSE)))","v":0},{"$f":"analyse!$B$1","v":0},0,0,0,0]
[null,null,{"$f":"IF(ISNA(VLOOKUP(A23854,analyse!D:E,2,FALSE))=TRUE,0,(VLOOKUP(A23854,analyse!D:E,2,FALSE)))","v":0},{"$f":"analyse!$B$1","v":0},0,0,0,0]
[null,null,{"$f":"IF(ISNA(VLOOKUP(A23909,analyse!D:E,2,FALSE))=TRUE,0,(VLOOKUP(A23909,analyse!D:E,2,FALSE)))","v":0},{"$f":"analyse!$B$1","v":0},0,0,0,0]
[null,null,{"$f":"IF(ISNA(VLOOKUP(A23943,analyse!D:E,2,FALSE))=TRUE,0,(VLOOKUP(A23943,analyse!D:E,2,FALSE)))","v":0},{"$f":"analyse!$B$1","v":0},0,0,0,0]
[null,null,{"$f":"IF(ISNA(VLOOKUP(A24074,analyse!D:E,2,FALSE))=TRUE,0,(VLOOKUP(A24074,analyse!D:E,2,FALSE)))","v":0},{"$f":"analyse!$B$1","v":0},0,0,0,0]
[null,null,{"$f":"IF(ISNA(VLOOKUP(A24107,analyse!D:E,2,FALSE))=TRUE,0,(VLOOKUP(A24107,analyse!D:E,2,FALSE)))","v":0},{"$f":"analyse!$B$1","v":0},0,0,0,0]
[null,null,{"$f":"IF(ISNA(VLOOKUP(A24218,analyse!D:E,2,FALSE))=TRUE,0,(VLOOKUP(A24218,analyse!D:E,2,FALSE)))","v":0},{"$f":"analyse!$B$1","v":0},0,0,0,0]
[null,null,{"$f":"IF(ISNA(VLOOKUP(A24273,analyse!D:E,2,FALSE))=TRUE,0,(VLOOKUP(A24273,analyse!D:E,2,FALSE)))","v":0},{"$f":"analyse!$B$1","v":0},0,0,0,0]
[null,null,{"$f":"IF(ISNA(VLOOKUP(A24359,analyse!D:E,2,FALSE))=TRUE,0,(VLOOKUP(A24359,analyse!D:E,2,FALSE)))","v":0},{"$f":"analyse!$B$1","v":0},0,0,0,0]
[null,null,{"$f":"IF(ISNA(VLOOKUP(A24438,analyse!D:E,2,FALSE))=TRUE,0,(VLOOKUP(A24438,analyse!D:E,2,FALSE)))","v":0},{"$f":"analyse!$B$1","v":0},0,0,0,0]
[null,null,{"$f":"IF(ISNA(VLOOKUP(A24549,analyse!D:E,2,FALSE))=TRUE,0,(VLOOKUP(A24549,analyse!D:E,2,FALSE)))","v":0},{"$f":"analyse!$B$1","v":0},0,0,0,0]
[null,null,{"$f":"IF(ISNA(VLOOKUP(A24582,analyse!D:E,2,FALSE))=TRUE,0,(VLOOKUP(A24582,analyse!D:E,2,FALSE)))","v":0},{"$f":"analyse!$B$1","v":0},0,0,0,0]
[null,null,{"$f":"IF(ISNA(VLOOKUP(A24715,analyse!D:E,2,FALSE))=TRUE,0,(VLOOKUP(A24715,analyse!D:E,2,FALSE)))","v":0},{"$f":"analyse!$B$1","v":0},0,0,0,0]
[null,null,{"$f":"IF(ISNA(VLOOKUP(A24775,analyse!D:E,2,FALSE))=TRUE,0,(VLOOKUP(A24775,analyse!D:E,2,FALSE)))","v":0},{"$f":"analyse!$B$1","v":0},0,0,0,0]
[null,null,{"$f":"IF(ISNA(VLOOKUP(A24858,analyse!D:E,2,FALSE))=TRUE,0,(VLOOKUP(A24858,analyse!D:E,2,FALSE)))","v":0},{"$f":"analyse!$B$1","v":0},0,0,0,0]
[null,null,{"$f":"IF(ISNA(VLOOKUP(A24913,analyse!D:E,2,FALSE))=TRUE,0,(VLOOKUP(A24913,analyse!D:E,2,FALSE)))","v":0},{"$f":"analyse!$B$1","v":0},0,0,0,0]
[null,null,{"$f":"IF(ISNA(VLOOKUP(A25024,analyse!D:E,2,FALSE))=TRUE,0,(VLOOKUP(A25024,analyse!D:E,2,FALSE)))","v":0},{"$f":"analyse!$B$1","v":0},0,0,0,0]
[null,null,{"$f":"IF(ISNA(VLOOKUP(A25079,analyse!D:E,2,FALSE))=TRUE,0,(VLOOKUP(A25079,analyse!D:E,2,FALSE)))","v":0},{"$f":"analyse!$B$1","v":0},0,0,0,0]
[null,null,{"$f":"IF(ISNA(VLOOKUP(A25114,analyse!D:E,2,FALSE))=TRUE,0,(VLOOKUP(A25114,analyse!D:E,2,FALSE)))","v":0},{"$f":"analyse!$B$1","v":0},0,0,0,0]
[null,null,{"$f":"IF(ISNA(VLOOKUP(A25222,analyse!D:E,2,FALSE))=TRUE,0,(VLOOKUP(A25222,analyse!D:E,2,FALSE)))","v":0},{"$f":"analyse!$B$1","v":0},0,0,0,0]
[null,null,{"$f":"IF(ISNA(VLOOKUP(A25277,analyse!D:E,2,FALSE))=TRUE,0,(VLOOKUP(A25277,analyse!D:E,2,FALSE)))","v":0},{"$f":"analyse!$B$1","v":0},0,0,0,0]
[null,null,{"$f":"IF(ISNA(VLOOKUP(A25388,analyse!D:E,2,FALSE))=TRUE,0,(VLOOKUP(A25388,analyse!D:E,2,FALSE)))","v":0},{"$f":"analyse!$B$1","v":0},0,0,0,0]
[null,null,{"$f":"IF(ISNA(VLOOKUP(A25421,analyse!D:E,2,FALSE))=TRUE,0,(VLOOKUP(A25421,analyse!D:E,2,FALSE)))","v":0},{"$f":"analyse!$B$1","v":0},0,0,0,0]
[null,null,{"$f":"IF(ISNA(VLOOKUP(A25530,analyse!D:E,2,FALSE))=TRUE,0,(VLOOKUP(A25530,analyse!D:E,2,FALSE)))","v":0},{"$f":"analyse!$B$1","v":0},0,0,0,0]
[null,null,{"$f":"IF(ISNA(VLOOKUP(A25586,analyse!D:E,2,FALSE))=TRUE,0,(VLOOKUP(A25586,analyse!D:E,2,FALSE)))","v":0},{"$f":"analyse!$B$1","v":0},0,0,0,0]
[null,null,{"$f":"IF(ISNA(VLOOKUP(A25719,analyse!D:E,2,FALSE))=TRUE,0,(VLOOKUP(A25719,analyse!D:E,2,FALSE)))","v":0},{"$f":"analyse!$B$1","v":0},0,0,0,0]
[null,null,{"$f":"IF(ISNA(VLOOKUP(A25752,analyse!D:E,2,FALSE))=TRUE,0,(VLOOKUP(A25752,analyse!D:E,2,FALSE)))","v":0},{"$f":"analyse!$B$1","v":0},0,0,0,0]
[null,null,{"$f":"IF(ISNA(VLOOKUP(A25863,analyse!D:E,2,FALSE))=TRUE,0,(VLOOKUP(A25863,analyse!D:E,2,FALSE)))","v":0},{"$f":"analyse!$B$1","v":0},0,0,0,0]
[null,null,{"$f":"IF(ISNA(VLOOKUP(A25946,analyse!D:E,2,FALSE))=TRUE,0,(VLOOKUP(A25946,analyse!D:E,2,FALSE)))","v":0},{"$f":"analyse!$B$1","v":0},0,0,0,0]
[null,null,{"$f":"IF(ISNA(VLOOKUP(A26028,analyse!D:E,2,FALSE))=TRUE,0,(VLOOKUP(A26028,analyse!D:E,2,FALSE)))","v":0},{"$f":"analyse!$B$1","v":0},0,0,0,0]
[null,null,{"$f":"IF(ISNA(VLOOKUP(A26083,analyse!D:E,2,FALSE))=TRUE,0,(VLOOKUP(A26083,analyse!D:E,2,FALSE)))","v":0},{"$f":"analyse!$B$1","v":0},0,0,0,0]
[null,null,{"$f":"IF(ISNA(VLOOKUP(A26194,analyse!D:E,2,FALSE))=TRUE,0,(VLOOKUP(A26194,analyse!D:E,2,FALSE)))","v":0},{"$f":"analyse!$B$1","v":0},0,0,0,0]
[null,null,{"$f":"IF(ISNA(VLOOKUP(A26227,analyse!D:E,2,FALSE))=TRUE,0,(VLOOKUP(A26227,analyse!D:E,2,FALSE)))","v":0},{"$f":"analyse!$B$1","v":0},0,0,0,0]
[null,null,{"$f":"IF(ISNA(VLOOKUP(A26285,analyse!D:E,2,FALSE))=TRUE,0,(VLOOKUP(A26285,analyse!D:E,2,FALSE)))","v":0},{"$f":"analyse!$B$1","v":0},0,0,0,0]
[null,null,{"$f":"IF(ISNA(VLOOKUP(A26392,analyse!D:E,2,FALSE))=TRUE,0,(VLOOKUP(A26392,analyse!D:E,2,FALSE)))","v":0},{"$f":"analyse!$B$1","v":0},0,0,0,0]
[null,null,{"$f":"IF(ISNA(VLOOKUP(A26503,analyse!D:E,2,FALSE))=TRUE,0,(VLOOKUP(A26503,analyse!D:E,2,FALSE)))","v":0},{"$f":"analyse!$B$1","v":0},0,0,0,0]
[null,null,{"$f":"IF(ISNA(VLOOKUP(A26558,analyse!D:E,2,FALSE))=TRUE,0,(VLOOKUP(A26558,analyse!D:E,2,FALSE)))","v":0},{"$f":"analyse!$B$1","v":0},0,0,0,0]
[null,null,{"$f":"IF(ISNA(VLOOKUP(A26591,analyse!D:E,2,FALSE))=TRUE,0,(VLOOKUP(A26591,analyse!D:E,2,FALSE)))","v":0},{"$f":"analyse!$B$1","v":0},0,0,0,0]
[null,null,{"$f":"IF(ISNA(VLOOKUP(A26701,analyse!D:E,2,FALSE))=TRUE,0,(VLOOKUP(A26701,analyse!D:E,2,FALSE)))","v":0},{"$f":"analyse!$B$1","v":0},0,0,0,0]
[null,null,{"$f":"IF(ISNA(VLOOKUP(A26756,analyse!D:E,2,FALSE))=TRUE,0,(VLOOKUP(A26756,analyse!D:E,2,FALSE)))","v":0},{"$f":"analyse!$B$1","v":0},0,0,0,0]
[null,null,{"$f":"IF(ISNA(VLOOKUP(A26867,analyse!D:E,2,FALSE))=TRUE,0,(VLOOKUP(A26867,analyse!D:E,2,FALSE)))","v":0},{"$f":"analyse!$B$1","v":0},0,0,0,0]
[null,null,{"$f":"IF(ISNA(VLOOKUP(A26922,analyse!D:E,2,FALSE))=TRUE,0,(VLOOKUP(A26922,analyse!D:E,2,FALSE)))","v":0},{"$f":"analyse!$B$1","v":0},0,0,0,0]
[null,null,{"$f":"IF(ISNA(VLOOKUP(A26985,analyse!D:E,2,FALSE))=TRUE,0,(VLOOKUP(A26985,analyse!D:E,2,FALSE)))","v":0},{"$f":"analyse!$B$1","v":0},0,0,0,0]
[null,null,{"$f":"IF(ISNA(VLOOKUP(A27065,analyse!D:E,2,FALSE))=TRUE,0,(VLOOKUP(A27065,analyse!D:E,2,FALSE)))","v":0},{"$f":"analyse!$B$1","v":0},0,0,0,0]
[null,null,{"$f":"IF(ISNA(VLOOKUP(A27198,analyse!D:E,2,FALSE))=TRUE,0,(VLOOKUP(A27198,analyse!D:E,2,FALSE)))","v":0},{"$f":"analyse!$B$1","v":0},0,0,0,0]
[null,null,{"$f":"IF(ISNA(VLOOKUP(A27231,analyse!D:E,2,FALSE))=TRUE,0,(VLOOKUP(A27231,analyse!D:E,2,FALSE)))","v":0},{"$f":"analyse!$B$1","v":0},0,0,0,0]
[null,null,{"$f":"IF(ISNA(VLOOKUP(A27286,analyse!D:E,2,FALSE))=TRUE,0,(VLOOKUP(A27286,analyse!D:E,2,FALSE)))","v":0},{"$f":"analyse!$B$1","v":0},0,0,0,0]
[null,null,{"$f":"IF(ISNA(VLOOKUP(A27401,analyse!D:E,2,FALSE))=TRUE,0,(VLOOKUP(A27401,analyse!D:E,2,FALSE)))","v":0},{"$f":"analyse!$B$1","v":0},0,0,0,0]
[null,null,{"$f":"IF(ISNA(VLOOKUP(A27507,analyse!D:E,2,FALSE))=TRUE,0,(VLOOKUP(A27507,analyse!D:E,2,FALSE)))","v":0},{"$f":"analyse!$B$1","v":0},0,0,0,0]
[null,null,{"$f":"IF(ISNA(VLOOKUP(A27562,analyse!D:E,2,FALSE))=TRUE,0,(VLOOKUP(A27562,analyse!D:E,2,FALSE)))","v":0},{"$f":"analyse!$B$1","v":0},0,0,0,0]
[null,null,{"$f":"IF(ISNA(VLOOKUP(A27595,analyse!D:E,2,FALSE))=TRUE,0,(VLOOKUP(A27595,analyse!D:E,2,FALSE)))","v":0},{"$f":"analyse!$B$1","v":0},0,0,0,0]
[null,null,{"$f":"IF(ISNA(VLOOKUP(A27728,analyse!D:E,2,FALSE))=TRUE,0,(VLOOKUP(A27728,analyse!D:E,2,FALSE)))","v":0},{"$f":"analyse!$B$1","v":0},0,0,0,0]
[null,null,{"$f":"IF(ISNA(VLOOKUP(A27817,analyse!D:E,2,FALSE))=TRUE,0,(VLOOKUP(A27817,analyse!D:E,2,FALSE)))","v":0},{"$f":"analyse!$B$1","v":0},0,0,0,0]
[null,null,{"$f":"IF(ISNA(VLOOKUP(A27871,analyse!D:E,2,FALSE))=TRUE,0,(VLOOKUP(A27871,analyse!D:E,2,FALSE)))","v":0},{"$f":"analyse!$B$1","v":0},0,0,0,0]
[null,null,{"$f":"IF(ISNA(VLOOKUP(A27926,analyse!D:E,2,FALSE))=TRUE,0,(VLOOKUP(A27926,analyse!D:E,2,FALSE)))","v":0},{"$f":"analyse!$B$1","v":0},0,0,0,0]
[null,null,{"$f":"IF(ISNA(VLOOKUP(A28037,analyse!D:E,2,FALSE))=TRUE,0,(VLOOKUP(A28037,analyse!D:E,2,FALSE)))","v":0},{"$f":"analyse!$B$1","v":0},0,0,0,0]
[null,null,{"$f":"IF(ISNA(VLOOKUP(A28070,analyse!D:E,2,FALSE))=TRUE,0,(VLOOKUP(A28070,analyse!D:E,2,FALSE)))","v":0},{"$f":"analyse!$B$1","v":0},0,0,0,0]
[null,null,{"$f":"IF(ISNA(VLOOKUP(A28156,analyse!D:E,2,FALSE))=TRUE,0,(VLOOKUP(A28156,analyse!D:E,2,FALSE)))","v":0},{"$f":"analyse!$B$1","v":0},0,0,0,0]
[null,null,{"$f":"IF(ISNA(VLOOKUP(A28235,analyse!D:E,2,FALSE))=TRUE,0,(VLOOKUP(A28235,analyse!D:E,2,FALSE)))","v":0},{"$f":"analyse!$B$1","v":0},0,0,0,0]
[null,null,{"$f":"IF(ISNA(VLOOKUP(A28368,analyse!D:E,2,FALSE))=TRUE,0,(VLOOKUP(A28368,analyse!D:E,2,FALSE)))","v":0},{"$f":"analyse!$B$1","v":0},0,0,0,0]
[null,null,{"$f":"IF(ISNA(VLOOKUP(A28401,analyse!D:E,2,FALSE))=TRUE,0,(VLOOKUP(A28401,analyse!D:E,2,FALSE)))","v":0},{"$f":"analyse!$B$1","v":0},0,0,0,0]
[null,null,{"$f":"IF(ISNA(VLOOKUP(A28512,analyse!D:E,2,FALSE))=TRUE,0,(VLOOKUP(A28512,analyse!D:E,2,FALSE)))","v":0},{"$f":"analyse!$B$1","v":0},0,0,0,0]
[null,null,{"$f":"IF(ISNA(VLOOKUP(A28572,analyse!D:E,2,FALSE))=TRUE,0,(VLOOKUP(A28572,analyse!D:E,2,FALSE)))","v":0},{"$f":"analyse!$B$1","v":0},0,0,0,0]
[null,null,{"$f":"IF(ISNA(VLOOKUP(A28677,analyse!D:E,2,FALSE))=TRUE,0,(VLOOKUP(A28677,analyse!D:E,2,FALSE)))","v":0},{"$f":"analyse!$B$1","v":0},0,0,0,0]
[null,null,{"$f":"IF(ISNA(VLOOKUP(A28732,analyse!D:E,2,FALSE))=TRUE,0,(VLOOKUP(A28732,analyse!D:E,2,FALSE)))","v":0},{"$f":"analyse!$B$1","v":0},0,0,0,0]
[null,null,{"$f":"IF(ISNA(VLOOKUP(A28765,analyse!D:E,2,FALSE))=TRUE,0,(VLOOKUP(A28765,analyse!D:E,2,FALSE)))","v":0},{"$f":"analyse!$B$1","v":0},0,0,0,0]
[null,null,{"$f":"IF(ISNA(VLOOKUP(A28876,analyse!D:E,2,FALSE))=TRUE,0,(VLOOKUP(A28876,analyse!D:E,2,FALSE)))","v":0},{"$f":"analyse!$B$1","v":0},0,0,0,0]
[null,null,{"$f":"IF(ISNA(VLOOKUP(A28988,analyse!D:E,2,FALSE))=TRUE,0,(VLOOKUP(A28988,analyse!D:E,2,FALSE)))","v":0},{"$f":"analyse!$B$1","v":0},0,0,0,0]
[null,null,{"$f":"IF(ISNA(VLOOKUP(A29041,analyse!D:E,2,FALSE))=TRUE,0,(VLOOKUP(A29041,analyse!D:E,2,FALSE)))","v":0},{"$f":"analyse!$B$1","v":0},0,0,0,0]
[null,null,{"$f":"IF(ISNA(VLOOKUP(A29074,analyse!D:E,2,FALSE))=TRUE,0,(VLOOKUP(A29074,analyse!D:E,2,FALSE)))","v":0},{"$f":"analyse!$B$1","v":0},0,0,0,0]
[null,null,{"$f":"IF(ISNA(VLOOKUP(A29207,analyse!D:E,2,FALSE))=TRUE,0,(VLOOKUP(A29207,analyse!D:E,2,FALSE)))","v":0},{"$f":"analyse!$B$1","v":0},0,0,0,0]
[null,null,{"$f":"IF(ISNA(VLOOKUP(A29240,analyse!D:E,2,FALSE))=TRUE,0,(VLOOKUP(A29240,analyse!D:E,2,FALSE)))","v":0},{"$f":"analyse!$B$1","v":0},0,0,0,0]
[null,null,{"$f":"IF(ISNA(VLOOKUP(A29327,analyse!D:E,2,FALSE))=TRUE,0,(VLOOKUP(A29327,analyse!D:E,2,FALSE)))","v":0},{"$f":"analyse!$B$1","v":0},0,0,0,0]
[null,null,{"$f":"IF(ISNA(VLOOKUP(A29405,analyse!D:E,2,FALSE))=TRUE,0,(VLOOKUP(A29405,analyse!D:E,2,FALSE)))","v":0},{"$f":"analyse!$B$1","v":0},0,0,0,0]
[null,null,{"$f":"IF(ISNA(VLOOKUP(A29516,analyse!D:E,2,FALSE))=TRUE,0,(VLOOKUP(A29516,analyse!D:E,2,FALSE)))","v":0},{"$f":"analyse!$B$1","v":0},0,0,0,0]
[null,null,{"$f":"IF(ISNA(VLOOKUP(A29571,analyse!D:E,2,FALSE))=TRUE,0,(VLOOKUP(A29571,analyse!D:E,2,FALSE)))","v":0},{"$f":"analyse!$B$1","v":0},0,0,0,0]
[null,null,{"$f":"IF(ISNA(VLOOKUP(A29682,analyse!D:E,2,FALSE))=TRUE,0,(VLOOKUP(A29682,analyse!D:E,2,FALSE)))","v":0},{"$f":"analyse!$B$1","v":0},0,0,0,0]
[null,null,{"$f":"IF(ISNA(VLOOKUP(A29739,analyse!D:E,2,FALSE))=TRUE,0,(VLOOKUP(A29739,analyse!D:E,2,FALSE)))","v":0},{"$f":"analyse!$B$1","v":0},0,0,0,0]
[null,null,{"$f":"IF(ISNA(VLOOKUP(A29847,analyse!D:E,2,FALSE))=TRUE,0,(VLOOKUP(A29847,analyse!D:E,2,FALSE)))","v":0},{"$f":"analyse!$B$1","v":0},0,0,0,0]
[null,null,{"$f":"IF(ISNA(VLOOKUP(A29880,analyse!D:E,2,FALSE))=TRUE,0,(VLOOKUP(A29880,analyse!D:E,2,FALSE)))","v":0},{"$f":"analyse!$B$1","v":0},0,0,0,0]
[null,null,{"$f":"IF(ISNA(VLOOKUP(A29935,analyse!D:E,2,FALSE))=TRUE,0,(VLOOKUP(A29935,analyse!D:E,2,FALSE)))","v":0},{"$f":"analyse!$B$1","v":0},0,0,0,0]
[null,null,{"$f":"IF(ISNA(VLOOKUP(A30027,analyse!D:E,2,FALSE))=TRUE,0,(VLOOKUP(A30027,analyse!D:E,2,FALSE)))","v":0},{"$f":"analyse!$B$1","v":0},0,0,0,0]
[null,null,{"$f":"IF(ISNA(VLOOKUP(A30156,analyse!D:E,2,FALSE))=TRUE,0,(VLOOKUP(A30156,analyse!D:E,2,FALSE)))","v":0},{"$f":"analyse!$B$1","v":0},0,0,0,0]
[null,null,{"$f":"IF(ISNA(VLOOKUP(A30211,analyse!D:E,2,FALSE))=TRUE,0,(VLOOKUP(A30211,analyse!D:E,2,FALSE)))","v":0},{"$f":"analyse!$B$1","v":0},0,0,0,0]
[null,null,{"$f":"IF(ISNA(VLOOKUP(A30244,analyse!D:E,2,FALSE))=TRUE,0,(VLOOKUP(A30244,analyse!D:E,2,FALSE)))","v":0},{"$f":"analyse!$B$1","v":0},0,0,0,0]
[null,null,{"$f":"IF(ISNA(VLOOKUP(A30377,analyse!D:E,2,FALSE))=TRUE,0,(VLOOKUP(A30377,analyse!D:E,2,FALSE)))","v":0},{"$f":"analyse!$B$1","v":0},0,0,0,0]
[null,null,{"$f":"IF(ISNA(VLOOKUP(A30443,analyse!D:E,2,FALSE))=TRUE,0,(VLOOKUP(A30443,analyse!D:E,2,FALSE)))","v":0},{"$f":"analyse!$B$1","v":0},0,0,0,0]
[null,null,{"$f":"IF(ISNA(VLOOKUP(A30520,analyse!D:E,2,FALSE))=TRUE,0,(VLOOKUP(A30520,analyse!D:E,2,FALSE)))","v":0},{"$f":"analyse!$B$1","v":0},0,0,0,0]
[null,null,{"$f":"IF(ISNA(VLOOKUP(A30575,analyse!D:E,2,FALSE))=TRUE,0,(VLOOKUP(A30575,analyse!D:E,2,FALSE)))","v":0},{"$f":"analyse!$B$1","v":0},0,0,0,0]
[null,null,{"$f":"IF(ISNA(VLOOKUP(A30686,analyse!D:E,2,FALSE))=TRUE,0,(VLOOKUP(A30686,analyse!D:E,2,FALSE)))","v":0},{"$f":"analyse!$B$1","v":0},0,0,0,0]
[null,null,{"$f":"IF(ISNA(VLOOKUP(A30719,analyse!D:E,2,FALSE))=TRUE,0,(VLOOKUP(A30719,analyse!D:E,2,FALSE)))","v":0},{"$f":"analyse!$B$1","v":0},0,0,0,0]
[null,null,{"$f":"IF(ISNA(VLOOKUP(A30859,analyse!D:E,2,FALSE))=TRUE,0,(VLOOKUP(A30859,analyse!D:E,2,FALSE)))","v":0},{"$f":"analyse!$B$1","v":0},0,0,0,0]
[null,null,{"$f":"IF(ISNA(VLOOKUP(A30884,analyse!D:E,2,FALSE))=TRUE,0,(VLOOKUP(A30884,analyse!D:E,2,FALSE)))","v":0},{"$f":"analyse!$B$1","v":0},0,0,0,0]
[null,null,{"$f":"IF(ISNA(VLOOKUP(A31017,analyse!D:E,2,FALSE))=TRUE,0,(VLOOKUP(A31017,analyse!D:E,2,FALSE)))","v":0},{"$f":"analyse!$B$1","v":0},0,0,0,0]
[null,null,{"$f":"IF(ISNA(VLOOKUP(A31050,analyse!D:E,2,FALSE))=TRUE,0,(VLOOKUP(A31050,analyse!D:E,2,FALSE)))","v":0},{"$f":"analyse!$B$1","v":0},0,0,0,0]
[null,null,{"$f":"IF(ISNA(VLOOKUP(A31161,analyse!D:E,2,FALSE))=TRUE,0,(VLOOKUP(A31161,analyse!D:E,2,FALSE)))","v":0},{"$f":"analyse!$B$1","v":0},0,0,0,0]
[null,null,{"$f":"IF(ISNA(VLOOKUP(A31198,analyse!D:E,2,FALSE))=TRUE,0,(VLOOKUP(A31198,analyse!D:E,2,FALSE)))","v":0},{"$f":"analyse!$B$1","v":0},0,0,0,0]
[null,null,{"$f":"IF(ISNA(VLOOKUP(A31326,analyse!D:E,2,FALSE))=TRUE,0,(VLOOKUP(A31326,analyse!D:E,2,FALSE)))","v":0},{"$f":"analyse!$B$1","v":0},0,0,0,0]
[null,null,{"$f":"IF(ISNA(VLOOKUP(A31381,analyse!D:E,2,FALSE))=TRUE,0,(VLOOKUP(A31381,analyse!D:E,2,FALSE)))","v":0},{"$f":"analyse!$B$1","v":0},0,0,0,0]
[null,null,{"$f":"IF(ISNA(VLOOKUP(A31414,analyse!D:E,2,FALSE))=TRUE,0,(VLOOKUP(A31414,analyse!D:E,2,FALSE)))","v":0},{"$f":"analyse!$B$1","v":0},0,0,0,0]
[null,null,{"$f":"IF(ISNA(VLOOKUP(A31525,analyse!D:E,2,FALSE))=TRUE,0,(VLOOKUP(A31525,analyse!D:E,2,FALSE)))","v":0},{"$f":"analyse!$B$1","v":0},0,0,0,0]
[null,null,{"$f":"IF(ISNA(VLOOKUP(A31614,analyse!D:E,2,FALSE))=TRUE,0,(VLOOKUP(A31614,analyse!D:E,2,FALSE)))","v":0},{"$f":"analyse!$B$1","v":0},0,0,0,0]
[null,null,{"$f":"IF(ISNA(VLOOKUP(A31690,analyse!D:E,2,FALSE))=TRUE,0,(VLOOKUP(A31690,analyse!D:E,2,FALSE)))","v":0},{"$f":"analyse!$B$1","v":0},0,0,0,0]
[null,null,{"$f":"IF(ISNA(VLOOKUP(A31723,analyse!D:E,2,FALSE))=TRUE,0,(VLOOKUP(A31723,analyse!D:E,2,FALSE)))","v":0},{"$f":"analyse!$B$1","v":0},0,0,0,0]
[null,null,{"$f":"IF(ISNA(VLOOKUP(A31856,analyse!D:E,2,FALSE))=TRUE,0,(VLOOKUP(A31856,analyse!D:E,2,FALSE)))","v":0},{"$f":"analyse!$B$1","v":0},0,0,0,0]
[null,null,{"$f":"IF(ISNA(VLOOKUP(A31889,analyse!D:E,2,FALSE))=TRUE,0,(VLOOKUP(A31889,analyse!D:E,2,FALSE)))","v":0},{"$f":"analyse!$B$1","v":0},0,0,0,0]
[null,null,{"$f":"IF(ISNA(VLOOKUP(A31953,analyse!D:E,2,FALSE))=TRUE,0,(VLOOKUP(A31953,analyse!D:E,2,FALSE)))","v":0},{"$f":"analyse!$B$1","v":0},0,0,0,0]
[null,null,{"$f":"IF(ISNA(VLOOKUP(A32054,analyse!D:E,2,FALSE))=TRUE,0,(VLOOKUP(A32054,analyse!D:E,2,FALSE)))","v":0},{"$f":"analyse!$B$1","v":0},0,0,0,0]
[null,null,{"$f":"IF(ISNA(VLOOKUP(A32165,analyse!D:E,2,FALSE))=TRUE,0,(VLOOKUP(A32165,analyse!D:E,2,FALSE)))","v":0},{"$f":"analyse!$B$1","v":0},0,0,0,0]
[null,null,{"$f":"IF(ISNA(VLOOKUP(A32220,analyse!D:E,2,FALSE))=TRUE,0,(VLOOKUP(A32220,analyse!D:E,2,FALSE)))","v":0},{"$f":"analyse!$B$1","v":0},0,0,0,0]
[null,null,{"$f":"IF(ISNA(VLOOKUP(A32331,analyse!D:E,2,FALSE))=TRUE,0,(VLOOKUP(A32331,analyse!D:E,2,FALSE)))","v":0},{"$f":"analyse!$B$1","v":0},0,0,0,0]
[null,null,{"$f":"IF(ISNA(VLOOKUP(A32365,analyse!D:E,2,FALSE))=TRUE,0,(VLOOKUP(A32365,analyse!D:E,2,FALSE)))","v":0},{"$f":"analyse!$B$1","v":0},0,0,0,0]
[null,null,{"$f":"IF(ISNA(VLOOKUP(A32418,analyse!D:E,2,FALSE))=TRUE,0,(VLOOKUP(A32418,analyse!D:E,2,FALSE)))","v":0},{"$f":"analyse!$B$1","v":0},0,0,0,0]
[null,null,{"$f":"IF(ISNA(VLOOKUP(A32529,analyse!D:E,2,FALSE))=TRUE,0,(VLOOKUP(A32529,analyse!D:E,2,FALSE)))","v":0},{"$f":"analyse!$B$1","v":0},0,0,0,0]
[null,null,{"$f":"IF(ISNA(VLOOKUP(A32584,analyse!D:E,2,FALSE))=TRUE,0,(VLOOKUP(A32584,analyse!D:E,2,FALSE)))","v":0},{"$f":"analyse!$B$1","v":0},0,0,0,0]
[null,null,{"$f":"IF(ISNA(VLOOKUP(A32695,analyse!D:E,2,FALSE))=TRUE,0,(VLOOKUP(A32695,analyse!D:E,2,FALSE)))","v":0},{"$f":"analyse!$B$1","v":0},0,0,0,0]
[null,null,{"$f":"IF(ISNA(VLOOKUP(A32781,analyse!D:E,2,FALSE))=TRUE,0,(VLOOKUP(A32781,analyse!D:E,2,FALSE)))","v":0},{"$f":"analyse!$B$1","v":0},0,0,0,0]
[null,null,{"$f":"IF(ISNA(VLOOKUP(A32860,analyse!D:E,2,FALSE))=TRUE,0,(VLOOKUP(A32860,analyse!D:E,2,FALSE)))","v":0},{"$f":"analyse!$B$1","v":0},0,0,0,0]
[null,null,{"$f":"IF(ISNA(VLOOKUP(A32893,analyse!D:E,2,FALSE))=TRUE,0,(VLOOKUP(A32893,analyse!D:E,2,FALSE)))","v":0},{"$f":"analyse!$B$1","v":0},0,0,0,0]
[null,null,{"$f":"IF(ISNA(VLOOKUP(A33026,analyse!D:E,2,FALSE))=TRUE,0,(VLOOKUP(A33026,analyse!D:E,2,FALSE)))","v":0},{"$f":"analyse!$B$1","v":0},{"$f":"D33026-C33026","v":0},{"$f":"E33026+C33026","v":0},{"$f":"IF(F33026<E33026,D33026-1,D33026)","v":0},{"$f":"IF(A33026=\"S20.G01.00.001\",H33025+1,H33025)","v":0}]
[null,null,{"$f":"IF(ISNA(VLOOKUP(A33059,analyse!D:E,2,FALSE))=TRUE,0,(VLOOKUP(A33059,analyse!D:E,2,FALSE)))","v":0},{"$f":"analyse!$B$1","v":0},0,0,0,0]
[null,null,{"$f":"IF(ISNA(VLOOKUP(A33120,analyse!D:E,2,FALSE))=TRUE,0,(VLOOKUP(A33120,analyse!D:E,2,FALSE)))","v":0},{"$f":"analyse!$B$1","v":0},0,0,0,0]
[null,null,{"$f":"IF(ISNA(VLOOKUP(A33224,analyse!D:E,2,FALSE))=TRUE,0,(VLOOKUP(A33224,analyse!D:E,2,FALSE)))","v":0},{"$f":"analyse!$B$1","v":0},0,0,0,0]
[null,null,{"$f":"IF(ISNA(VLOOKUP(A33335,analyse!D:E,2,FALSE))=TRUE,0,(VLOOKUP(A33335,analyse!D:E,2,FALSE)))","v":0},{"$f":"analyse!$B$1","v":0},0,0,0,0]
[null,null,{"$f":"IF(ISNA(VLOOKUP(A33368,analyse!D:E,2,FALSE))=TRUE,0,(VLOOKUP(A33368,analyse!D:E,2,FALSE)))","v":0},{"$f":"analyse!$B$1","v":0},0,0,0,0]
[null,null,{"$f":"IF(ISNA(VLOOKUP(A33485,analyse!D:E,2,FALSE))=TRUE,0,(VLOOKUP(A33485,analyse!D:E,2,FALSE)))","v":0},{"$f":"analyse!$B$1","v":0},0,0,0,0]
[null,null,{"$f":"IF(ISNA(VLOOKUP(A33533,analyse!D:E,2,FALSE))=TRUE,0,(VLOOKUP(A33533,analyse!D:E,2,FALSE)))","v":0},{"$f":"analyse!$B$1","v":0},0,0,0,0]
[null,null,{"$f":"IF(ISNA(VLOOKUP(A33588,analyse!D:E,2,FALSE))=TRUE,0,(VLOOKUP(A33588,analyse!D:E,2,FALSE)))","v":0},{"$f":"analyse!$B$1","v":0},0,0,0,0]
[null,null,{"$f":"IF(ISNA(VLOOKUP(A33699,analyse!D:E,2,FALSE))=TRUE,0,(VLOOKUP(A33699,analyse!D:E,2,FALSE)))","v":0},{"$f":"analyse!$B$1","v":0},0,0,0,0]
[null,null,{"$f":"IF(ISNA(VLOOKUP(A33810,analyse!D:E,2,FALSE))=TRUE,0,(VLOOKUP(A33810,analyse!D:E,2,FALSE)))","v":0},{"$f":"analyse!$B$1","v":0},0,0,0,0]
[null,null,{"$f":"IF(ISNA(VLOOKUP(A33824,analyse!D:E,2,FALSE))=TRUE,0,(VLOOKUP(A33824,analyse!D:E,2,FALSE)))","v":0},{"$f":"analyse!$B$1","v":0},0,0,0,0]
[null,null,{"$f":"IF(ISNA(VLOOKUP(A33897,analyse!D:E,2,FALSE))=TRUE,0,(VLOOKUP(A33897,analyse!D:E,2,FALSE)))","v":0},{"$f":"analyse!$B$1","v":0},0,0,0,0]
[null,null,{"$f":"IF(ISNA(VLOOKUP(A34008,analyse!D:E,2,FALSE))=TRUE,0,(VLOOKUP(A34008,analyse!D:E,2,FALSE)))","v":0},{"$f":"analyse!$B$1","v":0},0,0,0,0]
[null,null,{"$f":"IF(ISNA(VLOOKUP(A34063,analyse!D:E,2,FALSE))=TRUE,0,(VLOOKUP(A34063,analyse!D:E,2,FALSE)))","v":0},{"$f":"analyse!$B$1","v":0},0,0,0,0]
[null,null,{"$f":"IF(ISNA(VLOOKUP(A34174,analyse!D:E,2,FALSE))=TRUE,0,(VLOOKUP(A34174,analyse!D:E,2,FALSE)))","v":0},{"$f":"analyse!$B$1","v":0},0,0,0,0]
[null,null,{"$f":"IF(ISNA(VLOOKUP(A34240,analyse!D:E,2,FALSE))=TRUE,0,(VLOOKUP(A34240,analyse!D:E,2,FALSE)))","v":0},{"$f":"analyse!$B$1","v":0},0,0,0,0]
[null,null,{"$f":"IF(ISNA(VLOOKUP(A34339,analyse!D:E,2,FALSE))=TRUE,0,(VLOOKUP(A34339,analyse!D:E,2,FALSE)))","v":0},{"$f":"analyse!$B$1","v":0},0,0,0,0]
[null,null,{"$f":"IF(ISNA(VLOOKUP(A34372,analyse!D:E,2,FALSE))=TRUE,0,(VLOOKUP(A34372,analyse!D:E,2,FALSE)))","v":0},{"$f":"analyse!$B$1","v":0},0,0,0,0]
[null,null,{"$f":"IF(ISNA(VLOOKUP(A34505,analyse!D:E,2,FALSE))=TRUE,0,(VLOOKUP(A34505,analyse!D:E,2,FALSE)))","v":0},{"$f":"analyse!$B$1","v":0},0,0,0,0]
[null,null,{"$f":"IF(ISNA(VLOOKUP(A34538,analyse!D:E,2,FALSE))=TRUE,0,(VLOOKUP(A34538,analyse!D:E,2,FALSE)))","v":0},{"$f":"analyse!$B$1","v":0},0,0,0,0]
[null,null,{"$f":"IF(ISNA(VLOOKUP(A34656,analyse!D:E,2,FALSE))=TRUE,0,(VLOOKUP(A34656,analyse!D:E,2,FALSE)))","v":0},{"$f":"analyse!$B$1","v":0},0,0,0,0]
[null,null,{"$f":"IF(ISNA(VLOOKUP(A34703,analyse!D:E,2,FALSE))=TRUE,0,(VLOOKUP(A34703,analyse!D:E,2,FALSE)))","v":0},{"$f":"analyse!$B$1","v":0},0,0,0,0]
[null,null,{"$f":"IF(ISNA(VLOOKUP(A34814,analyse!D:E,2,FALSE))=TRUE,0,(VLOOKUP(A34814,analyse!D:E,2,FALSE)))","v":0},{"$f":"analyse!$B$1","v":0},0,0,0,0]
[null,null,{"$f":"IF(ISNA(VLOOKUP(A34869,analyse!D:E,2,FALSE))=TRUE,0,(VLOOKUP(A34869,analyse!D:E,2,FALSE)))","v":0},{"$f":"analyse!$B$1","v":0},0,0,0,0]
[null,null,{"$f":"IF(ISNA(VLOOKUP(A34980,analyse!D:E,2,FALSE))=TRUE,0,(VLOOKUP(A34980,analyse!D:E,2,FALSE)))","v":0},{"$f":"analyse!$B$1","v":0},0,0,0,0]
[null,null,{"$f":"IF(ISNA(VLOOKUP(A34991,analyse!D:E,2,FALSE))=TRUE,0,(VLOOKUP(A34991,analyse!D:E,2,FALSE)))","v":0},{"$f":"analyse!$B$1","v":0},0,0,0,0]
[null,null,{"$f":"IF(ISNA(VLOOKUP(A35067,analyse!D:E,2,FALSE))=TRUE,0,(VLOOKUP(A35067,analyse!D:E,2,FALSE)))","v":0},{"$f":"analyse!$B$1","v":0},0,0,0,0]
[null,null,{"$f":"IF(ISNA(VLOOKUP(A35178,analyse!D:E,2,FALSE))=TRUE,0,(VLOOKUP(A35178,analyse!D:E,2,FALSE)))","v":0},{"$f":"analyse!$B$1","v":0},0,0,0,0]
[null,null,{"$f":"IF(ISNA(VLOOKUP(A35233,analyse!D:E,2,FALSE))=TRUE,0,(VLOOKUP(A35233,analyse!D:E,2,FALSE)))","v":0},{"$f":"analyse!$B$1","v":0},0,0,0,0]
[null,null,{"$f":"IF(ISNA(VLOOKUP(A35344,analyse!D:E,2,FALSE))=TRUE,0,(VLOOKUP(A35344,analyse!D:E,2,FALSE)))","v":0},{"$f":"analyse!$B$1","v":0},0,0,0,0]
[null,null,{"$f":"IF(ISNA(VLOOKUP(A35407,analyse!D:E,2,FALSE))=TRUE,0,(VLOOKUP(A35407,analyse!D:E,2,FALSE)))","v":0},{"$f":"analyse!$B$1","v":0},0,0,0,0]
[null,null,{"$f":"IF(ISNA(VLOOKUP(A35509,analyse!D:E,2,FALSE))=TRUE,0,(VLOOKUP(A35509,analyse!D:E,2,FALSE)))","v":0},{"$f":"analyse!$B$1","v":0},0,0,0,0]
[null,null,{"$f":"IF(ISNA(VLOOKUP(A35542,analyse!D:E,2,FALSE))=TRUE,0,(VLOOKUP(A35542,analyse!D:E,2,FALSE)))","v":0},{"$f":"analyse!$B$1","v":0},0,0,0,0]
[null,null,{"$f":"IF(ISNA(VLOOKUP(A35675,analyse!D:E,2,FALSE))=TRUE,0,(VLOOKUP(A35675,analyse!D:E,2,FALSE)))","v":0},{"$f":"analyse!$B$1","v":0},0,0,0,0]
[null,null,{"$f":"IF(ISNA(VLOOKUP(A35708,analyse!D:E,2,FALSE))=TRUE,0,(VLOOKUP(A35708,analyse!D:E,2,FALSE)))","v":0},{"$f":"analyse!$B$1","v":0},0,0,0,0]
[null,null,{"$f":"IF(ISNA(VLOOKUP(A35823,analyse!D:E,2,FALSE))=TRUE,0,(VLOOKUP(A35823,analyse!D:E,2,FALSE)))","v":0},{"$f":"analyse!$B$1","v":0},0,0,0,0]
[null,null,{"$f":"IF(ISNA(VLOOKUP(A35873,analyse!D:E,2,FALSE))=TRUE,0,(VLOOKUP(A35873,analyse!D:E,2,FALSE)))","v":0},{"$f":"analyse!$B$1","v":0},0,0,0,0]
[null,null,{"$f":"IF(ISNA(VLOOKUP(A35984,analyse!D:E,2,FALSE))=TRUE,0,(VLOOKUP(A35984,analyse!D:E,2,FALSE)))","v":0},{"$f":"analyse!$B$1","v":0},0,0,0,0]
[null,null,{"$f":"IF(ISNA(VLOOKUP(A36017,analyse!D:E,2,FALSE))=TRUE,0,(VLOOKUP(A36017,analyse!D:E,2,FALSE)))","v":0},{"$f":"analyse!$B$1","v":0},0,0,0,0]
[null,null,{"$f":"IF(ISNA(VLOOKUP(A36150,analyse!D:E,2,FALSE))=TRUE,0,(VLOOKUP(A36150,analyse!D:E,2,FALSE)))","v":0},{"$f":"analyse!$B$1","v":0},0,0,0,0]
[null,null,{"$f":"IF(ISNA(VLOOKUP(A36162,analyse!D:E,2,FALSE))=TRUE,0,(VLOOKUP(A36162,analyse!D:E,2,FALSE)))","v":0},{"$f":"analyse!$B$1","v":0},{"$f":"D36162-C36162","v":0},{"$f":"E36162+C36162","v":0},{"$f":"IF(F36162<E36162,D36162-1,D36162)","v":0},{"$f":"IF(A36162=\"S20.G01.00.001\",H36161+1,H36161)","v":0}]
[null,null,{"$f":"IF(ISNA(VLOOKUP(A36237,analyse!D:E,2,FALSE))=TRUE,0,(VLOOKUP(A36237,analyse!D:E,2,FALSE)))","v":0},{"$f":"analyse!$B$1","v":0},0,0,0,0]
[null,null,{"$f":"IF(ISNA(VLOOKUP(A36348,analyse!D:E,2,FALSE))=TRUE,0,(VLOOKUP(A36348,analyse!D:E,2,FALSE)))","v":0},{"$f":"analyse!$B$1","v":0},0,0,0,0]
[null,null,{"$f":"IF(ISNA(VLOOKUP(A36459,analyse!D:E,2,FALSE))=TRUE,0,(VLOOKUP(A36459,analyse!D:E,2,FALSE)))","v":0},{"$f":"analyse!$B$1","v":0},0,0,0,0]
[null,null,{"$f":"IF(ISNA(VLOOKUP(A36527,analyse!D:E,2,FALSE))=TRUE,0,(VLOOKUP(A36527,analyse!D:E,2,FALSE)))","v":0},{"$f":"analyse!$B$1","v":0},0,0,0,0]
[null,null,{"$f":"IF(ISNA(VLOOKUP(A36546,analyse!D:E,2,FALSE))=TRUE,0,(VLOOKUP(A36546,analyse!D:E,2,FALSE)))","v":0},{"$f":"analyse!$B$1","v":0},{"$f":"D36546-C36546","v":0},{"$f":"E36546+C36546","v":0},{"$f":"IF(F36546<E36546,D36546-1,D36546)","v":0},{"$f":"IF(A36546=\"S20.G01.00.001\",H36545+1,H36545)","v":0}]
[null,null,{"$f":"IF(ISNA(VLOOKUP(A36657,analyse!D:E,2,FALSE))=TRUE,0,(VLOOKUP(A36657,analyse!D:E,2,FALSE)))","v":0},{"$f":"analyse!$B$1","v":0},0,0,0,0]
[null,null,{"$f":"IF(ISNA(VLOOKUP(A36712,analyse!D:E,2,FALSE))=TRUE,0,(VLOOKUP(A36712,analyse!D:E,2,FALSE)))","v":0},{"$f":"analyse!$B$1","v":0},0,0,0,0]
[null,null,{"$f":"IF(ISNA(VLOOKUP(A36823,analyse!D:E,2,FALSE))=TRUE,0,(VLOOKUP(A36823,analyse!D:E,2,FALSE)))","v":0},{"$f":"analyse!$B$1","v":0},0,0,0,0]
[null,null,{"$f":"IF(ISNA(VLOOKUP(A36866,analyse!D:E,2,FALSE))=TRUE,0,(VLOOKUP(A36866,analyse!D:E,2,FALSE)))","v":0},{"$f":"analyse!$B$1","v":0},{"$f":"D36866-C36866","v":0},{"$f":"E36866+C36866","v":0},{"$f":"IF(F36866<E36866,D36866-1,D36866)","v":0},{"$f":"IF(A36866=\"S20.G01.00.001\",H36865+1,H36865)","v":0}]
[null,null,{"$f":"IF(ISNA(VLOOKUP(A36988,analyse!D:E,2,FALSE))=TRUE,0,(VLOOKUP(A36988,analyse!D:E,2,FALSE)))","v":0},{"$f":"analyse!$B$1","v":0},0,0,0,0]
[null,null,{"$f":"IF(ISNA(VLOOKUP(A37021,analyse!D:E,2,FALSE))=TRUE,0,(VLOOKUP(A37021,analyse!D:E,2,FALSE)))","v":0},{"$f":"analyse!$B$1","v":0},0,0,0,0]
[null,null,{"$f":"IF(ISNA(VLOOKUP(A37154,analyse!D:E,2,FALSE))=TRUE,0,(VLOOKUP(A37154,analyse!D:E,2,FALSE)))","v":0},{"$f":"analyse!$B$1","v":0},0,0,0,0]
[null,null,{"$f":"IF(ISNA(VLOOKUP(A37187,analyse!D:E,2,FALSE))=TRUE,0,(VLOOKUP(A37187,analyse!D:E,2,FALSE)))","v":0},{"$f":"analyse!$B$1","v":0},0,0,0,0]
[null,null,{"$f":"IF(ISNA(VLOOKUP(A37282,analyse!D:E,2,FALSE))=TRUE,0,(VLOOKUP(A37282,analyse!D:E,2,FALSE)))","v":0},{"$f":"analyse!$B$1","v":0},0,0,0,0]
[null,null,{"$f":"IF(ISNA(VLOOKUP(A37352,analyse!D:E,2,FALSE))=TRUE,0,(VLOOKUP(A37352,analyse!D:E,2,FALSE)))","v":0},{"$f":"analyse!$B$1","v":0},0,0,0,0]
[null,null,{"$f":"IF(ISNA(VLOOKUP(A37463,analyse!D:E,2,FALSE))=TRUE,0,(VLOOKUP(A37463,analyse!D:E,2,FALSE)))","v":0},{"$f":"analyse!$B$1","v":0},0,0,0,0]
[null,null,{"$f":"IF(ISNA(VLOOKUP(A37518,analyse!D:E,2,FALSE))=TRUE,0,(VLOOKUP(A37518,analyse!D:E,2,FALSE)))","v":0},{"$f":"analyse!$B$1","v":0},0,0,0,0]
[null,null,{"$f":"IF(ISNA(VLOOKUP(A37629,analyse!D:E,2,FALSE))=TRUE,0,(VLOOKUP(A37629,analyse!D:E,2,FALSE)))","v":0},{"$f":"analyse!$B$1","v":0},0,0,0,0]
[null,null,{"$f":"IF(ISNA(VLOOKUP(A37694,analyse!D:E,2,FALSE))=TRUE,0,(VLOOKUP(A37694,analyse!D:E,2,FALSE)))","v":0},{"$f":"analyse!$B$1","v":0},0,0,0,0]
[null,null,{"$f":"IF(ISNA(VLOOKUP(A37716,analyse!D:E,2,FALSE))=TRUE,0,(VLOOKUP(A37716,analyse!D:E,2,FALSE)))","v":0},{"$f":"analyse!$B$1","v":0},0,0,0,0]
[null,null,{"$f":"IF(ISNA(VLOOKUP(A37827,analyse!D:E,2,FALSE))=TRUE,0,(VLOOKUP(A37827,analyse!D:E,2,FALSE)))","v":0},{"$f":"analyse!$B$1","v":0},0,0,0,0]
[null,null,{"$f":"IF(ISNA(VLOOKUP(A37882,analyse!D:E,2,FALSE))=TRUE,0,(VLOOKUP(A37882,analyse!D:E,2,FALSE)))","v":0},{"$f":"analyse!$B$1","v":0},0,0,0,0]
[null,null,{"$f":"IF(ISNA(VLOOKUP(A37993,analyse!D:E,2,FALSE))=TRUE,0,(VLOOKUP(A37993,analyse!D:E,2,FALSE)))","v":0},{"$f":"analyse!$B$1","v":0},0,0,0,0]
[null,null,{"$f":"IF(ISNA(VLOOKUP(A38033,analyse!D:E,2,FALSE))=TRUE,0,(VLOOKUP(A38033,analyse!D:E,2,FALSE)))","v":0},{"$f":"analyse!$B$1","v":0},0,0,0,0]
[null,null,{"$f":"IF(ISNA(VLOOKUP(A38158,analyse!D:E,2,FALSE))=TRUE,0,(VLOOKUP(A38158,analyse!D:E,2,FALSE)))","v":0},{"$f":"analyse!$B$1","v":0},0,0,0,0]
[null,null,{"$f":"IF(ISNA(VLOOKUP(A38191,analyse!D:E,2,FALSE))=TRUE,0,(VLOOKUP(A38191,analyse!D:E,2,FALSE)))","v":0},{"$f":"analyse!$B$1","v":0},0,0,0,0]
[null,null,{"$f":"IF(ISNA(VLOOKUP(A38302,analyse!D:E,2,FALSE))=TRUE,0,(VLOOKUP(A38302,analyse!D:E,2,FALSE)))","v":0},{"$f":"analyse!$B$1","v":0},0,0,0,0]
[null,null,{"$f":"IF(ISNA(VLOOKUP(A38357,analyse!D:E,2,FALSE))=TRUE,0,(VLOOKUP(A38357,analyse!D:E,2,FALSE)))","v":0},{"$f":"analyse!$B$1","v":0},0,0,0,0]
[null,null,{"$f":"IF(ISNA(VLOOKUP(A38449,analyse!D:E,2,FALSE))=TRUE,0,(VLOOKUP(A38449,analyse!D:E,2,FALSE)))","v":0},{"$f":"analyse!$B$1","v":0},0,0,0,0]
[null,null,{"$f":"IF(ISNA(VLOOKUP(A38522,analyse!D:E,2,FALSE))=TRUE,0,(VLOOKUP(A38522,analyse!D:E,2,FALSE)))","v":0},{"$f":"analyse!$B$1","v":0},0,0,0,0]
[null,null,{"$f":"IF(ISNA(VLOOKUP(A38633,analyse!D:E,2,FALSE))=TRUE,0,(VLOOKUP(A38633,analyse!D:E,2,FALSE)))","v":0},{"$f":"analyse!$B$1","v":0},0,0,0,0]
[null,null,{"$f":"IF(ISNA(VLOOKUP(A38666,analyse!D:E,2,FALSE))=TRUE,0,(VLOOKUP(A38666,analyse!D:E,2,FALSE)))","v":0},{"$f":"analyse!$B$1","v":0},0,0,0,0]
[null,null,{"$f":"IF(ISNA(VLOOKUP(A38721,analyse!D:E,2,FALSE))=TRUE,0,(VLOOKUP(A38721,analyse!D:E,2,FALSE)))","v":0},{"$f":"analyse!$B$1","v":0},0,0,0,0]
[null,null,{"$f":"IF(ISNA(VLOOKUP(A38865,analyse!D:E,2,FALSE))=TRUE,0,(VLOOKUP(A38865,analyse!D:E,2,FALSE)))","v":0},{"$f":"analyse!$B$1","v":0},0,0,0,0]
[null,null,{"$f":"IF(ISNA(VLOOKUP(A38886,analyse!D:E,2,FALSE))=TRUE,0,(VLOOKUP(A38886,analyse!D:E,2,FALSE)))","v":0},{"$f":"analyse!$B$1","v":0},0,0,0,0]
[null,null,{"$f":"IF(ISNA(VLOOKUP(A38997,analyse!D:E,2,FALSE))=TRUE,0,(VLOOKUP(A38997,analyse!D:E,2,FALSE)))","v":0},{"$f":"analyse!$B$1","v":0},0,0,0,0]
[null,null,{"$f":"IF(ISNA(VLOOKUP(A39108,analyse!D:E,2,FALSE))=TRUE,0,(VLOOKUP(A39108,analyse!D:E,2,FALSE)))","v":0},{"$f":"analyse!$B$1","v":0},0,0,0,0]
[null,null,{"$f":"IF(ISNA(VLOOKUP(A39163,analyse!D:E,2,FALSE))=TRUE,0,(VLOOKUP(A39163,analyse!D:E,2,FALSE)))","v":0},{"$f":"analyse!$B$1","v":0},0,0,0,0]
[null,null,{"$f":"IF(ISNA(VLOOKUP(A39204,analyse!D:E,2,FALSE))=TRUE,0,(VLOOKUP(A39204,analyse!D:E,2,FALSE)))","v":0},{"$f":"analyse!$B$1","v":0},0,0,0,0]
[null,null,{"$f":"IF(ISNA(VLOOKUP(A39306,analyse!D:E,2,FALSE))=TRUE,0,(VLOOKUP(A39306,analyse!D:E,2,FALSE)))","v":0},{"$f":"analyse!$B$1","v":0},0,0,0,0]
[null,null,{"$f":"IF(ISNA(VLOOKUP(A39361,analyse!D:E,2,FALSE))=TRUE,0,(VLOOKUP(A39361,analyse!D:E,2,FALSE)))","v":0},{"$f":"analyse!$B$1","v":0},0,0,0,0]
[null,null,{"$f":"IF(ISNA(VLOOKUP(A39472,analyse!D:E,2,FALSE))=TRUE,0,(VLOOKUP(A39472,analyse!D:E,2,FALSE)))","v":0},{"$f":"analyse!$B$1","v":0},0,0,0,0]
[null,null,{"$f":"IF(ISNA(VLOOKUP(A39569,analyse!D:E,2,FALSE))=TRUE,0,(VLOOKUP(A39569,analyse!D:E,2,FALSE)))","v":0},{"$f":"analyse!$B$1","v":0},0,0,0,0]
[null,null,{"$f":"IF(ISNA(VLOOKUP(A39637,analyse!D:E,2,FALSE))=TRUE,0,(VLOOKUP(A39637,analyse!D:E,2,FALSE)))","v":0},{"$f":"analyse!$B$1","v":0},0,0,0,0]
[null,null,{"$f":"IF(ISNA(VLOOKUP(A39670,analyse!D:E,2,FALSE))=TRUE,0,(VLOOKUP(A39670,analyse!D:E,2,FALSE)))","v":0},{"$f":"analyse!$B$1","v":0},0,0,0,0]
[null,null,{"$f":"IF(ISNA(VLOOKUP(A39803,analyse!D:E,2,FALSE))=TRUE,0,(VLOOKUP(A39803,analyse!D:E,2,FALSE)))","v":0},{"$f":"analyse!$B$1","v":0},0,0,0,0]
[null,null,{"$f":"IF(ISNA(VLOOKUP(A39836,analyse!D:E,2,FALSE))=TRUE,0,(VLOOKUP(A39836,analyse!D:E,2,FALSE)))","v":0},{"$f":"analyse!$B$1","v":0},0,0,0,0]
[null,null,{"$f":"IF(ISNA(VLOOKUP(A39908,analyse!D:E,2,FALSE))=TRUE,0,(VLOOKUP(A39908,analyse!D:E,2,FALSE)))","v":0},{"$f":"analyse!$B$1","v":0},0,0,0,0]
[null,null,{"$f":"IF(ISNA(VLOOKUP(A40001,analyse!D:E,2,FALSE))=TRUE,0,(VLOOKUP(A40001,analyse!D:E,2,FALSE)))","v":0},{"$f":"analyse!$B$1","v":0},0,0,0,0]
[null,null,{"$f":"IF(ISNA(VLOOKUP(A40112,analyse!D:E,2,FALSE))=TRUE,0,(VLOOKUP(A40112,analyse!D:E,2,FALSE)))","v":0},{"$f":"analyse!$B$1","v":0},0,0,0,0]
[null,null,{"$f":"IF(ISNA(VLOOKUP(A40167,analyse!D:E,2,FALSE))=TRUE,0,(VLOOKUP(A40167,analyse!D:E,2,FALSE)))","v":0},{"$f":"analyse!$B$1","v":0},0,0,0,0]
[null,null,{"$f":"IF(ISNA(VLOOKUP(A40200,analyse!D:E,2,FALSE))=TRUE,0,(VLOOKUP(A40200,analyse!D:E,2,FALSE)))","v":0},{"$f":"analyse!$B$1","v":0},0,0,0,0]
[null,null,{"$f":"IF(ISNA(VLOOKUP(A40320,analyse!D:E,2,FALSE))=TRUE,0,(VLOOKUP(A40320,analyse!D:E,2,FALSE)))","v":0},{"$f":"analyse!$B$1","v":0},0,0,0,0]
[null,null,{"$f":"IF(ISNA(VLOOKUP(A40365,analyse!D:E,2,FALSE))=TRUE,0,(VLOOKUP(A40365,analyse!D:E,2,FALSE)))","v":0},{"$f":"analyse!$B$1","v":0},0,0,0,0]
[null,null,{"$f":"IF(ISNA(VLOOKUP(A40476,analyse!D:E,2,FALSE))=TRUE,0,(VLOOKUP(A40476,analyse!D:E,2,FALSE)))","v":0},{"$f":"analyse!$B$1","v":0},0,0,0,0]
[null,null,{"$f":"IF(ISNA(VLOOKUP(A40531,analyse!D:E,2,FALSE))=TRUE,0,(VLOOKUP(A40531,analyse!D:E,2,FALSE)))","v":0},{"$f":"analyse!$B$1","v":0},0,0,0,0]
[null,null,{"$f":"IF(ISNA(VLOOKUP(A40642,analyse!D:E,2,FALSE))=TRUE,0,(VLOOKUP(A40642,analyse!D:E,2,FALSE)))","v":0},{"$f":"analyse!$B$1","v":0},{"$f":"D40642-C40642","v":0},{"$f":"E40642+C40642","v":0},{"$f":"IF(F40642<E40642,D40642-1,D40642)","v":0},{"$f":"IF(A40642=\"S20.G01.00.001\",H40641+1,H40641)","v":0}]
[null,null,{"$f":"IF(ISNA(VLOOKUP(A40736,analyse!D:E,2,FALSE))=TRUE,0,(VLOOKUP(A40736,analyse!D:E,2,FALSE)))","v":0},{"$f":"analyse!$B$1","v":0},0,0,0,0]
[null,null,{"$f":"IF(ISNA(VLOOKUP(A40807,analyse!D:E,2,FALSE))=TRUE,0,(VLOOKUP(A40807,analyse!D:E,2,FALSE)))","v":0},{"$f":"analyse!$B$1","v":0},0,0,0,0]
[null,null,{"$f":"IF(ISNA(VLOOKUP(A40840,analyse!D:E,2,FALSE))=TRUE,0,(VLOOKUP(A40840,analyse!D:E,2,FALSE)))","v":0},{"$f":"analyse!$B$1","v":0},0,0,0,0]
[null,null,{"$f":"IF(ISNA(VLOOKUP(A40951,analyse!D:E,2,FALSE))=TRUE,0,(VLOOKUP(A40951,analyse!D:E,2,FALSE)))","v":0},{"$f":"analyse!$B$1","v":0},0,0,0,0]
[null,null,{"$f":"IF(ISNA(VLOOKUP(A41006,analyse!D:E,2,FALSE))=TRUE,0,(VLOOKUP(A41006,analyse!D:E,2,FALSE)))","v":0},{"$f":"analyse!$B$1","v":0},0,0,0,0]
[null,null,{"$f":"IF(ISNA(VLOOKUP(A41075,analyse!D:E,2,FALSE))=TRUE,0,(VLOOKUP(A41075,analyse!D:E,2,FALSE)))","v":0},{"$f":"analyse!$B$1","v":0},0,0,0,0]
[null,null,{"$f":"IF(ISNA(VLOOKUP(A41171,analyse!D:E,2,FALSE))=TRUE,0,(VLOOKUP(A41171,analyse!D:E,2,FALSE)))","v":0},{"$f":"analyse!$B$1","v":0},0,0,0,0]
[null,null,{"$f":"IF(ISNA(VLOOKUP(A41282,analyse!D:E,2,FALSE))=TRUE,0,(VLOOKUP(A41282,analyse!D:E,2,FALSE)))","v":0},{"$f":"analyse!$B$1","v":0},{"$f":"D41282-C41282","v":0},{"$f":"E41282+C41282","v":0},{"$f":"IF(F41282<E41282,D41282-1,D41282)","v":0},{"$f":"IF(A41282=\"S20.G01.00.001\",H41281+1,H41281)","v":0}]
[null,null,{"$f":"IF(ISNA(VLOOKUP(A41315,analyse!D:E,2,FALSE))=TRUE,0,(VLOOKUP(A41315,analyse!D:E,2,FALSE)))","v":0},{"$f":"analyse!$B$1","v":0},0,0,0,0]
[null,null,{"$f":"IF(ISNA(VLOOKUP(A41370,analyse!D:E,2,FALSE))=TRUE,0,(VLOOKUP(A41370,analyse!D:E,2,FALSE)))","v":0},{"$f":"analyse!$B$1","v":0},0,0,0,0]
[null,null,{"$f":"IF(ISNA(VLOOKUP(A41491,analyse!D:E,2,FALSE))=TRUE,0,(VLOOKUP(A41491,analyse!D:E,2,FALSE)))","v":0},{"$f":"analyse!$B$1","v":0},0,0,0,0]
[null,null,{"$f":"IF(ISNA(VLOOKUP(A41535,analyse!D:E,2,FALSE))=TRUE,0,(VLOOKUP(A41535,analyse!D:E,2,FALSE)))","v":0},{"$f":"analyse!$B$1","v":0},0,0,0,0]
[null,null,{"$f":"IF(ISNA(VLOOKUP(A41646,analyse!D:E,2,FALSE))=TRUE,0,(VLOOKUP(A41646,analyse!D:E,2,FALSE)))","v":0},{"$f":"analyse!$B$1","v":0},0,0,0,0]
[null,null,{"$f":"IF(ISNA(VLOOKUP(A41679,analyse!D:E,2,FALSE))=TRUE,0,(VLOOKUP(A41679,analyse!D:E,2,FALSE)))","v":0},{"$f":"analyse!$B$1","v":0},0,0,0,0]
[null,null,{"$f":"IF(ISNA(VLOOKUP(A41812,analyse!D:E,2,FALSE))=TRUE,0,(VLOOKUP(A41812,analyse!D:E,2,FALSE)))","v":0},{"$f":"analyse!$B$1","v":0},0,0,0,0]
[null,null,{"$f":"IF(ISNA(VLOOKUP(A41907,analyse!D:E,2,FALSE))=TRUE,0,(VLOOKUP(A41907,analyse!D:E,2,FALSE)))","v":0},{"$f":"analyse!$B$1","v":0},0,0,0,0]
[null,null,{"$f":"IF(ISNA(VLOOKUP(A41955,analyse!D:E,2,FALSE))=TRUE,0,(VLOOKUP(A41955,analyse!D:E,2,FALSE)))","v":0},{"$f":"analyse!$B$1","v":0},0,0,0,0]
[null,null,{"$f":"IF(ISNA(VLOOKUP(A42010,analyse!D:E,2,FALSE))=TRUE,0,(VLOOKUP(A42010,analyse!D:E,2,FALSE)))","v":0},{"$f":"analyse!$B$1","v":0},0,0,0,0]
[null,null,{"$f":"IF(ISNA(VLOOKUP(A42121,analyse!D:E,2,FALSE))=TRUE,0,(VLOOKUP(A42121,analyse!D:E,2,FALSE)))","v":0},{"$f":"analyse!$B$1","v":0},0,0,0,0]
[null,null,{"$f":"IF(ISNA(VLOOKUP(A42176,analyse!D:E,2,FALSE))=TRUE,0,(VLOOKUP(A42176,analyse!D:E,2,FALSE)))","v":0},{"$f":"analyse!$B$1","v":0},0,0,0,0]
[null,null,{"$f":"IF(ISNA(VLOOKUP(A42246,analyse!D:E,2,FALSE))=TRUE,0,(VLOOKUP(A42246,analyse!D:E,2,FALSE)))","v":0},{"$f":"analyse!$B$1","v":0},0,0,0,0]
[null,null,{"$f":"IF(ISNA(VLOOKUP(A42319,analyse!D:E,2,FALSE))=TRUE,0,(VLOOKUP(A42319,analyse!D:E,2,FALSE)))","v":0},{"$f":"analyse!$B$1","v":0},0,0,0,0]
[null,null,{"$f":"IF(ISNA(VLOOKUP(A42452,analyse!D:E,2,FALSE))=TRUE,0,(VLOOKUP(A42452,analyse!D:E,2,FALSE)))","v":0},{"$f":"analyse!$B$1","v":0},0,0,0,0]
[null,null,{"$f":"IF(ISNA(VLOOKUP(A42485,analyse!D:E,2,FALSE))=TRUE,0,(VLOOKUP(A42485,analyse!D:E,2,FALSE)))","v":0},{"$f":"analyse!$B$1","v":0},0,0,0,0]
[null,null,{"$f":"IF(ISNA(VLOOKUP(A42534,analyse!D:E,2,FALSE))=TRUE,0,(VLOOKUP(A42534,analyse!D:E,2,FALSE)))","v":0},{"$f":"analyse!$B$1","v":0},0,0,0,0]
[null,null,{"$f":"IF(ISNA(VLOOKUP(A42650,analyse!D:E,2,FALSE))=TRUE,0,(VLOOKUP(A42650,analyse!D:E,2,FALSE)))","v":0},{"$f":"analyse!$B$1","v":0},0,0,0,0]
[null,null,{"$f":"IF(ISNA(VLOOKUP(A42761,analyse!D:E,2,FALSE))=TRUE,0,(VLOOKUP(A42761,analyse!D:E,2,FALSE)))","v":0},{"$f":"analyse!$B$1","v":0},0,0,0,0]
[null,null,{"$f":"IF(ISNA(VLOOKUP(A42816,analyse!D:E,2,FALSE))=TRUE,0,(VLOOKUP(A42816,analyse!D:E,2,FALSE)))","v":0},{"$f":"analyse!$B$1","v":0},0,0,0,0]
[null,null,{"$f":"IF(ISNA(VLOOKUP(A42849,analyse!D:E,2,FALSE))=TRUE,0,(VLOOKUP(A42849,analyse!D:E,2,FALSE)))","v":0},{"$f":"analyse!$B$1","v":0},0,0,0,0]
[null,null,{"$f":"IF(ISNA(VLOOKUP(A42946,analyse!D:E,2,FALSE))=TRUE,0,(VLOOKUP(A42946,analyse!D:E,2,FALSE)))","v":0},{"$f":"analyse!$B$1","v":0},{"$f":"D42946-C42946","v":0},{"$f":"E42946+C42946","v":0},{"$f":"IF(F42946<E42946,D42946-1,D42946)","v":0},{"$f":"IF(A42946=\"S20.G01.00.001\",H42945+1,H42945)","v":0}]
[null,null,{"$f":"IF(ISNA(VLOOKUP(A43014,analyse!D:E,2,FALSE))=TRUE,0,(VLOOKUP(A43014,analyse!D:E,2,FALSE)))","v":0},{"$f":"analyse!$B$1","v":0},0,0,0,0]
[null,null,{"$f":"IF(ISNA(VLOOKUP(A43125,analyse!D:E,2,FALSE))=TRUE,0,(VLOOKUP(A43125,analyse!D:E,2,FALSE)))","v":0},{"$f":"analyse!$B$1","v":0},0,0,0,0]
[null,null,{"$f":"IF(ISNA(VLOOKUP(A43180,analyse!D:E,2,FALSE))=TRUE,0,(VLOOKUP(A43180,analyse!D:E,2,FALSE)))","v":0},{"$f":"analyse!$B$1","v":0},0,0,0,0]
[null,null,{"$f":"IF(ISNA(VLOOKUP(A43291,analyse!D:E,2,FALSE))=TRUE,0,(VLOOKUP(A43291,analyse!D:E,2,FALSE)))","v":0},{"$f":"analyse!$B$1","v":0},0,0,0,0]
[null,null,{"$f":"IF(ISNA(VLOOKUP(A43362,analyse!D:E,2,FALSE))=TRUE,0,(VLOOKUP(A43362,analyse!D:E,2,FALSE)))","v":0},{"$f":"analyse!$B$1","v":0},0,0,0,0]
[null,null,{"$f":"IF(ISNA(VLOOKUP(A43456,analyse!D:E,2,FALSE))=TRUE,0,(VLOOKUP(A43456,analyse!D:E,2,FALSE)))","v":0},{"$f":"analyse!$B$1","v":0},0,0,0,0]
[null,null,{"$f":"IF(ISNA(VLOOKUP(A43489,analyse!D:E,2,FALSE))=TRUE,0,(VLOOKUP(A43489,analyse!D:E,2,FALSE)))","v":0},{"$f":"analyse!$B$1","v":0},0,0,0,0]
[null,null,{"$f":"IF(ISNA(VLOOKUP(A43600,analyse!D:E,2,FALSE))=TRUE,0,(VLOOKUP(A43600,analyse!D:E,2,FALSE)))","v":0},{"$f":"analyse!$B$1","v":0},0,0,0,0]
[null,null,{"$f":"IF(ISNA(VLOOKUP(A43655,analyse!D:E,2,FALSE))=TRUE,0,(VLOOKUP(A43655,analyse!D:E,2,FALSE)))","v":0},{"$f":"analyse!$B$1","v":0},0,0,0,0]
[null,null,{"$f":"IF(ISNA(VLOOKUP(A43701,analyse!D:E,2,FALSE))=TRUE,0,(VLOOKUP(A43701,analyse!D:E,2,FALSE)))","v":0},{"$f":"analyse!$B$1","v":0},0,0,0,0]
[null,null,{"$f":"IF(ISNA(VLOOKUP(A43820,analyse!D:E,2,FALSE))=TRUE,0,(VLOOKUP(A43820,analyse!D:E,2,FALSE)))","v":0},{"$f":"analyse!$B$1","v":0},0,0,0,0]
[null,null,{"$f":"IF(ISNA(VLOOKUP(A43931,analyse!D:E,2,FALSE))=TRUE,0,(VLOOKUP(A43931,analyse!D:E,2,FALSE)))","v":0},{"$f":"analyse!$B$1","v":0},0,0,0,0]
[null,null,{"$f":"IF(ISNA(VLOOKUP(A43964,analyse!D:E,2,FALSE))=TRUE,0,(VLOOKUP(A43964,analyse!D:E,2,FALSE)))","v":0},{"$f":"analyse!$B$1","v":0},0,0,0,0]
[null,null,{"$f":"IF(ISNA(VLOOKUP(A44019,analyse!D:E,2,FALSE))=TRUE,0,(VLOOKUP(A44019,analyse!D:E,2,FALSE)))","v":0},{"$f":"analyse!$B$1","v":0},0,0,0,0]
[null,null,{"$f":"IF(ISNA(VLOOKUP(A44117,analyse!D:E,2,FALSE))=TRUE,0,(VLOOKUP(A44117,analyse!D:E,2,FALSE)))","v":0},{"$f":"analyse!$B$1","v":0},0,0,0,0]
[null,null,{"$f":"IF(ISNA(VLOOKUP(A44184,analyse!D:E,2,FALSE))=TRUE,0,(VLOOKUP(A44184,analyse!D:E,2,FALSE)))","v":0},{"$f":"analyse!$B$1","v":0},0,0,0,0]
[null,null,{"$f":"IF(ISNA(VLOOKUP(A44295,analyse!D:E,2,FALSE))=TRUE,0,(VLOOKUP(A44295,analyse!D:E,2,FALSE)))","v":0},{"$f":"analyse!$B$1","v":0},0,0,0,0]
[null,null,{"$f":"IF(ISNA(VLOOKUP(A44328,analyse!D:E,2,FALSE))=TRUE,0,(VLOOKUP(A44328,analyse!D:E,2,FALSE)))","v":0},{"$f":"analyse!$B$1","v":0},0,0,0,0]
[null,null,{"$f":"IF(ISNA(VLOOKUP(A44461,analyse!D:E,2,FALSE))=TRUE,0,(VLOOKUP(A44461,analyse!D:E,2,FALSE)))","v":0},{"$f":"analyse!$B$1","v":0},0,0,0,0]
[null,null,{"$f":"IF(ISNA(VLOOKUP(A44533,analyse!D:E,2,FALSE))=TRUE,0,(VLOOKUP(A44533,analyse!D:E,2,FALSE)))","v":0},{"$f":"analyse!$B$1","v":0},0,0,0,0]
[null,null,{"$f":"IF(ISNA(VLOOKUP(A44604,analyse!D:E,2,FALSE))=TRUE,0,(VLOOKUP(A44604,analyse!D:E,2,FALSE)))","v":0},{"$f":"analyse!$B$1","v":0},0,0,0,0]
[null,null,{"$f":"IF(ISNA(VLOOKUP(A44659,analyse!D:E,2,FALSE))=TRUE,0,(VLOOKUP(A44659,analyse!D:E,2,FALSE)))","v":0},{"$f":"analyse!$B$1","v":0},0,0,0,0]
[null,null,{"$f":"IF(ISNA(VLOOKUP(A44770,analyse!D:E,2,FALSE))=TRUE,0,(VLOOKUP(A44770,analyse!D:E,2,FALSE)))","v":0},{"$f":"analyse!$B$1","v":0},0,0,0,0]
[null,null,{"$f":"IF(ISNA(VLOOKUP(A44825,analyse!D:E,2,FALSE))=TRUE,0,(VLOOKUP(A44825,analyse!D:E,2,FALSE)))","v":0},{"$f":"analyse!$B$1","v":0},0,0,0,0]
[null,null,{"$f":"IF(ISNA(VLOOKUP(A44872,analyse!D:E,2,FALSE))=TRUE,0,(VLOOKUP(A44872,analyse!D:E,2,FALSE)))","v":0},{"$f":"analyse!$B$1","v":0},0,0,0,0]
[null,null,{"$f":"IF(ISNA(VLOOKUP(A44968,analyse!D:E,2,FALSE))=TRUE,0,(VLOOKUP(A44968,analyse!D:E,2,FALSE)))","v":0},{"$f":"analyse!$B$1","v":0},0,0,0,0]
[null,null,{"$f":"IF(ISNA(VLOOKUP(A45023,analyse!D:E,2,FALSE))=TRUE,0,(VLOOKUP(A45023,analyse!D:E,2,FALSE)))","v":0},{"$f":"analyse!$B$1","v":0},0,0,0,0]
[null,null,{"$f":"IF(ISNA(VLOOKUP(A45134,analyse!D:E,2,FALSE))=TRUE,0,(VLOOKUP(A45134,analyse!D:E,2,FALSE)))","v":0},{"$f":"analyse!$B$1","v":0},0,0,0,0]
[null,null,{"$f":"IF(ISNA(VLOOKUP(A45245,analyse!D:E,2,FALSE))=TRUE,0,(VLOOKUP(A45245,analyse!D:E,2,FALSE)))","v":0},{"$f":"analyse!$B$1","v":0},0,0,0,0]
[null,null,{"$f":"IF(ISNA(VLOOKUP(A45288,analyse!D:E,2,FALSE))=TRUE,0,(VLOOKUP(A45288,analyse!D:E,2,FALSE)))","v":0},{"$f":"analyse!$B$1","v":0},0,0,0,0]
[null,null,{"$f":"IF(ISNA(VLOOKUP(A45332,analyse!D:E,2,FALSE))=TRUE,0,(VLOOKUP(A45332,analyse!D:E,2,FALSE)))","v":0},{"$f":"analyse!$B$1","v":0},0,0,0,0]
[null,null,{"$f":"IF(ISNA(VLOOKUP(A45465,analyse!D:E,2,FALSE))=TRUE,0,(VLOOKUP(A45465,analyse!D:E,2,FALSE)))","v":0},{"$f":"analyse!$B$1","v":0},0,0,0,0]
[null,null,{"$f":"IF(ISNA(VLOOKUP(A45498,analyse!D:E,2,FALSE))=TRUE,0,(VLOOKUP(A45498,analyse!D:E,2,FALSE)))","v":0},{"$f":"analyse!$B$1","v":0},0,0,0,0]
[null,null,{"$f":"IF(ISNA(VLOOKUP(A45572,analyse!D:E,2,FALSE))=TRUE,0,(VLOOKUP(A45572,analyse!D:E,2,FALSE)))","v":0},{"$f":"analyse!$B$1","v":0},0,0,0,0]
[null,null,{"$f":"IF(ISNA(VLOOKUP(A45663,analyse!D:E,2,FALSE))=TRUE,0,(VLOOKUP(A45663,analyse!D:E,2,FALSE)))","v":0},{"$f":"analyse!$B$1","v":0},0,0,0,0]
[null,null,{"$f":"IF(ISNA(VLOOKUP(A45774,analyse!D:E,2,FALSE))=TRUE,0,(VLOOKUP(A45774,analyse!D:E,2,FALSE)))","v":0},{"$f":"analyse!$B$1","v":0},0,0,0,0]
[null,null,{"$f":"IF(ISNA(VLOOKUP(A45829,analyse!D:E,2,FALSE))=TRUE,0,(VLOOKUP(A45829,analyse!D:E,2,FALSE)))","v":0},{"$f":"analyse!$B$1","v":0},0,0,0,0]
[null,null,{"$f":"IF(ISNA(VLOOKUP(A45940,analyse!D:E,2,FALSE))=TRUE,0,(VLOOKUP(A45940,analyse!D:E,2,FALSE)))","v":0},{"$f":"analyse!$B$1","v":0},0,0,0,0]
[null,null,{"$f":"IF(ISNA(VLOOKUP(A45988,analyse!D:E,2,FALSE))=TRUE,0,(VLOOKUP(A45988,analyse!D:E,2,FALSE)))","v":0},{"$f":"analyse!$B$1","v":0},0,0,0,0]
[null,null,{"$f":"IF(ISNA(VLOOKUP(A46105,analyse!D:E,2,FALSE))=TRUE,0,(VLOOKUP(A46105,analyse!D:E,2,FALSE)))","v":0},{"$f":"analyse!$B$1","v":0},0,0,0,0]
[null,null,{"$f":"IF(ISNA(VLOOKUP(A46138,analyse!D:E,2,FALSE))=TRUE,0,(VLOOKUP(A46138,analyse!D:E,2,FALSE)))","v":0},{"$f":"analyse!$B$1","v":0},0,0,0,0]
[null,null,{"$f":"IF(ISNA(VLOOKUP(A46249,analyse!D:E,2,FALSE))=TRUE,0,(VLOOKUP(A46249,analyse!D:E,2,FALSE)))","v":0},{"$f":"analyse!$B$1","v":0},0,0,0,0]
[null,null,{"$f":"IF(ISNA(VLOOKUP(A46304,analyse!D:E,2,FALSE))=TRUE,0,(VLOOKUP(A46304,analyse!D:E,2,FALSE)))","v":0},{"$f":"analyse!$B$1","v":0},0,0,0,0]
[null,null,{"$f":"IF(ISNA(VLOOKUP(A46404,analyse!D:E,2,FALSE))=TRUE,0,(VLOOKUP(A46404,analyse!D:E,2,FALSE)))","v":0},{"$f":"analyse!$B$1","v":0},0,0,0,0]
[null,null,{"$f":"IF(ISNA(VLOOKUP(A46469,analyse!D:E,2,FALSE))=TRUE,0,(VLOOKUP(A46469,analyse!D:E,2,FALSE)))","v":0},{"$f":"analyse!$B$1","v":0},0,0,0,0]
[null,null,{"$f":"IF(ISNA(VLOOKUP(A46502,analyse!D:E,2,FALSE))=TRUE,0,(VLOOKUP(A46502,analyse!D:E,2,FALSE)))","v":0},{"$f":"analyse!$B$1","v":0},0,0,0,0]
[null,null,{"$f":"IF(ISNA(VLOOKUP(A46613,analyse!D:E,2,FALSE))=TRUE,0,(VLOOKUP(A46613,analyse!D:E,2,FALSE)))","v":0},{"$f":"analyse!$B$1","v":0},0,0,0,0]
[null,null,{"$f":"IF(ISNA(VLOOKUP(A46668,analyse!D:E,2,FALSE))=TRUE,0,(VLOOKUP(A46668,analyse!D:E,2,FALSE)))","v":0},{"$f":"analyse!$B$1","v":0},0,0,0,0]
[null,null,{"$f":"IF(ISNA(VLOOKUP(A46743,analyse!D:E,2,FALSE))=TRUE,0,(VLOOKUP(A46743,analyse!D:E,2,FALSE)))","v":0},{"$f":"analyse!$B$1","v":0},0,0,0,0]
[null,null,{"$f":"IF(ISNA(VLOOKUP(A46833,analyse!D:E,2,FALSE))=TRUE,0,(VLOOKUP(A46833,analyse!D:E,2,FALSE)))","v":0},{"$f":"analyse!$B$1","v":0},0,0,0,0]
[null,null,{"$f":"IF(ISNA(VLOOKUP(A46944,analyse!D:E,2,FALSE))=TRUE,0,(VLOOKUP(A46944,analyse!D:E,2,FALSE)))","v":0},{"$f":"analyse!$B$1","v":0},0,0,0,0]
[null,null,{"$f":"IF(ISNA(VLOOKUP(A46977,analyse!D:E,2,FALSE))=TRUE,0,(VLOOKUP(A46977,analyse!D:E,2,FALSE)))","v":0},{"$f":"analyse!$B$1","v":0},0,0,0,0]
[null,null,{"$f":"IF(ISNA(VLOOKUP(A47110,analyse!D:E,2,FALSE))=TRUE,0,(VLOOKUP(A47110,analyse!D:E,2,FALSE)))","v":0},{"$f":"analyse!$B$1","v":0},0,0,0,0]
[null,null,{"$f":"IF(ISNA(VLOOKUP(A47159,analyse!D:E,2,FALSE))=TRUE,0,(VLOOKUP(A47159,analyse!D:E,2,FALSE)))","v":0},{"$f":"analyse!$B$1","v":0},0,0,0,0]
[null,null,{"$f":"IF(ISNA(VLOOKUP(A47253,analyse!D:E,2,FALSE))=TRUE,0,(VLOOKUP(A47253,analyse!D:E,2,FALSE)))","v":0},{"$f":"analyse!$B$1","v":0},0,0,0,0]
[null,null,{"$f":"IF(ISNA(VLOOKUP(A47308,analyse!D:E,2,FALSE))=TRUE,0,(VLOOKUP(A47308,analyse!D:E,2,FALSE)))","v":0},{"$f":"analyse!$B$1","v":0},0,0,0,0]
[null,null,{"$f":"IF(ISNA(VLOOKUP(A47419,analyse!D:E,2,FALSE))=TRUE,0,(VLOOKUP(A47419,analyse!D:E,2,FALSE)))","v":0},{"$f":"analyse!$B$1","v":0},0,0,0,0]
[null,null,{"$f":"IF(ISNA(VLOOKUP(A47474,analyse!D:E,2,FALSE))=TRUE,0,(VLOOKUP(A47474,analyse!D:E,2,FALSE)))","v":0},{"$f":"analyse!$B$1","v":0},0,0,0,0]
[null,null,{"$f":"IF(ISNA(VLOOKUP(A47575,analyse!D:E,2,FALSE))=TRUE,0,(VLOOKUP(A47575,analyse!D:E,2,FALSE)))","v":0},{"$f":"analyse!$B$1","v":0},0,0,0,0]
[null,null,{"$f":"IF(ISNA(VLOOKUP(A47617,analyse!D:E,2,FALSE))=TRUE,0,(VLOOKUP(A47617,analyse!D:E,2,FALSE)))","v":0},{"$f":"analyse!$B$1","v":0},0,0,0,0]
[null,null,{"$f":"IF(ISNA(VLOOKUP(A47672,analyse!D:E,2,FALSE))=TRUE,0,(VLOOKUP(A47672,analyse!D:E,2,FALSE)))","v":0},{"$f":"analyse!$B$1","v":0},0,0,0,0]
[null,null,{"$f":"IF(ISNA(VLOOKUP(A47783,analyse!D:E,2,FALSE))=TRUE,0,(VLOOKUP(A47783,analyse!D:E,2,FALSE)))","v":0},{"$f":"analyse!$B$1","v":0},0,0,0,0]
[null,null,{"$f":"IF(ISNA(VLOOKUP(A47894,analyse!D:E,2,FALSE))=TRUE,0,(VLOOKUP(A47894,analyse!D:E,2,FALSE)))","v":0},{"$f":"analyse!$B$1","v":0},0,0,0,0]
[null,null,{"$f":"IF(ISNA(VLOOKUP(A47914,analyse!D:E,2,FALSE))=TRUE,0,(VLOOKUP(A47914,analyse!D:E,2,FALSE)))","v":0},{"$f":"analyse!$B$1","v":0},0,0,0,0]
[null,null,{"$f":"IF(ISNA(VLOOKUP(A47981,analyse!D:E,2,FALSE))=TRUE,0,(VLOOKUP(A47981,analyse!D:E,2,FALSE)))","v":0},{"$f":"analyse!$B$1","v":0},0,0,0,0]
[null,null,{"$f":"IF(ISNA(VLOOKUP(A48114,analyse!D:E,2,FALSE))=TRUE,0,(VLOOKUP(A48114,analyse!D:E,2,FALSE)))","v":0},{"$f":"analyse!$B$1","v":0},0,0,0,0]
[null,null,{"$f":"IF(ISNA(VLOOKUP(A48147,analyse!D:E,2,FALSE))=TRUE,0,(VLOOKUP(A48147,analyse!D:E,2,FALSE)))","v":0},{"$f":"analyse!$B$1","v":0},0,0,0,0]
[null,null,{"$f":"IF(ISNA(VLOOKUP(A48258,analyse!D:E,2,FALSE))=TRUE,0,(VLOOKUP(A48258,analyse!D:E,2,FALSE)))","v":0},{"$f":"analyse!$B$1","v":0},{"$f":"D48258-C48258","v":0},{"$f":"E48258+C48258","v":0},{"$f":"IF(F48258<E48258,D48258-1,D48258)","v":0},{"$f":"IF(A48258=\"S20.G01.00.001\",H48257+1,H48257)","v":0}]
[null,null,{"$f":"IF(ISNA(VLOOKUP(A48330,analyse!D:E,2,FALSE))=TRUE,0,(VLOOKUP(A48330,analyse!D:E,2,FALSE)))","v":0},{"$f":"analyse!$B$1","v":0},0,0,0,0]
[null,null,{"$f":"IF(ISNA(VLOOKUP(A48423,analyse!D:E,2,FALSE))=TRUE,0,(VLOOKUP(A48423,analyse!D:E,2,FALSE)))","v":0},{"$f":"analyse!$B$1","v":0},0,0,0,0]
[null,null,{"$f":"IF(ISNA(VLOOKUP(A48478,analyse!D:E,2,FALSE))=TRUE,0,(VLOOKUP(A48478,analyse!D:E,2,FALSE)))","v":0},{"$f":"analyse!$B$1","v":0},0,0,0,0]
[null,null,{"$f":"IF(ISNA(VLOOKUP(A48589,analyse!D:E,2,FALSE))=TRUE,0,(VLOOKUP(A48589,analyse!D:E,2,FALSE)))","v":0},{"$f":"analyse!$B$1","v":0},0,0,0,0]
[null,null,{"$f":"IF(ISNA(VLOOKUP(A48622,analyse!D:E,2,FALSE))=TRUE,0,(VLOOKUP(A48622,analyse!D:E,2,FALSE)))","v":0},{"$f":"analyse!$B$1","v":0},0,0,0,0]
[null,null,{"$f":"IF(ISNA(VLOOKUP(A48746,analyse!D:E,2,FALSE))=TRUE,0,(VLOOKUP(A48746,analyse!D:E,2,FALSE)))","v":0},{"$f":"analyse!$B$1","v":0},0,0,0,0]
[null,null,{"$f":"IF(ISNA(VLOOKUP(A48787,analyse!D:E,2,FALSE))=TRUE,0,(VLOOKUP(A48787,analyse!D:E,2,FALSE)))","v":0},{"$f":"analyse!$B$1","v":0},0,0,0,0]
[null,null,{"$f":"IF(ISNA(VLOOKUP(A48898,analyse!D:E,2,FALSE))=TRUE,0,(VLOOKUP(A48898,analyse!D:E,2,FALSE)))","v":0},{"$f":"analyse!$B$1","v":0},{"$f":"D48898-C48898","v":0},{"$f":"E48898+C48898","v":0},{"$f":"IF(F48898<E48898,D48898-1,D48898)","v":0},{"$f":"IF(A48898=\"S20.G01.00.001\",H48897+1,H48897)","v":0}]
[null,null,{"$f":"IF(ISNA(VLOOKUP(A48953,analyse!D:E,2,FALSE))=TRUE,0,(VLOOKUP(A48953,analyse!D:E,2,FALSE)))","v":0},{"$f":"analyse!$B$1","v":0},0,0,0,0]
[null,null,{"$f":"IF(ISNA(VLOOKUP(A49030,analyse!D:E,2,FALSE))=TRUE,0,(VLOOKUP(A49030,analyse!D:E,2,FALSE)))","v":0},{"$f":"analyse!$B$1","v":0},0,0,0,0]
[null,null,{"$f":"IF(ISNA(VLOOKUP(A49118,analyse!D:E,2,FALSE))=TRUE,0,(VLOOKUP(A49118,analyse!D:E,2,FALSE)))","v":0},{"$f":"analyse!$B$1","v":0},0,0,0,0]
[null,null,{"$f":"IF(ISNA(VLOOKUP(A49151,analyse!D:E,2,FALSE))=TRUE,0,(VLOOKUP(A49151,analyse!D:E,2,FALSE)))","v":0},{"$f":"analyse!$B$1","v":0},0,0,0,0]
[null,null,{"$f":"IF(ISNA(VLOOKUP(A49262,analyse!D:E,2,FALSE))=TRUE,0,(VLOOKUP(A49262,analyse!D:E,2,FALSE)))","v":0},{"$f":"analyse!$B$1","v":0},0,0,0,0]
[null,null,{"$f":"IF(ISNA(VLOOKUP(A49317,analyse!D:E,2,FALSE))=TRUE,0,(VLOOKUP(A49317,analyse!D:E,2,FALSE)))","v":0},{"$f":"analyse!$B$1","v":0},0,0,0,0]
[null,null,{"$f":"IF(ISNA(VLOOKUP(A49446,analyse!D:E,2,FALSE))=TRUE,0,(VLOOKUP(A49446,analyse!D:E,2,FALSE)))","v":0},{"$f":"analyse!$B$1","v":0},0,0,0,0]
[null,null,{"$f":"IF(ISNA(VLOOKUP(A49460,analyse!D:E,2,FALSE))=TRUE,0,(VLOOKUP(A49460,analyse!D:E,2,FALSE)))","v":0},{"$f":"analyse!$B$1","v":0},0,0,0,0]
[null,null,{"$f":"IF(ISNA(VLOOKUP(A49593,analyse!D:E,2,FALSE))=TRUE,0,(VLOOKUP(A49593,analyse!D:E,2,FALSE)))","v":0},{"$f":"analyse!$B$1","v":0},0,0,0,0]
[null,null,{"$f":"IF(ISNA(VLOOKUP(A49626,analyse!D:E,2,FALSE))=TRUE,0,(VLOOKUP(A49626,analyse!D:E,2,FALSE)))","v":0},{"$f":"analyse!$B$1","v":0},0,0,0,0]
[null,null,{"$f":"IF(ISNA(VLOOKUP(A49759,analyse!D:E,2,FALSE))=TRUE,0,(VLOOKUP(A49759,analyse!D:E,2,FALSE)))","v":0},{"$f":"analyse!$B$1","v":0},0,0,0,0]
[null,null,{"$f":"IF(ISNA(VLOOKUP(A49785,analyse!D:E,2,FALSE))=TRUE,0,(VLOOKUP(A49785,analyse!D:E,2,FALSE)))","v":0},{"$f":"analyse!$B$1","v":0},0,0,0,0]
[null,null,{"$f":"IF(ISNA(VLOOKUP(A49902,analyse!D:E,2,FALSE))=TRUE,0,(VLOOKUP(A49902,analyse!D:E,2,FALSE)))","v":0},{"$f":"analyse!$B$1","v":0},0,0,0,0]
[null,null,{"$f":"IF(ISNA(VLOOKUP(A49957,analyse!D:E,2,FALSE))=TRUE,0,(VLOOKUP(A49957,analyse!D:E,2,FALSE)))","v":0},{"$f":"analyse!$B$1","v":0},0,0,0,0]
[null,null,{"$f":"IF(ISNA(VLOOKUP(A50068,analyse!D:E,2,FALSE))=TRUE,0,(VLOOKUP(A50068,analyse!D:E,2,FALSE)))","v":0},{"$f":"analyse!$B$1","v":0},0,0,0,0]
[null,null,{"$f":"IF(ISNA(VLOOKUP(A50123,analyse!D:E,2,FALSE))=TRUE,0,(VLOOKUP(A50123,analyse!D:E,2,FALSE)))","v":0},{"$f":"analyse!$B$1","v":0},0,0,0,0]
[null,null,{"$f":"IF(ISNA(VLOOKUP(A50201,analyse!D:E,2,FALSE))=TRUE,0,(VLOOKUP(A50201,analyse!D:E,2,FALSE)))","v":0},{"$f":"analyse!$B$1","v":0},0,0,0,0]
[null,null,{"$f":"IF(ISNA(VLOOKUP(A50266,analyse!D:E,2,FALSE))=TRUE,0,(VLOOKUP(A50266,analyse!D:E,2,FALSE)))","v":0},{"$f":"analyse!$B$1","v":0},0,0,0,0]
[null,null,{"$f":"IF(ISNA(VLOOKUP(A50321,analyse!D:E,2,FALSE))=TRUE,0,(VLOOKUP(A50321,analyse!D:E,2,FALSE)))","v":0},{"$f":"analyse!$B$1","v":0},0,0,0,0]
[null,null,{"$f":"IF(ISNA(VLOOKUP(A50432,analyse!D:E,2,FALSE))=TRUE,0,(VLOOKUP(A50432,analyse!D:E,2,FALSE)))","v":0},{"$f":"analyse!$B$1","v":0},0,0,0,0]
[null,null,{"$f":"IF(ISNA(VLOOKUP(A50543,analyse!D:E,2,FALSE))=TRUE,0,(VLOOKUP(A50543,analyse!D:E,2,FALSE)))","v":0},{"$f":"analyse!$B$1","v":0},0,0,0,0]
[null,null,{"$f":"IF(ISNA(VLOOKUP(A50617,analyse!D:E,2,FALSE))=TRUE,0,(VLOOKUP(A50617,analyse!D:E,2,FALSE)))","v":0},{"$f":"analyse!$B$1","v":0},0,0,0,0]
[null,null,{"$f":"IF(ISNA(VLOOKUP(A50630,analyse!D:E,2,FALSE))=TRUE,0,(VLOOKUP(A50630,analyse!D:E,2,FALSE)))","v":0},{"$f":"analyse!$B$1","v":0},0,0,0,0]
[null,null,{"$f":"IF(ISNA(VLOOKUP(A50763,analyse!D:E,2,FALSE))=TRUE,0,(VLOOKUP(A50763,analyse!D:E,2,FALSE)))","v":0},{"$f":"analyse!$B$1","v":0},0,0,0,0]
[null,null,{"$f":"IF(ISNA(VLOOKUP(A50796,analyse!D:E,2,FALSE))=TRUE,0,(VLOOKUP(A50796,analyse!D:E,2,FALSE)))","v":0},{"$f":"analyse!$B$1","v":0},0,0,0,0]
[null,null,{"$f":"IF(ISNA(VLOOKUP(A50907,analyse!D:E,2,FALSE))=TRUE,0,(VLOOKUP(A50907,analyse!D:E,2,FALSE)))","v":0},{"$f":"analyse!$B$1","v":0},0,0,0,0]
[null,null,{"$f":"IF(ISNA(VLOOKUP(A50956,analyse!D:E,2,FALSE))=TRUE,0,(VLOOKUP(A50956,analyse!D:E,2,FALSE)))","v":0},{"$f":"analyse!$B$1","v":0},0,0,0,0]
[null,null,{"$f":"IF(ISNA(VLOOKUP(A51072,analyse!D:E,2,FALSE))=TRUE,0,(VLOOKUP(A51072,analyse!D:E,2,FALSE)))","v":0},{"$f":"analyse!$B$1","v":0},0,0,0,0]
[null,null,{"$f":"IF(ISNA(VLOOKUP(A51127,analyse!D:E,2,FALSE))=TRUE,0,(VLOOKUP(A51127,analyse!D:E,2,FALSE)))","v":0},{"$f":"analyse!$B$1","v":0},0,0,0,0]
[null,null,{"$f":"IF(ISNA(VLOOKUP(A51238,analyse!D:E,2,FALSE))=TRUE,0,(VLOOKUP(A51238,analyse!D:E,2,FALSE)))","v":0},{"$f":"analyse!$B$1","v":0},0,0,0,0]
[null,null,{"$f":"IF(ISNA(VLOOKUP(A51271,analyse!D:E,2,FALSE))=TRUE,0,(VLOOKUP(A51271,analyse!D:E,2,FALSE)))","v":0},{"$f":"analyse!$B$1","v":0},0,0,0,0]
[null,null,{"$f":"IF(ISNA(VLOOKUP(A51372,analyse!D:E,2,FALSE))=TRUE,0,(VLOOKUP(A51372,analyse!D:E,2,FALSE)))","v":0},{"$f":"analyse!$B$1","v":0},0,0,0,0]
[null,null,{"$f":"IF(ISNA(VLOOKUP(A51436,analyse!D:E,2,FALSE))=TRUE,0,(VLOOKUP(A51436,analyse!D:E,2,FALSE)))","v":0},{"$f":"analyse!$B$1","v":0},0,0,0,0]
[null,null,{"$f":"IF(ISNA(VLOOKUP(A51547,analyse!D:E,2,FALSE))=TRUE,0,(VLOOKUP(A51547,analyse!D:E,2,FALSE)))","v":0},{"$f":"analyse!$B$1","v":0},0,0,0,0]
[null,null,{"$f":"IF(ISNA(VLOOKUP(A51602,analyse!D:E,2,FALSE))=TRUE,0,(VLOOKUP(A51602,analyse!D:E,2,FALSE)))","v":0},{"$f":"analyse!$B$1","v":0},0,0,0,0]
[null,null,{"$f":"IF(ISNA(VLOOKUP(A51635,analyse!D:E,2,FALSE))=TRUE,0,(VLOOKUP(A51635,analyse!D:E,2,FALSE)))","v":0},{"$f":"analyse!$B$1","v":0},0,0,0,0]
[null,null,{"$f":"IF(ISNA(VLOOKUP(A51788,analyse!D:E,2,FALSE))=TRUE,0,(VLOOKUP(A51788,analyse!D:E,2,FALSE)))","v":0},{"$f":"analyse!$B$1","v":0},0,0,0,0]
[null,null,{"$f":"IF(ISNA(VLOOKUP(A51800,analyse!D:E,2,FALSE))=TRUE,0,(VLOOKUP(A51800,analyse!D:E,2,FALSE)))","v":0},{"$f":"analyse!$B$1","v":0},0,0,0,0]
[null,null,{"$f":"IF(ISNA(VLOOKUP(A51911,analyse!D:E,2,FALSE))=TRUE,0,(VLOOKUP(A51911,analyse!D:E,2,FALSE)))","v":0},{"$f":"analyse!$B$1","v":0},0,0,0,0]
[null,null,{"$f":"IF(ISNA(VLOOKUP(A51966,analyse!D:E,2,FALSE))=TRUE,0,(VLOOKUP(A51966,analyse!D:E,2,FALSE)))","v":0},{"$f":"analyse!$B$1","v":0},0,0,0,0]
[null,null,{"$f":"IF(ISNA(VLOOKUP(A52072,analyse!D:E,2,FALSE))=TRUE,0,(VLOOKUP(A52072,analyse!D:E,2,FALSE)))","v":0},{"$f":"analyse!$B$1","v":0},0,0,0,0]
[null,null,{"$f":"IF(ISNA(VLOOKUP(A52109,analyse!D:E,2,FALSE))=TRUE,0,(VLOOKUP(A52109,analyse!D:E,2,FALSE)))","v":0},{"$f":"analyse!$B$1","v":0},0,0,0,0]
[null,null,{"$f":"IF(ISNA(VLOOKUP(A52242,analyse!D:E,2,FALSE))=TRUE,0,(VLOOKUP(A52242,analyse!D:E,2,FALSE)))","v":0},{"$f":"analyse!$B$1","v":0},0,0,0,0]
[null,null,{"$f":"IF(ISNA(VLOOKUP(A52275,analyse!D:E,2,FALSE))=TRUE,0,(VLOOKUP(A52275,analyse!D:E,2,FALSE)))","v":0},{"$f":"analyse!$B$1","v":0},0,0,0,0]
[null,null,{"$f":"IF(ISNA(VLOOKUP(A52408,analyse!D:E,2,FALSE))=TRUE,0,(VLOOKUP(A52408,analyse!D:E,2,FALSE)))","v":0},{"$f":"analyse!$B$1","v":0},0,0,0,0]
[null,null,{"$f":"IF(ISNA(VLOOKUP(A52488,analyse!D:E,2,FALSE))=TRUE,0,(VLOOKUP(A52488,analyse!D:E,2,FALSE)))","v":0},{"$f":"analyse!$B$1","v":0},0,0,0,0]
[null,null,{"$f":"IF(ISNA(VLOOKUP(A52551,analyse!D:E,2,FALSE))=TRUE,0,(VLOOKUP(A52551,analyse!D:E,2,FALSE)))","v":0},{"$f":"analyse!$B$1","v":0},0,0,0,0]
[null,null,{"$f":"IF(ISNA(VLOOKUP(A52606,analyse!D:E,2,FALSE))=TRUE,0,(VLOOKUP(A52606,analyse!D:E,2,FALSE)))","v":0},{"$f":"analyse!$B$1","v":0},0,0,0,0]
[null,null,{"$f":"IF(ISNA(VLOOKUP(A52717,analyse!D:E,2,FALSE))=TRUE,0,(VLOOKUP(A52717,analyse!D:E,2,FALSE)))","v":0},{"$f":"analyse!$B$1","v":0},0,0,0,0]
[null,null,{"$f":"IF(ISNA(VLOOKUP(A52772,analyse!D:E,2,FALSE))=TRUE,0,(VLOOKUP(A52772,analyse!D:E,2,FALSE)))","v":0},{"$f":"analyse!$B$1","v":0},0,0,0,0]
[null,null,{"$f":"IF(ISNA(VLOOKUP(A52827,analyse!D:E,2,FALSE))=TRUE,0,(VLOOKUP(A52827,analyse!D:E,2,FALSE)))","v":0},{"$f":"analyse!$B$1","v":0},0,0,0,0]
[null,null,{"$f":"IF(ISNA(VLOOKUP(A52915,analyse!D:E,2,FALSE))=TRUE,0,(VLOOKUP(A52915,analyse!D:E,2,FALSE)))","v":0},{"$f":"analyse!$B$1","v":0},0,0,0,0]
[null,null,{"$f":"IF(ISNA(VLOOKUP(A52970,analyse!D:E,2,FALSE))=TRUE,0,(VLOOKUP(A52970,analyse!D:E,2,FALSE)))","v":0},{"$f":"analyse!$B$1","v":0},0,0,0,0]
[null,null,{"$f":"IF(ISNA(VLOOKUP(A53081,analyse!D:E,2,FALSE))=TRUE,0,(VLOOKUP(A53081,analyse!D:E,2,FALSE)))","v":0},{"$f":"analyse!$B$1","v":0},0,0,0,0]
[null,null,{"$f":"IF(ISNA(VLOOKUP(A53114,analyse!D:E,2,FALSE))=TRUE,0,(VLOOKUP(A53114,analyse!D:E,2,FALSE)))","v":0},{"$f":"analyse!$B$1","v":0},0,0,0,0]
[null,null,{"$f":"IF(ISNA(VLOOKUP(A53243,analyse!D:E,2,FALSE))=TRUE,0,(VLOOKUP(A53243,analyse!D:E,2,FALSE)))","v":0},{"$f":"analyse!$B$1","v":0},0,0,0,0]
[null,null,{"$f":"IF(ISNA(VLOOKUP(A53279,analyse!D:E,2,FALSE))=TRUE,0,(VLOOKUP(A53279,analyse!D:E,2,FALSE)))","v":0},{"$f":"analyse!$B$1","v":0},0,0,0,0]
[null,null,{"$f":"IF(ISNA(VLOOKUP(A53412,analyse!D:E,2,FALSE))=TRUE,0,(VLOOKUP(A53412,analyse!D:E,2,FALSE)))","v":0},{"$f":"analyse!$B$1","v":0},0,0,0,0]
[null,null,{"$f":"IF(ISNA(VLOOKUP(A53445,analyse!D:E,2,FALSE))=TRUE,0,(VLOOKUP(A53445,analyse!D:E,2,FALSE)))","v":0},{"$f":"analyse!$B$1","v":0},0,0,0,0]
[null,null,{"$f":"IF(ISNA(VLOOKUP(A53556,analyse!D:E,2,FALSE))=TRUE,0,(VLOOKUP(A53556,analyse!D:E,2,FALSE)))","v":0},{"$f":"analyse!$B$1","v":0},0,0,0,0]
[null,null,{"$f":"IF(ISNA(VLOOKUP(A53582,analyse!D:E,2,FALSE))=TRUE,0,(VLOOKUP(A53582,analyse!D:E,2,FALSE)))","v":0},{"$f":"analyse!$B$1","v":0},0,0,0,0]
[null,null,{"$f":"IF(ISNA(VLOOKUP(A53721,analyse!D:E,2,FALSE))=TRUE,0,(VLOOKUP(A53721,analyse!D:E,2,FALSE)))","v":0},{"$f":"analyse!$B$1","v":0},0,0,0,0]
[null,null,{"$f":"IF(ISNA(VLOOKUP(A53776,analyse!D:E,2,FALSE))=TRUE,0,(VLOOKUP(A53776,analyse!D:E,2,FALSE)))","v":0},{"$f":"analyse!$B$1","v":0},0,0,0,0]
[null,null,{"$f":"IF(ISNA(VLOOKUP(A53887,analyse!D:E,2,FALSE))=TRUE,0,(VLOOKUP(A53887,analyse!D:E,2,FALSE)))","v":0},{"$f":"analyse!$B$1","v":0},0,0,0,0]
[null,null,{"$f":"IF(ISNA(VLOOKUP(A53920,analyse!D:E,2,FALSE))=TRUE,0,(VLOOKUP(A53920,analyse!D:E,2,FALSE)))","v":0},{"$f":"analyse!$B$1","v":0},0,0,0,0]
[null,null,{"$f":"IF(ISNA(VLOOKUP(A53998,analyse!D:E,2,FALSE))=TRUE,0,(VLOOKUP(A53998,analyse!D:E,2,FALSE)))","v":0},{"$f":"analyse!$B$1","v":0},0,0,0,0]
[null,null,{"$f":"IF(ISNA(VLOOKUP(A54085,analyse!D:E,2,FALSE))=TRUE,0,(VLOOKUP(A54085,analyse!D:E,2,FALSE)))","v":0},{"$f":"analyse!$B$1","v":0},0,0,0,0]
[null,null,{"$f":"IF(ISNA(VLOOKUP(A54196,analyse!D:E,2,FALSE))=TRUE,0,(VLOOKUP(A54196,analyse!D:E,2,FALSE)))","v":0},{"$f":"analyse!$B$1","v":0},0,0,0,0]
[null,null,{"$f":"IF(ISNA(VLOOKUP(A54251,analyse!D:E,2,FALSE))=TRUE,0,(VLOOKUP(A54251,analyse!D:E,2,FALSE)))","v":0},{"$f":"analyse!$B$1","v":0},0,0,0,0]
[null,null,{"$f":"IF(ISNA(VLOOKUP(A54284,analyse!D:E,2,FALSE))=TRUE,0,(VLOOKUP(A54284,analyse!D:E,2,FALSE)))","v":0},{"$f":"analyse!$B$1","v":0},0,0,0,0]
[null,null,{"$f":"IF(ISNA(VLOOKUP(A54414,analyse!D:E,2,FALSE))=TRUE,0,(VLOOKUP(A54414,analyse!D:E,2,FALSE)))","v":0},{"$f":"analyse!$B$1","v":0},0,0,0,0]
[null,null,{"$f":"IF(ISNA(VLOOKUP(A54449,analyse!D:E,2,FALSE))=TRUE,0,(VLOOKUP(A54449,analyse!D:E,2,FALSE)))","v":0},{"$f":"analyse!$B$1","v":0},0,0,0,0]
[null,null,{"$f":"IF(ISNA(VLOOKUP(A54560,analyse!D:E,2,FALSE))=TRUE,0,(VLOOKUP(A54560,analyse!D:E,2,FALSE)))","v":0},{"$f":"analyse!$B$1","v":0},0,0,0,0]
[null,null,{"$f":"IF(ISNA(VLOOKUP(A54615,analyse!D:E,2,FALSE))=TRUE,0,(VLOOKUP(A54615,analyse!D:E,2,FALSE)))","v":0},{"$f":"analyse!$B$1","v":0},0,0,0,0]
[null,null,{"$f":"IF(ISNA(VLOOKUP(A54726,analyse!D:E,2,FALSE))=TRUE,0,(VLOOKUP(A54726,analyse!D:E,2,FALSE)))","v":0},{"$f":"analyse!$B$1","v":0},0,0,0,0]
[null,null,{"$f":"IF(ISNA(VLOOKUP(A54749,analyse!D:E,2,FALSE))=TRUE,0,(VLOOKUP(A54749,analyse!D:E,2,FALSE)))","v":0},{"$f":"analyse!$B$1","v":0},0,0,0,0]
[null,null,{"$f":"IF(ISNA(VLOOKUP(A54891,analyse!D:E,2,FALSE))=TRUE,0,(VLOOKUP(A54891,analyse!D:E,2,FALSE)))","v":0},{"$f":"analyse!$B$1","v":0},0,0,0,0]
[null,null,{"$f":"IF(ISNA(VLOOKUP(A54924,analyse!D:E,2,FALSE))=TRUE,0,(VLOOKUP(A54924,analyse!D:E,2,FALSE)))","v":0},{"$f":"analyse!$B$1","v":0},0,0,0,0]
[null,null,{"$f":"IF(ISNA(VLOOKUP(A54979,analyse!D:E,2,FALSE))=TRUE,0,(VLOOKUP(A54979,analyse!D:E,2,FALSE)))","v":0},{"$f":"analyse!$B$1","v":0},0,0,0,0]
[null,null,{"$f":"IF(ISNA(VLOOKUP(A55114,analyse!D:E,2,FALSE))=TRUE,0,(VLOOKUP(A55114,analyse!D:E,2,FALSE)))","v":0},{"$f":"analyse!$B$1","v":0},0,0,0,0]
[null,null,{"$f":"IF(ISNA(VLOOKUP(A55200,analyse!D:E,2,FALSE))=TRUE,0,(VLOOKUP(A55200,analyse!D:E,2,FALSE)))","v":0},{"$f":"analyse!$B$1","v":0},0,0,0,0]
[null,null,{"$f":"IF(ISNA(VLOOKUP(A55255,analyse!D:E,2,FALSE))=TRUE,0,(VLOOKUP(A55255,analyse!D:E,2,FALSE)))","v":0},{"$f":"analyse!$B$1","v":0},0,0,0,0]
[null,null,{"$f":"IF(ISNA(VLOOKUP(A55366,analyse!D:E,2,FALSE))=TRUE,0,(VLOOKUP(A55366,analyse!D:E,2,FALSE)))","v":0},{"$f":"analyse!$B$1","v":0},0,0,0,0]
[null,null,{"$f":"IF(ISNA(VLOOKUP(A55421,analyse!D:E,2,FALSE))=TRUE,0,(VLOOKUP(A55421,analyse!D:E,2,FALSE)))","v":0},{"$f":"analyse!$B$1","v":0},0,0,0,0]
[null,null,{"$f":"IF(ISNA(VLOOKUP(A55453,analyse!D:E,2,FALSE))=TRUE,0,(VLOOKUP(A55453,analyse!D:E,2,FALSE)))","v":0},{"$f":"analyse!$B$1","v":0},0,0,0,0]
[null,null,{"$f":"IF(ISNA(VLOOKUP(A55564,analyse!D:E,2,FALSE))=TRUE,0,(VLOOKUP(A55564,analyse!D:E,2,FALSE)))","v":0},{"$f":"analyse!$B$1","v":0},0,0,0,0]
[null,null,{"$f":"IF(ISNA(VLOOKUP(A55619,analyse!D:E,2,FALSE))=TRUE,0,(VLOOKUP(A55619,analyse!D:E,2,FALSE)))","v":0},{"$f":"analyse!$B$1","v":0},0,0,0,0]
[null,null,{"$f":"IF(ISNA(VLOOKUP(A55730,analyse!D:E,2,FALSE))=TRUE,0,(VLOOKUP(A55730,analyse!D:E,2,FALSE)))","v":0},{"$f":"analyse!$B$1","v":0},0,0,0,0]
[null,null,{"$f":"IF(ISNA(VLOOKUP(A55763,analyse!D:E,2,FALSE))=TRUE,0,(VLOOKUP(A55763,analyse!D:E,2,FALSE)))","v":0},{"$f":"analyse!$B$1","v":0},0,0,0,0]
[null,null,{"$f":"IF(ISNA(VLOOKUP(A55869,analyse!D:E,2,FALSE))=TRUE,0,(VLOOKUP(A55869,analyse!D:E,2,FALSE)))","v":0},{"$f":"analyse!$B$1","v":0},0,0,0,0]
[null,null,{"$f":"IF(ISNA(VLOOKUP(A55928,analyse!D:E,2,FALSE))=TRUE,0,(VLOOKUP(A55928,analyse!D:E,2,FALSE)))","v":0},{"$f":"analyse!$B$1","v":0},0,0,0,0]
[null,null,{"$f":"IF(ISNA(VLOOKUP(A56061,analyse!D:E,2,FALSE))=TRUE,0,(VLOOKUP(A56061,analyse!D:E,2,FALSE)))","v":0},{"$f":"analyse!$B$1","v":0},0,0,0,0]
[null,null,{"$f":"IF(ISNA(VLOOKUP(A56094,analyse!D:E,2,FALSE))=TRUE,0,(VLOOKUP(A56094,analyse!D:E,2,FALSE)))","v":0},{"$f":"analyse!$B$1","v":0},0,0,0,0]
[null,null,{"$f":"IF(ISNA(VLOOKUP(A56205,analyse!D:E,2,FALSE))=TRUE,0,(VLOOKUP(A56205,analyse!D:E,2,FALSE)))","v":0},{"$f":"analyse!$B$1","v":0},0,0,0,0]
[null,null,{"$f":"IF(ISNA(VLOOKUP(A56285,analyse!D:E,2,FALSE))=TRUE,0,(VLOOKUP(A56285,analyse!D:E,2,FALSE)))","v":0},{"$f":"analyse!$B$1","v":0},0,0,0,0]
[null,null,{"$f":"IF(ISNA(VLOOKUP(A56370,analyse!D:E,2,FALSE))=TRUE,0,(VLOOKUP(A56370,analyse!D:E,2,FALSE)))","v":0},{"$f":"analyse!$B$1","v":0},0,0,0,0]
[null,null,{"$f":"IF(ISNA(VLOOKUP(A56403,analyse!D:E,2,FALSE))=TRUE,0,(VLOOKUP(A56403,analyse!D:E,2,FALSE)))","v":0},{"$f":"analyse!$B$1","v":0},0,0,0,0]
[null,null,{"$f":"IF(ISNA(VLOOKUP(A56458,analyse!D:E,2,FALSE))=TRUE,0,(VLOOKUP(A56458,analyse!D:E,2,FALSE)))","v":0},{"$f":"analyse!$B$1","v":0},0,0,0,0]
[null,null,{"$f":"IF(ISNA(VLOOKUP(A56569,analyse!D:E,2,FALSE))=TRUE,0,(VLOOKUP(A56569,analyse!D:E,2,FALSE)))","v":0},{"$f":"analyse!$B$1","v":0},0,0,0,0]
[null,null,{"$f":"IF(ISNA(VLOOKUP(A56624,analyse!D:E,2,FALSE))=TRUE,0,(VLOOKUP(A56624,analyse!D:E,2,FALSE)))","v":0},{"$f":"analyse!$B$1","v":0},0,0,0,0]
[null,null,{"$f":"IF(ISNA(VLOOKUP(A56734,analyse!D:E,2,FALSE))=TRUE,0,(VLOOKUP(A56734,analyse!D:E,2,FALSE)))","v":0},{"$f":"analyse!$B$1","v":0},0,0,0,0]
[null,null,{"$f":"IF(ISNA(VLOOKUP(A56845,analyse!D:E,2,FALSE))=TRUE,0,(VLOOKUP(A56845,analyse!D:E,2,FALSE)))","v":0},{"$f":"analyse!$B$1","v":0},0,0,0,0]
[null,null,{"$f":"IF(ISNA(VLOOKUP(A56900,analyse!D:E,2,FALSE))=TRUE,0,(VLOOKUP(A56900,analyse!D:E,2,FALSE)))","v":0},{"$f":"analyse!$B$1","v":0},0,0,0,0]
[null,null,{"$f":"IF(ISNA(VLOOKUP(A56933,analyse!D:E,2,FALSE))=TRUE,0,(VLOOKUP(A56933,analyse!D:E,2,FALSE)))","v":0},{"$f":"analyse!$B$1","v":0},0,0,0,0]
[null,null,{"$f":"IF(ISNA(VLOOKUP(A57040,analyse!D:E,2,FALSE))=TRUE,0,(VLOOKUP(A57040,analyse!D:E,2,FALSE)))","v":0},{"$f":"analyse!$B$1","v":0},0,0,0,0]
[null,null,{"$f":"IF(ISNA(VLOOKUP(A57098,analyse!D:E,2,FALSE))=TRUE,0,(VLOOKUP(A57098,analyse!D:E,2,FALSE)))","v":0},{"$f":"analyse!$B$1","v":0},0,0,0,0]
[null,null,{"$f":"IF(ISNA(VLOOKUP(A57209,analyse!D:E,2,FALSE))=TRUE,0,(VLOOKUP(A57209,analyse!D:E,2,FALSE)))","v":0},{"$f":"analyse!$B$1","v":0},0,0,0,0]
[null,null,{"$f":"IF(ISNA(VLOOKUP(A57264,analyse!D:E,2,FALSE))=TRUE,0,(VLOOKUP(A57264,analyse!D:E,2,FALSE)))","v":0},{"$f":"analyse!$B$1","v":0},0,0,0,0]
[null,null,{"$f":"IF(ISNA(VLOOKUP(A57375,analyse!D:E,2,FALSE))=TRUE,0,(VLOOKUP(A57375,analyse!D:E,2,FALSE)))","v":0},{"$f":"analyse!$B$1","v":0},0,0,0,0]
[null,null,{"$f":"IF(ISNA(VLOOKUP(A57452,analyse!D:E,2,FALSE))=TRUE,0,(VLOOKUP(A57452,analyse!D:E,2,FALSE)))","v":0},{"$f":"analyse!$B$1","v":0},0,0,0,0]
[null,null,{"$f":"IF(ISNA(VLOOKUP(A57540,analyse!D:E,2,FALSE))=TRUE,0,(VLOOKUP(A57540,analyse!D:E,2,FALSE)))","v":0},{"$f":"analyse!$B$1","v":0},0,0,0,0]
[null,null,{"$f":"IF(ISNA(VLOOKUP(A57573,analyse!D:E,2,FALSE))=TRUE,0,(VLOOKUP(A57573,analyse!D:E,2,FALSE)))","v":0},{"$f":"analyse!$B$1","v":0},0,0,0,0]
[null,null,{"$f":"IF(ISNA(VLOOKUP(A57628,analyse!D:E,2,FALSE))=TRUE,0,(VLOOKUP(A57628,analyse!D:E,2,FALSE)))","v":0},{"$f":"analyse!$B$1","v":0},0,0,0,0]
[null,null,{"$f":"IF(ISNA(VLOOKUP(A57739,analyse!D:E,2,FALSE))=TRUE,0,(VLOOKUP(A57739,analyse!D:E,2,FALSE)))","v":0},{"$f":"analyse!$B$1","v":0},0,0,0,0]
[null,null,{"$f":"IF(ISNA(VLOOKUP(A57791,analyse!D:E,2,FALSE))=TRUE,0,(VLOOKUP(A57791,analyse!D:E,2,FALSE)))","v":0},{"$f":"analyse!$B$1","v":0},0,0,0,0]
[null,null,{"$f":"IF(ISNA(VLOOKUP(A57904,analyse!D:E,2,FALSE))=TRUE,0,(VLOOKUP(A57904,analyse!D:E,2,FALSE)))","v":0},{"$f":"analyse!$B$1","v":0},0,0,0,0]
[null,null,{"$f":"IF(ISNA(VLOOKUP(A57937,analyse!D:E,2,FALSE))=TRUE,0,(VLOOKUP(A57937,analyse!D:E,2,FALSE)))","v":0},{"$f":"analyse!$B$1","v":0},0,0,0,0]
[null,null,{"$f":"IF(ISNA(VLOOKUP(A58070,analyse!D:E,2,FALSE))=TRUE,0,(VLOOKUP(A58070,analyse!D:E,2,FALSE)))","v":0},{"$f":"analyse!$B$1","v":0},0,0,0,0]
[null,null,{"$f":"IF(ISNA(VLOOKUP(A58156,analyse!D:E,2,FALSE))=TRUE,0,(VLOOKUP(A58156,analyse!D:E,2,FALSE)))","v":0},{"$f":"analyse!$B$1","v":0},0,0,0,0]
[null,null,{"$f":"IF(ISNA(VLOOKUP(A58213,analyse!D:E,2,FALSE))=TRUE,0,(VLOOKUP(A58213,analyse!D:E,2,FALSE)))","v":0},{"$f":"analyse!$B$1","v":0},0,0,0,0]
[null,null,{"$f":"IF(ISNA(VLOOKUP(A58268,analyse!D:E,2,FALSE))=TRUE,0,(VLOOKUP(A58268,analyse!D:E,2,FALSE)))","v":0},{"$f":"analyse!$B$1","v":0},0,0,0,0]
[null,null,{"$f":"IF(ISNA(VLOOKUP(A58379,analyse!D:E,2,FALSE))=TRUE,0,(VLOOKUP(A58379,analyse!D:E,2,FALSE)))","v":0},{"$f":"analyse!$B$1","v":0},0,0,0,0]
[null,null,{"$f":"IF(ISNA(VLOOKUP(A58412,analyse!D:E,2,FALSE))=TRUE,0,(VLOOKUP(A58412,analyse!D:E,2,FALSE)))","v":0},{"$f":"analyse!$B$1","v":0},0,0,0,0]
[null,null,{"$f":"IF(ISNA(VLOOKUP(A58495,analyse!D:E,2,FALSE))=TRUE,0,(VLOOKUP(A58495,analyse!D:E,2,FALSE)))","v":0},{"$f":"analyse!$B$1","v":0},0,0,0,0]
[null,null,{"$f":"IF(ISNA(VLOOKUP(A58577,analyse!D:E,2,FALSE))=TRUE,0,(VLOOKUP(A58577,analyse!D:E,2,FALSE)))","v":0},{"$f":"analyse!$B$1","v":0},0,0,0,0]
[null,null,{"$f":"IF(ISNA(VLOOKUP(A58710,analyse!D:E,2,FALSE))=TRUE,0,(VLOOKUP(A58710,analyse!D:E,2,FALSE)))","v":0},{"$f":"analyse!$B$1","v":0},0,0,0,0]
[null,null,{"$f":"IF(ISNA(VLOOKUP(A58743,analyse!D:E,2,FALSE))=TRUE,0,(VLOOKUP(A58743,analyse!D:E,2,FALSE)))","v":0},{"$f":"analyse!$B$1","v":0},0,0,0,0]
[null,null,{"$f":"IF(ISNA(VLOOKUP(A58854,analyse!D:E,2,FALSE))=TRUE,0,(VLOOKUP(A58854,analyse!D:E,2,FALSE)))","v":0},{"$f":"analyse!$B$1","v":0},0,0,0,0]
[null,null,{"$f":"IF(ISNA(VLOOKUP(A58911,analyse!D:E,2,FALSE))=TRUE,0,(VLOOKUP(A58911,analyse!D:E,2,FALSE)))","v":0},{"$f":"analyse!$B$1","v":0},0,0,0,0]
[null,null,{"$f":"IF(ISNA(VLOOKUP(A59019,analyse!D:E,2,FALSE))=TRUE,0,(VLOOKUP(A59019,analyse!D:E,2,FALSE)))","v":0},{"$f":"analyse!$B$1","v":0},0,0,0,0]
[null,null,{"$f":"IF(ISNA(VLOOKUP(A59052,analyse!D:E,2,FALSE))=TRUE,0,(VLOOKUP(A59052,analyse!D:E,2,FALSE)))","v":0},{"$f":"analyse!$B$1","v":0},0,0,0,0]
[null,null,{"$f":"IF(ISNA(VLOOKUP(A59107,analyse!D:E,2,FALSE))=TRUE,0,(VLOOKUP(A59107,analyse!D:E,2,FALSE)))","v":0},{"$f":"analyse!$B$1","v":0},0,0,0,0]
[null,null,{"$f":"IF(ISNA(VLOOKUP(A59218,analyse!D:E,2,FALSE))=TRUE,0,(VLOOKUP(A59218,analyse!D:E,2,FALSE)))","v":0},{"$f":"analyse!$B$1","v":0},0,0,0,0]
[null,null,{"$f":"IF(ISNA(VLOOKUP(A59327,analyse!D:E,2,FALSE))=TRUE,0,(VLOOKUP(A59327,analyse!D:E,2,FALSE)))","v":0},{"$f":"analyse!$B$1","v":0},0,0,0,0]
[null,null,{"$f":"IF(ISNA(VLOOKUP(A59383,analyse!D:E,2,FALSE))=TRUE,0,(VLOOKUP(A59383,analyse!D:E,2,FALSE)))","v":0},{"$f":"analyse!$B$1","v":0},0,0,0,0]
[null,null,{"$f":"IF(ISNA(VLOOKUP(A59416,analyse!D:E,2,FALSE))=TRUE,0,(VLOOKUP(A59416,analyse!D:E,2,FALSE)))","v":0},{"$f":"analyse!$B$1","v":0},0,0,0,0]
[null,null,{"$f":"IF(ISNA(VLOOKUP(A59549,analyse!D:E,2,FALSE))=TRUE,0,(VLOOKUP(A59549,analyse!D:E,2,FALSE)))","v":0},{"$f":"analyse!$B$1","v":0},0,0,0,0]
[null,null,{"$f":"IF(ISNA(VLOOKUP(A59582,analyse!D:E,2,FALSE))=TRUE,0,(VLOOKUP(A59582,analyse!D:E,2,FALSE)))","v":0},{"$f":"analyse!$B$1","v":0},0,0,0,0]
[null,null,{"$f":"IF(ISNA(VLOOKUP(A59666,analyse!D:E,2,FALSE))=TRUE,0,(VLOOKUP(A59666,analyse!D:E,2,FALSE)))","v":0},{"$f":"analyse!$B$1","v":0},0,0,0,0]
[null,null,{"$f":"IF(ISNA(VLOOKUP(A59747,analyse!D:E,2,FALSE))=TRUE,0,(VLOOKUP(A59747,analyse!D:E,2,FALSE)))","v":0},{"$f":"analyse!$B$1","v":0},0,0,0,0]
[null,null,{"$f":"IF(ISNA(VLOOKUP(A59858,analyse!D:E,2,FALSE))=TRUE,0,(VLOOKUP(A59858,analyse!D:E,2,FALSE)))","v":0},{"$f":"analyse!$B$1","v":0},0,0,0,0]
[null,null,{"$f":"IF(ISNA(VLOOKUP(A59913,analyse!D:E,2,FALSE))=TRUE,0,(VLOOKUP(A59913,analyse!D:E,2,FALSE)))","v":0},{"$f":"analyse!$B$1","v":0},0,0,0,0]
[null,null,{"$f":"IF(ISNA(VLOOKUP(A60024,analyse!D:E,2,FALSE))=TRUE,0,(VLOOKUP(A60024,analyse!D:E,2,FALSE)))","v":0},{"$f":"analyse!$B$1","v":0},0,0,0,0]
[null,null,{"$f":"IF(ISNA(VLOOKUP(A60078,analyse!D:E,2,FALSE))=TRUE,0,(VLOOKUP(A60078,analyse!D:E,2,FALSE)))","v":0},{"$f":"analyse!$B$1","v":0},0,0,0,0]
[null,null,{"$f":"IF(ISNA(VLOOKUP(A60189,analyse!D:E,2,FALSE))=TRUE,0,(VLOOKUP(A60189,analyse!D:E,2,FALSE)))","v":0},{"$f":"analyse!$B$1","v":0},0,0,0,0]
[null,null,{"$f":"IF(ISNA(VLOOKUP(A60222,analyse!D:E,2,FALSE))=TRUE,0,(VLOOKUP(A60222,analyse!D:E,2,FALSE)))","v":0},{"$f":"analyse!$B$1","v":0},0,0,0,0]
[null,null,{"$f":"IF(ISNA(VLOOKUP(A60277,analyse!D:E,2,FALSE))=TRUE,0,(VLOOKUP(A60277,analyse!D:E,2,FALSE)))","v":0},{"$f":"analyse!$B$1","v":0},0,0,0,0]
[null,null,{"$f":"IF(ISNA(VLOOKUP(A60388,analyse!D:E,2,FALSE))=TRUE,0,(VLOOKUP(A60388,analyse!D:E,2,FALSE)))","v":0},{"$f":"analyse!$B$1","v":0},0,0,0,0]
[null,null,{"$f":"IF(ISNA(VLOOKUP(A60494,analyse!D:E,2,FALSE))=TRUE,0,(VLOOKUP(A60494,analyse!D:E,2,FALSE)))","v":0},{"$f":"analyse!$B$1","v":0},0,0,0,0]
[null,null,{"$f":"IF(ISNA(VLOOKUP(A60553,analyse!D:E,2,FALSE))=TRUE,0,(VLOOKUP(A60553,analyse!D:E,2,FALSE)))","v":0},{"$f":"analyse!$B$1","v":0},0,0,0,0]
[null,null,{"$f":"IF(ISNA(VLOOKUP(A60586,analyse!D:E,2,FALSE))=TRUE,0,(VLOOKUP(A60586,analyse!D:E,2,FALSE)))","v":0},{"$f":"analyse!$B$1","v":0},0,0,0,0]
[null,null,{"$f":"IF(ISNA(VLOOKUP(A60719,analyse!D:E,2,FALSE))=TRUE,0,(VLOOKUP(A60719,analyse!D:E,2,FALSE)))","v":0},{"$f":"analyse!$B$1","v":0},0,0,0,0]
[null,null,{"$f":"IF(ISNA(VLOOKUP(A60752,analyse!D:E,2,FALSE))=TRUE,0,(VLOOKUP(A60752,analyse!D:E,2,FALSE)))","v":0},{"$f":"analyse!$B$1","v":0},0,0,0,0]
[null,null,{"$f":"IF(ISNA(VLOOKUP(A60833,analyse!D:E,2,FALSE))=TRUE,0,(VLOOKUP(A60833,analyse!D:E,2,FALSE)))","v":0},{"$f":"analyse!$B$1","v":0},0,0,0,0]
[null,null,{"$f":"IF(ISNA(VLOOKUP(A60917,analyse!D:E,2,FALSE))=TRUE,0,(VLOOKUP(A60917,analyse!D:E,2,FALSE)))","v":0},{"$f":"analyse!$B$1","v":0},0,0,0,0]
[null,null,{"$f":"IF(ISNA(VLOOKUP(A61028,analyse!D:E,2,FALSE))=TRUE,0,(VLOOKUP(A61028,analyse!D:E,2,FALSE)))","v":0},{"$f":"analyse!$B$1","v":0},0,0,0,0]
[null,null,{"$f":"IF(ISNA(VLOOKUP(A61061,analyse!D:E,2,FALSE))=TRUE,0,(VLOOKUP(A61061,analyse!D:E,2,FALSE)))","v":0},{"$f":"analyse!$B$1","v":0},0,0,0,0]
[null,null,{"$f":"IF(ISNA(VLOOKUP(A61198,analyse!D:E,2,FALSE))=TRUE,0,(VLOOKUP(A61198,analyse!D:E,2,FALSE)))","v":0},{"$f":"analyse!$B$1","v":0},0,0,0,0]
[null,null,{"$f":"IF(ISNA(VLOOKUP(A61226,analyse!D:E,2,FALSE))=TRUE,0,(VLOOKUP(A61226,analyse!D:E,2,FALSE)))","v":0},{"$f":"analyse!$B$1","v":0},0,0,0,0]
[null,null,{"$f":"IF(ISNA(VLOOKUP(A61281,analyse!D:E,2,FALSE))=TRUE,0,(VLOOKUP(A61281,analyse!D:E,2,FALSE)))","v":0},{"$f":"analyse!$B$1","v":0},0,0,0,0]
[null,null,{"$f":"IF(ISNA(VLOOKUP(A61392,analyse!D:E,2,FALSE))=TRUE,0,(VLOOKUP(A61392,analyse!D:E,2,FALSE)))","v":0},{"$f":"analyse!$B$1","v":0},0,0,0,0]
[null,null,{"$f":"IF(ISNA(VLOOKUP(A61503,analyse!D:E,2,FALSE))=TRUE,0,(VLOOKUP(A61503,analyse!D:E,2,FALSE)))","v":0},{"$f":"analyse!$B$1","v":0},0,0,0,0]
[null,null,{"$f":"IF(ISNA(VLOOKUP(A61537,analyse!D:E,2,FALSE))=TRUE,0,(VLOOKUP(A61537,analyse!D:E,2,FALSE)))","v":0},{"$f":"analyse!$B$1","v":0},0,0,0,0]
[null,null,{"$f":"IF(ISNA(VLOOKUP(A61668,analyse!D:E,2,FALSE))=TRUE,0,(VLOOKUP(A61668,analyse!D:E,2,FALSE)))","v":0},{"$f":"analyse!$B$1","v":0},0,0,0,0]
[null,null,{"$f":"IF(ISNA(VLOOKUP(A61701,analyse!D:E,2,FALSE))=TRUE,0,(VLOOKUP(A61701,analyse!D:E,2,FALSE)))","v":0},{"$f":"analyse!$B$1","v":0},0,0,0,0]
[null,null,{"$f":"IF(ISNA(VLOOKUP(A61756,analyse!D:E,2,FALSE))=TRUE,0,(VLOOKUP(A61756,analyse!D:E,2,FALSE)))","v":0},{"$f":"analyse!$B$1","v":0},0,0,0,0]
[null,null,{"$f":"IF(ISNA(VLOOKUP(A61867,analyse!D:E,2,FALSE))=TRUE,0,(VLOOKUP(A61867,analyse!D:E,2,FALSE)))","v":0},{"$f":"analyse!$B$1","v":0},0,0,0,0]
[null,null,{"$f":"IF(ISNA(VLOOKUP(A61953,analyse!D:E,2,FALSE))=TRUE,0,(VLOOKUP(A61953,analyse!D:E,2,FALSE)))","v":0},{"$f":"analyse!$B$1","v":0},0,0,0,0]
[null,null,{"$f":"IF(ISNA(VLOOKUP(A62032,analyse!D:E,2,FALSE))=TRUE,0,(VLOOKUP(A62032,analyse!D:E,2,FALSE)))","v":0},{"$f":"analyse!$B$1","v":0},0,0,0,0]
[null,null,{"$f":"IF(ISNA(VLOOKUP(A62065,analyse!D:E,2,FALSE))=TRUE,0,(VLOOKUP(A62065,analyse!D:E,2,FALSE)))","v":0},{"$f":"analyse!$B$1","v":0},0,0,0,0]
[null,null,{"$f":"IF(ISNA(VLOOKUP(A62198,analyse!D:E,2,FALSE))=TRUE,0,(VLOOKUP(A62198,analyse!D:E,2,FALSE)))","v":0},{"$f":"analyse!$B$1","v":0},0,0,0,0]
[null,null,{"$f":"IF(ISNA(VLOOKUP(A62231,analyse!D:E,2,FALSE))=TRUE,0,(VLOOKUP(A62231,analyse!D:E,2,FALSE)))","v":0},{"$f":"analyse!$B$1","v":0},0,0,0,0]
[null,null,{"$f":"IF(ISNA(VLOOKUP(A62292,analyse!D:E,2,FALSE))=TRUE,0,(VLOOKUP(A62292,analyse!D:E,2,FALSE)))","v":0},{"$f":"analyse!$B$1","v":0},0,0,0,0]
[null,null,{"$f":"IF(ISNA(VLOOKUP(A62396,analyse!D:E,2,FALSE))=TRUE,0,(VLOOKUP(A62396,analyse!D:E,2,FALSE)))","v":0},{"$f":"analyse!$B$1","v":0},0,0,0,0]
[null,null,{"$f":"IF(ISNA(VLOOKUP(A62507,analyse!D:E,2,FALSE))=TRUE,0,(VLOOKUP(A62507,analyse!D:E,2,FALSE)))","v":0},{"$f":"analyse!$B$1","v":0},0,0,0,0]
[null,null,{"$f":"IF(ISNA(VLOOKUP(A62562,analyse!D:E,2,FALSE))=TRUE,0,(VLOOKUP(A62562,analyse!D:E,2,FALSE)))","v":0},{"$f":"analyse!$B$1","v":0},0,0,0,0]
[null,null,{"$f":"IF(ISNA(VLOOKUP(A62673,analyse!D:E,2,FALSE))=TRUE,0,(VLOOKUP(A62673,analyse!D:E,2,FALSE)))","v":0},{"$f":"analyse!$B$1","v":0},0,0,0,0]
[null,null,{"$f":"IF(ISNA(VLOOKUP(A62704,analyse!D:E,2,FALSE))=TRUE,0,(VLOOKUP(A62704,analyse!D:E,2,FALSE)))","v":0},{"$f":"analyse!$B$1","v":0},0,0,0,0]
[null,null,{"$f":"IF(ISNA(VLOOKUP(A62760,analyse!D:E,2,FALSE))=TRUE,0,(VLOOKUP(A62760,analyse!D:E,2,FALSE)))","v":0},{"$f":"analyse!$B$1","v":0},0,0,0,0]
[null,null,{"$f":"IF(ISNA(VLOOKUP(A62871,analyse!D:E,2,FALSE))=TRUE,0,(VLOOKUP(A62871,analyse!D:E,2,FALSE)))","v":0},{"$f":"analyse!$B$1","v":0},0,0,0,0]
[null,null,{"$f":"IF(ISNA(VLOOKUP(A62926,analyse!D:E,2,FALSE))=TRUE,0,(VLOOKUP(A62926,analyse!D:E,2,FALSE)))","v":0},{"$f":"analyse!$B$1","v":0},0,0,0,0]
[null,null,{"$f":"IF(ISNA(VLOOKUP(A63037,analyse!D:E,2,FALSE))=TRUE,0,(VLOOKUP(A63037,analyse!D:E,2,FALSE)))","v":0},{"$f":"analyse!$B$1","v":0},0,0,0,0]
[null,null,{"$f":"IF(ISNA(VLOOKUP(A63120,analyse!D:E,2,FALSE))=TRUE,0,(VLOOKUP(A63120,analyse!D:E,2,FALSE)))","v":0},{"$f":"analyse!$B$1","v":0},0,0,0,0]
[null,null,{"$f":"IF(ISNA(VLOOKUP(A63202,analyse!D:E,2,FALSE))=TRUE,0,(VLOOKUP(A63202,analyse!D:E,2,FALSE)))","v":0},{"$f":"analyse!$B$1","v":0},0,0,0,0]
[null,null,{"$f":"IF(ISNA(VLOOKUP(A63235,analyse!D:E,2,FALSE))=TRUE,0,(VLOOKUP(A63235,analyse!D:E,2,FALSE)))","v":0},{"$f":"analyse!$B$1","v":0},0,0,0,0]
[null,null,{"$f":"IF(ISNA(VLOOKUP(A63346,analyse!D:E,2,FALSE))=TRUE,0,(VLOOKUP(A63346,analyse!D:E,2,FALSE)))","v":0},{"$f":"analyse!$B$1","v":0},0,0,0,0]
[null,null,{"$f":"IF(ISNA(VLOOKUP(A63401,analyse!D:E,2,FALSE))=TRUE,0,(VLOOKUP(A63401,analyse!D:E,2,FALSE)))","v":0},{"$f":"analyse!$B$1","v":0},0,0,0,0]
[null,null,{"$f":"IF(ISNA(VLOOKUP(A63459,analyse!D:E,2,FALSE))=TRUE,0,(VLOOKUP(A63459,analyse!D:E,2,FALSE)))","v":0},{"$f":"analyse!$B$1","v":0},0,0,0,0]
[null,null,{"$f":"IF(ISNA(VLOOKUP(A63566,analyse!D:E,2,FALSE))=TRUE,0,(VLOOKUP(A63566,analyse!D:E,2,FALSE)))","v":0},{"$f":"analyse!$B$1","v":0},0,0,0,0]
[null,null,{"$f":"IF(ISNA(VLOOKUP(A63677,analyse!D:E,2,FALSE))=TRUE,0,(VLOOKUP(A63677,analyse!D:E,2,FALSE)))","v":0},{"$f":"analyse!$B$1","v":0},0,0,0,0]
[null,null,{"$f":"IF(ISNA(VLOOKUP(A63710,analyse!D:E,2,FALSE))=TRUE,0,(VLOOKUP(A63710,analyse!D:E,2,FALSE)))","v":0},{"$f":"analyse!$B$1","v":0},0,0,0,0]
[null,null,{"$f":"IF(ISNA(VLOOKUP(A63843,analyse!D:E,2,FALSE))=TRUE,0,(VLOOKUP(A63843,analyse!D:E,2,FALSE)))","v":0},{"$f":"analyse!$B$1","v":0},0,0,0,0]
[null,null,{"$f":"IF(ISNA(VLOOKUP(A63875,analyse!D:E,2,FALSE))=TRUE,0,(VLOOKUP(A63875,analyse!D:E,2,FALSE)))","v":0},{"$f":"analyse!$B$1","v":0},0,0,0,0]
[null,null,{"$f":"IF(ISNA(VLOOKUP(A63930,analyse!D:E,2,FALSE))=TRUE,0,(VLOOKUP(A63930,analyse!D:E,2,FALSE)))","v":0},{"$f":"analyse!$B$1","v":0},0,0,0,0]
[null,null,{"$f":"IF(ISNA(VLOOKUP(A64041,analyse!D:E,2,FALSE))=TRUE,0,(VLOOKUP(A64041,analyse!D:E,2,FALSE)))","v":0},{"$f":"analyse!$B$1","v":0},0,0,0,0]
[null,null,{"$f":"IF(ISNA(VLOOKUP(A64152,analyse!D:E,2,FALSE))=TRUE,0,(VLOOKUP(A64152,analyse!D:E,2,FALSE)))","v":0},{"$f":"analyse!$B$1","v":0},0,0,0,0]
[null,null,{"$f":"IF(ISNA(VLOOKUP(A64207,analyse!D:E,2,FALSE))=TRUE,0,(VLOOKUP(A64207,analyse!D:E,2,FALSE)))","v":0},{"$f":"analyse!$B$1","v":0},0,0,0,0]
[null,null,{"$f":"IF(ISNA(VLOOKUP(A64291,analyse!D:E,2,FALSE))=TRUE,0,(VLOOKUP(A64291,analyse!D:E,2,FALSE)))","v":0},{"$f":"analyse!$B$1","v":0},0,0,0,0]
[null,null,{"$f":"IF(ISNA(VLOOKUP(A64350,analyse!D:E,2,FALSE))=TRUE,0,(VLOOKUP(A64350,analyse!D:E,2,FALSE)))","v":0},{"$f":"analyse!$B$1","v":0},0,0,0,0]
[null,null,{"$f":"IF(ISNA(VLOOKUP(A64405,analyse!D:E,2,FALSE))=TRUE,0,(VLOOKUP(A64405,analyse!D:E,2,FALSE)))","v":0},{"$f":"analyse!$B$1","v":0},0,0,0,0]
[null,null,{"$f":"IF(ISNA(VLOOKUP(A64516,analyse!D:E,2,FALSE))=TRUE,0,(VLOOKUP(A64516,analyse!D:E,2,FALSE)))","v":0},{"$f":"analyse!$B$1","v":0},0,0,0,0]
[null,null,{"$f":"IF(ISNA(VLOOKUP(A64579,analyse!D:E,2,FALSE))=TRUE,0,(VLOOKUP(A64579,analyse!D:E,2,FALSE)))","v":0},{"$f":"analyse!$B$1","v":0},0,0,0,0]
[null,null,{"$f":"IF(ISNA(VLOOKUP(A64681,analyse!D:E,2,FALSE))=TRUE,0,(VLOOKUP(A64681,analyse!D:E,2,FALSE)))","v":0},{"$f":"analyse!$B$1","v":0},0,0,0,0]
[null,null,{"$f":"IF(ISNA(VLOOKUP(A64714,analyse!D:E,2,FALSE))=TRUE,0,(VLOOKUP(A64714,analyse!D:E,2,FALSE)))","v":0},{"$f":"analyse!$B$1","v":0},0,0,0,0]
[null,null,{"$f":"IF(ISNA(VLOOKUP(A64847,analyse!D:E,2,FALSE))=TRUE,0,(VLOOKUP(A64847,analyse!D:E,2,FALSE)))","v":0},{"$f":"analyse!$B$1","v":0},0,0,0,0]
[null,null,{"$f":"IF(ISNA(VLOOKUP(A64880,analyse!D:E,2,FALSE))=TRUE,0,(VLOOKUP(A64880,analyse!D:E,2,FALSE)))","v":0},{"$f":"analyse!$B$1","v":0},0,0,0,0]
[null,null,{"$f":"IF(ISNA(VLOOKUP(A64995,analyse!D:E,2,FALSE))=TRUE,0,(VLOOKUP(A64995,analyse!D:E,2,FALSE)))","v":0},{"$f":"analyse!$B$1","v":0},0,0,0,0]
[null,null,{"$f":"IF(ISNA(VLOOKUP(A65045,analyse!D:E,2,FALSE))=TRUE,0,(VLOOKUP(A65045,analyse!D:E,2,FALSE)))","v":0},{"$f":"analyse!$B$1","v":0},0,0,0,0]
[null,null,{"$f":"IF(ISNA(VLOOKUP(A65156,analyse!D:E,2,FALSE))=TRUE,0,(VLOOKUP(A65156,analyse!D:E,2,FALSE)))","v":0},{"$f":"analyse!$B$1","v":0},0,0,0,0]
[null,null,{"$f":"IF(ISNA(VLOOKUP(A65211,analyse!D:E,2,FALSE))=TRUE,0,(VLOOKUP(A65211,analyse!D:E,2,FALSE)))","v":0},{"$f":"analyse!$B$1","v":0},0,0,0,0]
[null,null,{"$f":"IF(ISNA(VLOOKUP(A65322,analyse!D:E,2,FALSE))=TRUE,0,(VLOOKUP(A65322,analyse!D:E,2,FALSE)))","v":0},{"$f":"analyse!$B$1","v":0},0,0,0,0]
[null,null,{"$f":"IF(ISNA(VLOOKUP(A65330,analyse!D:E,2,FALSE))=TRUE,0,(VLOOKUP(A65330,analyse!D:E,2,FALSE)))","v":0},{"$f":"analyse!$B$1","v":0},0,0,0,0]
[null,null,{"$f":"IF(ISNA(VLOOKUP(A65409,analyse!D:E,2,FALSE))=TRUE,0,(VLOOKUP(A65409,analyse!D:E,2,FALSE)))","v":0},{"$f":"analyse!$B$1","v":0},0,0,0,0]
[null,null,{"$f":"IF(ISNA(VLOOKUP(A65520,analyse!D:E,2,FALSE))=TRUE,0,(VLOOKUP(A65520,analyse!D:E,2,FALSE)))","v":0},{"$f":"analyse!$B$1","v":0},0,0,0,0]
[null,null,{"$f":"IF(ISNA(VLOOKUP(A65575,analyse!D:E,2,FALSE))=TRUE,0,(VLOOKUP(A65575,analyse!D:E,2,FALSE)))","v":0},{"$f":"analyse!$B$1","v":0},0,0,0,0]
[null,null,{"$f":"IF(ISNA(VLOOKUP(A65686,analyse!D:E,2,FALSE))=TRUE,0,(VLOOKUP(A65686,analyse!D:E,2,FALSE)))","v":0},{"$f":"analyse!$B$1","v":0},0,0,0,0]
[null,null,{"$f":"IF(ISNA(VLOOKUP(A65746,analyse!D:E,2,FALSE))=TRUE,0,(VLOOKUP(A65746,analyse!D:E,2,FALSE)))","v":0},{"$f":"analyse!$B$1","v":0},0,0,0,0]
[null,null,{"$f":"IF(ISNA(VLOOKUP(A65851,analyse!D:E,2,FALSE))=TRUE,0,(VLOOKUP(A65851,analyse!D:E,2,FALSE)))","v":0},{"$f":"analyse!$B$1","v":0},0,0,0,0]
[null,null,{"$f":"IF(ISNA(VLOOKUP(A65884,analyse!D:E,2,FALSE))=TRUE,0,(VLOOKUP(A65884,analyse!D:E,2,FALSE)))","v":0},{"$f":"analyse!$B$1","v":0},0,0,0,0]
[null,null,{"$f":"IF(ISNA(VLOOKUP(A65995,analyse!D:E,2,FALSE))=TRUE,0,(VLOOKUP(A65995,analyse!D:E,2,FALSE)))","v":0},{"$f":"analyse!$B$1","v":0},0,0,0,0]
[null,null,{"$f":"IF(ISNA(VLOOKUP(A66050,analyse!D:E,2,FALSE))=TRUE,0,(VLOOKUP(A66050,analyse!D:E,2,FALSE)))","v":0},{"$f":"analyse!$B$1","v":0},{"$f":"D66050-C66050","v":0},{"$f":"E66050+C66050","v":0},{"$f":"IF(F66050<E66050,D66050-1,D66050)","v":0},{"$f":"IF(A66050=\"S20.G01.00.001\",H66049+1,H66049)","v":0}]
[null,null,{"$f":"IF(ISNA(VLOOKUP(A66162,analyse!D:E,2,FALSE))=TRUE,0,(VLOOKUP(A66162,analyse!D:E,2,FALSE)))","v":0},{"$f":"analyse!$B$1","v":0},0,0,0,0]
[null,null,{"$f":"IF(ISNA(VLOOKUP(A66215,analyse!D:E,2,FALSE))=TRUE,0,(VLOOKUP(A66215,analyse!D:E,2,FALSE)))","v":0},{"$f":"analyse!$B$1","v":0},0,0,0,0]
[null,null,{"$f":"IF(ISNA(VLOOKUP(A66326,analyse!D:E,2,FALSE))=TRUE,0,(VLOOKUP(A66326,analyse!D:E,2,FALSE)))","v":0},{"$f":"analyse!$B$1","v":0},0,0,0,0]
[null,null,{"$f":"IF(ISNA(VLOOKUP(A66359,analyse!D:E,2,FALSE))=TRUE,0,(VLOOKUP(A66359,analyse!D:E,2,FALSE)))","v":0},{"$f":"analyse!$B$1","v":0},0,0,0,0]
[null,null,{"$f":"IF(ISNA(VLOOKUP(A66492,analyse!D:E,2,FALSE))=TRUE,0,(VLOOKUP(A66492,analyse!D:E,2,FALSE)))","v":0},{"$f":"analyse!$B$1","v":0},0,0,0,0]
[null,null,{"$f":"IF(ISNA(VLOOKUP(A66501,analyse!D:E,2,FALSE))=TRUE,0,(VLOOKUP(A66501,analyse!D:E,2,FALSE)))","v":0},{"$f":"analyse!$B$1","v":0},0,0,0,0]
[null,null,{"$f":"IF(ISNA(VLOOKUP(A66579,analyse!D:E,2,FALSE))=TRUE,0,(VLOOKUP(A66579,analyse!D:E,2,FALSE)))","v":0},{"$f":"analyse!$B$1","v":0},0,0,0,0]
[null,null,{"$f":"IF(ISNA(VLOOKUP(A66690,analyse!D:E,2,FALSE))=TRUE,0,(VLOOKUP(A66690,analyse!D:E,2,FALSE)))","v":0},{"$f":"analyse!$B$1","v":0},{"$f":"D66690-C66690","v":0},{"$f":"E66690+C66690","v":0},{"$f":"IF(F66690<E66690,D66690-1,D66690)","v":0},{"$f":"IF(A66690=\"S20.G01.00.001\",H66689+1,H66689)","v":0}]
[null,null,{"$f":"IF(ISNA(VLOOKUP(A66801,analyse!D:E,2,FALSE))=TRUE,0,(VLOOKUP(A66801,analyse!D:E,2,FALSE)))","v":0},{"$f":"analyse!$B$1","v":0},0,0,0,0]
[null,null,{"$f":"IF(ISNA(VLOOKUP(A66856,analyse!D:E,2,FALSE))=TRUE,0,(VLOOKUP(A66856,analyse!D:E,2,FALSE)))","v":0},{"$f":"analyse!$B$1","v":0},0,0,0,0]
[null,null,{"$f":"IF(ISNA(VLOOKUP(A66917,analyse!D:E,2,FALSE))=TRUE,0,(VLOOKUP(A66917,analyse!D:E,2,FALSE)))","v":0},{"$f":"analyse!$B$1","v":0},0,0,0,0]
[null,null,{"$f":"IF(ISNA(VLOOKUP(A66999,analyse!D:E,2,FALSE))=TRUE,0,(VLOOKUP(A66999,analyse!D:E,2,FALSE)))","v":0},{"$f":"analyse!$B$1","v":0},0,0,0,0]
[null,null,{"$f":"IF(ISNA(VLOOKUP(A67054,analyse!D:E,2,FALSE))=TRUE,0,(VLOOKUP(A67054,analyse!D:E,2,FALSE)))","v":0},{"$f":"analyse!$B$1","v":0},0,0,0,0]
[null,null,{"$f":"IF(ISNA(VLOOKUP(A67165,analyse!D:E,2,FALSE))=TRUE,0,(VLOOKUP(A67165,analyse!D:E,2,FALSE)))","v":0},{"$f":"analyse!$B$1","v":0},0,0,0,0]
[null,null,{"$f":"IF(ISNA(VLOOKUP(A67220,analyse!D:E,2,FALSE))=TRUE,0,(VLOOKUP(A67220,analyse!D:E,2,FALSE)))","v":0},{"$f":"analyse!$B$1","v":0},0,0,0,0]
[null,null,{"$f":"IF(ISNA(VLOOKUP(A67333,analyse!D:E,2,FALSE))=TRUE,0,(VLOOKUP(A67333,analyse!D:E,2,FALSE)))","v":0},{"$f":"analyse!$B$1","v":0},0,0,0,0]
[null,null,{"$f":"IF(ISNA(VLOOKUP(A67363,analyse!D:E,2,FALSE))=TRUE,0,(VLOOKUP(A67363,analyse!D:E,2,FALSE)))","v":0},{"$f":"analyse!$B$1","v":0},0,0,0,0]
[null,null,{"$f":"IF(ISNA(VLOOKUP(A67496,analyse!D:E,2,FALSE))=TRUE,0,(VLOOKUP(A67496,analyse!D:E,2,FALSE)))","v":0},{"$f":"analyse!$B$1","v":0},0,0,0,0]
[null,null,{"$f":"IF(ISNA(VLOOKUP(A67529,analyse!D:E,2,FALSE))=TRUE,0,(VLOOKUP(A67529,analyse!D:E,2,FALSE)))","v":0},{"$f":"analyse!$B$1","v":0},0,0,0,0]
[null,null,{"$f":"IF(ISNA(VLOOKUP(A67617,analyse!D:E,2,FALSE))=TRUE,0,(VLOOKUP(A67617,analyse!D:E,2,FALSE)))","v":0},{"$f":"analyse!$B$1","v":0},0,0,0,0]
[null,null,{"$f":"IF(ISNA(VLOOKUP(A67694,analyse!D:E,2,FALSE))=TRUE,0,(VLOOKUP(A67694,analyse!D:E,2,FALSE)))","v":0},{"$f":"analyse!$B$1","v":0},0,0,0,0]
[null,null,{"$f":"IF(ISNA(VLOOKUP(A67805,analyse!D:E,2,FALSE))=TRUE,0,(VLOOKUP(A67805,analyse!D:E,2,FALSE)))","v":0},{"$f":"analyse!$B$1","v":0},0,0,0,0]
[null,null,{"$f":"IF(ISNA(VLOOKUP(A67860,analyse!D:E,2,FALSE))=TRUE,0,(VLOOKUP(A67860,analyse!D:E,2,FALSE)))","v":0},{"$f":"analyse!$B$1","v":0},0,0,0,0]
[null,null,{"$f":"IF(ISNA(VLOOKUP(A67893,analyse!D:E,2,FALSE))=TRUE,0,(VLOOKUP(A67893,analyse!D:E,2,FALSE)))","v":0},{"$f":"analyse!$B$1","v":0},0,0,0,0]
[null,null,{"$f":"IF(ISNA(VLOOKUP(A68033,analyse!D:E,2,FALSE))=TRUE,0,(VLOOKUP(A68033,analyse!D:E,2,FALSE)))","v":0},{"$f":"analyse!$B$1","v":0},0,0,0,0]
[null,null,{"$f":"IF(ISNA(VLOOKUP(A68058,analyse!D:E,2,FALSE))=TRUE,0,(VLOOKUP(A68058,analyse!D:E,2,FALSE)))","v":0},{"$f":"analyse!$B$1","v":0},0,0,0,0]
[null,null,{"$f":"IF(ISNA(VLOOKUP(A68169,analyse!D:E,2,FALSE))=TRUE,0,(VLOOKUP(A68169,analyse!D:E,2,FALSE)))","v":0},{"$f":"analyse!$B$1","v":0},0,0,0,0]
[null,null,{"$f":"IF(ISNA(VLOOKUP(A68224,analyse!D:E,2,FALSE))=TRUE,0,(VLOOKUP(A68224,analyse!D:E,2,FALSE)))","v":0},{"$f":"analyse!$B$1","v":0},0,0,0,0]
[null,null,{"$f":"IF(ISNA(VLOOKUP(A68335,analyse!D:E,2,FALSE))=TRUE,0,(VLOOKUP(A68335,analyse!D:E,2,FALSE)))","v":0},{"$f":"analyse!$B$1","v":0},0,0,0,0]
[null,null,{"$f":"IF(ISNA(VLOOKUP(A68372,analyse!D:E,2,FALSE))=TRUE,0,(VLOOKUP(A68372,analyse!D:E,2,FALSE)))","v":0},{"$f":"analyse!$B$1","v":0},0,0,0,0]
[null,null,{"$f":"IF(ISNA(VLOOKUP(A68500,analyse!D:E,2,FALSE))=TRUE,0,(VLOOKUP(A68500,analyse!D:E,2,FALSE)))","v":0},{"$f":"analyse!$B$1","v":0},0,0,0,0]
[null,null,{"$f":"IF(ISNA(VLOOKUP(A68533,analyse!D:E,2,FALSE))=TRUE,0,(VLOOKUP(A68533,analyse!D:E,2,FALSE)))","v":0},{"$f":"analyse!$B$1","v":0},0,0,0,0]
[null,null,{"$f":"IF(ISNA(VLOOKUP(A68644,analyse!D:E,2,FALSE))=TRUE,0,(VLOOKUP(A68644,analyse!D:E,2,FALSE)))","v":0},{"$f":"analyse!$B$1","v":0},0,0,0,0]
[null,null,{"$f":"IF(ISNA(VLOOKUP(A68699,analyse!D:E,2,FALSE))=TRUE,0,(VLOOKUP(A68699,analyse!D:E,2,FALSE)))","v":0},{"$f":"analyse!$B$1","v":0},0,0,0,0]
[null,null,{"$f":"IF(ISNA(VLOOKUP(A68788,analyse!D:E,2,FALSE))=TRUE,0,(VLOOKUP(A68788,analyse!D:E,2,FALSE)))","v":0},{"$f":"analyse!$B$1","v":0},0,0,0,0]
[null,null,{"$f":"IF(ISNA(VLOOKUP(A68864,analyse!D:E,2,FALSE))=TRUE,0,(VLOOKUP(A68864,analyse!D:E,2,FALSE)))","v":0},{"$f":"analyse!$B$1","v":0},0,0,0,0]
[null,null,{"$f":"IF(ISNA(VLOOKUP(A68975,analyse!D:E,2,FALSE))=TRUE,0,(VLOOKUP(A68975,analyse!D:E,2,FALSE)))","v":0},{"$f":"analyse!$B$1","v":0},0,0,0,0]
[null,null,{"$f":"IF(ISNA(VLOOKUP(A69008,analyse!D:E,2,FALSE))=TRUE,0,(VLOOKUP(A69008,analyse!D:E,2,FALSE)))","v":0},{"$f":"analyse!$B$1","v":0},0,0,0,0]
[null,null,{"$f":"IF(ISNA(VLOOKUP(A69063,analyse!D:E,2,FALSE))=TRUE,0,(VLOOKUP(A69063,analyse!D:E,2,FALSE)))","v":0},{"$f":"analyse!$B$1","v":0},0,0,0,0]
[null,null,{"$f":"IF(ISNA(VLOOKUP(A69204,analyse!D:E,2,FALSE))=TRUE,0,(VLOOKUP(A69204,analyse!D:E,2,FALSE)))","v":0},{"$f":"analyse!$B$1","v":0},0,0,0,0]
[null,null,{"$f":"IF(ISNA(VLOOKUP(A69228,analyse!D:E,2,FALSE))=TRUE,0,(VLOOKUP(A69228,analyse!D:E,2,FALSE)))","v":0},{"$f":"analyse!$B$1","v":0},0,0,0,0]
[null,null,{"$f":"IF(ISNA(VLOOKUP(A69339,analyse!D:E,2,FALSE))=TRUE,0,(VLOOKUP(A69339,analyse!D:E,2,FALSE)))","v":0},{"$f":"analyse!$B$1","v":0},0,0,0,0]
[null,null,{"$f":"IF(ISNA(VLOOKUP(A69372,analyse!D:E,2,FALSE))=TRUE,0,(VLOOKUP(A69372,analyse!D:E,2,FALSE)))","v":0},{"$f":"analyse!$B$1","v":0},0,0,0,0]
[null,null,{"$f":"IF(ISNA(VLOOKUP(A69505,analyse!D:E,2,FALSE))=TRUE,0,(VLOOKUP(A69505,analyse!D:E,2,FALSE)))","v":0},{"$f":"analyse!$B$1","v":0},0,0,0,0]
[null,null,{"$f":"IF(ISNA(VLOOKUP(A69543,analyse!D:E,2,FALSE))=TRUE,0,(VLOOKUP(A69543,analyse!D:E,2,FALSE)))","v":0},{"$f":"analyse!$B$1","v":0},0,0,0,0]
[null,null,{"$f":"IF(ISNA(VLOOKUP(A69648,analyse!D:E,2,FALSE))=TRUE,0,(VLOOKUP(A69648,analyse!D:E,2,FALSE)))","v":0},{"$f":"analyse!$B$1","v":0},0,0,0,0]
[null,null,{"$f":"IF(ISNA(VLOOKUP(A69703,analyse!D:E,2,FALSE))=TRUE,0,(VLOOKUP(A69703,analyse!D:E,2,FALSE)))","v":0},{"$f":"analyse!$B$1","v":0},0,0,0,0]
[null,null,{"$f":"IF(ISNA(VLOOKUP(A69814,analyse!D:E,2,FALSE))=TRUE,0,(VLOOKUP(A69814,analyse!D:E,2,FALSE)))","v":0},{"$f":"analyse!$B$1","v":0},0,0,0,0]
[null,null,{"$f":"IF(ISNA(VLOOKUP(A69869,analyse!D:E,2,FALSE))=TRUE,0,(VLOOKUP(A69869,analyse!D:E,2,FALSE)))","v":0},{"$f":"analyse!$B$1","v":0},0,0,0,0]
[null,null,{"$f":"IF(ISNA(VLOOKUP(A69959,analyse!D:E,2,FALSE))=TRUE,0,(VLOOKUP(A69959,analyse!D:E,2,FALSE)))","v":0},{"$f":"analyse!$B$1","v":0},0,0,0,0]
[null,null,{"$f":"IF(ISNA(VLOOKUP(A70012,analyse!D:E,2,FALSE))=TRUE,0,(VLOOKUP(A70012,analyse!D:E,2,FALSE)))","v":0},{"$f":"analyse!$B$1","v":0},0,0,0,0]
[null,null,{"$f":"IF(ISNA(VLOOKUP(A70145,analyse!D:E,2,FALSE))=TRUE,0,(VLOOKUP(A70145,analyse!D:E,2,FALSE)))","v":0},{"$f":"analyse!$B$1","v":0},0,0,0,0]
[null,null,{"$f":"IF(ISNA(VLOOKUP(A70178,analyse!D:E,2,FALSE))=TRUE,0,(VLOOKUP(A70178,analyse!D:E,2,FALSE)))","v":0},{"$f":"analyse!$B$1","v":0},0,0,0,0]
[null,null,{"$f":"IF(ISNA(VLOOKUP(A70289,analyse!D:E,2,FALSE))=TRUE,0,(VLOOKUP(A70289,analyse!D:E,2,FALSE)))","v":0},{"$f":"analyse!$B$1","v":0},0,0,0,0]
[null,null,{"$f":"IF(ISNA(VLOOKUP(A70375,analyse!D:E,2,FALSE))=TRUE,0,(VLOOKUP(A70375,analyse!D:E,2,FALSE)))","v":0},{"$f":"analyse!$B$1","v":0},0,0,0,0]
[null,null,{"$f":"IF(ISNA(VLOOKUP(A70454,analyse!D:E,2,FALSE))=TRUE,0,(VLOOKUP(A70454,analyse!D:E,2,FALSE)))","v":0},{"$f":"analyse!$B$1","v":0},0,0,0,0]
[null,null,{"$f":"IF(ISNA(VLOOKUP(A70509,analyse!D:E,2,FALSE))=TRUE,0,(VLOOKUP(A70509,analyse!D:E,2,FALSE)))","v":0},{"$f":"analyse!$B$1","v":0},0,0,0,0]
[null,null,{"$f":"IF(ISNA(VLOOKUP(A70542,analyse!D:E,2,FALSE))=TRUE,0,(VLOOKUP(A70542,analyse!D:E,2,FALSE)))","v":0},{"$f":"analyse!$B$1","v":0},0,0,0,0]
[null,null,{"$f":"IF(ISNA(VLOOKUP(A70659,analyse!D:E,2,FALSE))=TRUE,0,(VLOOKUP(A70659,analyse!D:E,2,FALSE)))","v":0},{"$f":"analyse!$B$1","v":0},0,0,0,0]
[null,null,{"$f":"IF(ISNA(VLOOKUP(A70707,analyse!D:E,2,FALSE))=TRUE,0,(VLOOKUP(A70707,analyse!D:E,2,FALSE)))","v":0},{"$f":"analyse!$B$1","v":0},0,0,0,0]
[null,null,{"$f":"IF(ISNA(VLOOKUP(A70818,analyse!D:E,2,FALSE))=TRUE,0,(VLOOKUP(A70818,analyse!D:E,2,FALSE)))","v":0},{"$f":"analyse!$B$1","v":0},0,0,0,0]
[null,null,{"$f":"IF(ISNA(VLOOKUP(A70873,analyse!D:E,2,FALSE))=TRUE,0,(VLOOKUP(A70873,analyse!D:E,2,FALSE)))","v":0},{"$f":"analyse!$B$1","v":0},0,0,0,0]
[null,null,{"$f":"IF(ISNA(VLOOKUP(A70984,analyse!D:E,2,FALSE))=TRUE,0,(VLOOKUP(A70984,analyse!D:E,2,FALSE)))","v":0},{"$f":"analyse!$B$1","v":0},0,0,0,0]
[null,null,{"$f":"IF(ISNA(VLOOKUP(A71075,analyse!D:E,2,FALSE))=TRUE,0,(VLOOKUP(A71075,analyse!D:E,2,FALSE)))","v":0},{"$f":"analyse!$B$1","v":0},0,0,0,0]
[null,null,{"$f":"IF(ISNA(VLOOKUP(A71149,analyse!D:E,2,FALSE))=TRUE,0,(VLOOKUP(A71149,analyse!D:E,2,FALSE)))","v":0},{"$f":"analyse!$B$1","v":0},0,0,0,0]
[null,null,{"$f":"IF(ISNA(VLOOKUP(A71182,analyse!D:E,2,FALSE))=TRUE,0,(VLOOKUP(A71182,analyse!D:E,2,FALSE)))","v":0},{"$f":"analyse!$B$1","v":0},0,0,0,0]
[null,null,{"$f":"IF(ISNA(VLOOKUP(A71293,analyse!D:E,2,FALSE))=TRUE,0,(VLOOKUP(A71293,analyse!D:E,2,FALSE)))","v":0},{"$f":"analyse!$B$1","v":0},0,0,0,0]
[null,null,{"$f":"IF(ISNA(VLOOKUP(A71348,analyse!D:E,2,FALSE))=TRUE,0,(VLOOKUP(A71348,analyse!D:E,2,FALSE)))","v":0},{"$f":"analyse!$B$1","v":0},0,0,0,0]
[null,null,{"$f":"IF(ISNA(VLOOKUP(A71414,analyse!D:E,2,FALSE))=TRUE,0,(VLOOKUP(A71414,analyse!D:E,2,FALSE)))","v":0},{"$f":"analyse!$B$1","v":0},0,0,0,0]
[null,null,{"$f":"IF(ISNA(VLOOKUP(A71513,analyse!D:E,2,FALSE))=TRUE,0,(VLOOKUP(A71513,analyse!D:E,2,FALSE)))","v":0},{"$f":"analyse!$B$1","v":0},0,0,0,0]
[null,null,{"$f":"IF(ISNA(VLOOKUP(A71624,analyse!D:E,2,FALSE))=TRUE,0,(VLOOKUP(A71624,analyse!D:E,2,FALSE)))","v":0},{"$f":"analyse!$B$1","v":0},0,0,0,0]
[null,null,{"$f":"IF(ISNA(VLOOKUP(A71657,analyse!D:E,2,FALSE))=TRUE,0,(VLOOKUP(A71657,analyse!D:E,2,FALSE)))","v":0},{"$f":"analyse!$B$1","v":0},0,0,0,0]
[null,null,{"$f":"IF(ISNA(VLOOKUP(A71712,analyse!D:E,2,FALSE))=TRUE,0,(VLOOKUP(A71712,analyse!D:E,2,FALSE)))","v":0},{"$f":"analyse!$B$1","v":0},0,0,0,0]
[null,null,{"$f":"IF(ISNA(VLOOKUP(A71830,analyse!D:E,2,FALSE))=TRUE,0,(VLOOKUP(A71830,analyse!D:E,2,FALSE)))","v":0},{"$f":"analyse!$B$1","v":0},0,0,0,0]
[null,null,{"$f":"IF(ISNA(VLOOKUP(A71877,analyse!D:E,2,FALSE))=TRUE,0,(VLOOKUP(A71877,analyse!D:E,2,FALSE)))","v":0},{"$f":"analyse!$B$1","v":0},0,0,0,0]
[null,null,{"$f":"IF(ISNA(VLOOKUP(A71988,analyse!D:E,2,FALSE))=TRUE,0,(VLOOKUP(A71988,analyse!D:E,2,FALSE)))","v":0},{"$f":"analyse!$B$1","v":0},0,0,0,0]
[null,null,{"$f":"IF(ISNA(VLOOKUP(A72021,analyse!D:E,2,FALSE))=TRUE,0,(VLOOKUP(A72021,analyse!D:E,2,FALSE)))","v":0},{"$f":"analyse!$B$1","v":0},0,0,0,0]
[null,null,{"$f":"IF(ISNA(VLOOKUP(A72154,analyse!D:E,2,FALSE))=TRUE,0,(VLOOKUP(A72154,analyse!D:E,2,FALSE)))","v":0},{"$f":"analyse!$B$1","v":0},0,0,0,0]
[null,null,{"$f":"IF(ISNA(VLOOKUP(A72246,analyse!D:E,2,FALSE))=TRUE,0,(VLOOKUP(A72246,analyse!D:E,2,FALSE)))","v":0},{"$f":"analyse!$B$1","v":0},0,0,0,0]
[null,null,{"$f":"IF(ISNA(VLOOKUP(A72297,analyse!D:E,2,FALSE))=TRUE,0,(VLOOKUP(A72297,analyse!D:E,2,FALSE)))","v":0},{"$f":"analyse!$B$1","v":0},0,0,0,0]
[null,null,{"$f":"IF(ISNA(VLOOKUP(A72352,analyse!D:E,2,FALSE))=TRUE,0,(VLOOKUP(A72352,analyse!D:E,2,FALSE)))","v":0},{"$f":"analyse!$B$1","v":0},0,0,0,0]
[null,null,{"$f":"IF(ISNA(VLOOKUP(A72463,analyse!D:E,2,FALSE))=TRUE,0,(VLOOKUP(A72463,analyse!D:E,2,FALSE)))","v":0},{"$f":"analyse!$B$1","v":0},0,0,0,0]
[null,null,{"$f":"IF(ISNA(VLOOKUP(A72518,analyse!D:E,2,FALSE))=TRUE,0,(VLOOKUP(A72518,analyse!D:E,2,FALSE)))","v":0},{"$f":"analyse!$B$1","v":0},0,0,0,0]
[null,null,{"$f":"IF(ISNA(VLOOKUP(A72585,analyse!D:E,2,FALSE))=TRUE,0,(VLOOKUP(A72585,analyse!D:E,2,FALSE)))","v":0},{"$f":"analyse!$B$1","v":0},0,0,0,0]
[null,null,{"$f":"IF(ISNA(VLOOKUP(A72661,analyse!D:E,2,FALSE))=TRUE,0,(VLOOKUP(A72661,analyse!D:E,2,FALSE)))","v":0},{"$f":"analyse!$B$1","v":0},0,0,0,0]
[null,null,{"$f":"IF(ISNA(VLOOKUP(A72716,analyse!D:E,2,FALSE))=TRUE,0,(VLOOKUP(A72716,analyse!D:E,2,FALSE)))","v":0},{"$f":"analyse!$B$1","v":0},0,0,0,0]
[null,null,{"$f":"IF(ISNA(VLOOKUP(A72827,analyse!D:E,2,FALSE))=TRUE,0,(VLOOKUP(A72827,analyse!D:E,2,FALSE)))","v":0},{"$f":"analyse!$B$1","v":0},0,0,0,0]
[null,null,{"$f":"IF(ISNA(VLOOKUP(A72938,analyse!D:E,2,FALSE))=TRUE,0,(VLOOKUP(A72938,analyse!D:E,2,FALSE)))","v":0},{"$f":"analyse!$B$1","v":0},0,0,0,0]
[null,null,{"$f":"IF(ISNA(VLOOKUP(A73001,analyse!D:E,2,FALSE))=TRUE,0,(VLOOKUP(A73001,analyse!D:E,2,FALSE)))","v":0},{"$f":"analyse!$B$1","v":0},0,0,0,0]
[null,null,{"$f":"IF(ISNA(VLOOKUP(A73103,analyse!D:E,2,FALSE))=TRUE,0,(VLOOKUP(A73103,analyse!D:E,2,FALSE)))","v":0},{"$f":"analyse!$B$1","v":0},0,0,0,0]
[null,null,{"$f":"IF(ISNA(VLOOKUP(A73158,analyse!D:E,2,FALSE))=TRUE,0,(VLOOKUP(A73158,analyse!D:E,2,FALSE)))","v":0},{"$f":"analyse!$B$1","v":0},0,0,0,0]
[null,null,{"$f":"IF(ISNA(VLOOKUP(A73191,analyse!D:E,2,FALSE))=TRUE,0,(VLOOKUP(A73191,analyse!D:E,2,FALSE)))","v":0},{"$f":"analyse!$B$1","v":0},0,0,0,0]
[null,null,{"$f":"IF(ISNA(VLOOKUP(A73302,analyse!D:E,2,FALSE))=TRUE,0,(VLOOKUP(A73302,analyse!D:E,2,FALSE)))","v":0},{"$f":"analyse!$B$1","v":0},0,0,0,0]
[null,null,{"$f":"IF(ISNA(VLOOKUP(A73340,analyse!D:E,2,FALSE))=TRUE,0,(VLOOKUP(A73340,analyse!D:E,2,FALSE)))","v":0},{"$f":"analyse!$B$1","v":0},0,0,0,0]
[null,null,{"$f":"IF(ISNA(VLOOKUP(A73467,analyse!D:E,2,FALSE))=TRUE,0,(VLOOKUP(A73467,analyse!D:E,2,FALSE)))","v":0},{"$f":"analyse!$B$1","v":0},0,0,0,0]
[null,null,{"$f":"IF(ISNA(VLOOKUP(A73522,analyse!D:E,2,FALSE))=TRUE,0,(VLOOKUP(A73522,analyse!D:E,2,FALSE)))","v":0},{"$f":"analyse!$B$1","v":0},0,0,0,0]
[null,null,{"$f":"IF(ISNA(VLOOKUP(A73633,analyse!D:E,2,FALSE))=TRUE,0,(VLOOKUP(A73633,analyse!D:E,2,FALSE)))","v":0},{"$f":"analyse!$B$1","v":0},0,0,0,0]
[null,null,{"$f":"IF(ISNA(VLOOKUP(A73701,analyse!D:E,2,FALSE))=TRUE,0,(VLOOKUP(A73701,analyse!D:E,2,FALSE)))","v":0},{"$f":"analyse!$B$1","v":0},0,0,0,0]
[null,null,{"$f":"IF(ISNA(VLOOKUP(A73798,analyse!D:E,2,FALSE))=TRUE,0,(VLOOKUP(A73798,analyse!D:E,2,FALSE)))","v":0},{"$f":"analyse!$B$1","v":0},0,0,0,0]
[null,null,{"$f":"IF(ISNA(VLOOKUP(A73831,analyse!D:E,2,FALSE))=TRUE,0,(VLOOKUP(A73831,analyse!D:E,2,FALSE)))","v":0},{"$f":"analyse!$B$1","v":0},0,0,0,0]
[null,null,{"$f":"IF(ISNA(VLOOKUP(A73942,analyse!D:E,2,FALSE))=TRUE,0,(VLOOKUP(A73942,analyse!D:E,2,FALSE)))","v":0},{"$f":"analyse!$B$1","v":0},0,0,0,0]
[null,null,{"$f":"IF(ISNA(VLOOKUP(A73997,analyse!D:E,2,FALSE))=TRUE,0,(VLOOKUP(A73997,analyse!D:E,2,FALSE)))","v":0},{"$f":"analyse!$B$1","v":0},0,0,0,0]
[null,null,{"$f":"IF(ISNA(VLOOKUP(A74040,analyse!D:E,2,FALSE))=TRUE,0,(VLOOKUP(A74040,analyse!D:E,2,FALSE)))","v":0},{"$f":"analyse!$B$1","v":0},0,0,0,0]
[null,null,{"$f":"IF(ISNA(VLOOKUP(A74162,analyse!D:E,2,FALSE))=TRUE,0,(VLOOKUP(A74162,analyse!D:E,2,FALSE)))","v":0},{"$f":"analyse!$B$1","v":0},0,0,0,0]
[null,null,{"$f":"IF(ISNA(VLOOKUP(A74195,analyse!D:E,2,FALSE))=TRUE,0,(VLOOKUP(A74195,analyse!D:E,2,FALSE)))","v":0},{"$f":"analyse!$B$1","v":0},0,0,0,0]
[null,null,{"$f":"IF(ISNA(VLOOKUP(A74306,analyse!D:E,2,FALSE))=TRUE,0,(VLOOKUP(A74306,analyse!D:E,2,FALSE)))","v":0},{"$f":"analyse!$B$1","v":0},{"$f":"D74306-C74306","v":0},{"$f":"E74306+C74306","v":0},{"$f":"IF(F74306<E74306,D74306-1,D74306)","v":0},{"$f":"IF(A74306=\"S20.G01.00.001\",H74305+1,H74305)","v":0}]
[null,null,{"$f":"IF(ISNA(VLOOKUP(A74361,analyse!D:E,2,FALSE))=TRUE,0,(VLOOKUP(A74361,analyse!D:E,2,FALSE)))","v":0},{"$f":"analyse!$B$1","v":0},0,0,0,0]
[null,null,{"$f":"IF(ISNA(VLOOKUP(A74456,analyse!D:E,2,FALSE))=TRUE,0,(VLOOKUP(A74456,analyse!D:E,2,FALSE)))","v":0},{"$f":"analyse!$B$1","v":0},0,0,0,0]
[null,null,{"$f":"IF(ISNA(VLOOKUP(A74582,analyse!D:E,2,FALSE))=TRUE,0,(VLOOKUP(A74582,analyse!D:E,2,FALSE)))","v":0},{"$f":"analyse!$B$1","v":0},0,0,0,0]
[null,null,{"$f":"IF(ISNA(VLOOKUP(A74637,analyse!D:E,2,FALSE))=TRUE,0,(VLOOKUP(A74637,analyse!D:E,2,FALSE)))","v":0},{"$f":"analyse!$B$1","v":0},0,0,0,0]
[null,null,{"$f":"IF(ISNA(VLOOKUP(A74670,analyse!D:E,2,FALSE))=TRUE,0,(VLOOKUP(A74670,analyse!D:E,2,FALSE)))","v":0},{"$f":"analyse!$B$1","v":0},0,0,0,0]
[null,null,{"$f":"IF(ISNA(VLOOKUP(A74803,analyse!D:E,2,FALSE))=TRUE,0,(VLOOKUP(A74803,analyse!D:E,2,FALSE)))","v":0},{"$f":"analyse!$B$1","v":0},0,0,0,0]
[null,null,{"$f":"IF(ISNA(VLOOKUP(A74872,analyse!D:E,2,FALSE))=TRUE,0,(VLOOKUP(A74872,analyse!D:E,2,FALSE)))","v":0},{"$f":"analyse!$B$1","v":0},0,0,0,0]
[null,null,{"$f":"IF(ISNA(VLOOKUP(A74946,analyse!D:E,2,FALSE))=TRUE,0,(VLOOKUP(A74946,analyse!D:E,2,FALSE)))","v":0},{"$f":"analyse!$B$1","v":0},{"$f":"D74946-C74946","v":0},{"$f":"E74946+C74946","v":0},{"$f":"IF(F74946<E74946,D74946-1,D74946)","v":0},{"$f":"IF(A74946=\"S20.G01.00.001\",H74945+1,H74945)","v":0}]
[null,null,{"$f":"IF(ISNA(VLOOKUP(A75001,analyse!D:E,2,FALSE))=TRUE,0,(VLOOKUP(A75001,analyse!D:E,2,FALSE)))","v":0},{"$f":"analyse!$B$1","v":0},0,0,0,0]
[null,null,{"$f":"IF(ISNA(VLOOKUP(A75112,analyse!D:E,2,FALSE))=TRUE,0,(VLOOKUP(A75112,analyse!D:E,2,FALSE)))","v":0},{"$f":"analyse!$B$1","v":0},0,0,0,0]
[null,null,{"$f":"IF(ISNA(VLOOKUP(A75167,analyse!D:E,2,FALSE))=TRUE,0,(VLOOKUP(A75167,analyse!D:E,2,FALSE)))","v":0},{"$f":"analyse!$B$1","v":0},0,0,0,0]
[null,null,{"$f":"IF(ISNA(VLOOKUP(A75211,analyse!D:E,2,FALSE))=TRUE,0,(VLOOKUP(A75211,analyse!D:E,2,FALSE)))","v":0},{"$f":"analyse!$B$1","v":0},0,0,0,0]
[null,null,{"$f":"IF(ISNA(VLOOKUP(A75310,analyse!D:E,2,FALSE))=TRUE,0,(VLOOKUP(A75310,analyse!D:E,2,FALSE)))","v":0},{"$f":"analyse!$B$1","v":0},0,0,0,0]
[null,null,{"$f":"IF(ISNA(VLOOKUP(A75365,analyse!D:E,2,FALSE))=TRUE,0,(VLOOKUP(A75365,analyse!D:E,2,FALSE)))","v":0},{"$f":"analyse!$B$1","v":0},0,0,0,0]
[null,null,{"$f":"IF(ISNA(VLOOKUP(A75476,analyse!D:E,2,FALSE))=TRUE,0,(VLOOKUP(A75476,analyse!D:E,2,FALSE)))","v":0},{"$f":"analyse!$B$1","v":0},0,0,0,0]
[null,null,{"$f":"IF(ISNA(VLOOKUP(A75587,analyse!D:E,2,FALSE))=TRUE,0,(VLOOKUP(A75587,analyse!D:E,2,FALSE)))","v":0},{"$f":"analyse!$B$1","v":0},0,0,0,0]
[null,null,{"$f":"IF(ISNA(VLOOKUP(A75627,analyse!D:E,2,FALSE))=TRUE,0,(VLOOKUP(A75627,analyse!D:E,2,FALSE)))","v":0},{"$f":"analyse!$B$1","v":0},0,0,0,0]
[null,null,{"$f":"IF(ISNA(VLOOKUP(A75674,analyse!D:E,2,FALSE))=TRUE,0,(VLOOKUP(A75674,analyse!D:E,2,FALSE)))","v":0},{"$f":"analyse!$B$1","v":0},0,0,0,0]
[null,null,{"$f":"IF(ISNA(VLOOKUP(A75807,analyse!D:E,2,FALSE))=TRUE,0,(VLOOKUP(A75807,analyse!D:E,2,FALSE)))","v":0},{"$f":"analyse!$B$1","v":0},0,0,0,0]
[null,null,{"$f":"IF(ISNA(VLOOKUP(A75840,analyse!D:E,2,FALSE))=TRUE,0,(VLOOKUP(A75840,analyse!D:E,2,FALSE)))","v":0},{"$f":"analyse!$B$1","v":0},0,0,0,0]
[null,null,{"$f":"IF(ISNA(VLOOKUP(A75951,analyse!D:E,2,FALSE))=TRUE,0,(VLOOKUP(A75951,analyse!D:E,2,FALSE)))","v":0},{"$f":"analyse!$B$1","v":0},0,0,0,0]
[null,null,{"$f":"IF(ISNA(VLOOKUP(A76043,analyse!D:E,2,FALSE))=TRUE,0,(VLOOKUP(A76043,analyse!D:E,2,FALSE)))","v":0},{"$f":"analyse!$B$1","v":0},0,0,0,0]
[null,null,{"$f":"IF(ISNA(VLOOKUP(A76116,analyse!D:E,2,FALSE))=TRUE,0,(VLOOKUP(A76116,analyse!D:E,2,FALSE)))","v":0},{"$f":"analyse!$B$1","v":0},0,0,0,0]
[null,null,{"$f":"IF(ISNA(VLOOKUP(A76171,analyse!D:E,2,FALSE))=TRUE,0,(VLOOKUP(A76171,analyse!D:E,2,FALSE)))","v":0},{"$f":"analyse!$B$1","v":0},0,0,0,0]
[null,null,{"$f":"IF(ISNA(VLOOKUP(A76282,analyse!D:E,2,FALSE))=TRUE,0,(VLOOKUP(A76282,analyse!D:E,2,FALSE)))","v":0},{"$f":"analyse!$B$1","v":0},0,0,0,0]
[null,null,{"$f":"IF(ISNA(VLOOKUP(A76315,analyse!D:E,2,FALSE))=TRUE,0,(VLOOKUP(A76315,analyse!D:E,2,FALSE)))","v":0},{"$f":"analyse!$B$1","v":0},0,0,0,0]
[null,null,{"$f":"IF(ISNA(VLOOKUP(A76382,analyse!D:E,2,FALSE))=TRUE,0,(VLOOKUP(A76382,analyse!D:E,2,FALSE)))","v":0},{"$f":"analyse!$B$1","v":0},0,0,0,0]
[null,null,{"$f":"IF(ISNA(VLOOKUP(A76480,analyse!D:E,2,FALSE))=TRUE,0,(VLOOKUP(A76480,analyse!D:E,2,FALSE)))","v":0},{"$f":"analyse!$B$1","v":0},0,0,0,0]
[null,null,{"$f":"IF(ISNA(VLOOKUP(A76591,analyse!D:E,2,FALSE))=TRUE,0,(VLOOKUP(A76591,analyse!D:E,2,FALSE)))","v":0},{"$f":"analyse!$B$1","v":0},0,0,0,0]
[null,null,{"$f":"IF(ISNA(VLOOKUP(A76646,analyse!D:E,2,FALSE))=TRUE,0,(VLOOKUP(A76646,analyse!D:E,2,FALSE)))","v":0},{"$f":"analyse!$B$1","v":0},0,0,0,0]
[null,null,{"$f":"IF(ISNA(VLOOKUP(A76743,analyse!D:E,2,FALSE))=TRUE,0,(VLOOKUP(A76743,analyse!D:E,2,FALSE)))","v":0},{"$f":"analyse!$B$1","v":0},0,0,0,0]
[null,null,{"$f":"IF(ISNA(VLOOKUP(A76811,analyse!D:E,2,FALSE))=TRUE,0,(VLOOKUP(A76811,analyse!D:E,2,FALSE)))","v":0},{"$f":"analyse!$B$1","v":0},0,0,0,0]
[null,null,{"$f":"IF(ISNA(VLOOKUP(A76844,analyse!D:E,2,FALSE))=TRUE,0,(VLOOKUP(A76844,analyse!D:E,2,FALSE)))","v":0},{"$f":"analyse!$B$1","v":0},0,0,0,0]
[null,null,{"$f":"IF(ISNA(VLOOKUP(A76955,analyse!D:E,2,FALSE))=TRUE,0,(VLOOKUP(A76955,analyse!D:E,2,FALSE)))","v":0},{"$f":"analyse!$B$1","v":0},0,0,0,0]
[null,null,{"$f":"IF(ISNA(VLOOKUP(A77010,analyse!D:E,2,FALSE))=TRUE,0,(VLOOKUP(A77010,analyse!D:E,2,FALSE)))","v":0},{"$f":"analyse!$B$1","v":0},0,0,0,0]
[null,null,{"$f":"IF(ISNA(VLOOKUP(A77082,analyse!D:E,2,FALSE))=TRUE,0,(VLOOKUP(A77082,analyse!D:E,2,FALSE)))","v":0},{"$f":"analyse!$B$1","v":0},0,0,0,0]
[null,null,{"$f":"IF(ISNA(VLOOKUP(A77153,analyse!D:E,2,FALSE))=TRUE,0,(VLOOKUP(A77153,analyse!D:E,2,FALSE)))","v":0},{"$f":"analyse!$B$1","v":0},0,0,0,0]
[null,null,{"$f":"IF(ISNA(VLOOKUP(A77286,analyse!D:E,2,FALSE))=TRUE,0,(VLOOKUP(A77286,analyse!D:E,2,FALSE)))","v":0},{"$f":"analyse!$B$1","v":0},0,0,0,0]
[null,null,{"$f":"IF(ISNA(VLOOKUP(A77319,analyse!D:E,2,FALSE))=TRUE,0,(VLOOKUP(A77319,analyse!D:E,2,FALSE)))","v":0},{"$f":"analyse!$B$1","v":0},0,0,0,0]
[null,null,{"$f":"IF(ISNA(VLOOKUP(A77452,analyse!D:E,2,FALSE))=TRUE,0,(VLOOKUP(A77452,analyse!D:E,2,FALSE)))","v":0},{"$f":"analyse!$B$1","v":0},0,0,0,0]
[null,null,{"$f":"IF(ISNA(VLOOKUP(A77498,analyse!D:E,2,FALSE))=TRUE,0,(VLOOKUP(A77498,analyse!D:E,2,FALSE)))","v":0},{"$f":"analyse!$B$1","v":0},0,0,0,0]
[null,null,{"$f":"IF(ISNA(VLOOKUP(A77595,analyse!D:E,2,FALSE))=TRUE,0,(VLOOKUP(A77595,analyse!D:E,2,FALSE)))","v":0},{"$f":"analyse!$B$1","v":0},0,0,0,0]
[null,null,{"$f":"IF(ISNA(VLOOKUP(A77650,analyse!D:E,2,FALSE))=TRUE,0,(VLOOKUP(A77650,analyse!D:E,2,FALSE)))","v":0},{"$f":"analyse!$B$1","v":0},0,0,0,0]
[null,null,{"$f":"IF(ISNA(VLOOKUP(A77761,analyse!D:E,2,FALSE))=TRUE,0,(VLOOKUP(A77761,analyse!D:E,2,FALSE)))","v":0},{"$f":"analyse!$B$1","v":0},0,0,0,0]
[null,null,{"$f":"IF(ISNA(VLOOKUP(A77816,analyse!D:E,2,FALSE))=TRUE,0,(VLOOKUP(A77816,analyse!D:E,2,FALSE)))","v":0},{"$f":"analyse!$B$1","v":0},0,0,0,0]
[null,null,{"$f":"IF(ISNA(VLOOKUP(A77914,analyse!D:E,2,FALSE))=TRUE,0,(VLOOKUP(A77914,analyse!D:E,2,FALSE)))","v":0},{"$f":"analyse!$B$1","v":0},0,0,0,0]
[null,null,{"$f":"IF(ISNA(VLOOKUP(A77959,analyse!D:E,2,FALSE))=TRUE,0,(VLOOKUP(A77959,analyse!D:E,2,FALSE)))","v":0},{"$f":"analyse!$B$1","v":0},0,0,0,0]
[null,null,{"$f":"IF(ISNA(VLOOKUP(A78014,analyse!D:E,2,FALSE))=TRUE,0,(VLOOKUP(A78014,analyse!D:E,2,FALSE)))","v":0},{"$f":"analyse!$B$1","v":0},0,0,0,0]
[null,null,{"$f":"IF(ISNA(VLOOKUP(A78125,analyse!D:E,2,FALSE))=TRUE,0,(VLOOKUP(A78125,analyse!D:E,2,FALSE)))","v":0},{"$f":"analyse!$B$1","v":0},0,0,0,0]
[null,null,{"$f":"IF(ISNA(VLOOKUP(A78236,analyse!D:E,2,FALSE))=TRUE,0,(VLOOKUP(A78236,analyse!D:E,2,FALSE)))","v":0},{"$f":"analyse!$B$1","v":0},0,0,0,0]
[null,null,{"$f":"IF(ISNA(VLOOKUP(A78253,analyse!D:E,2,FALSE))=TRUE,0,(VLOOKUP(A78253,analyse!D:E,2,FALSE)))","v":0},{"$f":"analyse!$B$1","v":0},0,0,0,0]
[null,null,{"$f":"IF(ISNA(VLOOKUP(A78323,analyse!D:E,2,FALSE))=TRUE,0,(VLOOKUP(A78323,analyse!D:E,2,FALSE)))","v":0},{"$f":"analyse!$B$1","v":0},0,0,0,0]
[null,null,{"$f":"IF(ISNA(VLOOKUP(A78456,analyse!D:E,2,FALSE))=TRUE,0,(VLOOKUP(A78456,analyse!D:E,2,FALSE)))","v":0},{"$f":"analyse!$B$1","v":0},0,0,0,0]
[null,null,{"$f":"IF(ISNA(VLOOKUP(A78489,analyse!D:E,2,FALSE))=TRUE,0,(VLOOKUP(A78489,analyse!D:E,2,FALSE)))","v":0},{"$f":"analyse!$B$1","v":0},0,0,0,0]
[null,null,{"$f":"IF(ISNA(VLOOKUP(A78600,analyse!D:E,2,FALSE))=TRUE,0,(VLOOKUP(A78600,analyse!D:E,2,FALSE)))","v":0},{"$f":"analyse!$B$1","v":0},0,0,0,0]
[null,null,{"$f":"IF(ISNA(VLOOKUP(A78669,analyse!D:E,2,FALSE))=TRUE,0,(VLOOKUP(A78669,analyse!D:E,2,FALSE)))","v":0},{"$f":"analyse!$B$1","v":0},0,0,0,0]
[null,null,{"$f":"IF(ISNA(VLOOKUP(A78765,analyse!D:E,2,FALSE))=TRUE,0,(VLOOKUP(A78765,analyse!D:E,2,FALSE)))","v":0},{"$f":"analyse!$B$1","v":0},0,0,0,0]
[null,null,{"$f":"IF(ISNA(VLOOKUP(A78820,analyse!D:E,2,FALSE))=TRUE,0,(VLOOKUP(A78820,analyse!D:E,2,FALSE)))","v":0},{"$f":"analyse!$B$1","v":0},0,0,0,0]
[null,null,{"$f":"IF(ISNA(VLOOKUP(A78931,analyse!D:E,2,FALSE))=TRUE,0,(VLOOKUP(A78931,analyse!D:E,2,FALSE)))","v":0},{"$f":"analyse!$B$1","v":0},0,0,0,0]
[null,null,{"$f":"IF(ISNA(VLOOKUP(A78964,analyse!D:E,2,FALSE))=TRUE,0,(VLOOKUP(A78964,analyse!D:E,2,FALSE)))","v":0},{"$f":"analyse!$B$1","v":0},0,0,0,0]
[null,null,{"$f":"IF(ISNA(VLOOKUP(A79085,analyse!D:E,2,FALSE))=TRUE,0,(VLOOKUP(A79085,analyse!D:E,2,FALSE)))","v":0},{"$f":"analyse!$B$1","v":0},0,0,0,0]
[null,null,{"$f":"IF(ISNA(VLOOKUP(A79129,analyse!D:E,2,FALSE))=TRUE,0,(VLOOKUP(A79129,analyse!D:E,2,FALSE)))","v":0},{"$f":"analyse!$B$1","v":0},0,0,0,0]
[null,null,{"$f":"IF(ISNA(VLOOKUP(A79240,analyse!D:E,2,FALSE))=TRUE,0,(VLOOKUP(A79240,analyse!D:E,2,FALSE)))","v":0},{"$f":"analyse!$B$1","v":0},0,0,0,0]
[null,null,{"$f":"IF(ISNA(VLOOKUP(A79295,analyse!D:E,2,FALSE))=TRUE,0,(VLOOKUP(A79295,analyse!D:E,2,FALSE)))","v":0},{"$f":"analyse!$B$1","v":0},0,0,0,0]
[null,null,{"$f":"IF(ISNA(VLOOKUP(A79406,analyse!D:E,2,FALSE))=TRUE,0,(VLOOKUP(A79406,analyse!D:E,2,FALSE)))","v":0},{"$f":"analyse!$B$1","v":0},0,0,0,0]
[null,null,{"$f":"IF(ISNA(VLOOKUP(A79424,analyse!D:E,2,FALSE))=TRUE,0,(VLOOKUP(A79424,analyse!D:E,2,FALSE)))","v":0},{"$f":"analyse!$B$1","v":0},0,0,0,0]
[null,null,{"$f":"IF(ISNA(VLOOKUP(A79493,analyse!D:E,2,FALSE))=TRUE,0,(VLOOKUP(A79493,analyse!D:E,2,FALSE)))","v":0},{"$f":"analyse!$B$1","v":0},0,0,0,0]
[null,null,{"$f":"IF(ISNA(VLOOKUP(A79604,analyse!D:E,2,FALSE))=TRUE,0,(VLOOKUP(A79604,analyse!D:E,2,FALSE)))","v":0},{"$f":"analyse!$B$1","v":0},0,0,0,0]
[null,null,{"$f":"IF(ISNA(VLOOKUP(A79659,analyse!D:E,2,FALSE))=TRUE,0,(VLOOKUP(A79659,analyse!D:E,2,FALSE)))","v":0},{"$f":"analyse!$B$1","v":0},0,0,0,0]
[null,null,{"$f":"IF(ISNA(VLOOKUP(A79770,analyse!D:E,2,FALSE))=TRUE,0,(VLOOKUP(A79770,analyse!D:E,2,FALSE)))","v":0},{"$f":"analyse!$B$1","v":0},0,0,0,0]
[null,null,{"$f":"IF(ISNA(VLOOKUP(A79836,analyse!D:E,2,FALSE))=TRUE,0,(VLOOKUP(A79836,analyse!D:E,2,FALSE)))","v":0},{"$f":"analyse!$B$1","v":0},0,0,0,0]
[null,null,{"$f":"IF(ISNA(VLOOKUP(A79935,analyse!D:E,2,FALSE))=TRUE,0,(VLOOKUP(A79935,analyse!D:E,2,FALSE)))","v":0},{"$f":"analyse!$B$1","v":0},0,0,0,0]
[null,null,{"$f":"IF(ISNA(VLOOKUP(A79968,analyse!D:E,2,FALSE))=TRUE,0,(VLOOKUP(A79968,analyse!D:E,2,FALSE)))","v":0},{"$f":"analyse!$B$1","v":0},0,0,0,0]
[null,null,{"$f":"IF(ISNA(VLOOKUP(A80101,analyse!D:E,2,FALSE))=TRUE,0,(VLOOKUP(A80101,analyse!D:E,2,FALSE)))","v":0},{"$f":"analyse!$B$1","v":0},0,0,0,0]
[null,null,{"$f":"IF(ISNA(VLOOKUP(A80124,analyse!D:E,2,FALSE))=TRUE,0,(VLOOKUP(A80124,analyse!D:E,2,FALSE)))","v":0},{"$f":"analyse!$B$1","v":0},0,0,0,0]
[null,null,{"$f":"IF(ISNA(VLOOKUP(A80244,analyse!D:E,2,FALSE))=TRUE,0,(VLOOKUP(A80244,analyse!D:E,2,FALSE)))","v":0},{"$f":"analyse!$B$1","v":0},0,0,0,0]
[null,null,{"$f":"IF(ISNA(VLOOKUP(A80299,analyse!D:E,2,FALSE))=TRUE,0,(VLOOKUP(A80299,analyse!D:E,2,FALSE)))","v":0},{"$f":"analyse!$B$1","v":0},0,0,0,0]
[null,null,{"$f":"IF(ISNA(VLOOKUP(A80410,analyse!D:E,2,FALSE))=TRUE,0,(VLOOKUP(A80410,analyse!D:E,2,FALSE)))","v":0},{"$f":"analyse!$B$1","v":0},0,0,0,0]
[null,null,{"$f":"IF(ISNA(VLOOKUP(A80465,analyse!D:E,2,FALSE))=TRUE,0,(VLOOKUP(A80465,analyse!D:E,2,FALSE)))","v":0},{"$f":"analyse!$B$1","v":0},0,0,0,0]
[null,null,{"$f":"IF(ISNA(VLOOKUP(A80540,analyse!D:E,2,FALSE))=TRUE,0,(VLOOKUP(A80540,analyse!D:E,2,FALSE)))","v":0},{"$f":"analyse!$B$1","v":0},0,0,0,0]
[null,null,{"$f":"IF(ISNA(VLOOKUP(A80608,analyse!D:E,2,FALSE))=TRUE,0,(VLOOKUP(A80608,analyse!D:E,2,FALSE)))","v":0},{"$f":"analyse!$B$1","v":0},0,0,0,0]
[null,null,{"$f":"IF(ISNA(VLOOKUP(A80663,analyse!D:E,2,FALSE))=TRUE,0,(VLOOKUP(A80663,analyse!D:E,2,FALSE)))","v":0},{"$f":"analyse!$B$1","v":0},0,0,0,0]
[null,null,{"$f":"IF(ISNA(VLOOKUP(A80774,analyse!D:E,2,FALSE))=TRUE,0,(VLOOKUP(A80774,analyse!D:E,2,FALSE)))","v":0},{"$f":"analyse!$B$1","v":0},0,0,0,0]
[null,null,{"$f":"IF(ISNA(VLOOKUP(A80807,analyse!D:E,2,FALSE))=TRUE,0,(VLOOKUP(A80807,analyse!D:E,2,FALSE)))","v":0},{"$f":"analyse!$B$1","v":0},0,0,0,0]
[null,null,{"$f":"IF(ISNA(VLOOKUP(A80956,analyse!D:E,2,FALSE))=TRUE,0,(VLOOKUP(A80956,analyse!D:E,2,FALSE)))","v":0},{"$f":"analyse!$B$1","v":0},0,0,0,0]
[null,null,{"$f":"IF(ISNA(VLOOKUP(A80972,analyse!D:E,2,FALSE))=TRUE,0,(VLOOKUP(A80972,analyse!D:E,2,FALSE)))","v":0},{"$f":"analyse!$B$1","v":0},0,0,0,0]
[null,null,{"$f":"IF(ISNA(VLOOKUP(A81105,analyse!D:E,2,FALSE))=TRUE,0,(VLOOKUP(A81105,analyse!D:E,2,FALSE)))","v":0},{"$f":"analyse!$B$1","v":0},0,0,0,0]
[null,null,{"$f":"IF(ISNA(VLOOKUP(A81138,analyse!D:E,2,FALSE))=TRUE,0,(VLOOKUP(A81138,analyse!D:E,2,FALSE)))","v":0},{"$f":"analyse!$B$1","v":0},0,0,0,0]
[null,null,{"$f":"IF(ISNA(VLOOKUP(A81249,analyse!D:E,2,FALSE))=TRUE,0,(VLOOKUP(A81249,analyse!D:E,2,FALSE)))","v":0},{"$f":"analyse!$B$1","v":0},0,0,0,0]
[null,null,{"$f":"IF(ISNA(VLOOKUP(A81295,analyse!D:E,2,FALSE))=TRUE,0,(VLOOKUP(A81295,analyse!D:E,2,FALSE)))","v":0},{"$f":"analyse!$B$1","v":0},0,0,0,0]
[null,null,{"$f":"IF(ISNA(VLOOKUP(A81414,analyse!D:E,2,FALSE))=TRUE,0,(VLOOKUP(A81414,analyse!D:E,2,FALSE)))","v":0},{"$f":"analyse!$B$1","v":0},0,0,0,0]
[null,null,{"$f":"IF(ISNA(VLOOKUP(A81447,analyse!D:E,2,FALSE))=TRUE,0,(VLOOKUP(A81447,analyse!D:E,2,FALSE)))","v":0},{"$f":"analyse!$B$1","v":0},0,0,0,0]
[null,null,{"$f":"IF(ISNA(VLOOKUP(A81580,analyse!D:E,2,FALSE))=TRUE,0,(VLOOKUP(A81580,analyse!D:E,2,FALSE)))","v":0},{"$f":"analyse!$B$1","v":0},0,0,0,0]
[null,null,{"$f":"IF(ISNA(VLOOKUP(A81613,analyse!D:E,2,FALSE))=TRUE,0,(VLOOKUP(A81613,analyse!D:E,2,FALSE)))","v":0},{"$f":"analyse!$B$1","v":0},0,0,0,0]
[null,null,{"$f":"IF(ISNA(VLOOKUP(A81711,analyse!D:E,2,FALSE))=TRUE,0,(VLOOKUP(A81711,analyse!D:E,2,FALSE)))","v":0},{"$f":"analyse!$B$1","v":0},0,0,0,0]
[null,null,{"$f":"IF(ISNA(VLOOKUP(A81778,analyse!D:E,2,FALSE))=TRUE,0,(VLOOKUP(A81778,analyse!D:E,2,FALSE)))","v":0},{"$f":"analyse!$B$1","v":0},0,0,0,0]
[null,null,{"$f":"IF(ISNA(VLOOKUP(A81889,analyse!D:E,2,FALSE))=TRUE,0,(VLOOKUP(A81889,analyse!D:E,2,FALSE)))","v":0},{"$f":"analyse!$B$1","v":0},0,0,0,0]
[null,null,{"$f":"IF(ISNA(VLOOKUP(A81944,analyse!D:E,2,FALSE))=TRUE,0,(VLOOKUP(A81944,analyse!D:E,2,FALSE)))","v":0},{"$f":"analyse!$B$1","v":0},0,0,0,0]
[null,null,{"$f":"IF(ISNA(VLOOKUP(A81977,analyse!D:E,2,FALSE))=TRUE,0,(VLOOKUP(A81977,analyse!D:E,2,FALSE)))","v":0},{"$f":"analyse!$B$1","v":0},0,0,0,0]
[null,null,{"$f":"IF(ISNA(VLOOKUP(A82127,analyse!D:E,2,FALSE))=TRUE,0,(VLOOKUP(A82127,analyse!D:E,2,FALSE)))","v":0},{"$f":"analyse!$B$1","v":0},0,0,0,0]
[null,null,{"$f":"IF(ISNA(VLOOKUP(A82142,analyse!D:E,2,FALSE))=TRUE,0,(VLOOKUP(A82142,analyse!D:E,2,FALSE)))","v":0},{"$f":"analyse!$B$1","v":0},0,0,0,0]
[null,null,{"$f":"IF(ISNA(VLOOKUP(A82253,analyse!D:E,2,FALSE))=TRUE,0,(VLOOKUP(A82253,analyse!D:E,2,FALSE)))","v":0},{"$f":"analyse!$B$1","v":0},0,0,0,0]
[null,null,{"$f":"IF(ISNA(VLOOKUP(A82308,analyse!D:E,2,FALSE))=TRUE,0,(VLOOKUP(A82308,analyse!D:E,2,FALSE)))","v":0},{"$f":"analyse!$B$1","v":0},0,0,0,0]
[null,null,{"$f":"IF(ISNA(VLOOKUP(A82419,analyse!D:E,2,FALSE))=TRUE,0,(VLOOKUP(A82419,analyse!D:E,2,FALSE)))","v":0},{"$f":"analyse!$B$1","v":0},0,0,0,0]
[null,null,{"$f":"IF(ISNA(VLOOKUP(A82462,analyse!D:E,2,FALSE))=TRUE,0,(VLOOKUP(A82462,analyse!D:E,2,FALSE)))","v":0},{"$f":"analyse!$B$1","v":0},0,0,0,0]
[null,null,{"$f":"IF(ISNA(VLOOKUP(A82584,analyse!D:E,2,FALSE))=TRUE,0,(VLOOKUP(A82584,analyse!D:E,2,FALSE)))","v":0},{"$f":"analyse!$B$1","v":0},0,0,0,0]
[null,null,{"$f":"IF(ISNA(VLOOKUP(A82617,analyse!D:E,2,FALSE))=TRUE,0,(VLOOKUP(A82617,analyse!D:E,2,FALSE)))","v":0},{"$f":"analyse!$B$1","v":0},0,0,0,0]
[null,null,{"$f":"IF(ISNA(VLOOKUP(A82750,analyse!D:E,2,FALSE))=TRUE,0,(VLOOKUP(A82750,analyse!D:E,2,FALSE)))","v":0},{"$f":"analyse!$B$1","v":0},0,0,0,0]
[null,null,{"$f":"IF(ISNA(VLOOKUP(A82783,analyse!D:E,2,FALSE))=TRUE,0,(VLOOKUP(A82783,analyse!D:E,2,FALSE)))","v":0},{"$f":"analyse!$B$1","v":0},0,0,0,0]
[null,null,{"$f":"IF(ISNA(VLOOKUP(A82878,analyse!D:E,2,FALSE))=TRUE,0,(VLOOKUP(A82878,analyse!D:E,2,FALSE)))","v":0},{"$f":"analyse!$B$1","v":0},0,0,0,0]
[null,null,{"$f":"IF(ISNA(VLOOKUP(A82948,analyse!D:E,2,FALSE))=TRUE,0,(VLOOKUP(A82948,analyse!D:E,2,FALSE)))","v":0},{"$f":"analyse!$B$1","v":0},0,0,0,0]
[null,null,{"$f":"IF(ISNA(VLOOKUP(A83059,analyse!D:E,2,FALSE))=TRUE,0,(VLOOKUP(A83059,analyse!D:E,2,FALSE)))","v":0},{"$f":"analyse!$B$1","v":0},0,0,0,0]
[null,null,{"$f":"IF(ISNA(VLOOKUP(A83114,analyse!D:E,2,FALSE))=TRUE,0,(VLOOKUP(A83114,analyse!D:E,2,FALSE)))","v":0},{"$f":"analyse!$B$1","v":0},0,0,0,0]
[null,null,{"$f":"IF(ISNA(VLOOKUP(A83166,analyse!D:E,2,FALSE))=TRUE,0,(VLOOKUP(A83166,analyse!D:E,2,FALSE)))","v":0},{"$f":"analyse!$B$1","v":0},0,0,0,0]
[null,null,{"$f":"IF(ISNA(VLOOKUP(A83257,analyse!D:E,2,FALSE))=TRUE,0,(VLOOKUP(A83257,analyse!D:E,2,FALSE)))","v":0},{"$f":"analyse!$B$1","v":0},0,0,0,0]
[null,null,{"$f":"IF(ISNA(VLOOKUP(A83312,analyse!D:E,2,FALSE))=TRUE,0,(VLOOKUP(A83312,analyse!D:E,2,FALSE)))","v":0},{"$f":"analyse!$B$1","v":0},0,0,0,0]
[null,null,{"$f":"IF(ISNA(VLOOKUP(A83423,analyse!D:E,2,FALSE))=TRUE,0,(VLOOKUP(A83423,analyse!D:E,2,FALSE)))","v":0},{"$f":"analyse!$B$1","v":0},0,0,0,0]
[null,null,{"$f":"IF(ISNA(VLOOKUP(A83456,analyse!D:E,2,FALSE))=TRUE,0,(VLOOKUP(A83456,analyse!D:E,2,FALSE)))","v":0},{"$f":"analyse!$B$1","v":0},0,0,0,0]
[null,null,{"$f":"IF(ISNA(VLOOKUP(A83582,analyse!D:E,2,FALSE))=TRUE,0,(VLOOKUP(A83582,analyse!D:E,2,FALSE)))","v":0},{"$f":"analyse!$B$1","v":0},0,0,0,0]
[null,null,{"$f":"IF(ISNA(VLOOKUP(A83621,analyse!D:E,2,FALSE))=TRUE,0,(VLOOKUP(A83621,analyse!D:E,2,FALSE)))","v":0},{"$f":"analyse!$B$1","v":0},0,0,0,0]
[null,null,{"$f":"IF(ISNA(VLOOKUP(A83754,analyse!D:E,2,FALSE))=TRUE,0,(VLOOKUP(A83754,analyse!D:E,2,FALSE)))","v":0},{"$f":"analyse!$B$1","v":0},0,0,0,0]
[null,null,{"$f":"IF(ISNA(VLOOKUP(A83787,analyse!D:E,2,FALSE))=TRUE,0,(VLOOKUP(A83787,analyse!D:E,2,FALSE)))","v":0},{"$f":"analyse!$B$1","v":0},0,0,0,0]
[null,null,{"$f":"IF(ISNA(VLOOKUP(A83898,analyse!D:E,2,FALSE))=TRUE,0,(VLOOKUP(A83898,analyse!D:E,2,FALSE)))","v":0},{"$f":"analyse!$B$1","v":0},0,0,0,0]
[null,null,{"$f":"IF(ISNA(VLOOKUP(A83921,analyse!D:E,2,FALSE))=TRUE,0,(VLOOKUP(A83921,analyse!D:E,2,FALSE)))","v":0},{"$f":"analyse!$B$1","v":0},0,0,0,0]
[null,null,{"$f":"IF(ISNA(VLOOKUP(A84063,analyse!D:E,2,FALSE))=TRUE,0,(VLOOKUP(A84063,analyse!D:E,2,FALSE)))","v":0},{"$f":"analyse!$B$1","v":0},0,0,0,0]
[null,null,{"$f":"IF(ISNA(VLOOKUP(A84096,analyse!D:E,2,FALSE))=TRUE,0,(VLOOKUP(A84096,analyse!D:E,2,FALSE)))","v":0},{"$f":"analyse!$B$1","v":0},0,0,0,0]
[null,null,{"$f":"IF(ISNA(VLOOKUP(A84229,analyse!D:E,2,FALSE))=TRUE,0,(VLOOKUP(A84229,analyse!D:E,2,FALSE)))","v":0},{"$f":"analyse!$B$1","v":0},0,0,0,0]
[null,null,{"$f":"IF(ISNA(VLOOKUP(A84262,analyse!D:E,2,FALSE))=TRUE,0,(VLOOKUP(A84262,analyse!D:E,2,FALSE)))","v":0},{"$f":"analyse!$B$1","v":0},0,0,0,0]
[null,null,{"$f":"IF(ISNA(VLOOKUP(A84337,analyse!D:E,2,FALSE))=TRUE,0,(VLOOKUP(A84337,analyse!D:E,2,FALSE)))","v":0},{"$f":"analyse!$B$1","v":0},0,0,0,0]
[null,null,{"$f":"IF(ISNA(VLOOKUP(A84427,analyse!D:E,2,FALSE))=TRUE,0,(VLOOKUP(A84427,analyse!D:E,2,FALSE)))","v":0},{"$f":"analyse!$B$1","v":0},0,0,0,0]
[null,null,{"$f":"IF(ISNA(VLOOKUP(A84538,analyse!D:E,2,FALSE))=TRUE,0,(VLOOKUP(A84538,analyse!D:E,2,FALSE)))","v":0},{"$f":"analyse!$B$1","v":0},0,0,0,0]
[null,null,{"$f":"IF(ISNA(VLOOKUP(A84593,analyse!D:E,2,FALSE))=TRUE,0,(VLOOKUP(A84593,analyse!D:E,2,FALSE)))","v":0},{"$f":"analyse!$B$1","v":0},0,0,0,0]
[null,null,{"$f":"IF(ISNA(VLOOKUP(A84626,analyse!D:E,2,FALSE))=TRUE,0,(VLOOKUP(A84626,analyse!D:E,2,FALSE)))","v":0},{"$f":"analyse!$B$1","v":0},0,0,0,0]
[null,null,{"$f":"IF(ISNA(VLOOKUP(A84753,analyse!D:E,2,FALSE))=TRUE,0,(VLOOKUP(A84753,analyse!D:E,2,FALSE)))","v":0},{"$f":"analyse!$B$1","v":0},0,0,0,0]
[null,null,{"$f":"IF(ISNA(VLOOKUP(A84791,analyse!D:E,2,FALSE))=TRUE,0,(VLOOKUP(A84791,analyse!D:E,2,FALSE)))","v":0},{"$f":"analyse!$B$1","v":0},0,0,0,0]
[null,null,{"$f":"IF(ISNA(VLOOKUP(A84902,analyse!D:E,2,FALSE))=TRUE,0,(VLOOKUP(A84902,analyse!D:E,2,FALSE)))","v":0},{"$f":"analyse!$B$1","v":0},0,0,0,0]
[null,null,{"$f":"IF(ISNA(VLOOKUP(A84957,analyse!D:E,2,FALSE))=TRUE,0,(VLOOKUP(A84957,analyse!D:E,2,FALSE)))","v":0},{"$f":"analyse!$B$1","v":0},0,0,0,0]
[null,null,{"$f":"IF(ISNA(VLOOKUP(A85068,analyse!D:E,2,FALSE))=TRUE,0,(VLOOKUP(A85068,analyse!D:E,2,FALSE)))","v":0},{"$f":"analyse!$B$1","v":0},0,0,0,0]
[null,null,{"$f":"IF(ISNA(VLOOKUP(A85088,analyse!D:E,2,FALSE))=TRUE,0,(VLOOKUP(A85088,analyse!D:E,2,FALSE)))","v":0},{"$f":"analyse!$B$1","v":0},0,0,0,0]
[null,null,{"$f":"IF(ISNA(VLOOKUP(A85233,analyse!D:E,2,FALSE))=TRUE,0,(VLOOKUP(A85233,analyse!D:E,2,FALSE)))","v":0},{"$f":"analyse!$B$1","v":0},0,0,0,0]
[null,null,{"$f":"IF(ISNA(VLOOKUP(A85266,analyse!D:E,2,FALSE))=TRUE,0,(VLOOKUP(A85266,analyse!D:E,2,FALSE)))","v":0},{"$f":"analyse!$B$1","v":0},0,0,0,0]
[null,null,{"$f":"IF(ISNA(VLOOKUP(A85321,analyse!D:E,2,FALSE))=TRUE,0,(VLOOKUP(A85321,analyse!D:E,2,FALSE)))","v":0},{"$f":"analyse!$B$1","v":0},0,0,0,0]
[null,null,{"$f":"IF(ISNA(VLOOKUP(A85432,analyse!D:E,2,FALSE))=TRUE,0,(VLOOKUP(A85432,analyse!D:E,2,FALSE)))","v":0},{"$f":"analyse!$B$1","v":0},0,0,0,0]
[null,null,{"$f":"IF(ISNA(VLOOKUP(A85504,analyse!D:E,2,FALSE))=TRUE,0,(VLOOKUP(A85504,analyse!D:E,2,FALSE)))","v":0},{"$f":"analyse!$B$1","v":0},0,0,0,0]
[null,null,{"$f":"IF(ISNA(VLOOKUP(A85597,analyse!D:E,2,FALSE))=TRUE,0,(VLOOKUP(A85597,analyse!D:E,2,FALSE)))","v":0},{"$f":"analyse!$B$1","v":0},0,0,0,0]
[null,null,{"$f":"IF(ISNA(VLOOKUP(A85630,analyse!D:E,2,FALSE))=TRUE,0,(VLOOKUP(A85630,analyse!D:E,2,FALSE)))","v":0},{"$f":"analyse!$B$1","v":0},0,0,0,0]
[null,null,{"$f":"IF(ISNA(VLOOKUP(A85741,analyse!D:E,2,FALSE))=TRUE,0,(VLOOKUP(A85741,analyse!D:E,2,FALSE)))","v":0},{"$f":"analyse!$B$1","v":0},0,0,0,0]
[null,null,{"$f":"IF(ISNA(VLOOKUP(A85796,analyse!D:E,2,FALSE))=TRUE,0,(VLOOKUP(A85796,analyse!D:E,2,FALSE)))","v":0},{"$f":"analyse!$B$1","v":0},0,0,0,0]
[null,null,{"$f":"IF(ISNA(VLOOKUP(A85920,analyse!D:E,2,FALSE))=TRUE,0,(VLOOKUP(A85920,analyse!D:E,2,FALSE)))","v":0},{"$f":"analyse!$B$1","v":0},0,0,0,0]
[null,null,{"$f":"IF(ISNA(VLOOKUP(A85961,analyse!D:E,2,FALSE))=TRUE,0,(VLOOKUP(A85961,analyse!D:E,2,FALSE)))","v":0},{"$f":"analyse!$B$1","v":0},0,0,0,0]
[null,null,{"$f":"IF(ISNA(VLOOKUP(A86072,analyse!D:E,2,FALSE))=TRUE,0,(VLOOKUP(A86072,analyse!D:E,2,FALSE)))","v":0},{"$f":"analyse!$B$1","v":0},0,0,0,0]
[null,null,{"$f":"IF(ISNA(VLOOKUP(A86105,analyse!D:E,2,FALSE))=TRUE,0,(VLOOKUP(A86105,analyse!D:E,2,FALSE)))","v":0},{"$f":"analyse!$B$1","v":0},0,0,0,0]
[null,null,{"$f":"IF(ISNA(VLOOKUP(A86208,analyse!D:E,2,FALSE))=TRUE,0,(VLOOKUP(A86208,analyse!D:E,2,FALSE)))","v":0},{"$f":"analyse!$B$1","v":0},0,0,0,0]
[null,null,{"$f":"IF(ISNA(VLOOKUP(A86270,analyse!D:E,2,FALSE))=TRUE,0,(VLOOKUP(A86270,analyse!D:E,2,FALSE)))","v":0},{"$f":"analyse!$B$1","v":0},0,0,0,0]
[null,null,{"$f":"IF(ISNA(VLOOKUP(A86403,analyse!D:E,2,FALSE))=TRUE,0,(VLOOKUP(A86403,analyse!D:E,2,FALSE)))","v":0},{"$f":"analyse!$B$1","v":0},0,0,0,0]
[null,null,{"$f":"IF(ISNA(VLOOKUP(A86436,analyse!D:E,2,FALSE))=TRUE,0,(VLOOKUP(A86436,analyse!D:E,2,FALSE)))","v":0},{"$f":"analyse!$B$1","v":0},0,0,0,0]
[null,null,{"$f":"IF(ISNA(VLOOKUP(A86547,analyse!D:E,2,FALSE))=TRUE,0,(VLOOKUP(A86547,analyse!D:E,2,FALSE)))","v":0},{"$f":"analyse!$B$1","v":0},0,0,0,0]
[null,null,{"$f":"IF(ISNA(VLOOKUP(A86624,analyse!D:E,2,FALSE))=TRUE,0,(VLOOKUP(A86624,analyse!D:E,2,FALSE)))","v":0},{"$f":"analyse!$B$1","v":0},0,0,0,0]
[null,null,{"$f":"IF(ISNA(VLOOKUP(A86712,analyse!D:E,2,FALSE))=TRUE,0,(VLOOKUP(A86712,analyse!D:E,2,FALSE)))","v":0},{"$f":"analyse!$B$1","v":0},0,0,0,0]
[null,null,{"$f":"IF(ISNA(VLOOKUP(A86745,analyse!D:E,2,FALSE))=TRUE,0,(VLOOKUP(A86745,analyse!D:E,2,FALSE)))","v":0},{"$f":"analyse!$B$1","v":0},0,0,0,0]
[null,null,{"$f":"IF(ISNA(VLOOKUP(A86800,analyse!D:E,2,FALSE))=TRUE,0,(VLOOKUP(A86800,analyse!D:E,2,FALSE)))","v":0},{"$f":"analyse!$B$1","v":0},0,0,0,0]
[null,null,{"$f":"IF(ISNA(VLOOKUP(A86911,analyse!D:E,2,FALSE))=TRUE,0,(VLOOKUP(A86911,analyse!D:E,2,FALSE)))","v":0},{"$f":"analyse!$B$1","v":0},0,0,0,0]
[null,null,{"$f":"IF(ISNA(VLOOKUP(A86963,analyse!D:E,2,FALSE))=TRUE,0,(VLOOKUP(A86963,analyse!D:E,2,FALSE)))","v":0},{"$f":"analyse!$B$1","v":0},0,0,0,0]
[null,null,{"$f":"IF(ISNA(VLOOKUP(A87076,analyse!D:E,2,FALSE))=TRUE,0,(VLOOKUP(A87076,analyse!D:E,2,FALSE)))","v":0},{"$f":"analyse!$B$1","v":0},0,0,0,0]
[null,null,{"$f":"IF(ISNA(VLOOKUP(A87109,analyse!D:E,2,FALSE))=TRUE,0,(VLOOKUP(A87109,analyse!D:E,2,FALSE)))","v":0},{"$f":"analyse!$B$1","v":0},0,0,0,0]
[null,null,{"$f":"IF(ISNA(VLOOKUP(A87242,analyse!D:E,2,FALSE))=TRUE,0,(VLOOKUP(A87242,analyse!D:E,2,FALSE)))","v":0},{"$f":"analyse!$B$1","v":0},0,0,0,0]
[null,null,{"$f":"IF(ISNA(VLOOKUP(A87275,analyse!D:E,2,FALSE))=TRUE,0,(VLOOKUP(A87275,analyse!D:E,2,FALSE)))","v":0},{"$f":"analyse!$B$1","v":0},0,0,0,0]
[null,null,{"$f":"IF(ISNA(VLOOKUP(A87379,analyse!D:E,2,FALSE))=TRUE,0,(VLOOKUP(A87379,analyse!D:E,2,FALSE)))","v":0},{"$f":"analyse!$B$1","v":0},0,0,0,0]
[null,null,{"$f":"IF(ISNA(VLOOKUP(A87440,analyse!D:E,2,FALSE))=TRUE,0,(VLOOKUP(A87440,analyse!D:E,2,FALSE)))","v":0},{"$f":"analyse!$B$1","v":0},0,0,0,0]
[null,null,{"$f":"IF(ISNA(VLOOKUP(A87551,analyse!D:E,2,FALSE))=TRUE,0,(VLOOKUP(A87551,analyse!D:E,2,FALSE)))","v":0},{"$f":"analyse!$B$1","v":0},0,0,0,0]
[null,null,{"$f":"IF(ISNA(VLOOKUP(A87606,analyse!D:E,2,FALSE))=TRUE,0,(VLOOKUP(A87606,analyse!D:E,2,FALSE)))","v":0},{"$f":"analyse!$B$1","v":0},0,0,0,0]
[null,null,{"$f":"IF(ISNA(VLOOKUP(A87717,analyse!D:E,2,FALSE))=TRUE,0,(VLOOKUP(A87717,analyse!D:E,2,FALSE)))","v":0},{"$f":"analyse!$B$1","v":0},0,0,0,0]
[null,null,{"$f":"IF(ISNA(VLOOKUP(A87791,analyse!D:E,2,FALSE))=TRUE,0,(VLOOKUP(A87791,analyse!D:E,2,FALSE)))","v":0},{"$f":"analyse!$B$1","v":0},0,0,0,0]
[null,null,{"$f":"IF(ISNA(VLOOKUP(A87882,analyse!D:E,2,FALSE))=TRUE,0,(VLOOKUP(A87882,analyse!D:E,2,FALSE)))","v":0},{"$f":"analyse!$B$1","v":0},0,0,0,0]
[null,null,{"$f":"IF(ISNA(VLOOKUP(A87915,analyse!D:E,2,FALSE))=TRUE,0,(VLOOKUP(A87915,analyse!D:E,2,FALSE)))","v":0},{"$f":"analyse!$B$1","v":0},0,0,0,0]
[null,null,{"$f":"IF(ISNA(VLOOKUP(A87970,analyse!D:E,2,FALSE))=TRUE,0,(VLOOKUP(A87970,analyse!D:E,2,FALSE)))","v":0},{"$f":"analyse!$B$1","v":0},0,0,0,0]
[null,null,{"$f":"IF(ISNA(VLOOKUP(A88081,analyse!D:E,2,FALSE))=TRUE,0,(VLOOKUP(A88081,analyse!D:E,2,FALSE)))","v":0},{"$f":"analyse!$B$1","v":0},0,0,0,0]
[null,null,{"$f":"IF(ISNA(VLOOKUP(A88130,analyse!D:E,2,FALSE))=TRUE,0,(VLOOKUP(A88130,analyse!D:E,2,FALSE)))","v":0},{"$f":"analyse!$B$1","v":0},{"$f":"D88130-C88130","v":0},{"$f":"E88130+C88130","v":0},{"$f":"IF(F88130<E88130,D88130-1,D88130)","v":0},{"$f":"IF(A88130=\"S20.G01.00.001\",H88129+1,H88129)","v":0}]
[null,null,{"$f":"IF(ISNA(VLOOKUP(A88246,analyse!D:E,2,FALSE))=TRUE,0,(VLOOKUP(A88246,analyse!D:E,2,FALSE)))","v":0},{"$f":"analyse!$B$1","v":0},0,0,0,0]
[null,null,{"$f":"IF(ISNA(VLOOKUP(A88279,analyse!D:E,2,FALSE))=TRUE,0,(VLOOKUP(A88279,analyse!D:E,2,FALSE)))","v":0},{"$f":"analyse!$B$1","v":0},0,0,0,0]
[null,null,{"$f":"IF(ISNA(VLOOKUP(A88390,analyse!D:E,2,FALSE))=TRUE,0,(VLOOKUP(A88390,analyse!D:E,2,FALSE)))","v":0},{"$f":"analyse!$B$1","v":0},0,0,0,0]
[null,null,{"$f":"IF(ISNA(VLOOKUP(A88445,analyse!D:E,2,FALSE))=TRUE,0,(VLOOKUP(A88445,analyse!D:E,2,FALSE)))","v":0},{"$f":"analyse!$B$1","v":0},0,0,0,0]
[null,null,{"$f":"IF(ISNA(VLOOKUP(A88546,analyse!D:E,2,FALSE))=TRUE,0,(VLOOKUP(A88546,analyse!D:E,2,FALSE)))","v":0},{"$f":"analyse!$B$1","v":0},0,0,0,0]
[null,null,{"$f":"IF(ISNA(VLOOKUP(A88610,analyse!D:E,2,FALSE))=TRUE,0,(VLOOKUP(A88610,analyse!D:E,2,FALSE)))","v":0},{"$f":"analyse!$B$1","v":0},0,0,0,0]
[null,null,{"$f":"IF(ISNA(VLOOKUP(A88721,analyse!D:E,2,FALSE))=TRUE,0,(VLOOKUP(A88721,analyse!D:E,2,FALSE)))","v":0},{"$f":"analyse!$B$1","v":0},0,0,0,0]
[null,null,{"$f":"IF(ISNA(VLOOKUP(A88754,analyse!D:E,2,FALSE))=TRUE,0,(VLOOKUP(A88754,analyse!D:E,2,FALSE)))","v":0},{"$f":"analyse!$B$1","v":0},0,0,0,0]
[null,null,{"$f":"IF(ISNA(VLOOKUP(A88887,analyse!D:E,2,FALSE))=TRUE,0,(VLOOKUP(A88887,analyse!D:E,2,FALSE)))","v":0},{"$f":"analyse!$B$1","v":0},0,0,0,0]
[null,null,{"$f":"IF(ISNA(VLOOKUP(A88962,analyse!D:E,2,FALSE))=TRUE,0,(VLOOKUP(A88962,analyse!D:E,2,FALSE)))","v":0},{"$f":"analyse!$B$1","v":0},{"$f":"D88962-C88962","v":0},{"$f":"E88962+C88962","v":0},{"$f":"IF(F88962<E88962,D88962-1,D88962)","v":0},{"$f":"IF(A88962=\"S20.G01.00.001\",H88961+1,H88961)","v":0}]
[null,null,{"$f":"IF(ISNA(VLOOKUP(A89052,analyse!D:E,2,FALSE))=TRUE,0,(VLOOKUP(A89052,analyse!D:E,2,FALSE)))","v":0},{"$f":"analyse!$B$1","v":0},0,0,0,0]
[null,null,{"$f":"IF(ISNA(VLOOKUP(A89085,analyse!D:E,2,FALSE))=TRUE,0,(VLOOKUP(A89085,analyse!D:E,2,FALSE)))","v":0},{"$f":"analyse!$B$1","v":0},0,0,0,0]
[null,null,{"$f":"IF(ISNA(VLOOKUP(A89196,analyse!D:E,2,FALSE))=TRUE,0,(VLOOKUP(A89196,analyse!D:E,2,FALSE)))","v":0},{"$f":"analyse!$B$1","v":0},0,0,0,0]
[null,null,{"$f":"IF(ISNA(VLOOKUP(A89250,analyse!D:E,2,FALSE))=TRUE,0,(VLOOKUP(A89250,analyse!D:E,2,FALSE)))","v":0},{"$f":"analyse!$B$1","v":0},0,0,0,0]
[null,null,{"$f":"IF(ISNA(VLOOKUP(A89361,analyse!D:E,2,FALSE))=TRUE,0,(VLOOKUP(A89361,analyse!D:E,2,FALSE)))","v":0},{"$f":"analyse!$B$1","v":0},0,0,0,0]
[null,null,{"$f":"IF(ISNA(VLOOKUP(A89394,analyse!D:E,2,FALSE))=TRUE,0,(VLOOKUP(A89394,analyse!D:E,2,FALSE)))","v":0},{"$f":"analyse!$B$1","v":0},0,0,0,0]
[null,null,{"$f":"IF(ISNA(VLOOKUP(A89449,analyse!D:E,2,FALSE))=TRUE,0,(VLOOKUP(A89449,analyse!D:E,2,FALSE)))","v":0},{"$f":"analyse!$B$1","v":0},0,0,0,0]
[null,null,{"$f":"IF(ISNA(VLOOKUP(A89560,analyse!D:E,2,FALSE))=TRUE,0,(VLOOKUP(A89560,analyse!D:E,2,FALSE)))","v":0},{"$f":"analyse!$B$1","v":0},0,0,0,0]
[null,null,{"$f":"IF(ISNA(VLOOKUP(A89666,analyse!D:E,2,FALSE))=TRUE,0,(VLOOKUP(A89666,analyse!D:E,2,FALSE)))","v":0},{"$f":"analyse!$B$1","v":0},{"$f":"D89666-C89666","v":0},{"$f":"E89666+C89666","v":0},{"$f":"IF(F89666<E89666,D89666-1,D89666)","v":0},{"$f":"IF(A89666=\"S20.G01.00.001\",H89665+1,H89665)","v":0}]
[null,null,{"$f":"IF(ISNA(VLOOKUP(A89725,analyse!D:E,2,FALSE))=TRUE,0,(VLOOKUP(A89725,analyse!D:E,2,FALSE)))","v":0},{"$f":"analyse!$B$1","v":0},0,0,0,0]
[null,null,{"$f":"IF(ISNA(VLOOKUP(A89758,analyse!D:E,2,FALSE))=TRUE,0,(VLOOKUP(A89758,analyse!D:E,2,FALSE)))","v":0},{"$f":"analyse!$B$1","v":0},0,0,0,0]
[null,null,{"$f":"IF(ISNA(VLOOKUP(A89891,analyse!D:E,2,FALSE))=TRUE,0,(VLOOKUP(A89891,analyse!D:E,2,FALSE)))","v":0},{"$f":"analyse!$B$1","v":0},0,0,0,0]
[null,null,{"$f":"IF(ISNA(VLOOKUP(A89924,analyse!D:E,2,FALSE))=TRUE,0,(VLOOKUP(A89924,analyse!D:E,2,FALSE)))","v":0},{"$f":"analyse!$B$1","v":0},0,0,0,0]
[null,null,{"$f":"IF(ISNA(VLOOKUP(A90005,analyse!D:E,2,FALSE))=TRUE,0,(VLOOKUP(A90005,analyse!D:E,2,FALSE)))","v":0},{"$f":"analyse!$B$1","v":0},0,0,0,0]
[null,null,{"$f":"IF(ISNA(VLOOKUP(A90089,analyse!D:E,2,FALSE))=TRUE,0,(VLOOKUP(A90089,analyse!D:E,2,FALSE)))","v":0},{"$f":"analyse!$B$1","v":0},0,0,0,0]
[null,null,{"$f":"IF(ISNA(VLOOKUP(A90200,analyse!D:E,2,FALSE))=TRUE,0,(VLOOKUP(A90200,analyse!D:E,2,FALSE)))","v":0},{"$f":"analyse!$B$1","v":0},0,0,0,0]
[null,null,{"$f":"IF(ISNA(VLOOKUP(A90255,analyse!D:E,2,FALSE))=TRUE,0,(VLOOKUP(A90255,analyse!D:E,2,FALSE)))","v":0},{"$f":"analyse!$B$1","v":0},0,0,0,0]
[null,null,{"$f":"IF(ISNA(VLOOKUP(A90366,analyse!D:E,2,FALSE))=TRUE,0,(VLOOKUP(A90366,analyse!D:E,2,FALSE)))","v":0},{"$f":"analyse!$B$1","v":0},0,0,0,0]
[null,null,{"$f":"IF(ISNA(VLOOKUP(A90417,analyse!D:E,2,FALSE))=TRUE,0,(VLOOKUP(A90417,analyse!D:E,2,FALSE)))","v":0},{"$f":"analyse!$B$1","v":0},0,0,0,0]
[null,null,{"$f":"IF(ISNA(VLOOKUP(A90453,analyse!D:E,2,FALSE))=TRUE,0,(VLOOKUP(A90453,analyse!D:E,2,FALSE)))","v":0},{"$f":"analyse!$B$1","v":0},0,0,0,0]
[null,null,{"$f":"IF(ISNA(VLOOKUP(A90564,analyse!D:E,2,FALSE))=TRUE,0,(VLOOKUP(A90564,analyse!D:E,2,FALSE)))","v":0},{"$f":"analyse!$B$1","v":0},0,0,0,0]
[null,null,{"$f":"IF(ISNA(VLOOKUP(A90619,analyse!D:E,2,FALSE))=TRUE,0,(VLOOKUP(A90619,analyse!D:E,2,FALSE)))","v":0},{"$f":"analyse!$B$1","v":0},0,0,0,0]
[null,null,{"$f":"IF(ISNA(VLOOKUP(A90730,analyse!D:E,2,FALSE))=TRUE,0,(VLOOKUP(A90730,analyse!D:E,2,FALSE)))","v":0},{"$f":"analyse!$B$1","v":0},0,0,0,0]
[null,null,{"$f":"IF(ISNA(VLOOKUP(A90833,analyse!D:E,2,FALSE))=TRUE,0,(VLOOKUP(A90833,analyse!D:E,2,FALSE)))","v":0},{"$f":"analyse!$B$1","v":0},0,0,0,0]
[null,null,{"$f":"IF(ISNA(VLOOKUP(A90895,analyse!D:E,2,FALSE))=TRUE,0,(VLOOKUP(A90895,analyse!D:E,2,FALSE)))","v":0},{"$f":"analyse!$B$1","v":0},0,0,0,0]
[null,null,{"$f":"IF(ISNA(VLOOKUP(A90928,analyse!D:E,2,FALSE))=TRUE,0,(VLOOKUP(A90928,analyse!D:E,2,FALSE)))","v":0},{"$f":"analyse!$B$1","v":0},0,0,0,0]
[null,null,{"$f":"IF(ISNA(VLOOKUP(A91039,analyse!D:E,2,FALSE))=TRUE,0,(VLOOKUP(A91039,analyse!D:E,2,FALSE)))","v":0},{"$f":"analyse!$B$1","v":0},0,0,0,0]
[null,null,{"$f":"IF(ISNA(VLOOKUP(A91094,analyse!D:E,2,FALSE))=TRUE,0,(VLOOKUP(A91094,analyse!D:E,2,FALSE)))","v":0},{"$f":"analyse!$B$1","v":0},0,0,0,0]
[null,null,{"$f":"IF(ISNA(VLOOKUP(A91172,analyse!D:E,2,FALSE))=TRUE,0,(VLOOKUP(A91172,analyse!D:E,2,FALSE)))","v":0},{"$f":"analyse!$B$1","v":0},0,0,0,0]
[null,null,{"$f":"IF(ISNA(VLOOKUP(A91259,analyse!D:E,2,FALSE))=TRUE,0,(VLOOKUP(A91259,analyse!D:E,2,FALSE)))","v":0},{"$f":"analyse!$B$1","v":0},0,0,0,0]
[null,null,{"$f":"IF(ISNA(VLOOKUP(A91370,analyse!D:E,2,FALSE))=TRUE,0,(VLOOKUP(A91370,analyse!D:E,2,FALSE)))","v":0},{"$f":"analyse!$B$1","v":0},0,0,0,0]
[null,null,{"$f":"IF(ISNA(VLOOKUP(A91403,analyse!D:E,2,FALSE))=TRUE,0,(VLOOKUP(A91403,analyse!D:E,2,FALSE)))","v":0},{"$f":"analyse!$B$1","v":0},0,0,0,0]
[null,null,{"$f":"IF(ISNA(VLOOKUP(A91536,analyse!D:E,2,FALSE))=TRUE,0,(VLOOKUP(A91536,analyse!D:E,2,FALSE)))","v":0},{"$f":"analyse!$B$1","v":0},0,0,0,0]
[null,null,{"$f":"IF(ISNA(VLOOKUP(A91588,analyse!D:E,2,FALSE))=TRUE,0,(VLOOKUP(A91588,analyse!D:E,2,FALSE)))","v":0},{"$f":"analyse!$B$1","v":0},0,0,0,0]
[null,null,{"$f":"IF(ISNA(VLOOKUP(A91623,analyse!D:E,2,FALSE))=TRUE,0,(VLOOKUP(A91623,analyse!D:E,2,FALSE)))","v":0},{"$f":"analyse!$B$1","v":0},0,0,0,0]
[null,null,{"$f":"IF(ISNA(VLOOKUP(A91734,analyse!D:E,2,FALSE))=TRUE,0,(VLOOKUP(A91734,analyse!D:E,2,FALSE)))","v":0},{"$f":"analyse!$B$1","v":0},0,0,0,0]
[null,null,{"$f":"IF(ISNA(VLOOKUP(A91845,analyse!D:E,2,FALSE))=TRUE,0,(VLOOKUP(A91845,analyse!D:E,2,FALSE)))","v":0},{"$f":"analyse!$B$1","v":0},0,0,0,0]
[null,null,{"$f":"IF(ISNA(VLOOKUP(A91900,analyse!D:E,2,FALSE))=TRUE,0,(VLOOKUP(A91900,analyse!D:E,2,FALSE)))","v":0},{"$f":"analyse!$B$1","v":0},0,0,0,0]
[null,null,{"$f":"IF(ISNA(VLOOKUP(A92004,analyse!D:E,2,FALSE))=TRUE,0,(VLOOKUP(A92004,analyse!D:E,2,FALSE)))","v":0},{"$f":"analyse!$B$1","v":0},0,0,0,0]
[null,null,{"$f":"IF(ISNA(VLOOKUP(A92043,analyse!D:E,2,FALSE))=TRUE,0,(VLOOKUP(A92043,analyse!D:E,2,FALSE)))","v":0},{"$f":"analyse!$B$1","v":0},0,0,0,0]
[null,null,{"$f":"IF(ISNA(VLOOKUP(A92098,analyse!D:E,2,FALSE))=TRUE,0,(VLOOKUP(A92098,analyse!D:E,2,FALSE)))","v":0},{"$f":"analyse!$B$1","v":0},{"$f":"D92098-C92098","v":0},{"$f":"E92098+C92098","v":0},{"$f":"IF(F92098<E92098,D92098-1,D92098)","v":0},{"$f":"IF(A92098=\"S20.G01.00.001\",H92097+1,H92097)","v":0}]
[null,null,{"$f":"IF(ISNA(VLOOKUP(A92209,analyse!D:E,2,FALSE))=TRUE,0,(VLOOKUP(A92209,analyse!D:E,2,FALSE)))","v":0},{"$f":"analyse!$B$1","v":0},0,0,0,0]
[null,null,{"$f":"IF(ISNA(VLOOKUP(A92292,analyse!D:E,2,FALSE))=TRUE,0,(VLOOKUP(A92292,analyse!D:E,2,FALSE)))","v":0},{"$f":"analyse!$B$1","v":0},0,0,0,0]
[null,null,{"$f":"IF(ISNA(VLOOKUP(A92374,analyse!D:E,2,FALSE))=TRUE,0,(VLOOKUP(A92374,analyse!D:E,2,FALSE)))","v":0},{"$f":"analyse!$B$1","v":0},0,0,0,0]
[null,null,{"$f":"IF(ISNA(VLOOKUP(A92407,analyse!D:E,2,FALSE))=TRUE,0,(VLOOKUP(A92407,analyse!D:E,2,FALSE)))","v":0},{"$f":"analyse!$B$1","v":0},0,0,0,0]
[null,null,{"$f":"IF(ISNA(VLOOKUP(A92540,analyse!D:E,2,FALSE))=TRUE,0,(VLOOKUP(A92540,analyse!D:E,2,FALSE)))","v":0},{"$f":"analyse!$B$1","v":0},0,0,0,0]
[null,null,{"$f":"IF(ISNA(VLOOKUP(A92573,analyse!D:E,2,FALSE))=TRUE,0,(VLOOKUP(A92573,analyse!D:E,2,FALSE)))","v":0},{"$f":"analyse!$B$1","v":0},0,0,0,0]
[null,null,{"$f":"IF(ISNA(VLOOKUP(A92704,analyse!D:E,2,FALSE))=TRUE,0,(VLOOKUP(A92704,analyse!D:E,2,FALSE)))","v":0},{"$f":"analyse!$B$1","v":0},0,0,0,0]
[null,null,{"$f":"IF(ISNA(VLOOKUP(A92738,analyse!D:E,2,FALSE))=TRUE,0,(VLOOKUP(A92738,analyse!D:E,2,FALSE)))","v":0},{"$f":"analyse!$B$1","v":0},{"$f":"D92738-C92738","v":0},{"$f":"E92738+C92738","v":0},{"$f":"IF(F92738<E92738,D92738-1,D92738)","v":0},{"$f":"IF(A92738=\"S20.G01.00.001\",H92737+1,H92737)","v":0}]
[null,null,{"$f":"IF(ISNA(VLOOKUP(A92849,analyse!D:E,2,FALSE))=TRUE,0,(VLOOKUP(A92849,analyse!D:E,2,FALSE)))","v":0},{"$f":"analyse!$B$1","v":0},0,0,0,0]
[null,null,{"$f":"IF(ISNA(VLOOKUP(A92904,analyse!D:E,2,FALSE))=TRUE,0,(VLOOKUP(A92904,analyse!D:E,2,FALSE)))","v":0},{"$f":"analyse!$B$1","v":0},0,0,0,0]
[null,null,{"$f":"IF(ISNA(VLOOKUP(A93015,analyse!D:E,2,FALSE))=TRUE,0,(VLOOKUP(A93015,analyse!D:E,2,FALSE)))","v":0},{"$f":"analyse!$B$1","v":0},0,0,0,0]
[null,null,{"$f":"IF(ISNA(VLOOKUP(A93043,analyse!D:E,2,FALSE))=TRUE,0,(VLOOKUP(A93043,analyse!D:E,2,FALSE)))","v":0},{"$f":"analyse!$B$1","v":0},0,0,0,0]
[null,null,{"$f":"IF(ISNA(VLOOKUP(A93102,analyse!D:E,2,FALSE))=TRUE,0,(VLOOKUP(A93102,analyse!D:E,2,FALSE)))","v":0},{"$f":"analyse!$B$1","v":0},0,0,0,0]
[null,null,{"$f":"IF(ISNA(VLOOKUP(A93213,analyse!D:E,2,FALSE))=TRUE,0,(VLOOKUP(A93213,analyse!D:E,2,FALSE)))","v":0},{"$f":"analyse!$B$1","v":0},0,0,0,0]
[null,null,{"$f":"IF(ISNA(VLOOKUP(A93268,analyse!D:E,2,FALSE))=TRUE,0,(VLOOKUP(A93268,analyse!D:E,2,FALSE)))","v":0},{"$f":"analyse!$B$1","v":0},0,0,0,0]
[null,null,{"$f":"IF(ISNA(VLOOKUP(A93379,analyse!D:E,2,FALSE))=TRUE,0,(VLOOKUP(A93379,analyse!D:E,2,FALSE)))","v":0},{"$f":"analyse!$B$1","v":0},0,0,0,0]
[null,null,{"$f":"IF(ISNA(VLOOKUP(A93459,analyse!D:E,2,FALSE))=TRUE,0,(VLOOKUP(A93459,analyse!D:E,2,FALSE)))","v":0},{"$f":"analyse!$B$1","v":0},0,0,0,0]
[null,null,{"$f":"IF(ISNA(VLOOKUP(A93544,analyse!D:E,2,FALSE))=TRUE,0,(VLOOKUP(A93544,analyse!D:E,2,FALSE)))","v":0},{"$f":"analyse!$B$1","v":0},0,0,0,0]
[null,null,{"$f":"IF(ISNA(VLOOKUP(A93577,analyse!D:E,2,FALSE))=TRUE,0,(VLOOKUP(A93577,analyse!D:E,2,FALSE)))","v":0},{"$f":"analyse!$B$1","v":0},0,0,0,0]
[null,null,{"$f":"IF(ISNA(VLOOKUP(A93688,analyse!D:E,2,FALSE))=TRUE,0,(VLOOKUP(A93688,analyse!D:E,2,FALSE)))","v":0},{"$f":"analyse!$B$1","v":0},0,0,0,0]
[null,null,{"$f":"IF(ISNA(VLOOKUP(A93743,analyse!D:E,2,FALSE))=TRUE,0,(VLOOKUP(A93743,analyse!D:E,2,FALSE)))","v":0},{"$f":"analyse!$B$1","v":0},0,0,0,0]
[null,null,{"$f":"IF(ISNA(VLOOKUP(A93875,analyse!D:E,2,FALSE))=TRUE,0,(VLOOKUP(A93875,analyse!D:E,2,FALSE)))","v":0},{"$f":"analyse!$B$1","v":0},0,0,0,0]
[null,null,{"$f":"IF(ISNA(VLOOKUP(A93908,analyse!D:E,2,FALSE))=TRUE,0,(VLOOKUP(A93908,analyse!D:E,2,FALSE)))","v":0},{"$f":"analyse!$B$1","v":0},0,0,0,0]
[null,null,{"$f":"IF(ISNA(VLOOKUP(A94019,analyse!D:E,2,FALSE))=TRUE,0,(VLOOKUP(A94019,analyse!D:E,2,FALSE)))","v":0},{"$f":"analyse!$B$1","v":0},0,0,0,0]
[null,null,{"$f":"IF(ISNA(VLOOKUP(A94052,analyse!D:E,2,FALSE))=TRUE,0,(VLOOKUP(A94052,analyse!D:E,2,FALSE)))","v":0},{"$f":"analyse!$B$1","v":0},0,0,0,0]
[null,null,{"$f":"IF(ISNA(VLOOKUP(A94185,analyse!D:E,2,FALSE))=TRUE,0,(VLOOKUP(A94185,analyse!D:E,2,FALSE)))","v":0},{"$f":"analyse!$B$1","v":0},0,0,0,0]
[null,null,{"$f":"IF(ISNA(VLOOKUP(A94214,analyse!D:E,2,FALSE))=TRUE,0,(VLOOKUP(A94214,analyse!D:E,2,FALSE)))","v":0},{"$f":"analyse!$B$1","v":0},0,0,0,0]
[null,null,{"$f":"IF(ISNA(VLOOKUP(A94272,analyse!D:E,2,FALSE))=TRUE,0,(VLOOKUP(A94272,analyse!D:E,2,FALSE)))","v":0},{"$f":"analyse!$B$1","v":0},0,0,0,0]
[null,null,{"$f":"IF(ISNA(VLOOKUP(A94383,analyse!D:E,2,FALSE))=TRUE,0,(VLOOKUP(A94383,analyse!D:E,2,FALSE)))","v":0},{"$f":"analyse!$B$1","v":0},0,0,0,0]
[null,null,{"$f":"IF(ISNA(VLOOKUP(A94494,analyse!D:E,2,FALSE))=TRUE,0,(VLOOKUP(A94494,analyse!D:E,2,FALSE)))","v":0},{"$f":"analyse!$B$1","v":0},0,0,0,0]
[null,null,{"$f":"IF(ISNA(VLOOKUP(A94549,analyse!D:E,2,FALSE))=TRUE,0,(VLOOKUP(A94549,analyse!D:E,2,FALSE)))","v":0},{"$f":"analyse!$B$1","v":0},0,0,0,0]
[null,null,{"$f":"IF(ISNA(VLOOKUP(A94630,analyse!D:E,2,FALSE))=TRUE,0,(VLOOKUP(A94630,analyse!D:E,2,FALSE)))","v":0},{"$f":"analyse!$B$1","v":0},0,0,0,0]
[null,null,{"$f":"IF(ISNA(VLOOKUP(A94692,analyse!D:E,2,FALSE))=TRUE,0,(VLOOKUP(A94692,analyse!D:E,2,FALSE)))","v":0},{"$f":"analyse!$B$1","v":0},0,0,0,0]
[null,null,{"$f":"IF(ISNA(VLOOKUP(A94747,analyse!D:E,2,FALSE))=TRUE,0,(VLOOKUP(A94747,analyse!D:E,2,FALSE)))","v":0},{"$f":"analyse!$B$1","v":0},0,0,0,0]
[null,null,{"$f":"IF(ISNA(VLOOKUP(A94858,analyse!D:E,2,FALSE))=TRUE,0,(VLOOKUP(A94858,analyse!D:E,2,FALSE)))","v":0},{"$f":"analyse!$B$1","v":0},0,0,0,0]
[null,null,{"$f":"IF(ISNA(VLOOKUP(A94913,analyse!D:E,2,FALSE))=TRUE,0,(VLOOKUP(A94913,analyse!D:E,2,FALSE)))","v":0},{"$f":"analyse!$B$1","v":0},0,0,0,0]
[null,null,{"$f":"IF(ISNA(VLOOKUP(A94969,analyse!D:E,2,FALSE))=TRUE,0,(VLOOKUP(A94969,analyse!D:E,2,FALSE)))","v":0},{"$f":"analyse!$B$1","v":0},0,0,0,0]
[null,null,{"$f":"IF(ISNA(VLOOKUP(A95056,analyse!D:E,2,FALSE))=TRUE,0,(VLOOKUP(A95056,analyse!D:E,2,FALSE)))","v":0},{"$f":"analyse!$B$1","v":0},0,0,0,0]
[null,null,{"$f":"IF(ISNA(VLOOKUP(A95189,analyse!D:E,2,FALSE))=TRUE,0,(VLOOKUP(A95189,analyse!D:E,2,FALSE)))","v":0},{"$f":"analyse!$B$1","v":0},0,0,0,0]
[null,null,{"$f":"IF(ISNA(VLOOKUP(A95222,analyse!D:E,2,FALSE))=TRUE,0,(VLOOKUP(A95222,analyse!D:E,2,FALSE)))","v":0},{"$f":"analyse!$B$1","v":0},0,0,0,0]
[null,null,{"$f":"IF(ISNA(VLOOKUP(A95333,analyse!D:E,2,FALSE))=TRUE,0,(VLOOKUP(A95333,analyse!D:E,2,FALSE)))","v":0},{"$f":"analyse!$B$1","v":0},0,0,0,0]
[null,null,{"$f":"IF(ISNA(VLOOKUP(A95385,analyse!D:E,2,FALSE))=TRUE,0,(VLOOKUP(A95385,analyse!D:E,2,FALSE)))","v":0},{"$f":"analyse!$B$1","v":0},0,0,0,0]
[null,null,{"$f":"IF(ISNA(VLOOKUP(A95498,analyse!D:E,2,FALSE))=TRUE,0,(VLOOKUP(A95498,analyse!D:E,2,FALSE)))","v":0},{"$f":"analyse!$B$1","v":0},0,0,0,0]
[null,null,{"$f":"IF(ISNA(VLOOKUP(A95553,analyse!D:E,2,FALSE))=TRUE,0,(VLOOKUP(A95553,analyse!D:E,2,FALSE)))","v":0},{"$f":"analyse!$B$1","v":0},0,0,0,0]
[null,null,{"$f":"IF(ISNA(VLOOKUP(A95664,analyse!D:E,2,FALSE))=TRUE,0,(VLOOKUP(A95664,analyse!D:E,2,FALSE)))","v":0},{"$f":"analyse!$B$1","v":0},0,0,0,0]
[null,null,{"$f":"IF(ISNA(VLOOKUP(A95669,analyse!D:E,2,FALSE))=TRUE,0,(VLOOKUP(A95669,analyse!D:E,2,FALSE)))","v":0},{"$f":"analyse!$B$1","v":0},0,0,0,0]
[null,null,{"$f":"IF(ISNA(VLOOKUP(A95751,analyse!D:E,2,FALSE))=TRUE,0,(VLOOKUP(A95751,analyse!D:E,2,FALSE)))","v":0},{"$f":"analyse!$B$1","v":0},0,0,0,0]
[null,null,{"$f":"IF(ISNA(VLOOKUP(A95862,analyse!D:E,2,FALSE))=TRUE,0,(VLOOKUP(A95862,analyse!D:E,2,FALSE)))","v":0},{"$f":"analyse!$B$1","v":0},0,0,0,0]
[null,null,{"$f":"IF(ISNA(VLOOKUP(A95917,analyse!D:E,2,FALSE))=TRUE,0,(VLOOKUP(A95917,analyse!D:E,2,FALSE)))","v":0},{"$f":"analyse!$B$1","v":0},0,0,0,0]
[null,null,{"$f":"IF(ISNA(VLOOKUP(A96028,analyse!D:E,2,FALSE))=TRUE,0,(VLOOKUP(A96028,analyse!D:E,2,FALSE)))","v":0},{"$f":"analyse!$B$1","v":0},0,0,0,0]
[null,null,{"$f":"IF(ISNA(VLOOKUP(A96085,analyse!D:E,2,FALSE))=TRUE,0,(VLOOKUP(A96085,analyse!D:E,2,FALSE)))","v":0},{"$f":"analyse!$B$1","v":0},0,0,0,0]
[null,null,{"$f":"IF(ISNA(VLOOKUP(A96193,analyse!D:E,2,FALSE))=TRUE,0,(VLOOKUP(A96193,analyse!D:E,2,FALSE)))","v":0},{"$f":"analyse!$B$1","v":0},0,0,0,0]
[null,null,{"$f":"IF(ISNA(VLOOKUP(A96226,analyse!D:E,2,FALSE))=TRUE,0,(VLOOKUP(A96226,analyse!D:E,2,FALSE)))","v":0},{"$f":"analyse!$B$1","v":0},0,0,0,0]
[null,null,{"$f":"IF(ISNA(VLOOKUP(A96337,analyse!D:E,2,FALSE))=TRUE,0,(VLOOKUP(A96337,analyse!D:E,2,FALSE)))","v":0},{"$f":"analyse!$B$1","v":0},0,0,0,0]
[null,null,{"$f":"IF(ISNA(VLOOKUP(A96392,analyse!D:E,2,FALSE))=TRUE,0,(VLOOKUP(A96392,analyse!D:E,2,FALSE)))","v":0},{"$f":"analyse!$B$1","v":0},0,0,0,0]
[null,null,{"$f":"IF(ISNA(VLOOKUP(A96501,analyse!D:E,2,FALSE))=TRUE,0,(VLOOKUP(A96501,analyse!D:E,2,FALSE)))","v":0},{"$f":"analyse!$B$1","v":0},0,0,0,0]
[null,null,{"$f":"IF(ISNA(VLOOKUP(A96557,analyse!D:E,2,FALSE))=TRUE,0,(VLOOKUP(A96557,analyse!D:E,2,FALSE)))","v":0},{"$f":"analyse!$B$1","v":0},0,0,0,0]
[null,null,{"$f":"IF(ISNA(VLOOKUP(A96668,analyse!D:E,2,FALSE))=TRUE,0,(VLOOKUP(A96668,analyse!D:E,2,FALSE)))","v":0},{"$f":"analyse!$B$1","v":0},0,0,0,0]
[null,null,{"$f":"IF(ISNA(VLOOKUP(A96701,analyse!D:E,2,FALSE))=TRUE,0,(VLOOKUP(A96701,analyse!D:E,2,FALSE)))","v":0},{"$f":"analyse!$B$1","v":0},0,0,0,0]
[null,null,{"$f":"IF(ISNA(VLOOKUP(A96756,analyse!D:E,2,FALSE))=TRUE,0,(VLOOKUP(A96756,analyse!D:E,2,FALSE)))","v":0},{"$f":"analyse!$B$1","v":0},0,0,0,0]
[null,null,{"$f":"IF(ISNA(VLOOKUP(A96840,analyse!D:E,2,FALSE))=TRUE,0,(VLOOKUP(A96840,analyse!D:E,2,FALSE)))","v":0},{"$f":"analyse!$B$1","v":0},0,0,0,0]
[null,null,{"$f":"IF(ISNA(VLOOKUP(A96977,analyse!D:E,2,FALSE))=TRUE,0,(VLOOKUP(A96977,analyse!D:E,2,FALSE)))","v":0},{"$f":"analyse!$B$1","v":0},0,0,0,0]
[null,null,{"$f":"IF(ISNA(VLOOKUP(A97032,analyse!D:E,2,FALSE))=TRUE,0,(VLOOKUP(A97032,analyse!D:E,2,FALSE)))","v":0},{"$f":"analyse!$B$1","v":0},0,0,0,0]
[null,null,{"$f":"IF(ISNA(VLOOKUP(A97143,analyse!D:E,2,FALSE))=TRUE,0,(VLOOKUP(A97143,analyse!D:E,2,FALSE)))","v":0},{"$f":"analyse!$B$1","v":0},0,0,0,0]
[null,null,{"$f":"IF(ISNA(VLOOKUP(A97198,analyse!D:E,2,FALSE))=TRUE,0,(VLOOKUP(A97198,analyse!D:E,2,FALSE)))","v":0},{"$f":"analyse!$B$1","v":0},0,0,0,0]
[null,null,{"$f":"IF(ISNA(VLOOKUP(A97256,analyse!D:E,2,FALSE))=TRUE,0,(VLOOKUP(A97256,analyse!D:E,2,FALSE)))","v":0},{"$f":"analyse!$B$1","v":0},0,0,0,0]
[null,null,{"$f":"IF(ISNA(VLOOKUP(A97341,analyse!D:E,2,FALSE))=TRUE,0,(VLOOKUP(A97341,analyse!D:E,2,FALSE)))","v":0},{"$f":"analyse!$B$1","v":0},0,0,0,0]
[null,null,{"$f":"IF(ISNA(VLOOKUP(A97396,analyse!D:E,2,FALSE))=TRUE,0,(VLOOKUP(A97396,analyse!D:E,2,FALSE)))","v":0},{"$f":"analyse!$B$1","v":0},0,0,0,0]
[null,null,{"$f":"IF(ISNA(VLOOKUP(A97507,analyse!D:E,2,FALSE))=TRUE,0,(VLOOKUP(A97507,analyse!D:E,2,FALSE)))","v":0},{"$f":"analyse!$B$1","v":0},0,0,0,0]
[null,null,{"$f":"IF(ISNA(VLOOKUP(A97562,analyse!D:E,2,FALSE))=TRUE,0,(VLOOKUP(A97562,analyse!D:E,2,FALSE)))","v":0},{"$f":"analyse!$B$1","v":0},0,0,0,0]
[null,null,{"$f":"IF(ISNA(VLOOKUP(A97672,analyse!D:E,2,FALSE))=TRUE,0,(VLOOKUP(A97672,analyse!D:E,2,FALSE)))","v":0},{"$f":"analyse!$B$1","v":0},0,0,0,0]
[null,null,{"$f":"IF(ISNA(VLOOKUP(A97705,analyse!D:E,2,FALSE))=TRUE,0,(VLOOKUP(A97705,analyse!D:E,2,FALSE)))","v":0},{"$f":"analyse!$B$1","v":0},0,0,0,0]
[null,null,{"$f":"IF(ISNA(VLOOKUP(A97838,analyse!D:E,2,FALSE))=TRUE,0,(VLOOKUP(A97838,analyse!D:E,2,FALSE)))","v":0},{"$f":"analyse!$B$1","v":0},0,0,0,0]
[null,null,{"$f":"IF(ISNA(VLOOKUP(A97871,analyse!D:E,2,FALSE))=TRUE,0,(VLOOKUP(A97871,analyse!D:E,2,FALSE)))","v":0},{"$f":"analyse!$B$1","v":0},0,0,0,0]
[null,null,{"$f":"IF(ISNA(VLOOKUP(A97982,analyse!D:E,2,FALSE))=TRUE,0,(VLOOKUP(A97982,analyse!D:E,2,FALSE)))","v":0},{"$f":"analyse!$B$1","v":0},0,0,0,0]
[null,null,{"$f":"IF(ISNA(VLOOKUP(A98011,analyse!D:E,2,FALSE))=TRUE,0,(VLOOKUP(A98011,analyse!D:E,2,FALSE)))","v":0},{"$f":"analyse!$B$1","v":0},0,0,0,0]
[null,null,{"$f":"IF(ISNA(VLOOKUP(A98147,analyse!D:E,2,FALSE))=TRUE,0,(VLOOKUP(A98147,analyse!D:E,2,FALSE)))","v":0},{"$f":"analyse!$B$1","v":0},0,0,0,0]
[null,null,{"$f":"IF(ISNA(VLOOKUP(A98202,analyse!D:E,2,FALSE))=TRUE,0,(VLOOKUP(A98202,analyse!D:E,2,FALSE)))","v":0},{"$f":"analyse!$B$1","v":0},0,0,0,0]
[null,null,{"$f":"IF(ISNA(VLOOKUP(A98235,analyse!D:E,2,FALSE))=TRUE,0,(VLOOKUP(A98235,analyse!D:E,2,FALSE)))","v":0},{"$f":"analyse!$B$1","v":0},0,0,0,0]
[null,null,{"$f":"IF(ISNA(VLOOKUP(A98346,analyse!D:E,2,FALSE))=TRUE,0,(VLOOKUP(A98346,analyse!D:E,2,FALSE)))","v":0},{"$f":"analyse!$B$1","v":0},0,0,0,0]
[null,null,{"$f":"IF(ISNA(VLOOKUP(A98427,analyse!D:E,2,FALSE))=TRUE,0,(VLOOKUP(A98427,analyse!D:E,2,FALSE)))","v":0},{"$f":"analyse!$B$1","v":0},0,0,0,0]
[null,null,{"$f":"IF(ISNA(VLOOKUP(A98511,analyse!D:E,2,FALSE))=TRUE,0,(VLOOKUP(A98511,analyse!D:E,2,FALSE)))","v":0},{"$f":"analyse!$B$1","v":0},0,0,0,0]
[null,null,{"$f":"IF(ISNA(VLOOKUP(A98566,analyse!D:E,2,FALSE))=TRUE,0,(VLOOKUP(A98566,analyse!D:E,2,FALSE)))","v":0},{"$f":"analyse!$B$1","v":0},0,0,0,0]
[null,null,{"$f":"IF(ISNA(VLOOKUP(A98677,analyse!D:E,2,FALSE))=TRUE,0,(VLOOKUP(A98677,analyse!D:E,2,FALSE)))","v":0},{"$f":"analyse!$B$1","v":0},0,0,0,0]
[null,null,{"$f":"IF(ISNA(VLOOKUP(A98711,analyse!D:E,2,FALSE))=TRUE,0,(VLOOKUP(A98711,analyse!D:E,2,FALSE)))","v":0},{"$f":"analyse!$B$1","v":0},0,0,0,0]
[null,null,{"$f":"IF(ISNA(VLOOKUP(A98842,analyse!D:E,2,FALSE))=TRUE,0,(VLOOKUP(A98842,analyse!D:E,2,FALSE)))","v":0},{"$f":"analyse!$B$1","v":0},0,0,0,0]
[null,null,{"$f":"IF(ISNA(VLOOKUP(A98875,analyse!D:E,2,FALSE))=TRUE,0,(VLOOKUP(A98875,analyse!D:E,2,FALSE)))","v":0},{"$f":"analyse!$B$1","v":0},0,0,0,0]
[null,null,{"$f":"IF(ISNA(VLOOKUP(A98986,analyse!D:E,2,FALSE))=TRUE,0,(VLOOKUP(A98986,analyse!D:E,2,FALSE)))","v":0},{"$f":"analyse!$B$1","v":0},0,0,0,0]
[null,null,{"$f":"IF(ISNA(VLOOKUP(A99041,analyse!D:E,2,FALSE))=TRUE,0,(VLOOKUP(A99041,analyse!D:E,2,FALSE)))","v":0},{"$f":"analyse!$B$1","v":0},0,0,0,0]
[null,null,{"$f":"IF(ISNA(VLOOKUP(A99127,analyse!D:E,2,FALSE))=TRUE,0,(VLOOKUP(A99127,analyse!D:E,2,FALSE)))","v":0},{"$f":"analyse!$B$1","v":0},0,0,0,0]
[null,null,{"$f":"IF(ISNA(VLOOKUP(A99206,analyse!D:E,2,FALSE))=TRUE,0,(VLOOKUP(A99206,analyse!D:E,2,FALSE)))","v":0},{"$f":"analyse!$B$1","v":0},0,0,0,0]
[null,null,{"$f":"IF(ISNA(VLOOKUP(A99317,analyse!D:E,2,FALSE))=TRUE,0,(VLOOKUP(A99317,analyse!D:E,2,FALSE)))","v":0},{"$f":"analyse!$B$1","v":0},0,0,0,0]
[null,null,{"$f":"IF(ISNA(VLOOKUP(A99350,analyse!D:E,2,FALSE))=TRUE,0,(VLOOKUP(A99350,analyse!D:E,2,FALSE)))","v":0},{"$f":"analyse!$B$1","v":0},0,0,0,0]
[null,null,{"$f":"IF(ISNA(VLOOKUP(A99405,analyse!D:E,2,FALSE))=TRUE,0,(VLOOKUP(A99405,analyse!D:E,2,FALSE)))","v":0},{"$f":"analyse!$B$1","v":0},0,0,0,0]
[null,null,{"$f":"IF(ISNA(VLOOKUP(A99543,analyse!D:E,2,FALSE))=TRUE,0,(VLOOKUP(A99543,analyse!D:E,2,FALSE)))","v":0},{"$f":"analyse!$B$1","v":0},0,0,0,0]
[null,null,{"$f":"IF(ISNA(VLOOKUP(A99626,analyse!D:E,2,FALSE))=TRUE,0,(VLOOKUP(A99626,analyse!D:E,2,FALSE)))","v":0},{"$f":"analyse!$B$1","v":0},0,0,0,0]
[null,null,{"$f":"IF(ISNA(VLOOKUP(A99681,analyse!D:E,2,FALSE))=TRUE,0,(VLOOKUP(A99681,analyse!D:E,2,FALSE)))","v":0},{"$f":"analyse!$B$1","v":0},0,0,0,0]
[null,null,{"$f":"IF(ISNA(VLOOKUP(A99714,analyse!D:E,2,FALSE))=TRUE,0,(VLOOKUP(A99714,analyse!D:E,2,FALSE)))","v":0},{"$f":"analyse!$B$1","v":0},{"$f":"D99714-C99714","v":0},{"$f":"E99714+C99714","v":0},{"$f":"IF(F99714<E99714,D99714-1,D99714)","v":0},{"$f":"IF(A99714=\"S20.G01.00.001\",H99713+1,H99713)","v":0}]
[null,null,{"$f":"IF(ISNA(VLOOKUP(A99847,analyse!D:E,2,FALSE))=TRUE,0,(VLOOKUP(A99847,analyse!D:E,2,FALSE)))","v":0},{"$f":"analyse!$B$1","v":0},0,0,0,0]
[null,null,{"$f":"IF(ISNA(VLOOKUP(A99882,analyse!D:E,2,FALSE))=TRUE,0,(VLOOKUP(A99882,analyse!D:E,2,FALSE)))","v":0},{"$f":"analyse!$B$1","v":0},0,0,0,0]
[null,null,{"$f":"IF(ISNA(VLOOKUP(A99990,analyse!D:E,2,FALSE))=TRUE,0,(VLOOKUP(A99990,analyse!D:E,2,FALSE)))","v":0},{"$f":"analyse!$B$1","v":0},0,0,0,0]
[null,null,{"$f":"IF(ISNA(VLOOKUP(A100045,analyse!D:E,2,FALSE))=TRUE,0,(VLOOKUP(A100045,analyse!D:E,2,FALSE)))","v":0},{"$f":"analyse!$B$1","v":0},0,0,0,0]
[null,null,{"$f":"IF(ISNA(VLOOKUP(A100156,analyse!D:E,2,FALSE))=TRUE,0,(VLOOKUP(A100156,analyse!D:E,2,FALSE)))","v":0},{"$f":"analyse!$B$1","v":0},0,0,0,0]
[null,null,{"$f":"IF(ISNA(VLOOKUP(A100211,analyse!D:E,2,FALSE))=TRUE,0,(VLOOKUP(A100211,analyse!D:E,2,FALSE)))","v":0},{"$f":"analyse!$B$1","v":0},0,0,0,0]
[null,null,{"$f":"IF(ISNA(VLOOKUP(A100298,analyse!D:E,2,FALSE))=TRUE,0,(VLOOKUP(A100298,analyse!D:E,2,FALSE)))","v":0},{"$f":"analyse!$B$1","v":0},0,0,0,0]
[null,null,{"$f":"IF(ISNA(VLOOKUP(A100354,analyse!D:E,2,FALSE))=TRUE,0,(VLOOKUP(A100354,analyse!D:E,2,FALSE)))","v":0},{"$f":"analyse!$B$1","v":0},{"$f":"D100354-C100354","v":0},{"$f":"E100354+C100354","v":0},{"$f":"IF(F100354<E100354,D100354-1,D100354)","v":0},{"$f":"IF(A100354=\"S20.G01.00.001\",H100353+1,H100353)","v":0}]
[null,null,{"$f":"IF(ISNA(VLOOKUP(A100487,analyse!D:E,2,FALSE))=TRUE,0,(VLOOKUP(A100487,analyse!D:E,2,FALSE)))","v":0},{"$f":"analyse!$B$1","v":0},0,0,0,0]
[null,null,{"$f":"IF(ISNA(VLOOKUP(A100520,analyse!D:E,2,FALSE))=TRUE,0,(VLOOKUP(A100520,analyse!D:E,2,FALSE)))","v":0},{"$f":"analyse!$B$1","v":0},0,0,0,0]
[null,null,{"$f":"IF(ISNA(VLOOKUP(A100631,analyse!D:E,2,FALSE))=TRUE,0,(VLOOKUP(A100631,analyse!D:E,2,FALSE)))","v":0},{"$f":"analyse!$B$1","v":0},0,0,0,0]
[null,null,{"$f":"IF(ISNA(VLOOKUP(A100714,analyse!D:E,2,FALSE))=TRUE,0,(VLOOKUP(A100714,analyse!D:E,2,FALSE)))","v":0},{"$f":"analyse!$B$1","v":0},0,0,0,0]
[null,null,{"$f":"IF(ISNA(VLOOKUP(A100796,analyse!D:E,2,FALSE))=TRUE,0,(VLOOKUP(A100796,analyse!D:E,2,FALSE)))","v":0},{"$f":"analyse!$B$1","v":0},0,0,0,0]
[null,null,{"$f":"IF(ISNA(VLOOKUP(A100851,analyse!D:E,2,FALSE))=TRUE,0,(VLOOKUP(A100851,analyse!D:E,2,FALSE)))","v":0},{"$f":"analyse!$B$1","v":0},0,0,0,0]
[null,null,{"$f":"IF(ISNA(VLOOKUP(A100884,analyse!D:E,2,FALSE))=TRUE,0,(VLOOKUP(A100884,analyse!D:E,2,FALSE)))","v":0},{"$f":"analyse!$B$1","v":0},0,0,0,0]
[null,null,{"$f":"IF(ISNA(VLOOKUP(A100995,analyse!D:E,2,FALSE))=TRUE,0,(VLOOKUP(A100995,analyse!D:E,2,FALSE)))","v":0},{"$f":"analyse!$B$1","v":0},0,0,0,0]
[null,null,{"$f":"IF(ISNA(VLOOKUP(A101053,analyse!D:E,2,FALSE))=TRUE,0,(VLOOKUP(A101053,analyse!D:E,2,FALSE)))","v":0},{"$f":"analyse!$B$1","v":0},0,0,0,0]
[null,null,{"$f":"IF(ISNA(VLOOKUP(A101160,analyse!D:E,2,FALSE))=TRUE,0,(VLOOKUP(A101160,analyse!D:E,2,FALSE)))","v":0},{"$f":"analyse!$B$1","v":0},0,0,0,0]
[null,null,{"$f":"IF(ISNA(VLOOKUP(A101215,analyse!D:E,2,FALSE))=TRUE,0,(VLOOKUP(A101215,analyse!D:E,2,FALSE)))","v":0},{"$f":"analyse!$B$1","v":0},0,0,0,0]
[null,null,{"$f":"IF(ISNA(VLOOKUP(A101326,analyse!D:E,2,FALSE))=TRUE,0,(VLOOKUP(A101326,analyse!D:E,2,FALSE)))","v":0},{"$f":"analyse!$B$1","v":0},0,0,0,0]
[null,null,{"$f":"IF(ISNA(VLOOKUP(A101359,analyse!D:E,2,FALSE))=TRUE,0,(VLOOKUP(A101359,analyse!D:E,2,FALSE)))","v":0},{"$f":"analyse!$B$1","v":0},0,0,0,0]
[null,null,{"$f":"IF(ISNA(VLOOKUP(A101469,analyse!D:E,2,FALSE))=TRUE,0,(VLOOKUP(A101469,analyse!D:E,2,FALSE)))","v":0},{"$f":"analyse!$B$1","v":0},0,0,0,0]
[null,null,{"$f":"IF(ISNA(VLOOKUP(A101524,analyse!D:E,2,FALSE))=TRUE,0,(VLOOKUP(A101524,analyse!D:E,2,FALSE)))","v":0},{"$f":"analyse!$B$1","v":0},0,0,0,0]
[null,null,{"$f":"IF(ISNA(VLOOKUP(A101635,analyse!D:E,2,FALSE))=TRUE,0,(VLOOKUP(A101635,analyse!D:E,2,FALSE)))","v":0},{"$f":"analyse!$B$1","v":0},0,0,0,0]
[null,null,{"$f":"IF(ISNA(VLOOKUP(A101690,analyse!D:E,2,FALSE))=TRUE,0,(VLOOKUP(A101690,analyse!D:E,2,FALSE)))","v":0},{"$f":"analyse!$B$1","v":0},0,0,0,0]
[null,null,{"$f":"IF(ISNA(VLOOKUP(A101753,analyse!D:E,2,FALSE))=TRUE,0,(VLOOKUP(A101753,analyse!D:E,2,FALSE)))","v":0},{"$f":"analyse!$B$1","v":0},0,0,0,0]
[null,null,{"$f":"IF(ISNA(VLOOKUP(A101855,analyse!D:E,2,FALSE))=TRUE,0,(VLOOKUP(A101855,analyse!D:E,2,FALSE)))","v":0},{"$f":"analyse!$B$1","v":0},0,0,0,0]
[null,null,{"$f":"IF(ISNA(VLOOKUP(A101966,analyse!D:E,2,FALSE))=TRUE,0,(VLOOKUP(A101966,analyse!D:E,2,FALSE)))","v":0},{"$f":"analyse!$B$1","v":0},0,0,0,0]
[null,null,{"$f":"IF(ISNA(VLOOKUP(A101999,analyse!D:E,2,FALSE))=TRUE,0,(VLOOKUP(A101999,analyse!D:E,2,FALSE)))","v":0},{"$f":"analyse!$B$1","v":0},0,0,0,0]
[null,null,{"$f":"IF(ISNA(VLOOKUP(A102054,analyse!D:E,2,FALSE))=TRUE,0,(VLOOKUP(A102054,analyse!D:E,2,FALSE)))","v":0},{"$f":"analyse!$B$1","v":0},0,0,0,0]
[null,null,{"$f":"IF(ISNA(VLOOKUP(A102169,analyse!D:E,2,FALSE))=TRUE,0,(VLOOKUP(A102169,analyse!D:E,2,FALSE)))","v":0},{"$f":"analyse!$B$1","v":0},0,0,0,0]
[null,null,{"$f":"IF(ISNA(VLOOKUP(A102275,analyse!D:E,2,FALSE))=TRUE,0,(VLOOKUP(A102275,analyse!D:E,2,FALSE)))","v":0},{"$f":"analyse!$B$1","v":0},0,0,0,0]
[null,null,{"$f":"IF(ISNA(VLOOKUP(A102330,analyse!D:E,2,FALSE))=TRUE,0,(VLOOKUP(A102330,analyse!D:E,2,FALSE)))","v":0},{"$f":"analyse!$B$1","v":0},0,0,0,0]
[null,null,{"$f":"IF(ISNA(VLOOKUP(A102363,analyse!D:E,2,FALSE))=TRUE,0,(VLOOKUP(A102363,analyse!D:E,2,FALSE)))","v":0},{"$f":"analyse!$B$1","v":0},0,0,0,0]
[null,null,{"$f":"IF(ISNA(VLOOKUP(A102496,analyse!D:E,2,FALSE))=TRUE,0,(VLOOKUP(A102496,analyse!D:E,2,FALSE)))","v":0},{"$f":"analyse!$B$1","v":0},0,0,0,0]
[null,null,{"$f":"IF(ISNA(VLOOKUP(A102585,analyse!D:E,2,FALSE))=TRUE,0,(VLOOKUP(A102585,analyse!D:E,2,FALSE)))","v":0},{"$f":"analyse!$B$1","v":0},0,0,0,0]
[null,null,{"$f":"IF(ISNA(VLOOKUP(A102639,analyse!D:E,2,FALSE))=TRUE,0,(VLOOKUP(A102639,analyse!D:E,2,FALSE)))","v":0},{"$f":"analyse!$B$1","v":0},0,0,0,0]
[null,null,{"$f":"IF(ISNA(VLOOKUP(A102694,analyse!D:E,2,FALSE))=TRUE,0,(VLOOKUP(A102694,analyse!D:E,2,FALSE)))","v":0},{"$f":"analyse!$B$1","v":0},0,0,0,0]
[null,null,{"$f":"IF(ISNA(VLOOKUP(A102805,analyse!D:E,2,FALSE))=TRUE,0,(VLOOKUP(A102805,analyse!D:E,2,FALSE)))","v":0},{"$f":"analyse!$B$1","v":0},0,0,0,0]
[null,null,{"$f":"IF(ISNA(VLOOKUP(A102860,analyse!D:E,2,FALSE))=TRUE,0,(VLOOKUP(A102860,analyse!D:E,2,FALSE)))","v":0},{"$f":"analyse!$B$1","v":0},0,0,0,0]
[null,null,{"$f":"IF(ISNA(VLOOKUP(A102924,analyse!D:E,2,FALSE))=TRUE,0,(VLOOKUP(A102924,analyse!D:E,2,FALSE)))","v":0},{"$f":"analyse!$B$1","v":0},0,0,0,0]
[null,null,{"$f":"IF(ISNA(VLOOKUP(A103003,analyse!D:E,2,FALSE))=TRUE,0,(VLOOKUP(A103003,analyse!D:E,2,FALSE)))","v":0},{"$f":"analyse!$B$1","v":0},0,0,0,0]
[null,null,{"$f":"IF(ISNA(VLOOKUP(A103058,analyse!D:E,2,FALSE))=TRUE,0,(VLOOKUP(A103058,analyse!D:E,2,FALSE)))","v":0},{"$f":"analyse!$B$1","v":0},0,0,0,0]
[null,null,{"$f":"IF(ISNA(VLOOKUP(A103169,analyse!D:E,2,FALSE))=TRUE,0,(VLOOKUP(A103169,analyse!D:E,2,FALSE)))","v":0},{"$f":"analyse!$B$1","v":0},0,0,0,0]
[null,null,{"$f":"IF(ISNA(VLOOKUP(A103280,analyse!D:E,2,FALSE))=TRUE,0,(VLOOKUP(A103280,analyse!D:E,2,FALSE)))","v":0},{"$f":"analyse!$B$1","v":0},0,0,0,0]
[null,null,{"$f":"IF(ISNA(VLOOKUP(A103340,analyse!D:E,2,FALSE))=TRUE,0,(VLOOKUP(A103340,analyse!D:E,2,FALSE)))","v":0},{"$f":"analyse!$B$1","v":0},0,0,0,0]
[null,null,{"$f":"IF(ISNA(VLOOKUP(A103367,analyse!D:E,2,FALSE))=TRUE,0,(VLOOKUP(A103367,analyse!D:E,2,FALSE)))","v":0},{"$f":"analyse!$B$1","v":0},0,0,0,0]
[null,null,{"$f":"IF(ISNA(VLOOKUP(A103500,analyse!D:E,2,FALSE))=TRUE,0,(VLOOKUP(A103500,analyse!D:E,2,FALSE)))","v":0},{"$f":"analyse!$B$1","v":0},0,0,0,0]
[null,null,{"$f":"IF(ISNA(VLOOKUP(A103533,analyse!D:E,2,FALSE))=TRUE,0,(VLOOKUP(A103533,analyse!D:E,2,FALSE)))","v":0},{"$f":"analyse!$B$1","v":0},0,0,0,0]
[null,null,{"$f":"IF(ISNA(VLOOKUP(A103644,analyse!D:E,2,FALSE))=TRUE,0,(VLOOKUP(A103644,analyse!D:E,2,FALSE)))","v":0},{"$f":"analyse!$B$1","v":0},0,0,0,0]
[null,null,{"$f":"IF(ISNA(VLOOKUP(A103679,analyse!D:E,2,FALSE))=TRUE,0,(VLOOKUP(A103679,analyse!D:E,2,FALSE)))","v":0},{"$f":"analyse!$B$1","v":0},0,0,0,0]
[null,null,{"$f":"IF(ISNA(VLOOKUP(A103809,analyse!D:E,2,FALSE))=TRUE,0,(VLOOKUP(A103809,analyse!D:E,2,FALSE)))","v":0},{"$f":"analyse!$B$1","v":0},0,0,0,0]
[null,null,{"$f":"IF(ISNA(VLOOKUP(A103842,analyse!D:E,2,FALSE))=TRUE,0,(VLOOKUP(A103842,analyse!D:E,2,FALSE)))","v":0},{"$f":"analyse!$B$1","v":0},0,0,0,0]
[null,null,{"$f":"IF(ISNA(VLOOKUP(A103975,analyse!D:E,2,FALSE))=TRUE,0,(VLOOKUP(A103975,analyse!D:E,2,FALSE)))","v":0},{"$f":"analyse!$B$1","v":0},0,0,0,0]
[null,null,{"$f":"IF(ISNA(VLOOKUP(A104008,analyse!D:E,2,FALSE))=TRUE,0,(VLOOKUP(A104008,analyse!D:E,2,FALSE)))","v":0},{"$f":"analyse!$B$1","v":0},0,0,0,0]
[null,null,{"$f":"IF(ISNA(VLOOKUP(A104095,analyse!D:E,2,FALSE))=TRUE,0,(VLOOKUP(A104095,analyse!D:E,2,FALSE)))","v":0},{"$f":"analyse!$B$1","v":0},0,0,0,0]
[null,null,{"$f":"IF(ISNA(VLOOKUP(A104173,analyse!D:E,2,FALSE))=TRUE,0,(VLOOKUP(A104173,analyse!D:E,2,FALSE)))","v":0},{"$f":"analyse!$B$1","v":0},0,0,0,0]
[null,null,{"$f":"IF(ISNA(VLOOKUP(A104284,analyse!D:E,2,FALSE))=TRUE,0,(VLOOKUP(A104284,analyse!D:E,2,FALSE)))","v":0},{"$f":"analyse!$B$1","v":0},0,0,0,0]
[null,null,{"$f":"IF(ISNA(VLOOKUP(A104339,analyse!D:E,2,FALSE))=TRUE,0,(VLOOKUP(A104339,analyse!D:E,2,FALSE)))","v":0},{"$f":"analyse!$B$1","v":0},0,0,0,0]
[null,null,{"$f":"IF(ISNA(VLOOKUP(A104450,analyse!D:E,2,FALSE))=TRUE,0,(VLOOKUP(A104450,analyse!D:E,2,FALSE)))","v":0},{"$f":"analyse!$B$1","v":0},{"$f":"D104450-C104450","v":0},{"$f":"E104450+C104450","v":0},{"$f":"IF(F104450<E104450,D104450-1,D104450)","v":0},{"$f":"IF(A104450=\"S20.G01.00.001\",H104449+1,H104449)","v":0}]
[null,null,{"$f":"IF(ISNA(VLOOKUP(A104511,analyse!D:E,2,FALSE))=TRUE,0,(VLOOKUP(A104511,analyse!D:E,2,FALSE)))","v":0},{"$f":"analyse!$B$1","v":0},0,0,0,0]
[null,null,{"$f":"IF(ISNA(VLOOKUP(A104537,analyse!D:E,2,FALSE))=TRUE,0,(VLOOKUP(A104537,analyse!D:E,2,FALSE)))","v":0},{"$f":"analyse!$B$1","v":0},0,0,0,0]
[null,null,{"$f":"IF(ISNA(VLOOKUP(A104648,analyse!D:E,2,FALSE))=TRUE,0,(VLOOKUP(A104648,analyse!D:E,2,FALSE)))","v":0},{"$f":"analyse!$B$1","v":0},0,0,0,0]
[null,null,{"$f":"IF(ISNA(VLOOKUP(A104703,analyse!D:E,2,FALSE))=TRUE,0,(VLOOKUP(A104703,analyse!D:E,2,FALSE)))","v":0},{"$f":"analyse!$B$1","v":0},0,0,0,0]
[null,null,{"$f":"IF(ISNA(VLOOKUP(A104795,analyse!D:E,2,FALSE))=TRUE,0,(VLOOKUP(A104795,analyse!D:E,2,FALSE)))","v":0},{"$f":"analyse!$B$1","v":0},0,0,0,0]
[null,null,{"$f":"IF(ISNA(VLOOKUP(A104846,analyse!D:E,2,FALSE))=TRUE,0,(VLOOKUP(A104846,analyse!D:E,2,FALSE)))","v":0},{"$f":"analyse!$B$1","v":0},0,0,0,0]
[null,null,{"$f":"IF(ISNA(VLOOKUP(A104979,analyse!D:E,2,FALSE))=TRUE,0,(VLOOKUP(A104979,analyse!D:E,2,FALSE)))","v":0},{"$f":"analyse!$B$1","v":0},0,0,0,0]
[null,null,{"$f":"IF(ISNA(VLOOKUP(A105012,analyse!D:E,2,FALSE))=TRUE,0,(VLOOKUP(A105012,analyse!D:E,2,FALSE)))","v":0},{"$f":"analyse!$B$1","v":0},0,0,0,0]
[null,null,{"$f":"IF(ISNA(VLOOKUP(A105145,analyse!D:E,2,FALSE))=TRUE,0,(VLOOKUP(A105145,analyse!D:E,2,FALSE)))","v":0},{"$f":"analyse!$B$1","v":0},0,0,0,0]
[null,null,{"$f":"IF(ISNA(VLOOKUP(A105211,analyse!D:E,2,FALSE))=TRUE,0,(VLOOKUP(A105211,analyse!D:E,2,FALSE)))","v":0},{"$f":"analyse!$B$1","v":0},0,0,0,0]
[null,null,{"$f":"IF(ISNA(VLOOKUP(A105288,analyse!D:E,2,FALSE))=TRUE,0,(VLOOKUP(A105288,analyse!D:E,2,FALSE)))","v":0},{"$f":"analyse!$B$1","v":0},0,0,0,0]
[null,null,{"$f":"IF(ISNA(VLOOKUP(A105343,analyse!D:E,2,FALSE))=TRUE,0,(VLOOKUP(A105343,analyse!D:E,2,FALSE)))","v":0},{"$f":"analyse!$B$1","v":0},0,0,0,0]
[null,null,{"$f":"IF(ISNA(VLOOKUP(A105454,analyse!D:E,2,FALSE))=TRUE,0,(VLOOKUP(A105454,analyse!D:E,2,FALSE)))","v":0},{"$f":"analyse!$B$1","v":0},0,0,0,0]
[null,null,{"$f":"IF(ISNA(VLOOKUP(A105509,analyse!D:E,2,FALSE))=TRUE,0,(VLOOKUP(A105509,analyse!D:E,2,FALSE)))","v":0},{"$f":"analyse!$B$1","v":0},0,0,0,0]
[null,null,{"$f":"IF(ISNA(VLOOKUP(A105550,analyse!D:E,2,FALSE))=TRUE,0,(VLOOKUP(A105550,analyse!D:E,2,FALSE)))","v":0},{"$f":"analyse!$B$1","v":0},0,0,0,0]
[null,null,{"$f":"IF(ISNA(VLOOKUP(A105652,analyse!D:E,2,FALSE))=TRUE,0,(VLOOKUP(A105652,analyse!D:E,2,FALSE)))","v":0},{"$f":"analyse!$B$1","v":0},0,0,0,0]
[null,null,{"$f":"IF(ISNA(VLOOKUP(A105707,analyse!D:E,2,FALSE))=TRUE,0,(VLOOKUP(A105707,analyse!D:E,2,FALSE)))","v":0},{"$f":"analyse!$B$1","v":0},0,0,0,0]
[null,null,{"$f":"IF(ISNA(VLOOKUP(A105818,analyse!D:E,2,FALSE))=TRUE,0,(VLOOKUP(A105818,analyse!D:E,2,FALSE)))","v":0},{"$f":"analyse!$B$1","v":0},0,0,0,0]
[null,null,{"$f":"IF(ISNA(VLOOKUP(A105929,analyse!D:E,2,FALSE))=TRUE,0,(VLOOKUP(A105929,analyse!D:E,2,FALSE)))","v":0},{"$f":"analyse!$B$1","v":0},0,0,0,0]
[null,null,{"$f":"IF(ISNA(VLOOKUP(A105966,analyse!D:E,2,FALSE))=TRUE,0,(VLOOKUP(A105966,analyse!D:E,2,FALSE)))","v":0},{"$f":"analyse!$B$1","v":0},0,0,0,0]
[null,null,{"$f":"IF(ISNA(VLOOKUP(A106016,analyse!D:E,2,FALSE))=TRUE,0,(VLOOKUP(A106016,analyse!D:E,2,FALSE)))","v":0},{"$f":"analyse!$B$1","v":0},0,0,0,0]
[null,null,{"$f":"IF(ISNA(VLOOKUP(A106149,analyse!D:E,2,FALSE))=TRUE,0,(VLOOKUP(A106149,analyse!D:E,2,FALSE)))","v":0},{"$f":"analyse!$B$1","v":0},0,0,0,0]
[null,null,{"$f":"IF(ISNA(VLOOKUP(A106182,analyse!D:E,2,FALSE))=TRUE,0,(VLOOKUP(A106182,analyse!D:E,2,FALSE)))","v":0},{"$f":"analyse!$B$1","v":0},0,0,0,0]
[null,null,{"$f":"IF(ISNA(VLOOKUP(A106293,analyse!D:E,2,FALSE))=TRUE,0,(VLOOKUP(A106293,analyse!D:E,2,FALSE)))","v":0},{"$f":"analyse!$B$1","v":0},0,0,0,0]
[null,null,{"$f":"IF(ISNA(VLOOKUP(A106382,analyse!D:E,2,FALSE))=TRUE,0,(VLOOKUP(A106382,analyse!D:E,2,FALSE)))","v":0},{"$f":"analyse!$B$1","v":0},0,0,0,0]
[null,null,{"$f":"IF(ISNA(VLOOKUP(A106458,analyse!D:E,2,FALSE))=TRUE,0,(VLOOKUP(A106458,analyse!D:E,2,FALSE)))","v":0},{"$f":"analyse!$B$1","v":0},0,0,0,0]
[null,null,{"$f":"IF(ISNA(VLOOKUP(A106491,analyse!D:E,2,FALSE))=TRUE,0,(VLOOKUP(A106491,analyse!D:E,2,FALSE)))","v":0},{"$f":"analyse!$B$1","v":0},0,0,0,0]
[null,null,{"$f":"IF(ISNA(VLOOKUP(A106624,analyse!D:E,2,FALSE))=TRUE,0,(VLOOKUP(A106624,analyse!D:E,2,FALSE)))","v":0},{"$f":"analyse!$B$1","v":0},0,0,0,0]
[null,null,{"$f":"IF(ISNA(VLOOKUP(A106657,analyse!D:E,2,FALSE))=TRUE,0,(VLOOKUP(A106657,analyse!D:E,2,FALSE)))","v":0},{"$f":"analyse!$B$1","v":0},0,0,0,0]
[null,null,{"$f":"IF(ISNA(VLOOKUP(A106721,analyse!D:E,2,FALSE))=TRUE,0,(VLOOKUP(A106721,analyse!D:E,2,FALSE)))","v":0},{"$f":"analyse!$B$1","v":0},0,0,0,0]
[null,null,{"$f":"IF(ISNA(VLOOKUP(A106822,analyse!D:E,2,FALSE))=TRUE,0,(VLOOKUP(A106822,analyse!D:E,2,FALSE)))","v":0},{"$f":"analyse!$B$1","v":0},0,0,0,0]
[null,null,{"$f":"IF(ISNA(VLOOKUP(A106933,analyse!D:E,2,FALSE))=TRUE,0,(VLOOKUP(A106933,analyse!D:E,2,FALSE)))","v":0},{"$f":"analyse!$B$1","v":0},0,0,0,0]
[null,null,{"$f":"IF(ISNA(VLOOKUP(A106988,analyse!D:E,2,FALSE))=TRUE,0,(VLOOKUP(A106988,analyse!D:E,2,FALSE)))","v":0},{"$f":"analyse!$B$1","v":0},0,0,0,0]
[null,null,{"$f":"IF(ISNA(VLOOKUP(A107099,analyse!D:E,2,FALSE))=TRUE,0,(VLOOKUP(A107099,analyse!D:E,2,FALSE)))","v":0},{"$f":"analyse!$B$1","v":0},0,0,0,0]
[null,null,{"$f":"IF(ISNA(VLOOKUP(A107137,analyse!D:E,2,FALSE))=TRUE,0,(VLOOKUP(A107137,analyse!D:E,2,FALSE)))","v":0},{"$f":"analyse!$B$1","v":0},0,0,0,0]
[null,null,{"$f":"IF(ISNA(VLOOKUP(A107186,analyse!D:E,2,FALSE))=TRUE,0,(VLOOKUP(A107186,analyse!D:E,2,FALSE)))","v":0},{"$f":"analyse!$B$1","v":0},0,0,0,0]
[null,null,{"$f":"IF(ISNA(VLOOKUP(A107297,analyse!D:E,2,FALSE))=TRUE,0,(VLOOKUP(A107297,analyse!D:E,2,FALSE)))","v":0},{"$f":"analyse!$B$1","v":0},0,0,0,0]
[null,null,{"$f":"IF(ISNA(VLOOKUP(A107352,analyse!D:E,2,FALSE))=TRUE,0,(VLOOKUP(A107352,analyse!D:E,2,FALSE)))","v":0},{"$f":"analyse!$B$1","v":0},0,0,0,0]
[null,null,{"$f":"IF(ISNA(VLOOKUP(A107463,analyse!D:E,2,FALSE))=TRUE,0,(VLOOKUP(A107463,analyse!D:E,2,FALSE)))","v":0},{"$f":"analyse!$B$1","v":0},0,0,0,0]
[null,null,{"$f":"IF(ISNA(VLOOKUP(A107549,analyse!D:E,2,FALSE))=TRUE,0,(VLOOKUP(A107549,analyse!D:E,2,FALSE)))","v":0},{"$f":"analyse!$B$1","v":0},0,0,0,0]
[null,null,{"$f":"IF(ISNA(VLOOKUP(A107628,analyse!D:E,2,FALSE))=TRUE,0,(VLOOKUP(A107628,analyse!D:E,2,FALSE)))","v":0},{"$f":"analyse!$B$1","v":0},0,0,0,0]
[null,null,{"$f":"IF(ISNA(VLOOKUP(A107661,analyse!D:E,2,FALSE))=TRUE,0,(VLOOKUP(A107661,analyse!D:E,2,FALSE)))","v":0},{"$f":"analyse!$B$1","v":0},0,0,0,0]
[null,null,{"$f":"IF(ISNA(VLOOKUP(A107794,analyse!D:E,2,FALSE))=TRUE,0,(VLOOKUP(A107794,analyse!D:E,2,FALSE)))","v":0},{"$f":"analyse!$B$1","v":0},0,0,0,0]
[null,null,{"$f":"IF(ISNA(VLOOKUP(A107837,analyse!D:E,2,FALSE))=TRUE,0,(VLOOKUP(A107837,analyse!D:E,2,FALSE)))","v":0},{"$f":"analyse!$B$1","v":0},0,0,0,0]
[null,null,{"$f":"IF(ISNA(VLOOKUP(A107937,analyse!D:E,2,FALSE))=TRUE,0,(VLOOKUP(A107937,analyse!D:E,2,FALSE)))","v":0},{"$f":"analyse!$B$1","v":0},0,0,0,0]
[null,null,{"$f":"IF(ISNA(VLOOKUP(A107992,analyse!D:E,2,FALSE))=TRUE,0,(VLOOKUP(A107992,analyse!D:E,2,FALSE)))","v":0},{"$f":"analyse!$B$1","v":0},0,0,0,0]
[null,null,{"$f":"IF(ISNA(VLOOKUP(A108103,analyse!D:E,2,FALSE))=TRUE,0,(VLOOKUP(A108103,analyse!D:E,2,FALSE)))","v":0},{"$f":"analyse!$B$1","v":0},0,0,0,0]
[null,null,{"$f":"IF(ISNA(VLOOKUP(A108158,analyse!D:E,2,FALSE))=TRUE,0,(VLOOKUP(A108158,analyse!D:E,2,FALSE)))","v":0},{"$f":"analyse!$B$1","v":0},0,0,0,0]
[null,null,{"$f":"IF(ISNA(VLOOKUP(A108253,analyse!D:E,2,FALSE))=TRUE,0,(VLOOKUP(A108253,analyse!D:E,2,FALSE)))","v":0},{"$f":"analyse!$B$1","v":0},0,0,0,0]
[null,null,{"$f":"IF(ISNA(VLOOKUP(A108301,analyse!D:E,2,FALSE))=TRUE,0,(VLOOKUP(A108301,analyse!D:E,2,FALSE)))","v":0},{"$f":"analyse!$B$1","v":0},0,0,0,0]
[null,null,{"$f":"IF(ISNA(VLOOKUP(A108356,analyse!D:E,2,FALSE))=TRUE,0,(VLOOKUP(A108356,analyse!D:E,2,FALSE)))","v":0},{"$f":"analyse!$B$1","v":0},0,0,0,0]
[null,null,{"$f":"IF(ISNA(VLOOKUP(A108467,analyse!D:E,2,FALSE))=TRUE,0,(VLOOKUP(A108467,analyse!D:E,2,FALSE)))","v":0},{"$f":"analyse!$B$1","v":0},0,0,0,0]
[null,null,{"$f":"IF(ISNA(VLOOKUP(A108578,analyse!D:E,2,FALSE))=TRUE,0,(VLOOKUP(A108578,analyse!D:E,2,FALSE)))","v":0},{"$f":"analyse!$B$1","v":0},0,0,0,0]
[null,null,{"$f":"IF(ISNA(VLOOKUP(A108592,analyse!D:E,2,FALSE))=TRUE,0,(VLOOKUP(A108592,analyse!D:E,2,FALSE)))","v":0},{"$f":"analyse!$B$1","v":0},0,0,0,0]
[null,null,{"$f":"IF(ISNA(VLOOKUP(A108665,analyse!D:E,2,FALSE))=TRUE,0,(VLOOKUP(A108665,analyse!D:E,2,FALSE)))","v":0},{"$f":"analyse!$B$1","v":0},0,0,0,0]
[null,null,{"$f":"IF(ISNA(VLOOKUP(A108798,analyse!D:E,2,FALSE))=TRUE,0,(VLOOKUP(A108798,analyse!D:E,2,FALSE)))","v":0},{"$f":"analyse!$B$1","v":0},0,0,0,0]
[null,null,{"$f":"IF(ISNA(VLOOKUP(A108831,analyse!D:E,2,FALSE))=TRUE,0,(VLOOKUP(A108831,analyse!D:E,2,FALSE)))","v":0},{"$f":"analyse!$B$1","v":0},0,0,0,0]
[null,null,{"$f":"IF(ISNA(VLOOKUP(A108942,analyse!D:E,2,FALSE))=TRUE,0,(VLOOKUP(A108942,analyse!D:E,2,FALSE)))","v":0},{"$f":"analyse!$B$1","v":0},0,0,0,0]
[null,null,{"$f":"IF(ISNA(VLOOKUP(A109008,analyse!D:E,2,FALSE))=TRUE,0,(VLOOKUP(A109008,analyse!D:E,2,FALSE)))","v":0},{"$f":"analyse!$B$1","v":0},0,0,0,0]
[null,null,{"$f":"IF(ISNA(VLOOKUP(A109107,analyse!D:E,2,FALSE))=TRUE,0,(VLOOKUP(A109107,analyse!D:E,2,FALSE)))","v":0},{"$f":"analyse!$B$1","v":0},0,0,0,0]
[null,null,{"$f":"IF(ISNA(VLOOKUP(A109140,analyse!D:E,2,FALSE))=TRUE,0,(VLOOKUP(A109140,analyse!D:E,2,FALSE)))","v":0},{"$f":"analyse!$B$1","v":0},0,0,0,0]
[null,null,{"$f":"IF(ISNA(VLOOKUP(A109273,analyse!D:E,2,FALSE))=TRUE,0,(VLOOKUP(A109273,analyse!D:E,2,FALSE)))","v":0},{"$f":"analyse!$B$1","v":0},0,0,0,0]
[null,null,{"$f":"IF(ISNA(VLOOKUP(A109306,analyse!D:E,2,FALSE))=TRUE,0,(VLOOKUP(A109306,analyse!D:E,2,FALSE)))","v":0},{"$f":"analyse!$B$1","v":0},0,0,0,0]
[null,null,{"$f":"IF(ISNA(VLOOKUP(A109424,analyse!D:E,2,FALSE))=TRUE,0,(VLOOKUP(A109424,analyse!D:E,2,FALSE)))","v":0},{"$f":"analyse!$B$1","v":0},0,0,0,0]
[null,null,{"$f":"IF(ISNA(VLOOKUP(A109471,analyse!D:E,2,FALSE))=TRUE,0,(VLOOKUP(A109471,analyse!D:E,2,FALSE)))","v":0},{"$f":"analyse!$B$1","v":0},0,0,0,0]
[null,null,{"$f":"IF(ISNA(VLOOKUP(A109582,analyse!D:E,2,FALSE))=TRUE,0,(VLOOKUP(A109582,analyse!D:E,2,FALSE)))","v":0},{"$f":"analyse!$B$1","v":0},0,0,0,0]
[null,null,{"$f":"IF(ISNA(VLOOKUP(A109637,analyse!D:E,2,FALSE))=TRUE,0,(VLOOKUP(A109637,analyse!D:E,2,FALSE)))","v":0},{"$f":"analyse!$B$1","v":0},0,0,0,0]
[null,null,{"$f":"IF(ISNA(VLOOKUP(A109670,analyse!D:E,2,FALSE))=TRUE,0,(VLOOKUP(A109670,analyse!D:E,2,FALSE)))","v":0},{"$f":"analyse!$B$1","v":0},0,0,0,0]
[null,null,{"$f":"IF(ISNA(VLOOKUP(A109763,analyse!D:E,2,FALSE))=TRUE,0,(VLOOKUP(A109763,analyse!D:E,2,FALSE)))","v":0},{"$f":"analyse!$B$1","v":0},0,0,0,0]
[null,null,{"$f":"IF(ISNA(VLOOKUP(A109835,analyse!D:E,2,FALSE))=TRUE,0,(VLOOKUP(A109835,analyse!D:E,2,FALSE)))","v":0},{"$f":"analyse!$B$1","v":0},0,0,0,0]
[null,null,{"$f":"IF(ISNA(VLOOKUP(A109946,analyse!D:E,2,FALSE))=TRUE,0,(VLOOKUP(A109946,analyse!D:E,2,FALSE)))","v":0},{"$f":"analyse!$B$1","v":0},0,0,0,0]
[null,null,{"$f":"IF(ISNA(VLOOKUP(A110001,analyse!D:E,2,FALSE))=TRUE,0,(VLOOKUP(A110001,analyse!D:E,2,FALSE)))","v":0},{"$f":"analyse!$B$1","v":0},0,0,0,0]
[null,null,{"$f":"IF(ISNA(VLOOKUP(A110112,analyse!D:E,2,FALSE))=TRUE,0,(VLOOKUP(A110112,analyse!D:E,2,FALSE)))","v":0},{"$f":"analyse!$B$1","v":0},0,0,0,0]
[null,null,{"$f":"IF(ISNA(VLOOKUP(A110175,analyse!D:E,2,FALSE))=TRUE,0,(VLOOKUP(A110175,analyse!D:E,2,FALSE)))","v":0},{"$f":"analyse!$B$1","v":0},0,0,0,0]
[null,null,{"$f":"IF(ISNA(VLOOKUP(A110277,analyse!D:E,2,FALSE))=TRUE,0,(VLOOKUP(A110277,analyse!D:E,2,FALSE)))","v":0},{"$f":"analyse!$B$1","v":0},0,0,0,0]
[null,null,{"$f":"IF(ISNA(VLOOKUP(A110310,analyse!D:E,2,FALSE))=TRUE,0,(VLOOKUP(A110310,analyse!D:E,2,FALSE)))","v":0},{"$f":"analyse!$B$1","v":0},0,0,0,0]
[null,null,{"$f":"IF(ISNA(VLOOKUP(A110443,analyse!D:E,2,FALSE))=TRUE,0,(VLOOKUP(A110443,analyse!D:E,2,FALSE)))","v":0},{"$f":"analyse!$B$1","v":0},0,0,0,0]
[null,null,{"$f":"IF(ISNA(VLOOKUP(A110476,analyse!D:E,2,FALSE))=TRUE,0,(VLOOKUP(A110476,analyse!D:E,2,FALSE)))","v":0},{"$f":"analyse!$B$1","v":0},0,0,0,0]
[null,null,{"$f":"IF(ISNA(VLOOKUP(A110591,analyse!D:E,2,FALSE))=TRUE,0,(VLOOKUP(A110591,analyse!D:E,2,FALSE)))","v":0},{"$f":"analyse!$B$1","v":0},0,0,0,0]
[null,null,{"$f":"IF(ISNA(VLOOKUP(A110641,analyse!D:E,2,FALSE))=TRUE,0,(VLOOKUP(A110641,analyse!D:E,2,FALSE)))","v":0},{"$f":"analyse!$B$1","v":0},0,0,0,0]
[null,null,{"$f":"IF(ISNA(VLOOKUP(A110752,analyse!D:E,2,FALSE))=TRUE,0,(VLOOKUP(A110752,analyse!D:E,2,FALSE)))","v":0},{"$f":"analyse!$B$1","v":0},0,0,0,0]
[null,null,{"$f":"IF(ISNA(VLOOKUP(A110785,analyse!D:E,2,FALSE))=TRUE,0,(VLOOKUP(A110785,analyse!D:E,2,FALSE)))","v":0},{"$f":"analyse!$B$1","v":0},0,0,0,0]
[null,null,{"$f":"IF(ISNA(VLOOKUP(A110840,analyse!D:E,2,FALSE))=TRUE,0,(VLOOKUP(A110840,analyse!D:E,2,FALSE)))","v":0},{"$f":"analyse!$B$1","v":0},0,0,0,0]
[null,null,{"$f":"IF(ISNA(VLOOKUP(A110930,analyse!D:E,2,FALSE))=TRUE,0,(VLOOKUP(A110930,analyse!D:E,2,FALSE)))","v":0},{"$f":"analyse!$B$1","v":0},0,0,0,0]
[null,null,{"$f":"IF(ISNA(VLOOKUP(A111005,analyse!D:E,2,FALSE))=TRUE,0,(VLOOKUP(A111005,analyse!D:E,2,FALSE)))","v":0},{"$f":"analyse!$B$1","v":0},0,0,0,0]
[null,null,{"$f":"IF(ISNA(VLOOKUP(A111116,analyse!D:E,2,FALSE))=TRUE,0,(VLOOKUP(A111116,analyse!D:E,2,FALSE)))","v":0},{"$f":"analyse!$B$1","v":0},0,0,0,0]
[null,null,{"$f":"IF(ISNA(VLOOKUP(A111149,analyse!D:E,2,FALSE))=TRUE,0,(VLOOKUP(A111149,analyse!D:E,2,FALSE)))","v":0},{"$f":"analyse!$B$1","v":0},0,0,0,0]
[null,null,{"$f":"IF(ISNA(VLOOKUP(A111295,analyse!D:E,2,FALSE))=TRUE,0,(VLOOKUP(A111295,analyse!D:E,2,FALSE)))","v":0},{"$f":"analyse!$B$1","v":0},0,0,0,0]
[null,null,{"$f":"IF(ISNA(VLOOKUP(A111314,analyse!D:E,2,FALSE))=TRUE,0,(VLOOKUP(A111314,analyse!D:E,2,FALSE)))","v":0},{"$f":"analyse!$B$1","v":0},0,0,0,0]
[null,null,{"$f":"IF(ISNA(VLOOKUP(A111447,analyse!D:E,2,FALSE))=TRUE,0,(VLOOKUP(A111447,analyse!D:E,2,FALSE)))","v":0},{"$f":"analyse!$B$1","v":0},0,0,0,0]
[null,null,{"$f":"IF(ISNA(VLOOKUP(A111480,analyse!D:E,2,FALSE))=TRUE,0,(VLOOKUP(A111480,analyse!D:E,2,FALSE)))","v":0},{"$f":"analyse!$B$1","v":0},0,0,0,0]
[null,null,{"$f":"IF(ISNA(VLOOKUP(A111591,analyse!D:E,2,FALSE))=TRUE,0,(VLOOKUP(A111591,analyse!D:E,2,FALSE)))","v":0},{"$f":"analyse!$B$1","v":0},0,0,0,0]
[null,null,{"$f":"IF(ISNA(VLOOKUP(A111634,analyse!D:E,2,FALSE))=TRUE,0,(VLOOKUP(A111634,analyse!D:E,2,FALSE)))","v":0},{"$f":"analyse!$B$1","v":0},0,0,0,0]
[null,null,{"$f":"IF(ISNA(VLOOKUP(A111756,analyse!D:E,2,FALSE))=TRUE,0,(VLOOKUP(A111756,analyse!D:E,2,FALSE)))","v":0},{"$f":"analyse!$B$1","v":0},0,0,0,0]
[null,null,{"$f":"IF(ISNA(VLOOKUP(A111789,analyse!D:E,2,FALSE))=TRUE,0,(VLOOKUP(A111789,analyse!D:E,2,FALSE)))","v":0},{"$f":"analyse!$B$1","v":0},0,0,0,0]
[null,null,{"$f":"IF(ISNA(VLOOKUP(A111922,analyse!D:E,2,FALSE))=TRUE,0,(VLOOKUP(A111922,analyse!D:E,2,FALSE)))","v":0},{"$f":"analyse!$B$1","v":0},0,0,0,0]
[null,null,{"$f":"IF(ISNA(VLOOKUP(A111955,analyse!D:E,2,FALSE))=TRUE,0,(VLOOKUP(A111955,analyse!D:E,2,FALSE)))","v":0},{"$f":"analyse!$B$1","v":0},0,0,0,0]
[null,null,{"$f":"IF(ISNA(VLOOKUP(A112050,analyse!D:E,2,FALSE))=TRUE,0,(VLOOKUP(A112050,analyse!D:E,2,FALSE)))","v":0},{"$f":"analyse!$B$1","v":0},0,0,0,0]
[null,null,{"$f":"IF(ISNA(VLOOKUP(A112120,analyse!D:E,2,FALSE))=TRUE,0,(VLOOKUP(A112120,analyse!D:E,2,FALSE)))","v":0},{"$f":"analyse!$B$1","v":0},0,0,0,0]
[null,null,{"$f":"IF(ISNA(VLOOKUP(A112231,analyse!D:E,2,FALSE))=TRUE,0,(VLOOKUP(A112231,analyse!D:E,2,FALSE)))","v":0},{"$f":"analyse!$B$1","v":0},0,0,0,0]
[null,null,{"$f":"IF(ISNA(VLOOKUP(A112286,analyse!D:E,2,FALSE))=TRUE,0,(VLOOKUP(A112286,analyse!D:E,2,FALSE)))","v":0},{"$f":"analyse!$B$1","v":0},0,0,0,0]
[null,null,{"$f":"IF(ISNA(VLOOKUP(A112319,analyse!D:E,2,FALSE))=TRUE,0,(VLOOKUP(A112319,analyse!D:E,2,FALSE)))","v":0},{"$f":"analyse!$B$1","v":0},0,0,0,0]
[null,null,{"$f":"IF(ISNA(VLOOKUP(A112466,analyse!D:E,2,FALSE))=TRUE,0,(VLOOKUP(A112466,analyse!D:E,2,FALSE)))","v":0},{"$f":"analyse!$B$1","v":0},0,0,0,0]
[null,null,{"$f":"IF(ISNA(VLOOKUP(A112484,analyse!D:E,2,FALSE))=TRUE,0,(VLOOKUP(A112484,analyse!D:E,2,FALSE)))","v":0},{"$f":"analyse!$B$1","v":0},0,0,0,0]
[null,null,{"$f":"IF(ISNA(VLOOKUP(A112595,analyse!D:E,2,FALSE))=TRUE,0,(VLOOKUP(A112595,analyse!D:E,2,FALSE)))","v":0},{"$f":"analyse!$B$1","v":0},0,0,0,0]
[null,null,{"$f":"IF(ISNA(VLOOKUP(A112650,analyse!D:E,2,FALSE))=TRUE,0,(VLOOKUP(A112650,analyse!D:E,2,FALSE)))","v":0},{"$f":"analyse!$B$1","v":0},0,0,0,0]
[null,null,{"$f":"IF(ISNA(VLOOKUP(A112761,analyse!D:E,2,FALSE))=TRUE,0,(VLOOKUP(A112761,analyse!D:E,2,FALSE)))","v":0},{"$f":"analyse!$B$1","v":0},0,0,0,0]
[null,null,{"$f":"IF(ISNA(VLOOKUP(A112801,analyse!D:E,2,FALSE))=TRUE,0,(VLOOKUP(A112801,analyse!D:E,2,FALSE)))","v":0},{"$f":"analyse!$B$1","v":0},0,0,0,0]
[null,null,{"$f":"IF(ISNA(VLOOKUP(A112926,analyse!D:E,2,FALSE))=TRUE,0,(VLOOKUP(A112926,analyse!D:E,2,FALSE)))","v":0},{"$f":"analyse!$B$1","v":0},0,0,0,0]
[null,null,{"$f":"IF(ISNA(VLOOKUP(A112959,analyse!D:E,2,FALSE))=TRUE,0,(VLOOKUP(A112959,analyse!D:E,2,FALSE)))","v":0},{"$f":"analyse!$B$1","v":0},0,0,0,0]
[null,null,{"$f":"IF(ISNA(VLOOKUP(A113014,analyse!D:E,2,FALSE))=TRUE,0,(VLOOKUP(A113014,analyse!D:E,2,FALSE)))","v":0},{"$f":"analyse!$B$1","v":0},0,0,0,0]
[null,null,{"$f":"IF(ISNA(VLOOKUP(A113125,analyse!D:E,2,FALSE))=TRUE,0,(VLOOKUP(A113125,analyse!D:E,2,FALSE)))","v":0},{"$f":"analyse!$B$1","v":0},0,0,0,0]
[null,null,{"$f":"IF(ISNA(VLOOKUP(A113217,analyse!D:E,2,FALSE))=TRUE,0,(VLOOKUP(A113217,analyse!D:E,2,FALSE)))","v":0},{"$f":"analyse!$B$1","v":0},0,0,0,0]
[null,null,{"$f":"IF(ISNA(VLOOKUP(A113290,analyse!D:E,2,FALSE))=TRUE,0,(VLOOKUP(A113290,analyse!D:E,2,FALSE)))","v":0},{"$f":"analyse!$B$1","v":0},0,0,0,0]
[null,null,{"$f":"IF(ISNA(VLOOKUP(A113401,analyse!D:E,2,FALSE))=TRUE,0,(VLOOKUP(A113401,analyse!D:E,2,FALSE)))","v":0},{"$f":"analyse!$B$1","v":0},0,0,0,0]
[null,null,{"$f":"IF(ISNA(VLOOKUP(A113434,analyse!D:E,2,FALSE))=TRUE,0,(VLOOKUP(A113434,analyse!D:E,2,FALSE)))","v":0},{"$f":"analyse!$B$1","v":0},0,0,0,0]
[null,null,{"$f":"IF(ISNA(VLOOKUP(A113489,analyse!D:E,2,FALSE))=TRUE,0,(VLOOKUP(A113489,analyse!D:E,2,FALSE)))","v":0},{"$f":"analyse!$B$1","v":0},0,0,0,0]
[null,null,{"$f":"IF(ISNA(VLOOKUP(A113633,analyse!D:E,2,FALSE))=TRUE,0,(VLOOKUP(A113633,analyse!D:E,2,FALSE)))","v":0},{"$f":"analyse!$B$1","v":0},0,0,0,0]
[null,null,{"$f":"IF(ISNA(VLOOKUP(A113654,analyse!D:E,2,FALSE))=TRUE,0,(VLOOKUP(A113654,analyse!D:E,2,FALSE)))","v":0},{"$f":"analyse!$B$1","v":0},0,0,0,0]
[null,null,{"$f":"IF(ISNA(VLOOKUP(A113765,analyse!D:E,2,FALSE))=TRUE,0,(VLOOKUP(A113765,analyse!D:E,2,FALSE)))","v":0},{"$f":"analyse!$B$1","v":0},0,0,0,0]
[null,null,{"$f":"IF(ISNA(VLOOKUP(A113798,analyse!D:E,2,FALSE))=TRUE,0,(VLOOKUP(A113798,analyse!D:E,2,FALSE)))","v":0},{"$f":"analyse!$B$1","v":0},0,0,0,0]
[null,null,{"$f":"IF(ISNA(VLOOKUP(A113931,analyse!D:E,2,FALSE))=TRUE,0,(VLOOKUP(A113931,analyse!D:E,2,FALSE)))","v":0},{"$f":"analyse!$B$1","v":0},0,0,0,0]
[null,null,{"$f":"IF(ISNA(VLOOKUP(A113972,analyse!D:E,2,FALSE))=TRUE,0,(VLOOKUP(A113972,analyse!D:E,2,FALSE)))","v":0},{"$f":"analyse!$B$1","v":0},0,0,0,0]
[null,null,{"$f":"IF(ISNA(VLOOKUP(A114096,analyse!D:E,2,FALSE))=TRUE,0,(VLOOKUP(A114096,analyse!D:E,2,FALSE)))","v":0},{"$f":"analyse!$B$1","v":0},0,0,0,0]
[null,null,{"$f":"IF(ISNA(VLOOKUP(A114129,analyse!D:E,2,FALSE))=TRUE,0,(VLOOKUP(A114129,analyse!D:E,2,FALSE)))","v":0},{"$f":"analyse!$B$1","v":0},0,0,0,0]
[null,null,{"$f":"IF(ISNA(VLOOKUP(A114240,analyse!D:E,2,FALSE))=TRUE,0,(VLOOKUP(A114240,analyse!D:E,2,FALSE)))","v":0},{"$f":"analyse!$B$1","v":0},0,0,0,0]
[null,null,{"$f":"IF(ISNA(VLOOKUP(A114260,analyse!D:E,2,FALSE))=TRUE,0,(VLOOKUP(A114260,analyse!D:E,2,FALSE)))","v":0},{"$f":"analyse!$B$1","v":0},0,0,0,0]
[null,null,{"$f":"IF(ISNA(VLOOKUP(A114405,analyse!D:E,2,FALSE))=TRUE,0,(VLOOKUP(A114405,analyse!D:E,2,FALSE)))","v":0},{"$f":"analyse!$B$1","v":0},0,0,0,0]
[null,null,{"$f":"IF(ISNA(VLOOKUP(A114438,analyse!D:E,2,FALSE))=TRUE,0,(VLOOKUP(A114438,analyse!D:E,2,FALSE)))","v":0},{"$f":"analyse!$B$1","v":0},0,0,0,0]
[null,null,{"$f":"IF(ISNA(VLOOKUP(A114493,analyse!D:E,2,FALSE))=TRUE,0,(VLOOKUP(A114493,analyse!D:E,2,FALSE)))","v":0},{"$f":"analyse!$B$1","v":0},0,0,0,0]
[null,null,{"$f":"IF(ISNA(VLOOKUP(A114604,analyse!D:E,2,FALSE))=TRUE,0,(VLOOKUP(A114604,analyse!D:E,2,FALSE)))","v":0},{"$f":"analyse!$B$1","v":0},0,0,0,0]
[null,null,{"$f":"IF(ISNA(VLOOKUP(A114676,analyse!D:E,2,FALSE))=TRUE,0,(VLOOKUP(A114676,analyse!D:E,2,FALSE)))","v":0},{"$f":"analyse!$B$1","v":0},0,0,0,0]
[null,null,{"$f":"IF(ISNA(VLOOKUP(A114769,analyse!D:E,2,FALSE))=TRUE,0,(VLOOKUP(A114769,analyse!D:E,2,FALSE)))","v":0},{"$f":"analyse!$B$1","v":0},0,0,0,0]
[null,null,{"$f":"IF(ISNA(VLOOKUP(A114880,analyse!D:E,2,FALSE))=TRUE,0,(VLOOKUP(A114880,analyse!D:E,2,FALSE)))","v":0},{"$f":"analyse!$B$1","v":0},0,0,0,0]
[null,null,{"$f":"IF(ISNA(VLOOKUP(A114935,analyse!D:E,2,FALSE))=TRUE,0,(VLOOKUP(A114935,analyse!D:E,2,FALSE)))","v":0},{"$f":"analyse!$B$1","v":0},0,0,0,0]
[null,null,{"$f":"IF(ISNA(VLOOKUP(A114968,analyse!D:E,2,FALSE))=TRUE,0,(VLOOKUP(A114968,analyse!D:E,2,FALSE)))","v":0},{"$f":"analyse!$B$1","v":0},0,0,0,0]
[null,null,{"$f":"IF(ISNA(VLOOKUP(A115088,analyse!D:E,2,FALSE))=TRUE,0,(VLOOKUP(A115088,analyse!D:E,2,FALSE)))","v":0},{"$f":"analyse!$B$1","v":0},0,0,0,0]
[null,null,{"$f":"IF(ISNA(VLOOKUP(A115133,analyse!D:E,2,FALSE))=TRUE,0,(VLOOKUP(A115133,analyse!D:E,2,FALSE)))","v":0},{"$f":"analyse!$B$1","v":0},0,0,0,0]
[null,null,{"$f":"IF(ISNA(VLOOKUP(A115244,analyse!D:E,2,FALSE))=TRUE,0,(VLOOKUP(A115244,analyse!D:E,2,FALSE)))","v":0},{"$f":"analyse!$B$1","v":0},0,0,0,0]
[null,null,{"$f":"IF(ISNA(VLOOKUP(A115299,analyse!D:E,2,FALSE))=TRUE,0,(VLOOKUP(A115299,analyse!D:E,2,FALSE)))","v":0},{"$f":"analyse!$B$1","v":0},0,0,0,0]
[null,null,{"$f":"IF(ISNA(VLOOKUP(A115410,analyse!D:E,2,FALSE))=TRUE,0,(VLOOKUP(A115410,analyse!D:E,2,FALSE)))","v":0},{"$f":"analyse!$B$1","v":0},0,0,0,0]
[null,null,{"$f":"IF(ISNA(VLOOKUP(A115427,analyse!D:E,2,FALSE))=TRUE,0,(VLOOKUP(A115427,analyse!D:E,2,FALSE)))","v":0},{"$f":"analyse!$B$1","v":0},0,0,0,0]
[null,null,{"$f":"IF(ISNA(VLOOKUP(A115575,analyse!D:E,2,FALSE))=TRUE,0,(VLOOKUP(A115575,analyse!D:E,2,FALSE)))","v":0},{"$f":"analyse!$B$1","v":0},0,0,0,0]
[null,null,{"$f":"IF(ISNA(VLOOKUP(A115608,analyse!D:E,2,FALSE))=TRUE,0,(VLOOKUP(A115608,analyse!D:E,2,FALSE)))","v":0},{"$f":"analyse!$B$1","v":0},0,0,0,0]
[null,null,{"$f":"IF(ISNA(VLOOKUP(A115663,analyse!D:E,2,FALSE))=TRUE,0,(VLOOKUP(A115663,analyse!D:E,2,FALSE)))","v":0},{"$f":"analyse!$B$1","v":0},0,0,0,0]
[null,null,{"$f":"IF(ISNA(VLOOKUP(A115774,analyse!D:E,2,FALSE))=TRUE,0,(VLOOKUP(A115774,analyse!D:E,2,FALSE)))","v":0},{"$f":"analyse!$B$1","v":0},0,0,0,0]
[null,null,{"$f":"IF(ISNA(VLOOKUP(A115843,analyse!D:E,2,FALSE))=TRUE,0,(VLOOKUP(A115843,analyse!D:E,2,FALSE)))","v":0},{"$f":"analyse!$B$1","v":0},0,0,0,0]
[null,null,{"$f":"IF(ISNA(VLOOKUP(A115939,analyse!D:E,2,FALSE))=TRUE,0,(VLOOKUP(A115939,analyse!D:E,2,FALSE)))","v":0},{"$f":"analyse!$B$1","v":0},0,0,0,0]
[null,null,{"$f":"IF(ISNA(VLOOKUP(A115972,analyse!D:E,2,FALSE))=TRUE,0,(VLOOKUP(A115972,analyse!D:E,2,FALSE)))","v":0},{"$f":"analyse!$B$1","v":0},0,0,0,0]
[null,null,{"$f":"IF(ISNA(VLOOKUP(A116083,analyse!D:E,2,FALSE))=TRUE,0,(VLOOKUP(A116083,analyse!D:E,2,FALSE)))","v":0},{"$f":"analyse!$B$1","v":0},0,0,0,0]
[null,null,{"$f":"IF(ISNA(VLOOKUP(A116138,analyse!D:E,2,FALSE))=TRUE,0,(VLOOKUP(A116138,analyse!D:E,2,FALSE)))","v":0},{"$f":"analyse!$B$1","v":0},0,0,0,0]
[null,null,{"$f":"IF(ISNA(VLOOKUP(A116259,analyse!D:E,2,FALSE))=TRUE,0,(VLOOKUP(A116259,analyse!D:E,2,FALSE)))","v":0},{"$f":"analyse!$B$1","v":0},0,0,0,0]
[null,null,{"$f":"IF(ISNA(VLOOKUP(A116303,analyse!D:E,2,FALSE))=TRUE,0,(VLOOKUP(A116303,analyse!D:E,2,FALSE)))","v":0},{"$f":"analyse!$B$1","v":0},0,0,0,0]
[null,null,{"$f":"IF(ISNA(VLOOKUP(A116414,analyse!D:E,2,FALSE))=TRUE,0,(VLOOKUP(A116414,analyse!D:E,2,FALSE)))","v":0},{"$f":"analyse!$B$1","v":0},0,0,0,0]
[null,null,{"$f":"IF(ISNA(VLOOKUP(A116447,analyse!D:E,2,FALSE))=TRUE,0,(VLOOKUP(A116447,analyse!D:E,2,FALSE)))","v":0},{"$f":"analyse!$B$1","v":0},0,0,0,0]
[null,null,{"$f":"IF(ISNA(VLOOKUP(A116580,analyse!D:E,2,FALSE))=TRUE,0,(VLOOKUP(A116580,analyse!D:E,2,FALSE)))","v":0},{"$f":"analyse!$B$1","v":0},0,0,0,0]
[null,null,{"$f":"IF(ISNA(VLOOKUP(A116598,analyse!D:E,2,FALSE))=TRUE,0,(VLOOKUP(A116598,analyse!D:E,2,FALSE)))","v":0},{"$f":"analyse!$B$1","v":0},0,0,0,0]
[null,null,{"$f":"IF(ISNA(VLOOKUP(A116745,analyse!D:E,2,FALSE))=TRUE,0,(VLOOKUP(A116745,analyse!D:E,2,FALSE)))","v":0},{"$f":"analyse!$B$1","v":0},0,0,0,0]
[null,null,{"$f":"IF(ISNA(VLOOKUP(A116778,analyse!D:E,2,FALSE))=TRUE,0,(VLOOKUP(A116778,analyse!D:E,2,FALSE)))","v":0},{"$f":"analyse!$B$1","v":0},0,0,0,0]
[null,null,{"$f":"IF(ISNA(VLOOKUP(A116889,analyse!D:E,2,FALSE))=TRUE,0,(VLOOKUP(A116889,analyse!D:E,2,FALSE)))","v":0},{"$f":"analyse!$B$1","v":0},0,0,0,0]
[null,null,{"$f":"IF(ISNA(VLOOKUP(A116944,analyse!D:E,2,FALSE))=TRUE,0,(VLOOKUP(A116944,analyse!D:E,2,FALSE)))","v":0},{"$f":"analyse!$B$1","v":0},0,0,0,0]
[null,null,{"$f":"IF(ISNA(VLOOKUP(A117014,analyse!D:E,2,FALSE))=TRUE,0,(VLOOKUP(A117014,analyse!D:E,2,FALSE)))","v":0},{"$f":"analyse!$B$1","v":0},0,0,0,0]
[null,null,{"$f":"IF(ISNA(VLOOKUP(A117087,analyse!D:E,2,FALSE))=TRUE,0,(VLOOKUP(A117087,analyse!D:E,2,FALSE)))","v":0},{"$f":"analyse!$B$1","v":0},0,0,0,0]
[null,null,{"$f":"IF(ISNA(VLOOKUP(A117142,analyse!D:E,2,FALSE))=TRUE,0,(VLOOKUP(A117142,analyse!D:E,2,FALSE)))","v":0},{"$f":"analyse!$B$1","v":0},0,0,0,0]
[null,null,{"$f":"IF(ISNA(VLOOKUP(A117253,analyse!D:E,2,FALSE))=TRUE,0,(VLOOKUP(A117253,analyse!D:E,2,FALSE)))","v":0},{"$f":"analyse!$B$1","v":0},0,0,0,0]
[null,null,{"$f":"IF(ISNA(VLOOKUP(A117302,analyse!D:E,2,FALSE))=TRUE,0,(VLOOKUP(A117302,analyse!D:E,2,FALSE)))","v":0},{"$f":"analyse!$B$1","v":0},0,0,0,0]
[null,null,{"$f":"IF(ISNA(VLOOKUP(A117418,analyse!D:E,2,FALSE))=TRUE,0,(VLOOKUP(A117418,analyse!D:E,2,FALSE)))","v":0},{"$f":"analyse!$B$1","v":0},0,0,0,0]
[null,null,{"$f":"IF(ISNA(VLOOKUP(A117451,analyse!D:E,2,FALSE))=TRUE,0,(VLOOKUP(A117451,analyse!D:E,2,FALSE)))","v":0},{"$f":"analyse!$B$1","v":0},0,0,0,0]
[null,null,{"$f":"IF(ISNA(VLOOKUP(A117584,analyse!D:E,2,FALSE))=TRUE,0,(VLOOKUP(A117584,analyse!D:E,2,FALSE)))","v":0},{"$f":"analyse!$B$1","v":0},0,0,0,0]
[null,null,{"$f":"IF(ISNA(VLOOKUP(A117617,analyse!D:E,2,FALSE))=TRUE,0,(VLOOKUP(A117617,analyse!D:E,2,FALSE)))","v":0},{"$f":"analyse!$B$1","v":0},0,0,0,0]
[null,null,{"$f":"IF(ISNA(VLOOKUP(A117714,analyse!D:E,2,FALSE))=TRUE,0,(VLOOKUP(A117714,analyse!D:E,2,FALSE)))","v":0},{"$f":"analyse!$B$1","v":0},0,0,0,0]
[null,null,{"$f":"IF(ISNA(VLOOKUP(A117782,analyse!D:E,2,FALSE))=TRUE,0,(VLOOKUP(A117782,analyse!D:E,2,FALSE)))","v":0},{"$f":"analyse!$B$1","v":0},0,0,0,0]
[null,null,{"$f":"IF(ISNA(VLOOKUP(A117893,analyse!D:E,2,FALSE))=TRUE,0,(VLOOKUP(A117893,analyse!D:E,2,FALSE)))","v":0},{"$f":"analyse!$B$1","v":0},0,0,0,0]
[null,null,{"$f":"IF(ISNA(VLOOKUP(A117948,analyse!D:E,2,FALSE))=TRUE,0,(VLOOKUP(A117948,analyse!D:E,2,FALSE)))","v":0},{"$f":"analyse!$B$1","v":0},0,0,0,0]
[null,null,{"$f":"IF(ISNA(VLOOKUP(A118059,analyse!D:E,2,FALSE))=TRUE,0,(VLOOKUP(A118059,analyse!D:E,2,FALSE)))","v":0},{"$f":"analyse!$B$1","v":0},0,0,0,0]
[null,null,{"$f":"IF(ISNA(VLOOKUP(A118130,analyse!D:E,2,FALSE))=TRUE,0,(VLOOKUP(A118130,analyse!D:E,2,FALSE)))","v":0},{"$f":"analyse!$B$1","v":0},0,0,0,0]
[null,null,{"$f":"IF(ISNA(VLOOKUP(A118224,analyse!D:E,2,FALSE))=TRUE,0,(VLOOKUP(A118224,analyse!D:E,2,FALSE)))","v":0},{"$f":"analyse!$B$1","v":0},0,0,0,0]
[null,null,{"$f":"IF(ISNA(VLOOKUP(A118257,analyse!D:E,2,FALSE))=TRUE,0,(VLOOKUP(A118257,analyse!D:E,2,FALSE)))","v":0},{"$f":"analyse!$B$1","v":0},0,0,0,0]
[null,null,{"$f":"IF(ISNA(VLOOKUP(A118312,analyse!D:E,2,FALSE))=TRUE,0,(VLOOKUP(A118312,analyse!D:E,2,FALSE)))","v":0},{"$f":"analyse!$B$1","v":0},0,0,0,0]
[null,null,{"$f":"IF(ISNA(VLOOKUP(A118423,analyse!D:E,2,FALSE))=TRUE,0,(VLOOKUP(A118423,analyse!D:E,2,FALSE)))","v":0},{"$f":"analyse!$B$1","v":0},0,0,0,0]
[null,null,{"$f":"IF(ISNA(VLOOKUP(A118469,analyse!D:E,2,FALSE))=TRUE,0,(VLOOKUP(A118469,analyse!D:E,2,FALSE)))","v":0},{"$f":"analyse!$B$1","v":0},0,0,0,0]
[null,null,{"$f":"IF(ISNA(VLOOKUP(A118588,analyse!D:E,2,FALSE))=TRUE,0,(VLOOKUP(A118588,analyse!D:E,2,FALSE)))","v":0},{"$f":"analyse!$B$1","v":0},0,0,0,0]
[null,null,{"$f":"IF(ISNA(VLOOKUP(A118621,analyse!D:E,2,FALSE))=TRUE,0,(VLOOKUP(A118621,analyse!D:E,2,FALSE)))","v":0},{"$f":"analyse!$B$1","v":0},0,0,0,0]
[null,null,{"$f":"IF(ISNA(VLOOKUP(A118732,analyse!D:E,2,FALSE))=TRUE,0,(VLOOKUP(A118732,analyse!D:E,2,FALSE)))","v":0},{"$f":"analyse!$B$1","v":0},0,0,0,0]
[null,null,{"$f":"IF(ISNA(VLOOKUP(A118787,analyse!D:E,2,FALSE))=TRUE,0,(VLOOKUP(A118787,analyse!D:E,2,FALSE)))","v":0},{"$f":"analyse!$B$1","v":0},0,0,0,0]
[null,null,{"$f":"IF(ISNA(VLOOKUP(A118885,analyse!D:E,2,FALSE))=TRUE,0,(VLOOKUP(A118885,analyse!D:E,2,FALSE)))","v":0},{"$f":"analyse!$B$1","v":0},0,0,0,0]
[null,null,{"$f":"IF(ISNA(VLOOKUP(A118952,analyse!D:E,2,FALSE))=TRUE,0,(VLOOKUP(A118952,analyse!D:E,2,FALSE)))","v":0},{"$f":"analyse!$B$1","v":0},0,0,0,0]
[null,null,{"$f":"IF(ISNA(VLOOKUP(A119063,analyse!D:E,2,FALSE))=TRUE,0,(VLOOKUP(A119063,analyse!D:E,2,FALSE)))","v":0},{"$f":"analyse!$B$1","v":0},0,0,0,0]
[null,null,{"$f":"IF(ISNA(VLOOKUP(A119096,analyse!D:E,2,FALSE))=TRUE,0,(VLOOKUP(A119096,analyse!D:E,2,FALSE)))","v":0},{"$f":"analyse!$B$1","v":0},0,0,0,0]
[null,null,{"$f":"IF(ISNA(VLOOKUP(A119229,analyse!D:E,2,FALSE))=TRUE,0,(VLOOKUP(A119229,analyse!D:E,2,FALSE)))","v":0},{"$f":"analyse!$B$1","v":0},0,0,0,0]
[null,null,{"$f":"IF(ISNA(VLOOKUP(A119301,analyse!D:E,2,FALSE))=TRUE,0,(VLOOKUP(A119301,analyse!D:E,2,FALSE)))","v":0},{"$f":"analyse!$B$1","v":0},0,0,0,0]
[null,null,{"$f":"IF(ISNA(VLOOKUP(A119316,analyse!D:E,2,FALSE))=TRUE,0,(VLOOKUP(A119316,analyse!D:E,2,FALSE)))","v":0},{"$f":"analyse!$B$1","v":0},0,0,0,0]
[null,null,{"$f":"IF(ISNA(VLOOKUP(A119427,analyse!D:E,2,FALSE))=TRUE,0,(VLOOKUP(A119427,analyse!D:E,2,FALSE)))","v":0},{"$f":"analyse!$B$1","v":0},0,0,0,0]
[null,null,{"$f":"IF(ISNA(VLOOKUP(A119538,analyse!D:E,2,FALSE))=TRUE,0,(VLOOKUP(A119538,analyse!D:E,2,FALSE)))","v":0},{"$f":"analyse!$B$1","v":0},0,0,0,0]
[null,null,{"$f":"IF(ISNA(VLOOKUP(A119593,analyse!D:E,2,FALSE))=TRUE,0,(VLOOKUP(A119593,analyse!D:E,2,FALSE)))","v":0},{"$f":"analyse!$B$1","v":0},0,0,0,0]
[null,null,{"$f":"IF(ISNA(VLOOKUP(A119640,analyse!D:E,2,FALSE))=TRUE,0,(VLOOKUP(A119640,analyse!D:E,2,FALSE)))","v":0},{"$f":"analyse!$B$1","v":0},0,0,0,0]
[null,null,{"$f":"IF(ISNA(VLOOKUP(A119736,analyse!D:E,2,FALSE))=TRUE,0,(VLOOKUP(A119736,analyse!D:E,2,FALSE)))","v":0},{"$f":"analyse!$B$1","v":0},0,0,0,0]
[null,null,{"$f":"IF(ISNA(VLOOKUP(A119791,analyse!D:E,2,FALSE))=TRUE,0,(VLOOKUP(A119791,analyse!D:E,2,FALSE)))","v":0},{"$f":"analyse!$B$1","v":0},0,0,0,0]
[null,null,{"$f":"IF(ISNA(VLOOKUP(A119902,analyse!D:E,2,FALSE))=TRUE,0,(VLOOKUP(A119902,analyse!D:E,2,FALSE)))","v":0},{"$f":"analyse!$B$1","v":0},0,0,0,0]
[null,null,{"$f":"IF(ISNA(VLOOKUP(A119957,analyse!D:E,2,FALSE))=TRUE,0,(VLOOKUP(A119957,analyse!D:E,2,FALSE)))","v":0},{"$f":"analyse!$B$1","v":0},0,0,0,0]
[null,null,{"$f":"IF(ISNA(VLOOKUP(A120056,analyse!D:E,2,FALSE))=TRUE,0,(VLOOKUP(A120056,analyse!D:E,2,FALSE)))","v":0},{"$f":"analyse!$B$1","v":0},0,0,0,0]
[null,null,{"$f":"IF(ISNA(VLOOKUP(A120100,analyse!D:E,2,FALSE))=TRUE,0,(VLOOKUP(A120100,analyse!D:E,2,FALSE)))","v":0},{"$f":"analyse!$B$1","v":0},0,0,0,0]
[null,null,{"$f":"IF(ISNA(VLOOKUP(A120233,analyse!D:E,2,FALSE))=TRUE,0,(VLOOKUP(A120233,analyse!D:E,2,FALSE)))","v":0},{"$f":"analyse!$B$1","v":0},0,0,0,0]
[null,null,{"$f":"IF(ISNA(VLOOKUP(A120266,analyse!D:E,2,FALSE))=TRUE,0,(VLOOKUP(A120266,analyse!D:E,2,FALSE)))","v":0},{"$f":"analyse!$B$1","v":0},0,0,0,0]
[null,null,{"$f":"IF(ISNA(VLOOKUP(A120340,analyse!D:E,2,FALSE))=TRUE,0,(VLOOKUP(A120340,analyse!D:E,2,FALSE)))","v":0},{"$f":"analyse!$B$1","v":0},0,0,0,0]
[null,null,{"$f":"IF(ISNA(VLOOKUP(A120431,analyse!D:E,2,FALSE))=TRUE,0,(VLOOKUP(A120431,analyse!D:E,2,FALSE)))","v":0},{"$f":"analyse!$B$1","v":0},0,0,0,0]
[null,null,{"$f":"IF(ISNA(VLOOKUP(A120542,analyse!D:E,2,FALSE))=TRUE,0,(VLOOKUP(A120542,analyse!D:E,2,FALSE)))","v":0},{"$f":"analyse!$B$1","v":0},0,0,0,0]
[null,null,{"$f":"IF(ISNA(VLOOKUP(A120597,analyse!D:E,2,FALSE))=TRUE,0,(VLOOKUP(A120597,analyse!D:E,2,FALSE)))","v":0},{"$f":"analyse!$B$1","v":0},0,0,0,0]
[null,null,{"$f":"IF(ISNA(VLOOKUP(A120708,analyse!D:E,2,FALSE))=TRUE,0,(VLOOKUP(A120708,analyse!D:E,2,FALSE)))","v":0},{"$f":"analyse!$B$1","v":0},0,0,0,0]
[null,null,{"$f":"IF(ISNA(VLOOKUP(A120756,analyse!D:E,2,FALSE))=TRUE,0,(VLOOKUP(A120756,analyse!D:E,2,FALSE)))","v":0},{"$f":"analyse!$B$1","v":0},0,0,0,0]
[null,null,{"$f":"IF(ISNA(VLOOKUP(A120795,analyse!D:E,2,FALSE))=TRUE,0,(VLOOKUP(A120795,analyse!D:E,2,FALSE)))","v":0},{"$f":"analyse!$B$1","v":0},0,0,0,0]
[null,null,{"$f":"IF(ISNA(VLOOKUP(A120906,analyse!D:E,2,FALSE))=TRUE,0,(VLOOKUP(A120906,analyse!D:E,2,FALSE)))","v":0},{"$f":"analyse!$B$1","v":0},0,0,0,0]
[null,null,{"$f":"IF(ISNA(VLOOKUP(A120961,analyse!D:E,2,FALSE))=TRUE,0,(VLOOKUP(A120961,analyse!D:E,2,FALSE)))","v":0},{"$f":"analyse!$B$1","v":0},0,0,0,0]
[null,null,{"$f":"IF(ISNA(VLOOKUP(A121072,analyse!D:E,2,FALSE))=TRUE,0,(VLOOKUP(A121072,analyse!D:E,2,FALSE)))","v":0},{"$f":"analyse!$B$1","v":0},0,0,0,0]
[null,null,{"$f":"IF(ISNA(VLOOKUP(A121172,analyse!D:E,2,FALSE))=TRUE,0,(VLOOKUP(A121172,analyse!D:E,2,FALSE)))","v":0},{"$f":"analyse!$B$1","v":0},0,0,0,0]
[null,null,{"$f":"IF(ISNA(VLOOKUP(A121237,analyse!D:E,2,FALSE))=TRUE,0,(VLOOKUP(A121237,analyse!D:E,2,FALSE)))","v":0},{"$f":"analyse!$B$1","v":0},0,0,0,0]
[null,null,{"$f":"IF(ISNA(VLOOKUP(A121270,analyse!D:E,2,FALSE))=TRUE,0,(VLOOKUP(A121270,analyse!D:E,2,FALSE)))","v":0},{"$f":"analyse!$B$1","v":0},0,0,0,0]
[null,null,{"$f":"IF(ISNA(VLOOKUP(A121381,analyse!D:E,2,FALSE))=TRUE,0,(VLOOKUP(A121381,analyse!D:E,2,FALSE)))","v":0},{"$f":"analyse!$B$1","v":0},0,0,0,0]
[null,null,{"$f":"IF(ISNA(VLOOKUP(A121436,analyse!D:E,2,FALSE))=TRUE,0,(VLOOKUP(A121436,analyse!D:E,2,FALSE)))","v":0},{"$f":"analyse!$B$1","v":0},0,0,0,0]
[null,null,{"$f":"IF(ISNA(VLOOKUP(A121511,analyse!D:E,2,FALSE))=TRUE,0,(VLOOKUP(A121511,analyse!D:E,2,FALSE)))","v":0},{"$f":"analyse!$B$1","v":0},0,0,0,0]
[null,null,{"$f":"IF(ISNA(VLOOKUP(A121601,analyse!D:E,2,FALSE))=TRUE,0,(VLOOKUP(A121601,analyse!D:E,2,FALSE)))","v":0},{"$f":"analyse!$B$1","v":0},0,0,0,0]
[null,null,{"$f":"IF(ISNA(VLOOKUP(A121712,analyse!D:E,2,FALSE))=TRUE,0,(VLOOKUP(A121712,analyse!D:E,2,FALSE)))","v":0},{"$f":"analyse!$B$1","v":0},0,0,0,0]
[null,null,{"$f":"IF(ISNA(VLOOKUP(A121745,analyse!D:E,2,FALSE))=TRUE,0,(VLOOKUP(A121745,analyse!D:E,2,FALSE)))","v":0},{"$f":"analyse!$B$1","v":0},0,0,0,0]
[null,null,{"$f":"IF(ISNA(VLOOKUP(A121878,analyse!D:E,2,FALSE))=TRUE,0,(VLOOKUP(A121878,analyse!D:E,2,FALSE)))","v":0},{"$f":"analyse!$B$1","v":0},0,0,0,0]
[null,null,{"$f":"IF(ISNA(VLOOKUP(A121927,analyse!D:E,2,FALSE))=TRUE,0,(VLOOKUP(A121927,analyse!D:E,2,FALSE)))","v":0},{"$f":"analyse!$B$1","v":0},0,0,0,0]
[null,null,{"$f":"IF(ISNA(VLOOKUP(A122021,analyse!D:E,2,FALSE))=TRUE,0,(VLOOKUP(A122021,analyse!D:E,2,FALSE)))","v":0},{"$f":"analyse!$B$1","v":0},0,0,0,0]
[null,null,{"$f":"IF(ISNA(VLOOKUP(A122076,analyse!D:E,2,FALSE))=TRUE,0,(VLOOKUP(A122076,analyse!D:E,2,FALSE)))","v":0},{"$f":"analyse!$B$1","v":0},0,0,0,0]
[null,null,{"$f":"IF(ISNA(VLOOKUP(A122187,analyse!D:E,2,FALSE))=TRUE,0,(VLOOKUP(A122187,analyse!D:E,2,FALSE)))","v":0},{"$f":"analyse!$B$1","v":0},0,0,0,0]
[null,null,{"$f":"IF(ISNA(VLOOKUP(A122242,analyse!D:E,2,FALSE))=TRUE,0,(VLOOKUP(A122242,analyse!D:E,2,FALSE)))","v":0},{"$f":"analyse!$B$1","v":0},{"$f":"D122242-C122242","v":0},{"$f":"E122242+C122242","v":0},{"$f":"IF(F122242<E122242,D122242-1,D122242)","v":0},{"$f":"IF(A122242=\"S20.G01.00.001\",H122241+1,H122241)","v":0}]
[null,null,{"$f":"IF(ISNA(VLOOKUP(A122343,analyse!D:E,2,FALSE))=TRUE,0,(VLOOKUP(A122343,analyse!D:E,2,FALSE)))","v":0},{"$f":"analyse!$B$1","v":0},0,0,0,0]
[null,null,{"$f":"IF(ISNA(VLOOKUP(A122385,analyse!D:E,2,FALSE))=TRUE,0,(VLOOKUP(A122385,analyse!D:E,2,FALSE)))","v":0},{"$f":"analyse!$B$1","v":0},0,0,0,0]
[null,null,{"$f":"IF(ISNA(VLOOKUP(A122440,analyse!D:E,2,FALSE))=TRUE,0,(VLOOKUP(A122440,analyse!D:E,2,FALSE)))","v":0},{"$f":"analyse!$B$1","v":0},0,0,0,0]
[null,null,{"$f":"IF(ISNA(VLOOKUP(A122551,analyse!D:E,2,FALSE))=TRUE,0,(VLOOKUP(A122551,analyse!D:E,2,FALSE)))","v":0},{"$f":"analyse!$B$1","v":0},0,0,0,0]
[null,null,{"$f":"IF(ISNA(VLOOKUP(A122606,analyse!D:E,2,FALSE))=TRUE,0,(VLOOKUP(A122606,analyse!D:E,2,FALSE)))","v":0},{"$f":"analyse!$B$1","v":0},0,0,0,0]
[null,null,{"$f":"IF(ISNA(VLOOKUP(A122682,analyse!D:E,2,FALSE))=TRUE,0,(VLOOKUP(A122682,analyse!D:E,2,FALSE)))","v":0},{"$f":"analyse!$B$1","v":0},0,0,0,0]
[null,null,{"$f":"IF(ISNA(VLOOKUP(A122749,analyse!D:E,2,FALSE))=TRUE,0,(VLOOKUP(A122749,analyse!D:E,2,FALSE)))","v":0},{"$f":"analyse!$B$1","v":0},0,0,0,0]
[null,null,{"$f":"IF(ISNA(VLOOKUP(A122882,analyse!D:E,2,FALSE))=TRUE,0,(VLOOKUP(A122882,analyse!D:E,2,FALSE)))","v":0},{"$f":"analyse!$B$1","v":0},{"$f":"D122882-C122882","v":0},{"$f":"E122882+C122882","v":0},{"$f":"IF(F122882<E122882,D122882-1,D122882)","v":0},{"$f":"IF(A122882=\"S20.G01.00.001\",H122881+1,H122881)","v":0}]
[null,null,{"$f":"IF(ISNA(VLOOKUP(A122915,analyse!D:E,2,FALSE))=TRUE,0,(VLOOKUP(A122915,analyse!D:E,2,FALSE)))","v":0},{"$f":"analyse!$B$1","v":0},0,0,0,0]
[null,null,{"$f":"IF(ISNA(VLOOKUP(A123026,analyse!D:E,2,FALSE))=TRUE,0,(VLOOKUP(A123026,analyse!D:E,2,FALSE)))","v":0},{"$f":"analyse!$B$1","v":0},0,0,0,0]
[null,null,{"$f":"IF(ISNA(VLOOKUP(A123098,analyse!D:E,2,FALSE))=TRUE,0,(VLOOKUP(A123098,analyse!D:E,2,FALSE)))","v":0},{"$f":"analyse!$B$1","v":0},0,0,0,0]
[null,null,{"$f":"IF(ISNA(VLOOKUP(A123191,analyse!D:E,2,FALSE))=TRUE,0,(VLOOKUP(A123191,analyse!D:E,2,FALSE)))","v":0},{"$f":"analyse!$B$1","v":0},0,0,0,0]
[null,null,{"$f":"IF(ISNA(VLOOKUP(A123246,analyse!D:E,2,FALSE))=TRUE,0,(VLOOKUP(A123246,analyse!D:E,2,FALSE)))","v":0},{"$f":"analyse!$B$1","v":0},0,0,0,0]
[null,null,{"$f":"IF(ISNA(VLOOKUP(A123357,analyse!D:E,2,FALSE))=TRUE,0,(VLOOKUP(A123357,analyse!D:E,2,FALSE)))","v":0},{"$f":"analyse!$B$1","v":0},0,0,0,0]
[null,null,{"$f":"IF(ISNA(VLOOKUP(A123382,analyse!D:E,2,FALSE))=TRUE,0,(VLOOKUP(A123382,analyse!D:E,2,FALSE)))","v":0},{"$f":"analyse!$B$1","v":0},0,0,0,0]
[null,null,{"$f":"IF(ISNA(VLOOKUP(A123444,analyse!D:E,2,FALSE))=TRUE,0,(VLOOKUP(A123444,analyse!D:E,2,FALSE)))","v":0},{"$f":"analyse!$B$1","v":0},0,0,0,0]
[null,null,{"$f":"IF(ISNA(VLOOKUP(A123555,analyse!D:E,2,FALSE))=TRUE,0,(VLOOKUP(A123555,analyse!D:E,2,FALSE)))","v":0},{"$f":"analyse!$B$1","v":0},0,0,0,0]
[null,null,{"$f":"IF(ISNA(VLOOKUP(A123610,analyse!D:E,2,FALSE))=TRUE,0,(VLOOKUP(A123610,analyse!D:E,2,FALSE)))","v":0},{"$f":"analyse!$B$1","v":0},0,0,0,0]
[null,null,{"$f":"IF(ISNA(VLOOKUP(A123721,analyse!D:E,2,FALSE))=TRUE,0,(VLOOKUP(A123721,analyse!D:E,2,FALSE)))","v":0},{"$f":"analyse!$B$1","v":0},0,0,0,0]
[null,null,{"$f":"IF(ISNA(VLOOKUP(A123798,analyse!D:E,2,FALSE))=TRUE,0,(VLOOKUP(A123798,analyse!D:E,2,FALSE)))","v":0},{"$f":"analyse!$B$1","v":0},0,0,0,0]
[null,null,{"$f":"IF(ISNA(VLOOKUP(A123886,analyse!D:E,2,FALSE))=TRUE,0,(VLOOKUP(A123886,analyse!D:E,2,FALSE)))","v":0},{"$f":"analyse!$B$1","v":0},0,0,0,0]
[null,null,{"$f":"IF(ISNA(VLOOKUP(A123919,analyse!D:E,2,FALSE))=TRUE,0,(VLOOKUP(A123919,analyse!D:E,2,FALSE)))","v":0},{"$f":"analyse!$B$1","v":0},0,0,0,0]
[null,null,{"$f":"IF(ISNA(VLOOKUP(A124030,analyse!D:E,2,FALSE))=TRUE,0,(VLOOKUP(A124030,analyse!D:E,2,FALSE)))","v":0},{"$f":"analyse!$B$1","v":0},0,0,0,0]
[null,null,{"$f":"IF(ISNA(VLOOKUP(A124085,analyse!D:E,2,FALSE))=TRUE,0,(VLOOKUP(A124085,analyse!D:E,2,FALSE)))","v":0},{"$f":"analyse!$B$1","v":0},0,0,0,0]
[null,null,{"$f":"IF(ISNA(VLOOKUP(A124214,analyse!D:E,2,FALSE))=TRUE,0,(VLOOKUP(A124214,analyse!D:E,2,FALSE)))","v":0},{"$f":"analyse!$B$1","v":0},0,0,0,0]
[null,null,{"$f":"IF(ISNA(VLOOKUP(A124250,analyse!D:E,2,FALSE))=TRUE,0,(VLOOKUP(A124250,analyse!D:E,2,FALSE)))","v":0},{"$f":"analyse!$B$1","v":0},0,0,0,0]
[null,null,{"$f":"IF(ISNA(VLOOKUP(A124361,analyse!D:E,2,FALSE))=TRUE,0,(VLOOKUP(A124361,analyse!D:E,2,FALSE)))","v":0},{"$f":"analyse!$B$1","v":0},0,0,0,0]
[null,null,{"$f":"IF(ISNA(VLOOKUP(A124394,analyse!D:E,2,FALSE))=TRUE,0,(VLOOKUP(A124394,analyse!D:E,2,FALSE)))","v":0},{"$f":"analyse!$B$1","v":0},0,0,0,0]
[null,null,{"$f":"IF(ISNA(VLOOKUP(A124527,analyse!D:E,2,FALSE))=TRUE,0,(VLOOKUP(A124527,analyse!D:E,2,FALSE)))","v":0},{"$f":"analyse!$B$1","v":0},0,0,0,0]
[null,null,{"$f":"IF(ISNA(VLOOKUP(A124553,analyse!D:E,2,FALSE))=TRUE,0,(VLOOKUP(A124553,analyse!D:E,2,FALSE)))","v":0},{"$f":"analyse!$B$1","v":0},0,0,0,0]
[null,null,{"$f":"IF(ISNA(VLOOKUP(A124670,analyse!D:E,2,FALSE))=TRUE,0,(VLOOKUP(A124670,analyse!D:E,2,FALSE)))","v":0},{"$f":"analyse!$B$1","v":0},0,0,0,0]
[null,null,{"$f":"IF(ISNA(VLOOKUP(A124725,analyse!D:E,2,FALSE))=TRUE,0,(VLOOKUP(A124725,analyse!D:E,2,FALSE)))","v":0},{"$f":"analyse!$B$1","v":0},0,0,0,0]
[null,null,{"$f":"IF(ISNA(VLOOKUP(A124836,analyse!D:E,2,FALSE))=TRUE,0,(VLOOKUP(A124836,analyse!D:E,2,FALSE)))","v":0},{"$f":"analyse!$B$1","v":0},0,0,0,0]
[null,null,{"$f":"IF(ISNA(VLOOKUP(A124891,analyse!D:E,2,FALSE))=TRUE,0,(VLOOKUP(A124891,analyse!D:E,2,FALSE)))","v":0},{"$f":"analyse!$B$1","v":0},0,0,0,0]
[null,null,{"$f":"IF(ISNA(VLOOKUP(A124969,analyse!D:E,2,FALSE))=TRUE,0,(VLOOKUP(A124969,analyse!D:E,2,FALSE)))","v":0},{"$f":"analyse!$B$1","v":0},0,0,0,0]
[null,null,{"$f":"IF(ISNA(VLOOKUP(A125034,analyse!D:E,2,FALSE))=TRUE,0,(VLOOKUP(A125034,analyse!D:E,2,FALSE)))","v":0},{"$f":"analyse!$B$1","v":0},0,0,0,0]
[null,null,{"$f":"IF(ISNA(VLOOKUP(A125089,analyse!D:E,2,FALSE))=TRUE,0,(VLOOKUP(A125089,analyse!D:E,2,FALSE)))","v":0},{"$f":"analyse!$B$1","v":0},0,0,0,0]
[null,null,{"$f":"IF(ISNA(VLOOKUP(A125200,analyse!D:E,2,FALSE))=TRUE,0,(VLOOKUP(A125200,analyse!D:E,2,FALSE)))","v":0},{"$f":"analyse!$B$1","v":0},0,0,0,0]
[null,null,{"$f":"IF(ISNA(VLOOKUP(A125255,analyse!D:E,2,FALSE))=TRUE,0,(VLOOKUP(A125255,analyse!D:E,2,FALSE)))","v":0},{"$f":"analyse!$B$1","v":0},0,0,0,0]
[null,null,{"$f":"IF(ISNA(VLOOKUP(A125308,analyse!D:E,2,FALSE))=TRUE,0,(VLOOKUP(A125308,analyse!D:E,2,FALSE)))","v":0},{"$f":"analyse!$B$1","v":0},0,0,0,0]
[null,null,{"$f":"IF(ISNA(VLOOKUP(A125398,analyse!D:E,2,FALSE))=TRUE,0,(VLOOKUP(A125398,analyse!D:E,2,FALSE)))","v":0},{"$f":"analyse!$B$1","v":0},0,0,0,0]
[null,null,{"$f":"IF(ISNA(VLOOKUP(A125531,analyse!D:E,2,FALSE))=TRUE,0,(VLOOKUP(A125531,analyse!D:E,2,FALSE)))","v":0},{"$f":"analyse!$B$1","v":0},0,0,0,0]
[null,null,{"$f":"IF(ISNA(VLOOKUP(A125564,analyse!D:E,2,FALSE))=TRUE,0,(VLOOKUP(A125564,analyse!D:E,2,FALSE)))","v":0},{"$f":"analyse!$B$1","v":0},0,0,0,0]
[null,null,{"$f":"IF(ISNA(VLOOKUP(A125675,analyse!D:E,2,FALSE))=TRUE,0,(VLOOKUP(A125675,analyse!D:E,2,FALSE)))","v":0},{"$f":"analyse!$B$1","v":0},0,0,0,0]
[null,null,{"$f":"IF(ISNA(VLOOKUP(A125724,analyse!D:E,2,FALSE))=TRUE,0,(VLOOKUP(A125724,analyse!D:E,2,FALSE)))","v":0},{"$f":"analyse!$B$1","v":0},0,0,0,0]
[null,null,{"$f":"IF(ISNA(VLOOKUP(A125840,analyse!D:E,2,FALSE))=TRUE,0,(VLOOKUP(A125840,analyse!D:E,2,FALSE)))","v":0},{"$f":"analyse!$B$1","v":0},0,0,0,0]
[null,null,{"$f":"IF(ISNA(VLOOKUP(A125895,analyse!D:E,2,FALSE))=TRUE,0,(VLOOKUP(A125895,analyse!D:E,2,FALSE)))","v":0},{"$f":"analyse!$B$1","v":0},0,0,0,0]
[null,null,{"$f":"IF(ISNA(VLOOKUP(A125928,analyse!D:E,2,FALSE))=TRUE,0,(VLOOKUP(A125928,analyse!D:E,2,FALSE)))","v":0},{"$f":"analyse!$B$1","v":0},0,0,0,0]
[null,null,{"$f":"IF(ISNA(VLOOKUP(A126039,analyse!D:E,2,FALSE))=TRUE,0,(VLOOKUP(A126039,analyse!D:E,2,FALSE)))","v":0},{"$f":"analyse!$B$1","v":0},0,0,0,0]
[null,null,{"$f":"IF(ISNA(VLOOKUP(A126140,analyse!D:E,2,FALSE))=TRUE,0,(VLOOKUP(A126140,analyse!D:E,2,FALSE)))","v":0},{"$f":"analyse!$B$1","v":0},0,0,0,0]
[null,null,{"$f":"IF(ISNA(VLOOKUP(A126204,analyse!D:E,2,FALSE))=TRUE,0,(VLOOKUP(A126204,analyse!D:E,2,FALSE)))","v":0},{"$f":"analyse!$B$1","v":0},0,0,0,0]
[null,null,{"$f":"IF(ISNA(VLOOKUP(A126315,analyse!D:E,2,FALSE))=TRUE,0,(VLOOKUP(A126315,analyse!D:E,2,FALSE)))","v":0},{"$f":"analyse!$B$1","v":0},0,0,0,0]
[null,null,{"$f":"IF(ISNA(VLOOKUP(A126370,analyse!D:E,2,FALSE))=TRUE,0,(VLOOKUP(A126370,analyse!D:E,2,FALSE)))","v":0},{"$f":"analyse!$B$1","v":0},0,0,0,0]
[null,null,{"$f":"IF(ISNA(VLOOKUP(A126403,analyse!D:E,2,FALSE))=TRUE,0,(VLOOKUP(A126403,analyse!D:E,2,FALSE)))","v":0},{"$f":"analyse!$B$1","v":0},0,0,0,0]
[null,null,{"$f":"IF(ISNA(VLOOKUP(A126479,analyse!D:E,2,FALSE))=TRUE,0,(VLOOKUP(A126479,analyse!D:E,2,FALSE)))","v":0},{"$f":"analyse!$B$1","v":0},0,0,0,0]
[null,null,{"$f":"IF(ISNA(VLOOKUP(A126568,analyse!D:E,2,FALSE))=TRUE,0,(VLOOKUP(A126568,analyse!D:E,2,FALSE)))","v":0},{"$f":"analyse!$B$1","v":0},0,0,0,0]
[null,null,{"$f":"IF(ISNA(VLOOKUP(A126679,analyse!D:E,2,FALSE))=TRUE,0,(VLOOKUP(A126679,analyse!D:E,2,FALSE)))","v":0},{"$f":"analyse!$B$1","v":0},0,0,0,0]
[null,null,{"$f":"IF(ISNA(VLOOKUP(A126734,analyse!D:E,2,FALSE))=TRUE,0,(VLOOKUP(A126734,analyse!D:E,2,FALSE)))","v":0},{"$f":"analyse!$B$1","v":0},0,0,0,0]
[null,null,{"$f":"IF(ISNA(VLOOKUP(A126840,analyse!D:E,2,FALSE))=TRUE,0,(VLOOKUP(A126840,analyse!D:E,2,FALSE)))","v":0},{"$f":"analyse!$B$1","v":0},0,0,0,0]
[null,null,{"$f":"IF(ISNA(VLOOKUP(A126899,analyse!D:E,2,FALSE))=TRUE,0,(VLOOKUP(A126899,analyse!D:E,2,FALSE)))","v":0},{"$f":"analyse!$B$1","v":0},0,0,0,0]
[null,null,{"$f":"IF(ISNA(VLOOKUP(A127010,analyse!D:E,2,FALSE))=TRUE,0,(VLOOKUP(A127010,analyse!D:E,2,FALSE)))","v":0},{"$f":"analyse!$B$1","v":0},0,0,0,0]
[null,null,{"$f":"IF(ISNA(VLOOKUP(A127043,analyse!D:E,2,FALSE))=TRUE,0,(VLOOKUP(A127043,analyse!D:E,2,FALSE)))","v":0},{"$f":"analyse!$B$1","v":0},0,0,0,0]
[null,null,{"$f":"IF(ISNA(VLOOKUP(A127098,analyse!D:E,2,FALSE))=TRUE,0,(VLOOKUP(A127098,analyse!D:E,2,FALSE)))","v":0},{"$f":"analyse!$B$1","v":0},0,0,0,0]
[null,null,{"$f":"IF(ISNA(VLOOKUP(A127179,analyse!D:E,2,FALSE))=TRUE,0,(VLOOKUP(A127179,analyse!D:E,2,FALSE)))","v":0},{"$f":"analyse!$B$1","v":0},0,0,0,0]
[null,null,{"$f":"IF(ISNA(VLOOKUP(A127319,analyse!D:E,2,FALSE))=TRUE,0,(VLOOKUP(A127319,analyse!D:E,2,FALSE)))","v":0},{"$f":"analyse!$B$1","v":0},0,0,0,0]
[null,null,{"$f":"IF(ISNA(VLOOKUP(A127374,analyse!D:E,2,FALSE))=TRUE,0,(VLOOKUP(A127374,analyse!D:E,2,FALSE)))","v":0},{"$f":"analyse!$B$1","v":0},0,0,0,0]
[null,null,{"$f":"IF(ISNA(VLOOKUP(A127407,analyse!D:E,2,FALSE))=TRUE,0,(VLOOKUP(A127407,analyse!D:E,2,FALSE)))","v":0},{"$f":"analyse!$B$1","v":0},0,0,0,0]
[null,null,{"$f":"IF(ISNA(VLOOKUP(A127540,analyse!D:E,2,FALSE))=TRUE,0,(VLOOKUP(A127540,analyse!D:E,2,FALSE)))","v":0},{"$f":"analyse!$B$1","v":0},0,0,0,0]
[null,null,{"$f":"IF(ISNA(VLOOKUP(A127595,analyse!D:E,2,FALSE))=TRUE,0,(VLOOKUP(A127595,analyse!D:E,2,FALSE)))","v":0},{"$f":"analyse!$B$1","v":0},0,0,0,0]
[null,null,{"$f":"IF(ISNA(VLOOKUP(A127683,analyse!D:E,2,FALSE))=TRUE,0,(VLOOKUP(A127683,analyse!D:E,2,FALSE)))","v":0},{"$f":"analyse!$B$1","v":0},0,0,0,0]
[null,null,{"$f":"IF(ISNA(VLOOKUP(A127738,analyse!D:E,2,FALSE))=TRUE,0,(VLOOKUP(A127738,analyse!D:E,2,FALSE)))","v":0},{"$f":"analyse!$B$1","v":0},0,0,0,0]
[null,null,{"$f":"IF(ISNA(VLOOKUP(A127849,analyse!D:E,2,FALSE))=TRUE,0,(VLOOKUP(A127849,analyse!D:E,2,FALSE)))","v":0},{"$f":"analyse!$B$1","v":0},0,0,0,0]
[null,null,{"$f":"IF(ISNA(VLOOKUP(A127904,analyse!D:E,2,FALSE))=TRUE,0,(VLOOKUP(A127904,analyse!D:E,2,FALSE)))","v":0},{"$f":"analyse!$B$1","v":0},0,0,0,0]
[null,null,{"$f":"IF(ISNA(VLOOKUP(A128011,analyse!D:E,2,FALSE))=TRUE,0,(VLOOKUP(A128011,analyse!D:E,2,FALSE)))","v":0},{"$f":"analyse!$B$1","v":0},0,0,0,0]
[null,null,{"$f":"IF(ISNA(VLOOKUP(A128047,analyse!D:E,2,FALSE))=TRUE,0,(VLOOKUP(A128047,analyse!D:E,2,FALSE)))","v":0},{"$f":"analyse!$B$1","v":0},0,0,0,0]
[null,null,{"$f":"IF(ISNA(VLOOKUP(A128180,analyse!D:E,2,FALSE))=TRUE,0,(VLOOKUP(A128180,analyse!D:E,2,FALSE)))","v":0},{"$f":"analyse!$B$1","v":0},0,0,0,0]
[null,null,{"$f":"IF(ISNA(VLOOKUP(A128213,analyse!D:E,2,FALSE))=TRUE,0,(VLOOKUP(A128213,analyse!D:E,2,FALSE)))","v":0},{"$f":"analyse!$B$1","v":0},0,0,0,0]
[null,null,{"$f":"IF(ISNA(VLOOKUP(A128324,analyse!D:E,2,FALSE))=TRUE,0,(VLOOKUP(A128324,analyse!D:E,2,FALSE)))","v":0},{"$f":"analyse!$B$1","v":0},0,0,0,0]
[null,null,{"$f":"IF(ISNA(VLOOKUP(A128350,analyse!D:E,2,FALSE))=TRUE,0,(VLOOKUP(A128350,analyse!D:E,2,FALSE)))","v":0},{"$f":"analyse!$B$1","v":0},0,0,0,0]
[null,null,{"$f":"IF(ISNA(VLOOKUP(A128489,analyse!D:E,2,FALSE))=TRUE,0,(VLOOKUP(A128489,analyse!D:E,2,FALSE)))","v":0},{"$f":"analyse!$B$1","v":0},0,0,0,0]
[null,null,{"$f":"IF(ISNA(VLOOKUP(A128544,analyse!D:E,2,FALSE))=TRUE,0,(VLOOKUP(A128544,analyse!D:E,2,FALSE)))","v":0},{"$f":"analyse!$B$1","v":0},0,0,0,0]
[null,null,{"$f":"IF(ISNA(VLOOKUP(A128577,analyse!D:E,2,FALSE))=TRUE,0,(VLOOKUP(A128577,analyse!D:E,2,FALSE)))","v":0},{"$f":"analyse!$B$1","v":0},0,0,0,0]
[null,null,{"$f":"IF(ISNA(VLOOKUP(A128688,analyse!D:E,2,FALSE))=TRUE,0,(VLOOKUP(A128688,analyse!D:E,2,FALSE)))","v":0},{"$f":"analyse!$B$1","v":0},0,0,0,0]
[null,null,{"$f":"IF(ISNA(VLOOKUP(A128766,analyse!D:E,2,FALSE))=TRUE,0,(VLOOKUP(A128766,analyse!D:E,2,FALSE)))","v":0},{"$f":"analyse!$B$1","v":0},0,0,0,0]
[null,null,{"$f":"IF(ISNA(VLOOKUP(A128853,analyse!D:E,2,FALSE))=TRUE,0,(VLOOKUP(A128853,analyse!D:E,2,FALSE)))","v":0},{"$f":"analyse!$B$1","v":0},0,0,0,0]
[null,null,{"$f":"IF(ISNA(VLOOKUP(A128886,analyse!D:E,2,FALSE))=TRUE,0,(VLOOKUP(A128886,analyse!D:E,2,FALSE)))","v":0},{"$f":"analyse!$B$1","v":0},0,0,0,0]
[null,null,{"$f":"IF(ISNA(VLOOKUP(A129019,analyse!D:E,2,FALSE))=TRUE,0,(VLOOKUP(A129019,analyse!D:E,2,FALSE)))","v":0},{"$f":"analyse!$B$1","v":0},0,0,0,0]
[null,null,{"$f":"IF(ISNA(VLOOKUP(A129052,analyse!D:E,2,FALSE))=TRUE,0,(VLOOKUP(A129052,analyse!D:E,2,FALSE)))","v":0},{"$f":"analyse!$B$1","v":0},0,0,0,0]
[null,null,{"$f":"IF(ISNA(VLOOKUP(A129182,analyse!D:E,2,FALSE))=TRUE,0,(VLOOKUP(A129182,analyse!D:E,2,FALSE)))","v":0},{"$f":"analyse!$B$1","v":0},0,0,0,0]
[null,null,{"$f":"IF(ISNA(VLOOKUP(A129217,analyse!D:E,2,FALSE))=TRUE,0,(VLOOKUP(A129217,analyse!D:E,2,FALSE)))","v":0},{"$f":"analyse!$B$1","v":0},0,0,0,0]
[null,null,{"$f":"IF(ISNA(VLOOKUP(A129328,analyse!D:E,2,FALSE))=TRUE,0,(VLOOKUP(A129328,analyse!D:E,2,FALSE)))","v":0},{"$f":"analyse!$B$1","v":0},0,0,0,0]
[null,null,{"$f":"IF(ISNA(VLOOKUP(A129383,analyse!D:E,2,FALSE))=TRUE,0,(VLOOKUP(A129383,analyse!D:E,2,FALSE)))","v":0},{"$f":"analyse!$B$1","v":0},0,0,0,0]
[null,null,{"$f":"IF(ISNA(VLOOKUP(A129494,analyse!D:E,2,FALSE))=TRUE,0,(VLOOKUP(A129494,analyse!D:E,2,FALSE)))","v":0},{"$f":"analyse!$B$1","v":0},0,0,0,0]
[null,null,{"$f":"IF(ISNA(VLOOKUP(A129521,analyse!D:E,2,FALSE))=TRUE,0,(VLOOKUP(A129521,analyse!D:E,2,FALSE)))","v":0},{"$f":"analyse!$B$1","v":0},0,0,0,0]
[null,null,{"$f":"IF(ISNA(VLOOKUP(A129659,analyse!D:E,2,FALSE))=TRUE,0,(VLOOKUP(A129659,analyse!D:E,2,FALSE)))","v":0},{"$f":"analyse!$B$1","v":0},0,0,0,0]
[null,null,{"$f":"IF(ISNA(VLOOKUP(A129692,analyse!D:E,2,FALSE))=TRUE,0,(VLOOKUP(A129692,analyse!D:E,2,FALSE)))","v":0},{"$f":"analyse!$B$1","v":0},0,0,0,0]
[null,null,{"$f":"IF(ISNA(VLOOKUP(A129747,analyse!D:E,2,FALSE))=TRUE,0,(VLOOKUP(A129747,analyse!D:E,2,FALSE)))","v":0},{"$f":"analyse!$B$1","v":0},0,0,0,0]
[null,null,{"$f":"IF(ISNA(VLOOKUP(A129882,analyse!D:E,2,FALSE))=TRUE,0,(VLOOKUP(A129882,analyse!D:E,2,FALSE)))","v":0},{"$f":"analyse!$B$1","v":0},0,0,0,0]
[null,null,{"$f":"IF(ISNA(VLOOKUP(A129968,analyse!D:E,2,FALSE))=TRUE,0,(VLOOKUP(A129968,analyse!D:E,2,FALSE)))","v":0},{"$f":"analyse!$B$1","v":0},0,0,0,0]
[null,null,{"$f":"IF(ISNA(VLOOKUP(A130023,analyse!D:E,2,FALSE))=TRUE,0,(VLOOKUP(A130023,analyse!D:E,2,FALSE)))","v":0},{"$f":"analyse!$B$1","v":0},0,0,0,0]
[null,null,{"$f":"IF(ISNA(VLOOKUP(A130056,analyse!D:E,2,FALSE))=TRUE,0,(VLOOKUP(A130056,analyse!D:E,2,FALSE)))","v":0},{"$f":"analyse!$B$1","v":0},0,0,0,0]
[null,null,{"$f":"IF(ISNA(VLOOKUP(A130189,analyse!D:E,2,FALSE))=TRUE,0,(VLOOKUP(A130189,analyse!D:E,2,FALSE)))","v":0},{"$f":"analyse!$B$1","v":0},0,0,0,0]
[null,null,{"$f":"IF(ISNA(VLOOKUP(A130221,analyse!D:E,2,FALSE))=TRUE,0,(VLOOKUP(A130221,analyse!D:E,2,FALSE)))","v":0},{"$f":"analyse!$B$1","v":0},0,0,0,0]
[null,null,{"$f":"IF(ISNA(VLOOKUP(A130332,analyse!D:E,2,FALSE))=TRUE,0,(VLOOKUP(A130332,analyse!D:E,2,FALSE)))","v":0},{"$f":"analyse!$B$1","v":0},0,0,0,0]
[null,null,{"$f":"IF(ISNA(VLOOKUP(A130387,analyse!D:E,2,FALSE))=TRUE,0,(VLOOKUP(A130387,analyse!D:E,2,FALSE)))","v":0},{"$f":"analyse!$B$1","v":0},0,0,0,0]
[null,null,{"$f":"IF(ISNA(VLOOKUP(A130498,analyse!D:E,2,FALSE))=TRUE,0,(VLOOKUP(A130498,analyse!D:E,2,FALSE)))","v":0},{"$f":"analyse!$B$1","v":0},{"$f":"D130498-C130498","v":0},{"$f":"E130498+C130498","v":0},{"$f":"IF(F130498<E130498,D130498-1,D130498)","v":0},{"$f":"IF(A130498=\"S20.G01.00.001\",H130497+1,H130497)","v":0}]
[null,null,{"$f":"IF(ISNA(VLOOKUP(A130553,analyse!D:E,2,FALSE))=TRUE,0,(VLOOKUP(A130553,analyse!D:E,2,FALSE)))","v":0},{"$f":"analyse!$B$1","v":0},0,0,0,0]
[null,null,{"$f":"IF(ISNA(VLOOKUP(A130637,analyse!D:E,2,FALSE))=TRUE,0,(VLOOKUP(A130637,analyse!D:E,2,FALSE)))","v":0},{"$f":"analyse!$B$1","v":0},0,0,0,0]
[null,null,{"$f":"IF(ISNA(VLOOKUP(A130696,analyse!D:E,2,FALSE))=TRUE,0,(VLOOKUP(A130696,analyse!D:E,2,FALSE)))","v":0},{"$f":"analyse!$B$1","v":0},0,0,0,0]
[null,null,{"$f":"IF(ISNA(VLOOKUP(A130751,analyse!D:E,2,FALSE))=TRUE,0,(VLOOKUP(A130751,analyse!D:E,2,FALSE)))","v":0},{"$f":"analyse!$B$1","v":0},0,0,0,0]
[null,null,{"$f":"IF(ISNA(VLOOKUP(A130862,analyse!D:E,2,FALSE))=TRUE,0,(VLOOKUP(A130862,analyse!D:E,2,FALSE)))","v":0},{"$f":"analyse!$B$1","v":0},0,0,0,0]
[null,null,{"$f":"IF(ISNA(VLOOKUP(A130973,analyse!D:E,2,FALSE))=TRUE,0,(VLOOKUP(A130973,analyse!D:E,2,FALSE)))","v":0},{"$f":"analyse!$B$1","v":0},0,0,0,0]
[null,null,{"$f":"IF(ISNA(VLOOKUP(A131053,analyse!D:E,2,FALSE))=TRUE,0,(VLOOKUP(A131053,analyse!D:E,2,FALSE)))","v":0},{"$f":"analyse!$B$1","v":0},0,0,0,0]
[null,null,{"$f":"IF(ISNA(VLOOKUP(A131138,analyse!D:E,2,FALSE))=TRUE,0,(VLOOKUP(A131138,analyse!D:E,2,FALSE)))","v":0},{"$f":"analyse!$B$1","v":0},{"$f":"D131138-C131138","v":0},{"$f":"E131138+C131138","v":0},{"$f":"IF(F131138<E131138,D131138-1,D131138)","v":0},{"$f":"IF(A131138=\"S20.G01.00.001\",H131137+1,H131137)","v":0}]
[null,null,{"$f":"IF(ISNA(VLOOKUP(A131193,analyse!D:E,2,FALSE))=TRUE,0,(VLOOKUP(A131193,analyse!D:E,2,FALSE)))","v":0},{"$f":"analyse!$B$1","v":0},0,0,0,0]
[null,null,{"$f":"IF(ISNA(VLOOKUP(A131226,analyse!D:E,2,FALSE))=TRUE,0,(VLOOKUP(A131226,analyse!D:E,2,FALSE)))","v":0},{"$f":"analyse!$B$1","v":0},0,0,0,0]
[null,null,{"$f":"IF(ISNA(VLOOKUP(A131337,analyse!D:E,2,FALSE))=TRUE,0,(VLOOKUP(A131337,analyse!D:E,2,FALSE)))","v":0},{"$f":"analyse!$B$1","v":0},0,0,0,0]
[null,null,{"$f":"IF(ISNA(VLOOKUP(A131392,analyse!D:E,2,FALSE))=TRUE,0,(VLOOKUP(A131392,analyse!D:E,2,FALSE)))","v":0},{"$f":"analyse!$B$1","v":0},0,0,0,0]
[null,null,{"$f":"IF(ISNA(VLOOKUP(A131502,analyse!D:E,2,FALSE))=TRUE,0,(VLOOKUP(A131502,analyse!D:E,2,FALSE)))","v":0},{"$f":"analyse!$B$1","v":0},0,0,0,0]
[null,null,{"$f":"IF(ISNA(VLOOKUP(A131535,analyse!D:E,2,FALSE))=TRUE,0,(VLOOKUP(A131535,analyse!D:E,2,FALSE)))","v":0},{"$f":"analyse!$B$1","v":0},0,0,0,0]
[null,null,{"$f":"IF(ISNA(VLOOKUP(A131668,analyse!D:E,2,FALSE))=TRUE,0,(VLOOKUP(A131668,analyse!D:E,2,FALSE)))","v":0},{"$f":"analyse!$B$1","v":0},0,0,0,0]
[null,null,{"$f":"IF(ISNA(VLOOKUP(A131701,analyse!D:E,2,FALSE))=TRUE,0,(VLOOKUP(A131701,analyse!D:E,2,FALSE)))","v":0},{"$f":"analyse!$B$1","v":0},0,0,0,0]
[null,null,{"$f":"IF(ISNA(VLOOKUP(A131808,analyse!D:E,2,FALSE))=TRUE,0,(VLOOKUP(A131808,analyse!D:E,2,FALSE)))","v":0},{"$f":"analyse!$B$1","v":0},0,0,0,0]
[null,null,{"$f":"IF(ISNA(VLOOKUP(A131866,analyse!D:E,2,FALSE))=TRUE,0,(VLOOKUP(A131866,analyse!D:E,2,FALSE)))","v":0},{"$f":"analyse!$B$1","v":0},0,0,0,0]
[null,null,{"$f":"IF(ISNA(VLOOKUP(A131977,analyse!D:E,2,FALSE))=TRUE,0,(VLOOKUP(A131977,analyse!D:E,2,FALSE)))","v":0},{"$f":"analyse!$B$1","v":0},0,0,0,0]
[null,null,{"$f":"IF(ISNA(VLOOKUP(A132032,analyse!D:E,2,FALSE))=TRUE,0,(VLOOKUP(A132032,analyse!D:E,2,FALSE)))","v":0},{"$f":"analyse!$B$1","v":0},0,0,0,0]
[null,null,{"$f":"IF(ISNA(VLOOKUP(A132143,analyse!D:E,2,FALSE))=TRUE,0,(VLOOKUP(A132143,analyse!D:E,2,FALSE)))","v":0},{"$f":"analyse!$B$1","v":0},0,0,0,0]
[null,null,{"$f":"IF(ISNA(VLOOKUP(A132224,analyse!D:E,2,FALSE))=TRUE,0,(VLOOKUP(A132224,analyse!D:E,2,FALSE)))","v":0},{"$f":"analyse!$B$1","v":0},0,0,0,0]
[null,null,{"$f":"IF(ISNA(VLOOKUP(A132230,analyse!D:E,2,FALSE))=TRUE,0,(VLOOKUP(A132230,analyse!D:E,2,FALSE)))","v":0},{"$f":"analyse!$B$1","v":0},0,0,0,0]
[null,null,{"$f":"IF(ISNA(VLOOKUP(A132341,analyse!D:E,2,FALSE))=TRUE,0,(VLOOKUP(A132341,analyse!D:E,2,FALSE)))","v":0},{"$f":"analyse!$B$1","v":0},0,0,0,0]
[null,null,{"$f":"IF(ISNA(VLOOKUP(A132396,analyse!D:E,2,FALSE))=TRUE,0,(VLOOKUP(A132396,analyse!D:E,2,FALSE)))","v":0},{"$f":"analyse!$B$1","v":0},0,0,0,0]
[null,null,{"$f":"IF(ISNA(VLOOKUP(A132507,analyse!D:E,2,FALSE))=TRUE,0,(VLOOKUP(A132507,analyse!D:E,2,FALSE)))","v":0},{"$f":"analyse!$B$1","v":0},0,0,0,0]
[null,null,{"$f":"IF(ISNA(VLOOKUP(A132559,analyse!D:E,2,FALSE))=TRUE,0,(VLOOKUP(A132559,analyse!D:E,2,FALSE)))","v":0},{"$f":"analyse!$B$1","v":0},0,0,0,0]
[null,null,{"$f":"IF(ISNA(VLOOKUP(A132672,analyse!D:E,2,FALSE))=TRUE,0,(VLOOKUP(A132672,analyse!D:E,2,FALSE)))","v":0},{"$f":"analyse!$B$1","v":0},0,0,0,0]
[null,null,{"$f":"IF(ISNA(VLOOKUP(A132705,analyse!D:E,2,FALSE))=TRUE,0,(VLOOKUP(A132705,analyse!D:E,2,FALSE)))","v":0},{"$f":"analyse!$B$1","v":0},0,0,0,0]
[null,null,{"$f":"IF(ISNA(VLOOKUP(A132838,analyse!D:E,2,FALSE))=TRUE,0,(VLOOKUP(A132838,analyse!D:E,2,FALSE)))","v":0},{"$f":"analyse!$B$1","v":0},0,0,0,0]
[null,null,{"$f":"IF(ISNA(VLOOKUP(A132924,analyse!D:E,2,FALSE))=TRUE,0,(VLOOKUP(A132924,analyse!D:E,2,FALSE)))","v":0},{"$f":"analyse!$B$1","v":0},0,0,0,0]
[null,null,{"$f":"IF(ISNA(VLOOKUP(A132981,analyse!D:E,2,FALSE))=TRUE,0,(VLOOKUP(A132981,analyse!D:E,2,FALSE)))","v":0},{"$f":"analyse!$B$1","v":0},0,0,0,0]
[null,null,{"$f":"IF(ISNA(VLOOKUP(A133036,analyse!D:E,2,FALSE))=TRUE,0,(VLOOKUP(A133036,analyse!D:E,2,FALSE)))","v":0},{"$f":"analyse!$B$1","v":0},0,0,0,0]
[null,null,{"$f":"IF(ISNA(VLOOKUP(A133147,analyse!D:E,2,FALSE))=TRUE,0,(VLOOKUP(A133147,analyse!D:E,2,FALSE)))","v":0},{"$f":"analyse!$B$1","v":0},0,0,0,0]
[null,null,{"$f":"IF(ISNA(VLOOKUP(A133180,analyse!D:E,2,FALSE))=TRUE,0,(VLOOKUP(A133180,analyse!D:E,2,FALSE)))","v":0},{"$f":"analyse!$B$1","v":0},0,0,0,0]
[null,null,{"$f":"IF(ISNA(VLOOKUP(A133263,analyse!D:E,2,FALSE))=TRUE,0,(VLOOKUP(A133263,analyse!D:E,2,FALSE)))","v":0},{"$f":"analyse!$B$1","v":0},0,0,0,0]
[null,null,{"$f":"IF(ISNA(VLOOKUP(A133345,analyse!D:E,2,FALSE))=TRUE,0,(VLOOKUP(A133345,analyse!D:E,2,FALSE)))","v":0},{"$f":"analyse!$B$1","v":0},0,0,0,0]
[null,null,{"$f":"IF(ISNA(VLOOKUP(A133400,analyse!D:E,2,FALSE))=TRUE,0,(VLOOKUP(A133400,analyse!D:E,2,FALSE)))","v":0},{"$f":"analyse!$B$1","v":0},0,0,0,0]
[null,null,{"$f":"IF(ISNA(VLOOKUP(A133511,analyse!D:E,2,FALSE))=TRUE,0,(VLOOKUP(A133511,analyse!D:E,2,FALSE)))","v":0},{"$f":"analyse!$B$1","v":0},0,0,0,0]
[null,null,{"$f":"IF(ISNA(VLOOKUP(A133622,analyse!D:E,2,FALSE))=TRUE,0,(VLOOKUP(A133622,analyse!D:E,2,FALSE)))","v":0},{"$f":"analyse!$B$1","v":0},0,0,0,0]
[null,null,{"$f":"IF(ISNA(VLOOKUP(A133679,analyse!D:E,2,FALSE))=TRUE,0,(VLOOKUP(A133679,analyse!D:E,2,FALSE)))","v":0},{"$f":"analyse!$B$1","v":0},0,0,0,0]
[null,null,{"$f":"IF(ISNA(VLOOKUP(A133709,analyse!D:E,2,FALSE))=TRUE,0,(VLOOKUP(A133709,analyse!D:E,2,FALSE)))","v":0},{"$f":"analyse!$B$1","v":0},0,0,0,0]
[null,null,{"$f":"IF(ISNA(VLOOKUP(A133842,analyse!D:E,2,FALSE))=TRUE,0,(VLOOKUP(A133842,analyse!D:E,2,FALSE)))","v":0},{"$f":"analyse!$B$1","v":0},0,0,0,0]
[null,null,{"$f":"IF(ISNA(VLOOKUP(A133875,analyse!D:E,2,FALSE))=TRUE,0,(VLOOKUP(A133875,analyse!D:E,2,FALSE)))","v":0},{"$f":"analyse!$B$1","v":0},0,0,0,0]
[null,null,{"$f":"IF(ISNA(VLOOKUP(A133986,analyse!D:E,2,FALSE))=TRUE,0,(VLOOKUP(A133986,analyse!D:E,2,FALSE)))","v":0},{"$f":"analyse!$B$1","v":0},0,0,0,0]
[null,null,{"$f":"IF(ISNA(VLOOKUP(A134095,analyse!D:E,2,FALSE))=TRUE,0,(VLOOKUP(A134095,analyse!D:E,2,FALSE)))","v":0},{"$f":"analyse!$B$1","v":0},0,0,0,0]
[null,null,{"$f":"IF(ISNA(VLOOKUP(A134151,analyse!D:E,2,FALSE))=TRUE,0,(VLOOKUP(A134151,analyse!D:E,2,FALSE)))","v":0},{"$f":"analyse!$B$1","v":0},0,0,0,0]
[null,null,{"$f":"IF(ISNA(VLOOKUP(A134184,analyse!D:E,2,FALSE))=TRUE,0,(VLOOKUP(A134184,analyse!D:E,2,FALSE)))","v":0},{"$f":"analyse!$B$1","v":0},0,0,0,0]
[null,null,{"$f":"IF(ISNA(VLOOKUP(A134317,analyse!D:E,2,FALSE))=TRUE,0,(VLOOKUP(A134317,analyse!D:E,2,FALSE)))","v":0},{"$f":"analyse!$B$1","v":0},0,0,0,0]
[null,null,{"$f":"IF(ISNA(VLOOKUP(A134350,analyse!D:E,2,FALSE))=TRUE,0,(VLOOKUP(A134350,analyse!D:E,2,FALSE)))","v":0},{"$f":"analyse!$B$1","v":0},0,0,0,0]
[null,null,{"$f":"IF(ISNA(VLOOKUP(A134434,analyse!D:E,2,FALSE))=TRUE,0,(VLOOKUP(A134434,analyse!D:E,2,FALSE)))","v":0},{"$f":"analyse!$B$1","v":0},0,0,0,0]
[null,null,{"$f":"IF(ISNA(VLOOKUP(A134515,analyse!D:E,2,FALSE))=TRUE,0,(VLOOKUP(A134515,analyse!D:E,2,FALSE)))","v":0},{"$f":"analyse!$B$1","v":0},0,0,0,0]
[null,null,{"$f":"IF(ISNA(VLOOKUP(A134626,analyse!D:E,2,FALSE))=TRUE,0,(VLOOKUP(A134626,analyse!D:E,2,FALSE)))","v":0},{"$f":"analyse!$B$1","v":0},0,0,0,0]
[null,null,{"$f":"IF(ISNA(VLOOKUP(A134681,analyse!D:E,2,FALSE))=TRUE,0,(VLOOKUP(A134681,analyse!D:E,2,FALSE)))","v":0},{"$f":"analyse!$B$1","v":0},0,0,0,0]
[null,null,{"$f":"IF(ISNA(VLOOKUP(A134792,analyse!D:E,2,FALSE))=TRUE,0,(VLOOKUP(A134792,analyse!D:E,2,FALSE)))","v":0},{"$f":"analyse!$B$1","v":0},0,0,0,0]
[null,null,{"$f":"IF(ISNA(VLOOKUP(A134850,analyse!D:E,2,FALSE))=TRUE,0,(VLOOKUP(A134850,analyse!D:E,2,FALSE)))","v":0},{"$f":"analyse!$B$1","v":0},{"$f":"D134850-C134850","v":0},{"$f":"E134850+C134850","v":0},{"$f":"IF(F134850<E134850,D134850-1,D134850)","v":0},{"$f":"IF(A134850=\"S20.G01.00.001\",H134849+1,H134849)","v":0}]
[null,null,{"$f":"IF(ISNA(VLOOKUP(A134879,analyse!D:E,2,FALSE))=TRUE,0,(VLOOKUP(A134879,analyse!D:E,2,FALSE)))","v":0},{"$f":"analyse!$B$1","v":0},0,0,0,0]
[null,null,{"$f":"IF(ISNA(VLOOKUP(A134990,analyse!D:E,2,FALSE))=TRUE,0,(VLOOKUP(A134990,analyse!D:E,2,FALSE)))","v":0},{"$f":"analyse!$B$1","v":0},0,0,0,0]
[null,null,{"$f":"IF(ISNA(VLOOKUP(A135045,analyse!D:E,2,FALSE))=TRUE,0,(VLOOKUP(A135045,analyse!D:E,2,FALSE)))","v":0},{"$f":"analyse!$B$1","v":0},0,0,0,0]
[null,null,{"$f":"IF(ISNA(VLOOKUP(A135156,analyse!D:E,2,FALSE))=TRUE,0,(VLOOKUP(A135156,analyse!D:E,2,FALSE)))","v":0},{"$f":"analyse!$B$1","v":0},0,0,0,0]
[null,null,{"$f":"IF(ISNA(VLOOKUP(A135262,analyse!D:E,2,FALSE))=TRUE,0,(VLOOKUP(A135262,analyse!D:E,2,FALSE)))","v":0},{"$f":"analyse!$B$1","v":0},0,0,0,0]
[null,null,{"$f":"IF(ISNA(VLOOKUP(A135321,analyse!D:E,2,FALSE))=TRUE,0,(VLOOKUP(A135321,analyse!D:E,2,FALSE)))","v":0},{"$f":"analyse!$B$1","v":0},0,0,0,0]
[null,null,{"$f":"IF(ISNA(VLOOKUP(A135354,analyse!D:E,2,FALSE))=TRUE,0,(VLOOKUP(A135354,analyse!D:E,2,FALSE)))","v":0},{"$f":"analyse!$B$1","v":0},0,0,0,0]
[null,null,{"$f":"IF(ISNA(VLOOKUP(A135487,analyse!D:E,2,FALSE))=TRUE,0,(VLOOKUP(A135487,analyse!D:E,2,FALSE)))","v":0},{"$f":"analyse!$B$1","v":0},0,0,0,0]
[null,null,{"$f":"IF(ISNA(VLOOKUP(A135520,analyse!D:E,2,FALSE))=TRUE,0,(VLOOKUP(A135520,analyse!D:E,2,FALSE)))","v":0},{"$f":"analyse!$B$1","v":0},0,0,0,0]
[null,null,{"$f":"IF(ISNA(VLOOKUP(A135601,analyse!D:E,2,FALSE))=TRUE,0,(VLOOKUP(A135601,analyse!D:E,2,FALSE)))","v":0},{"$f":"analyse!$B$1","v":0},0,0,0,0]
[null,null,{"$f":"IF(ISNA(VLOOKUP(A135685,analyse!D:E,2,FALSE))=TRUE,0,(VLOOKUP(A135685,analyse!D:E,2,FALSE)))","v":0},{"$f":"analyse!$B$1","v":0},0,0,0,0]
[null,null,{"$f":"IF(ISNA(VLOOKUP(A135796,analyse!D:E,2,FALSE))=TRUE,0,(VLOOKUP(A135796,analyse!D:E,2,FALSE)))","v":0},{"$f":"analyse!$B$1","v":0},0,0,0,0]
[null,null,{"$f":"IF(ISNA(VLOOKUP(A135829,analyse!D:E,2,FALSE))=TRUE,0,(VLOOKUP(A135829,analyse!D:E,2,FALSE)))","v":0},{"$f":"analyse!$B$1","v":0},0,0,0,0]
[null,null,{"$f":"IF(ISNA(VLOOKUP(A135889,analyse!D:E,2,FALSE))=TRUE,0,(VLOOKUP(A135889,analyse!D:E,2,FALSE)))","v":0},{"$f":"analyse!$B$1","v":0},0,0,0,0]
[null,null,{"$f":"IF(ISNA(VLOOKUP(A135994,analyse!D:E,2,FALSE))=TRUE,0,(VLOOKUP(A135994,analyse!D:E,2,FALSE)))","v":0},{"$f":"analyse!$B$1","v":0},0,0,0,0]
[null,null,{"$f":"IF(ISNA(VLOOKUP(A136049,analyse!D:E,2,FALSE))=TRUE,0,(VLOOKUP(A136049,analyse!D:E,2,FALSE)))","v":0},{"$f":"analyse!$B$1","v":0},0,0,0,0]
[null,null,{"$f":"IF(ISNA(VLOOKUP(A136160,analyse!D:E,2,FALSE))=TRUE,0,(VLOOKUP(A136160,analyse!D:E,2,FALSE)))","v":0},{"$f":"analyse!$B$1","v":0},0,0,0,0]
[null,null,{"$f":"IF(ISNA(VLOOKUP(A136271,analyse!D:E,2,FALSE))=TRUE,0,(VLOOKUP(A136271,analyse!D:E,2,FALSE)))","v":0},{"$f":"analyse!$B$1","v":0},0,0,0,0]
[null,null,{"$f":"IF(ISNA(VLOOKUP(A136305,analyse!D:E,2,FALSE))=TRUE,0,(VLOOKUP(A136305,analyse!D:E,2,FALSE)))","v":0},{"$f":"analyse!$B$1","v":0},0,0,0,0]
[null,null,{"$f":"IF(ISNA(VLOOKUP(A136358,analyse!D:E,2,FALSE))=TRUE,0,(VLOOKUP(A136358,analyse!D:E,2,FALSE)))","v":0},{"$f":"analyse!$B$1","v":0},0,0,0,0]
[null,null,{"$f":"IF(ISNA(VLOOKUP(A136491,analyse!D:E,2,FALSE))=TRUE,0,(VLOOKUP(A136491,analyse!D:E,2,FALSE)))","v":0},{"$f":"analyse!$B$1","v":0},0,0,0,0]
[null,null,{"$f":"IF(ISNA(VLOOKUP(A136524,analyse!D:E,2,FALSE))=TRUE,0,(VLOOKUP(A136524,analyse!D:E,2,FALSE)))","v":0},{"$f":"analyse!$B$1","v":0},0,0,0,0]
[null,null,{"$f":"IF(ISNA(VLOOKUP(A136635,analyse!D:E,2,FALSE))=TRUE,0,(VLOOKUP(A136635,analyse!D:E,2,FALSE)))","v":0},{"$f":"analyse!$B$1","v":0},0,0,0,0]
[null,null,{"$f":"IF(ISNA(VLOOKUP(A136721,analyse!D:E,2,FALSE))=TRUE,0,(VLOOKUP(A136721,analyse!D:E,2,FALSE)))","v":0},{"$f":"analyse!$B$1","v":0},0,0,0,0]
[null,null,{"$f":"IF(ISNA(VLOOKUP(A136800,analyse!D:E,2,FALSE))=TRUE,0,(VLOOKUP(A136800,analyse!D:E,2,FALSE)))","v":0},{"$f":"analyse!$B$1","v":0},0,0,0,0]
[null,null,{"$f":"IF(ISNA(VLOOKUP(A136833,analyse!D:E,2,FALSE))=TRUE,0,(VLOOKUP(A136833,analyse!D:E,2,FALSE)))","v":0},{"$f":"analyse!$B$1","v":0},0,0,0,0]
[null,null,{"$f":"IF(ISNA(VLOOKUP(A136966,analyse!D:E,2,FALSE))=TRUE,0,(VLOOKUP(A136966,analyse!D:E,2,FALSE)))","v":0},{"$f":"analyse!$B$1","v":0},0,0,0,0]
[null,null,{"$f":"IF(ISNA(VLOOKUP(A136999,analyse!D:E,2,FALSE))=TRUE,0,(VLOOKUP(A136999,analyse!D:E,2,FALSE)))","v":0},{"$f":"analyse!$B$1","v":0},0,0,0,0]
[null,null,{"$f":"IF(ISNA(VLOOKUP(A137060,analyse!D:E,2,FALSE))=TRUE,0,(VLOOKUP(A137060,analyse!D:E,2,FALSE)))","v":0},{"$f":"analyse!$B$1","v":0},0,0,0,0]
[null,null,{"$f":"IF(ISNA(VLOOKUP(A137164,analyse!D:E,2,FALSE))=TRUE,0,(VLOOKUP(A137164,analyse!D:E,2,FALSE)))","v":0},{"$f":"analyse!$B$1","v":0},0,0,0,0]
[null,null,{"$f":"IF(ISNA(VLOOKUP(A137275,analyse!D:E,2,FALSE))=TRUE,0,(VLOOKUP(A137275,analyse!D:E,2,FALSE)))","v":0},{"$f":"analyse!$B$1","v":0},0,0,0,0]
[null,null,{"$f":"IF(ISNA(VLOOKUP(A137330,analyse!D:E,2,FALSE))=TRUE,0,(VLOOKUP(A137330,analyse!D:E,2,FALSE)))","v":0},{"$f":"analyse!$B$1","v":0},0,0,0,0]
[null,null,{"$f":"IF(ISNA(VLOOKUP(A137441,analyse!D:E,2,FALSE))=TRUE,0,(VLOOKUP(A137441,analyse!D:E,2,FALSE)))","v":0},{"$f":"analyse!$B$1","v":0},0,0,0,0]
[null,null,{"$f":"IF(ISNA(VLOOKUP(A137476,analyse!D:E,2,FALSE))=TRUE,0,(VLOOKUP(A137476,analyse!D:E,2,FALSE)))","v":0},{"$f":"analyse!$B$1","v":0},0,0,0,0]
[null,null,{"$f":"IF(ISNA(VLOOKUP(A137528,analyse!D:E,2,FALSE))=TRUE,0,(VLOOKUP(A137528,analyse!D:E,2,FALSE)))","v":0},{"$f":"analyse!$B$1","v":0},0,0,0,0]
[null,null,{"$f":"IF(ISNA(VLOOKUP(A137639,analyse!D:E,2,FALSE))=TRUE,0,(VLOOKUP(A137639,analyse!D:E,2,FALSE)))","v":0},{"$f":"analyse!$B$1","v":0},0,0,0,0]
[null,null,{"$f":"IF(ISNA(VLOOKUP(A137694,analyse!D:E,2,FALSE))=TRUE,0,(VLOOKUP(A137694,analyse!D:E,2,FALSE)))","v":0},{"$f":"analyse!$B$1","v":0},0,0,0,0]
[null,null,{"$f":"IF(ISNA(VLOOKUP(A137805,analyse!D:E,2,FALSE))=TRUE,0,(VLOOKUP(A137805,analyse!D:E,2,FALSE)))","v":0},{"$f":"analyse!$B$1","v":0},0,0,0,0]
[null,null,{"$f":"IF(ISNA(VLOOKUP(A137888,analyse!D:E,2,FALSE))=TRUE,0,(VLOOKUP(A137888,analyse!D:E,2,FALSE)))","v":0},{"$f":"analyse!$B$1","v":0},0,0,0,0]
[null,null,{"$f":"IF(ISNA(VLOOKUP(A137970,analyse!D:E,2,FALSE))=TRUE,0,(VLOOKUP(A137970,analyse!D:E,2,FALSE)))","v":0},{"$f":"analyse!$B$1","v":0},0,0,0,0]
[null,null,{"$f":"IF(ISNA(VLOOKUP(A138003,analyse!D:E,2,FALSE))=TRUE,0,(VLOOKUP(A138003,analyse!D:E,2,FALSE)))","v":0},{"$f":"analyse!$B$1","v":0},0,0,0,0]
[null,null,{"$f":"IF(ISNA(VLOOKUP(A138136,analyse!D:E,2,FALSE))=TRUE,0,(VLOOKUP(A138136,analyse!D:E,2,FALSE)))","v":0},{"$f":"analyse!$B$1","v":0},0,0,0,0]
[null,null,{"$f":"IF(ISNA(VLOOKUP(A138169,analyse!D:E,2,FALSE))=TRUE,0,(VLOOKUP(A138169,analyse!D:E,2,FALSE)))","v":0},{"$f":"analyse!$B$1","v":0},0,0,0,0]
[null,null,{"$f":"IF(ISNA(VLOOKUP(A138227,analyse!D:E,2,FALSE))=TRUE,0,(VLOOKUP(A138227,analyse!D:E,2,FALSE)))","v":0},{"$f":"analyse!$B$1","v":0},0,0,0,0]
[null,null,{"$f":"IF(ISNA(VLOOKUP(A138334,analyse!D:E,2,FALSE))=TRUE,0,(VLOOKUP(A138334,analyse!D:E,2,FALSE)))","v":0},{"$f":"analyse!$B$1","v":0},0,0,0,0]
[null,null,{"$f":"IF(ISNA(VLOOKUP(A138445,analyse!D:E,2,FALSE))=TRUE,0,(VLOOKUP(A138445,analyse!D:E,2,FALSE)))","v":0},{"$f":"analyse!$B$1","v":0},0,0,0,0]
[null,null,{"$f":"IF(ISNA(VLOOKUP(A138478,analyse!D:E,2,FALSE))=TRUE,0,(VLOOKUP(A138478,analyse!D:E,2,FALSE)))","v":0},{"$f":"analyse!$B$1","v":0},0,0,0,0]
[null,null,{"$f":"IF(ISNA(VLOOKUP(A138533,analyse!D:E,2,FALSE))=TRUE,0,(VLOOKUP(A138533,analyse!D:E,2,FALSE)))","v":0},{"$f":"analyse!$B$1","v":0},0,0,0,0]
[null,null,{"$f":"IF(ISNA(VLOOKUP(A138643,analyse!D:E,2,FALSE))=TRUE,0,(VLOOKUP(A138643,analyse!D:E,2,FALSE)))","v":0},{"$f":"analyse!$B$1","v":0},0,0,0,0]
[null,null,{"$f":"IF(ISNA(VLOOKUP(A138698,analyse!D:E,2,FALSE))=TRUE,0,(VLOOKUP(A138698,analyse!D:E,2,FALSE)))","v":0},{"$f":"analyse!$B$1","v":0},0,0,0,0]
[null,null,{"$f":"IF(ISNA(VLOOKUP(A138809,analyse!D:E,2,FALSE))=TRUE,0,(VLOOKUP(A138809,analyse!D:E,2,FALSE)))","v":0},{"$f":"analyse!$B$1","v":0},0,0,0,0]
[null,null,{"$f":"IF(ISNA(VLOOKUP(A138842,analyse!D:E,2,FALSE))=TRUE,0,(VLOOKUP(A138842,analyse!D:E,2,FALSE)))","v":0},{"$f":"analyse!$B$1","v":0},0,0,0,0]
[null,null,{"$f":"IF(ISNA(VLOOKUP(A138931,analyse!D:E,2,FALSE))=TRUE,0,(VLOOKUP(A138931,analyse!D:E,2,FALSE)))","v":0},{"$f":"analyse!$B$1","v":0},0,0,0,0]
[null,null,{"$f":"IF(ISNA(VLOOKUP(A139007,analyse!D:E,2,FALSE))=TRUE,0,(VLOOKUP(A139007,analyse!D:E,2,FALSE)))","v":0},{"$f":"analyse!$B$1","v":0},0,0,0,0]
[null,null,{"$f":"IF(ISNA(VLOOKUP(A139140,analyse!D:E,2,FALSE))=TRUE,0,(VLOOKUP(A139140,analyse!D:E,2,FALSE)))","v":0},{"$f":"analyse!$B$1","v":0},0,0,0,0]
[null,null,{"$f":"IF(ISNA(VLOOKUP(A139173,analyse!D:E,2,FALSE))=TRUE,0,(VLOOKUP(A139173,analyse!D:E,2,FALSE)))","v":0},{"$f":"analyse!$B$1","v":0},0,0,0,0]
[null,null,{"$f":"IF(ISNA(VLOOKUP(A139284,analyse!D:E,2,FALSE))=TRUE,0,(VLOOKUP(A139284,analyse!D:E,2,FALSE)))","v":0},{"$f":"analyse!$B$1","v":0},0,0,0,0]
[null,null,{"$f":"IF(ISNA(VLOOKUP(A139347,analyse!D:E,2,FALSE))=TRUE,0,(VLOOKUP(A139347,analyse!D:E,2,FALSE)))","v":0},{"$f":"analyse!$B$1","v":0},0,0,0,0]
[null,null,{"$f":"IF(ISNA(VLOOKUP(A139449,analyse!D:E,2,FALSE))=TRUE,0,(VLOOKUP(A139449,analyse!D:E,2,FALSE)))","v":0},{"$f":"analyse!$B$1","v":0},0,0,0,0]
[null,null,{"$f":"IF(ISNA(VLOOKUP(A139482,analyse!D:E,2,FALSE))=TRUE,0,(VLOOKUP(A139482,analyse!D:E,2,FALSE)))","v":0},{"$f":"analyse!$B$1","v":0},0,0,0,0]
[null,null,{"$f":"IF(ISNA(VLOOKUP(A139615,analyse!D:E,2,FALSE))=TRUE,0,(VLOOKUP(A139615,analyse!D:E,2,FALSE)))","v":0},{"$f":"analyse!$B$1","v":0},0,0,0,0]
[null,null,{"$f":"IF(ISNA(VLOOKUP(A139648,analyse!D:E,2,FALSE))=TRUE,0,(VLOOKUP(A139648,analyse!D:E,2,FALSE)))","v":0},{"$f":"analyse!$B$1","v":0},0,0,0,0]
[null,null,{"$f":"IF(ISNA(VLOOKUP(A139763,analyse!D:E,2,FALSE))=TRUE,0,(VLOOKUP(A139763,analyse!D:E,2,FALSE)))","v":0},{"$f":"analyse!$B$1","v":0},0,0,0,0]
[null,null,{"$f":"IF(ISNA(VLOOKUP(A139813,analyse!D:E,2,FALSE))=TRUE,0,(VLOOKUP(A139813,analyse!D:E,2,FALSE)))","v":0},{"$f":"analyse!$B$1","v":0},0,0,0,0]
[null,null,{"$f":"IF(ISNA(VLOOKUP(A139924,analyse!D:E,2,FALSE))=TRUE,0,(VLOOKUP(A139924,analyse!D:E,2,FALSE)))","v":0},{"$f":"analyse!$B$1","v":0},0,0,0,0]
[null,null,{"$f":"IF(ISNA(VLOOKUP(A139979,analyse!D:E,2,FALSE))=TRUE,0,(VLOOKUP(A139979,analyse!D:E,2,FALSE)))","v":0},{"$f":"analyse!$B$1","v":0},0,0,0,0]
[null,null,{"$f":"IF(ISNA(VLOOKUP(A140012,analyse!D:E,2,FALSE))=TRUE,0,(VLOOKUP(A140012,analyse!D:E,2,FALSE)))","v":0},{"$f":"analyse!$B$1","v":0},0,0,0,0]
[null,null,{"$f":"IF(ISNA(VLOOKUP(A140098,analyse!D:E,2,FALSE))=TRUE,0,(VLOOKUP(A140098,analyse!D:E,2,FALSE)))","v":0},{"$f":"analyse!$B$1","v":0},{"$f":"D140098-C140098","v":0},{"$f":"E140098+C140098","v":0},{"$f":"IF(F140098<E140098,D140098-1,D140098)","v":0},{"$f":"IF(A140098=\"S20.G01.00.001\",H140097+1,H140097)","v":0}]
[null,null,{"$f":"IF(ISNA(VLOOKUP(A140177,analyse!D:E,2,FALSE))=TRUE,0,(VLOOKUP(A140177,analyse!D:E,2,FALSE)))","v":0},{"$f":"analyse!$B$1","v":0},0,0,0,0]
[null,null,{"$f":"IF(ISNA(VLOOKUP(A140288,analyse!D:E,2,FALSE))=TRUE,0,(VLOOKUP(A140288,analyse!D:E,2,FALSE)))","v":0},{"$f":"analyse!$B$1","v":0},0,0,0,0]
[null,null,{"$f":"IF(ISNA(VLOOKUP(A140343,analyse!D:E,2,FALSE))=TRUE,0,(VLOOKUP(A140343,analyse!D:E,2,FALSE)))","v":0},{"$f":"analyse!$B$1","v":0},0,0,0,0]
[null,null,{"$f":"IF(ISNA(VLOOKUP(A140454,analyse!D:E,2,FALSE))=TRUE,0,(VLOOKUP(A140454,analyse!D:E,2,FALSE)))","v":0},{"$f":"analyse!$B$1","v":0},0,0,0,0]
[null,null,{"$f":"IF(ISNA(VLOOKUP(A140514,analyse!D:E,2,FALSE))=TRUE,0,(VLOOKUP(A140514,analyse!D:E,2,FALSE)))","v":0},{"$f":"analyse!$B$1","v":0},0,0,0,0]
[null,null,{"$f":"IF(ISNA(VLOOKUP(A140619,analyse!D:E,2,FALSE))=TRUE,0,(VLOOKUP(A140619,analyse!D:E,2,FALSE)))","v":0},{"$f":"analyse!$B$1","v":0},0,0,0,0]
[null,null,{"$f":"IF(ISNA(VLOOKUP(A140652,analyse!D:E,2,FALSE))=TRUE,0,(VLOOKUP(A140652,analyse!D:E,2,FALSE)))","v":0},{"$f":"analyse!$B$1","v":0},0,0,0,0]
[null,null,{"$f":"IF(ISNA(VLOOKUP(A140785,analyse!D:E,2,FALSE))=TRUE,0,(VLOOKUP(A140785,analyse!D:E,2,FALSE)))","v":0},{"$f":"analyse!$B$1","v":0},0,0,0,0]
[null,null,{"$f":"IF(ISNA(VLOOKUP(A140818,analyse!D:E,2,FALSE))=TRUE,0,(VLOOKUP(A140818,analyse!D:E,2,FALSE)))","v":0},{"$f":"analyse!$B$1","v":0},0,0,0,0]
[null,null,{"$f":"IF(ISNA(VLOOKUP(A140930,analyse!D:E,2,FALSE))=TRUE,0,(VLOOKUP(A140930,analyse!D:E,2,FALSE)))","v":0},{"$f":"analyse!$B$1","v":0},{"$f":"D140930-C140930","v":0},{"$f":"E140930+C140930","v":0},{"$f":"IF(F140930<E140930,D140930-1,D140930)","v":0},{"$f":"IF(A140930=\"S20.G01.00.001\",H140929+1,H140929)","v":0}]
[null,null,{"$f":"IF(ISNA(VLOOKUP(A140983,analyse!D:E,2,FALSE))=TRUE,0,(VLOOKUP(A140983,analyse!D:E,2,FALSE)))","v":0},{"$f":"analyse!$B$1","v":0},0,0,0,0]
[null,null,{"$f":"IF(ISNA(VLOOKUP(A141094,analyse!D:E,2,FALSE))=TRUE,0,(VLOOKUP(A141094,analyse!D:E,2,FALSE)))","v":0},{"$f":"analyse!$B$1","v":0},0,0,0,0]
[null,null,{"$f":"IF(ISNA(VLOOKUP(A141127,analyse!D:E,2,FALSE))=TRUE,0,(VLOOKUP(A141127,analyse!D:E,2,FALSE)))","v":0},{"$f":"analyse!$B$1","v":0},0,0,0,0]
[null,null,{"$f":"IF(ISNA(VLOOKUP(A141182,analyse!D:E,2,FALSE))=TRUE,0,(VLOOKUP(A141182,analyse!D:E,2,FALSE)))","v":0},{"$f":"analyse!$B$1","v":0},0,0,0,0]
[null,null,{"$f":"IF(ISNA(VLOOKUP(A141269,analyse!D:E,2,FALSE))=TRUE,0,(VLOOKUP(A141269,analyse!D:E,2,FALSE)))","v":0},{"$f":"analyse!$B$1","v":0},0,0,0,0]
[null,null,{"$f":"IF(ISNA(VLOOKUP(A141347,analyse!D:E,2,FALSE))=TRUE,0,(VLOOKUP(A141347,analyse!D:E,2,FALSE)))","v":0},{"$f":"analyse!$B$1","v":0},0,0,0,0]
[null,null,{"$f":"IF(ISNA(VLOOKUP(A141458,analyse!D:E,2,FALSE))=TRUE,0,(VLOOKUP(A141458,analyse!D:E,2,FALSE)))","v":0},{"$f":"analyse!$B$1","v":0},0,0,0,0]
[null,null,{"$f":"IF(ISNA(VLOOKUP(A141491,analyse!D:E,2,FALSE))=TRUE,0,(VLOOKUP(A141491,analyse!D:E,2,FALSE)))","v":0},{"$f":"analyse!$B$1","v":0},0,0,0,0]
[null,null,{"$f":"IF(ISNA(VLOOKUP(A141624,analyse!D:E,2,FALSE))=TRUE,0,(VLOOKUP(A141624,analyse!D:E,2,FALSE)))","v":0},{"$f":"analyse!$B$1","v":0},0,0,0,0]
[null,null,{"$f":"IF(ISNA(VLOOKUP(A141685,analyse!D:E,2,FALSE))=TRUE,0,(VLOOKUP(A141685,analyse!D:E,2,FALSE)))","v":0},{"$f":"analyse!$B$1","v":0},0,0,0,0]
[null,null,{"$f":"IF(ISNA(VLOOKUP(A141789,analyse!D:E,2,FALSE))=TRUE,0,(VLOOKUP(A141789,analyse!D:E,2,FALSE)))","v":0},{"$f":"analyse!$B$1","v":0},0,0,0,0]
[null,null,{"$f":"IF(ISNA(VLOOKUP(A141822,analyse!D:E,2,FALSE))=TRUE,0,(VLOOKUP(A141822,analyse!D:E,2,FALSE)))","v":0},{"$f":"analyse!$B$1","v":0},0,0,0,0]
[null,null,{"$f":"IF(ISNA(VLOOKUP(A141933,analyse!D:E,2,FALSE))=TRUE,0,(VLOOKUP(A141933,analyse!D:E,2,FALSE)))","v":0},{"$f":"analyse!$B$1","v":0},0,0,0,0]
[null,null,{"$f":"IF(ISNA(VLOOKUP(A141988,analyse!D:E,2,FALSE))=TRUE,0,(VLOOKUP(A141988,analyse!D:E,2,FALSE)))","v":0},{"$f":"analyse!$B$1","v":0},0,0,0,0]
[null,null,{"$f":"IF(ISNA(VLOOKUP(A142101,analyse!D:E,2,FALSE))=TRUE,0,(VLOOKUP(A142101,analyse!D:E,2,FALSE)))","v":0},{"$f":"analyse!$B$1","v":0},0,0,0,0]
[null,null,{"$f":"IF(ISNA(VLOOKUP(A142131,analyse!D:E,2,FALSE))=TRUE,0,(VLOOKUP(A142131,analyse!D:E,2,FALSE)))","v":0},{"$f":"analyse!$B$1","v":0},0,0,0,0]
[null,null,{"$f":"IF(ISNA(VLOOKUP(A142264,analyse!D:E,2,FALSE))=TRUE,0,(VLOOKUP(A142264,analyse!D:E,2,FALSE)))","v":0},{"$f":"analyse!$B$1","v":0},0,0,0,0]
[null,null,{"$f":"IF(ISNA(VLOOKUP(A142297,analyse!D:E,2,FALSE))=TRUE,0,(VLOOKUP(A142297,analyse!D:E,2,FALSE)))","v":0},{"$f":"analyse!$B$1","v":0},0,0,0,0]
[null,null,{"$f":"IF(ISNA(VLOOKUP(A142389,analyse!D:E,2,FALSE))=TRUE,0,(VLOOKUP(A142389,analyse!D:E,2,FALSE)))","v":0},{"$f":"analyse!$B$1","v":0},0,0,0,0]
[null,null,{"$f":"IF(ISNA(VLOOKUP(A142462,analyse!D:E,2,FALSE))=TRUE,0,(VLOOKUP(A142462,analyse!D:E,2,FALSE)))","v":0},{"$f":"analyse!$B$1","v":0},0,0,0,0]
[null,null,{"$f":"IF(ISNA(VLOOKUP(A142573,analyse!D:E,2,FALSE))=TRUE,0,(VLOOKUP(A142573,analyse!D:E,2,FALSE)))","v":0},{"$f":"analyse!$B$1","v":0},0,0,0,0]
[null,null,{"$f":"IF(ISNA(VLOOKUP(A142628,analyse!D:E,2,FALSE))=TRUE,0,(VLOOKUP(A142628,analyse!D:E,2,FALSE)))","v":0},{"$f":"analyse!$B$1","v":0},0,0,0,0]
[null,null,{"$f":"IF(ISNA(VLOOKUP(A142661,analyse!D:E,2,FALSE))=TRUE,0,(VLOOKUP(A142661,analyse!D:E,2,FALSE)))","v":0},{"$f":"analyse!$B$1","v":0},0,0,0,0]
[null,null,{"$f":"IF(ISNA(VLOOKUP(A142801,analyse!D:E,2,FALSE))=TRUE,0,(VLOOKUP(A142801,analyse!D:E,2,FALSE)))","v":0},{"$f":"analyse!$B$1","v":0},0,0,0,0]
[null,null,{"$f":"IF(ISNA(VLOOKUP(A142826,analyse!D:E,2,FALSE))=TRUE,0,(VLOOKUP(A142826,analyse!D:E,2,FALSE)))","v":0},{"$f":"analyse!$B$1","v":0},0,0,0,0]
[null,null,{"$f":"IF(ISNA(VLOOKUP(A142937,analyse!D:E,2,FALSE))=TRUE,0,(VLOOKUP(A142937,analyse!D:E,2,FALSE)))","v":0},{"$f":"analyse!$B$1","v":0},0,0,0,0]
[null,null,{"$f":"IF(ISNA(VLOOKUP(A142992,analyse!D:E,2,FALSE))=TRUE,0,(VLOOKUP(A142992,analyse!D:E,2,FALSE)))","v":0},{"$f":"analyse!$B$1","v":0},0,0,0,0]
[null,null,{"$f":"IF(ISNA(VLOOKUP(A143103,analyse!D:E,2,FALSE))=TRUE,0,(VLOOKUP(A143103,analyse!D:E,2,FALSE)))","v":0},{"$f":"analyse!$B$1","v":0},0,0,0,0]
[null,null,{"$f":"IF(ISNA(VLOOKUP(A143140,analyse!D:E,2,FALSE))=TRUE,0,(VLOOKUP(A143140,analyse!D:E,2,FALSE)))","v":0},{"$f":"analyse!$B$1","v":0},0,0,0,0]
[null,null,{"$f":"IF(ISNA(VLOOKUP(A143268,analyse!D:E,2,FALSE))=TRUE,0,(VLOOKUP(A143268,analyse!D:E,2,FALSE)))","v":0},{"$f":"analyse!$B$1","v":0},0,0,0,0]
[null,null,{"$f":"IF(ISNA(VLOOKUP(A143301,analyse!D:E,2,FALSE))=TRUE,0,(VLOOKUP(A143301,analyse!D:E,2,FALSE)))","v":0},{"$f":"analyse!$B$1","v":0},0,0,0,0]
[null,null,{"$f":"IF(ISNA(VLOOKUP(A143356,analyse!D:E,2,FALSE))=TRUE,0,(VLOOKUP(A143356,analyse!D:E,2,FALSE)))","v":0},{"$f":"analyse!$B$1","v":0},0,0,0,0]
[null,null,{"$f":"IF(ISNA(VLOOKUP(A143467,analyse!D:E,2,FALSE))=TRUE,0,(VLOOKUP(A143467,analyse!D:E,2,FALSE)))","v":0},{"$f":"analyse!$B$1","v":0},0,0,0,0]
[null,null,{"$f":"IF(ISNA(VLOOKUP(A143556,analyse!D:E,2,FALSE))=TRUE,0,(VLOOKUP(A143556,analyse!D:E,2,FALSE)))","v":0},{"$f":"analyse!$B$1","v":0},0,0,0,0]
[null,null,{"$f":"IF(ISNA(VLOOKUP(A143632,analyse!D:E,2,FALSE))=TRUE,0,(VLOOKUP(A143632,analyse!D:E,2,FALSE)))","v":0},{"$f":"analyse!$B$1","v":0},0,0,0,0]
[null,null,{"$f":"IF(ISNA(VLOOKUP(A143665,analyse!D:E,2,FALSE))=TRUE,0,(VLOOKUP(A143665,analyse!D:E,2,FALSE)))","v":0},{"$f":"analyse!$B$1","v":0},0,0,0,0]
[null,null,{"$f":"IF(ISNA(VLOOKUP(A143776,analyse!D:E,2,FALSE))=TRUE,0,(VLOOKUP(A143776,analyse!D:E,2,FALSE)))","v":0},{"$f":"analyse!$B$1","v":0},0,0,0,0]
[null,null,{"$f":"IF(ISNA(VLOOKUP(A143831,analyse!D:E,2,FALSE))=TRUE,0,(VLOOKUP(A143831,analyse!D:E,2,FALSE)))","v":0},{"$f":"analyse!$B$1","v":0},0,0,0,0]
[null,null,{"$f":"IF(ISNA(VLOOKUP(A143972,analyse!D:E,2,FALSE))=TRUE,0,(VLOOKUP(A143972,analyse!D:E,2,FALSE)))","v":0},{"$f":"analyse!$B$1","v":0},0,0,0,0]
[null,null,{"$f":"IF(ISNA(VLOOKUP(A143996,analyse!D:E,2,FALSE))=TRUE,0,(VLOOKUP(A143996,analyse!D:E,2,FALSE)))","v":0},{"$f":"analyse!$B$1","v":0},0,0,0,0]
[null,null,{"$f":"IF(ISNA(VLOOKUP(A144107,analyse!D:E,2,FALSE))=TRUE,0,(VLOOKUP(A144107,analyse!D:E,2,FALSE)))","v":0},{"$f":"analyse!$B$1","v":0},0,0,0,0]
[null,null,{"$f":"IF(ISNA(VLOOKUP(A144140,analyse!D:E,2,FALSE))=TRUE,0,(VLOOKUP(A144140,analyse!D:E,2,FALSE)))","v":0},{"$f":"analyse!$B$1","v":0},0,0,0,0]
[null,null,{"$f":"IF(ISNA(VLOOKUP(A144273,analyse!D:E,2,FALSE))=TRUE,0,(VLOOKUP(A144273,analyse!D:E,2,FALSE)))","v":0},{"$f":"analyse!$B$1","v":0},0,0,0,0]
[null,null,{"$f":"IF(ISNA(VLOOKUP(A144311,analyse!D:E,2,FALSE))=TRUE,0,(VLOOKUP(A144311,analyse!D:E,2,FALSE)))","v":0},{"$f":"analyse!$B$1","v":0},0,0,0,0]
[null,null,{"$f":"IF(ISNA(VLOOKUP(A144416,analyse!D:E,2,FALSE))=TRUE,0,(VLOOKUP(A144416,analyse!D:E,2,FALSE)))","v":0},{"$f":"analyse!$B$1","v":0},0,0,0,0]
[null,null,{"$f":"IF(ISNA(VLOOKUP(A144471,analyse!D:E,2,FALSE))=TRUE,0,(VLOOKUP(A144471,analyse!D:E,2,FALSE)))","v":0},{"$f":"analyse!$B$1","v":0},0,0,0,0]
[null,null,{"$f":"IF(ISNA(VLOOKUP(A144582,analyse!D:E,2,FALSE))=TRUE,0,(VLOOKUP(A144582,analyse!D:E,2,FALSE)))","v":0},{"$f":"analyse!$B$1","v":0},0,0,0,0]
[null,null,{"$f":"IF(ISNA(VLOOKUP(A144637,analyse!D:E,2,FALSE))=TRUE,0,(VLOOKUP(A144637,analyse!D:E,2,FALSE)))","v":0},{"$f":"analyse!$B$1","v":0},0,0,0,0]
[null,null,{"$f":"IF(ISNA(VLOOKUP(A144727,analyse!D:E,2,FALSE))=TRUE,0,(VLOOKUP(A144727,analyse!D:E,2,FALSE)))","v":0},{"$f":"analyse!$B$1","v":0},0,0,0,0]
[null,null,{"$f":"IF(ISNA(VLOOKUP(A144780,analyse!D:E,2,FALSE))=TRUE,0,(VLOOKUP(A144780,analyse!D:E,2,FALSE)))","v":0},{"$f":"analyse!$B$1","v":0},0,0,0,0]
[null,null,{"$f":"IF(ISNA(VLOOKUP(A144835,analyse!D:E,2,FALSE))=TRUE,0,(VLOOKUP(A144835,analyse!D:E,2,FALSE)))","v":0},{"$f":"analyse!$B$1","v":0},0,0,0,0]
[null,null,{"$f":"IF(ISNA(VLOOKUP(A144946,analyse!D:E,2,FALSE))=TRUE,0,(VLOOKUP(A144946,analyse!D:E,2,FALSE)))","v":0},{"$f":"analyse!$B$1","v":0},0,0,0,0]
[null,null,{"$f":"IF(ISNA(VLOOKUP(A145001,analyse!D:E,2,FALSE))=TRUE,0,(VLOOKUP(A145001,analyse!D:E,2,FALSE)))","v":0},{"$f":"analyse!$B$1","v":0},0,0,0,0]
[null,null,{"$f":"IF(ISNA(VLOOKUP(A145066,analyse!D:E,2,FALSE))=TRUE,0,(VLOOKUP(A145066,analyse!D:E,2,FALSE)))","v":0},{"$f":"analyse!$B$1","v":0},0,0,0,0]
[null,null,{"$f":"IF(ISNA(VLOOKUP(A145144,analyse!D:E,2,FALSE))=TRUE,0,(VLOOKUP(A145144,analyse!D:E,2,FALSE)))","v":0},{"$f":"analyse!$B$1","v":0},0,0,0,0]
[null,null,{"$f":"IF(ISNA(VLOOKUP(A145277,analyse!D:E,2,FALSE))=TRUE,0,(VLOOKUP(A145277,analyse!D:E,2,FALSE)))","v":0},{"$f":"analyse!$B$1","v":0},0,0,0,0]
[null,null,{"$f":"IF(ISNA(VLOOKUP(A145310,analyse!D:E,2,FALSE))=TRUE,0,(VLOOKUP(A145310,analyse!D:E,2,FALSE)))","v":0},{"$f":"analyse!$B$1","v":0},0,0,0,0]
[null,null,{"$f":"IF(ISNA(VLOOKUP(A145427,analyse!D:E,2,FALSE))=TRUE,0,(VLOOKUP(A145427,analyse!D:E,2,FALSE)))","v":0},{"$f":"analyse!$B$1","v":0},0,0,0,0]
[null,null,{"$f":"IF(ISNA(VLOOKUP(A145475,analyse!D:E,2,FALSE))=TRUE,0,(VLOOKUP(A145475,analyse!D:E,2,FALSE)))","v":0},{"$f":"analyse!$B$1","v":0},0,0,0,0]
[null,null,{"$f":"IF(ISNA(VLOOKUP(A145586,analyse!D:E,2,FALSE))=TRUE,0,(VLOOKUP(A145586,analyse!D:E,2,FALSE)))","v":0},{"$f":"analyse!$B$1","v":0},0,0,0,0]
[null,null,{"$f":"IF(ISNA(VLOOKUP(A145641,analyse!D:E,2,FALSE))=TRUE,0,(VLOOKUP(A145641,analyse!D:E,2,FALSE)))","v":0},{"$f":"analyse!$B$1","v":0},0,0,0,0]
[null,null,{"$f":"IF(ISNA(VLOOKUP(A145752,analyse!D:E,2,FALSE))=TRUE,0,(VLOOKUP(A145752,analyse!D:E,2,FALSE)))","v":0},{"$f":"analyse!$B$1","v":0},0,0,0,0]
[null,null,{"$f":"IF(ISNA(VLOOKUP(A145766,analyse!D:E,2,FALSE))=TRUE,0,(VLOOKUP(A145766,analyse!D:E,2,FALSE)))","v":0},{"$f":"analyse!$B$1","v":0},0,0,0,0]
[null,null,{"$f":"IF(ISNA(VLOOKUP(A145917,analyse!D:E,2,FALSE))=TRUE,0,(VLOOKUP(A145917,analyse!D:E,2,FALSE)))","v":0},{"$f":"analyse!$B$1","v":0},0,0,0,0]
[null,null,{"$f":"IF(ISNA(VLOOKUP(A145950,analyse!D:E,2,FALSE))=TRUE,0,(VLOOKUP(A145950,analyse!D:E,2,FALSE)))","v":0},{"$f":"analyse!$B$1","v":0},0,0,0,0]
[null,null,{"$f":"IF(ISNA(VLOOKUP(A146005,analyse!D:E,2,FALSE))=TRUE,0,(VLOOKUP(A146005,analyse!D:E,2,FALSE)))","v":0},{"$f":"analyse!$B$1","v":0},0,0,0,0]
[null,null,{"$f":"IF(ISNA(VLOOKUP(A146116,analyse!D:E,2,FALSE))=TRUE,0,(VLOOKUP(A146116,analyse!D:E,2,FALSE)))","v":0},{"$f":"analyse!$B$1","v":0},0,0,0,0]
[null,null,{"$f":"IF(ISNA(VLOOKUP(A146182,analyse!D:E,2,FALSE))=TRUE,0,(VLOOKUP(A146182,analyse!D:E,2,FALSE)))","v":0},{"$f":"analyse!$B$1","v":0},0,0,0,0]
[null,null,{"$f":"IF(ISNA(VLOOKUP(A146281,analyse!D:E,2,FALSE))=TRUE,0,(VLOOKUP(A146281,analyse!D:E,2,FALSE)))","v":0},{"$f":"analyse!$B$1","v":0},0,0,0,0]
[null,null,{"$f":"IF(ISNA(VLOOKUP(A146314,analyse!D:E,2,FALSE))=TRUE,0,(VLOOKUP(A146314,analyse!D:E,2,FALSE)))","v":0},{"$f":"analyse!$B$1","v":0},0,0,0,0]
[null,null,{"$f":"IF(ISNA(VLOOKUP(A146425,analyse!D:E,2,FALSE))=TRUE,0,(VLOOKUP(A146425,analyse!D:E,2,FALSE)))","v":0},{"$f":"analyse!$B$1","v":0},0,0,0,0]
[null,null,{"$f":"IF(ISNA(VLOOKUP(A146480,analyse!D:E,2,FALSE))=TRUE,0,(VLOOKUP(A146480,analyse!D:E,2,FALSE)))","v":0},{"$f":"analyse!$B$1","v":0},0,0,0,0]
[null,null,{"$f":"IF(ISNA(VLOOKUP(A146598,analyse!D:E,2,FALSE))=TRUE,0,(VLOOKUP(A146598,analyse!D:E,2,FALSE)))","v":0},{"$f":"analyse!$B$1","v":0},0,0,0,0]
[null,null,{"$f":"IF(ISNA(VLOOKUP(A146645,analyse!D:E,2,FALSE))=TRUE,0,(VLOOKUP(A146645,analyse!D:E,2,FALSE)))","v":0},{"$f":"analyse!$B$1","v":0},0,0,0,0]
[null,null,{"$f":"IF(ISNA(VLOOKUP(A146756,analyse!D:E,2,FALSE))=TRUE,0,(VLOOKUP(A146756,analyse!D:E,2,FALSE)))","v":0},{"$f":"analyse!$B$1","v":0},0,0,0,0]
[null,null,{"$f":"IF(ISNA(VLOOKUP(A146789,analyse!D:E,2,FALSE))=TRUE,0,(VLOOKUP(A146789,analyse!D:E,2,FALSE)))","v":0},{"$f":"analyse!$B$1","v":0},0,0,0,0]
[null,null,{"$f":"IF(ISNA(VLOOKUP(A146922,analyse!D:E,2,FALSE))=TRUE,0,(VLOOKUP(A146922,analyse!D:E,2,FALSE)))","v":0},{"$f":"analyse!$B$1","v":0},0,0,0,0]
[null,null,{"$f":"IF(ISNA(VLOOKUP(A146937,analyse!D:E,2,FALSE))=TRUE,0,(VLOOKUP(A146937,analyse!D:E,2,FALSE)))","v":0},{"$f":"analyse!$B$1","v":0},0,0,0,0]
[null,null,{"$f":"IF(ISNA(VLOOKUP(A147065,analyse!D:E,2,FALSE))=TRUE,0,(VLOOKUP(A147065,analyse!D:E,2,FALSE)))","v":0},{"$f":"analyse!$B$1","v":0},0,0,0,0]
[null,null,{"$f":"IF(ISNA(VLOOKUP(A147120,analyse!D:E,2,FALSE))=TRUE,0,(VLOOKUP(A147120,analyse!D:E,2,FALSE)))","v":0},{"$f":"analyse!$B$1","v":0},0,0,0,0]
[null,null,{"$f":"IF(ISNA(VLOOKUP(A147231,analyse!D:E,2,FALSE))=TRUE,0,(VLOOKUP(A147231,analyse!D:E,2,FALSE)))","v":0},{"$f":"analyse!$B$1","v":0},0,0,0,0]
[null,null,{"$f":"IF(ISNA(VLOOKUP(A147286,analyse!D:E,2,FALSE))=TRUE,0,(VLOOKUP(A147286,analyse!D:E,2,FALSE)))","v":0},{"$f":"analyse!$B$1","v":0},0,0,0,0]
[null,null,{"$f":"IF(ISNA(VLOOKUP(A147353,analyse!D:E,2,FALSE))=TRUE,0,(VLOOKUP(A147353,analyse!D:E,2,FALSE)))","v":0},{"$f":"analyse!$B$1","v":0},0,0,0,0]
[null,null,{"$f":"IF(ISNA(VLOOKUP(A147429,analyse!D:E,2,FALSE))=TRUE,0,(VLOOKUP(A147429,analyse!D:E,2,FALSE)))","v":0},{"$f":"analyse!$B$1","v":0},0,0,0,0]
[null,null,{"$f":"IF(ISNA(VLOOKUP(A147484,analyse!D:E,2,FALSE))=TRUE,0,(VLOOKUP(A147484,analyse!D:E,2,FALSE)))","v":0},{"$f":"analyse!$B$1","v":0},0,0,0,0]
[null,null,{"$f":"IF(ISNA(VLOOKUP(A147595,analyse!D:E,2,FALSE))=TRUE,0,(VLOOKUP(A147595,analyse!D:E,2,FALSE)))","v":0},{"$f":"analyse!$B$1","v":0},0,0,0,0]
[null,null,{"$f":"IF(ISNA(VLOOKUP(A147650,analyse!D:E,2,FALSE))=TRUE,0,(VLOOKUP(A147650,analyse!D:E,2,FALSE)))","v":0},{"$f":"analyse!$B$1","v":0},{"$f":"D147650-C147650","v":0},{"$f":"E147650+C147650","v":0},{"$f":"IF(F147650<E147650,D147650-1,D147650)","v":0},{"$f":"IF(A147650=\"S20.G01.00.001\",H147649+1,H147649)","v":0}]
[null,null,{"$f":"IF(ISNA(VLOOKUP(A147769,analyse!D:E,2,FALSE))=TRUE,0,(VLOOKUP(A147769,analyse!D:E,2,FALSE)))","v":0},{"$f":"analyse!$B$1","v":0},0,0,0,0]
[null,null,{"$f":"IF(ISNA(VLOOKUP(A147793,analyse!D:E,2,FALSE))=TRUE,0,(VLOOKUP(A147793,analyse!D:E,2,FALSE)))","v":0},{"$f":"analyse!$B$1","v":0},0,0,0,0]
[null,null,{"$f":"IF(ISNA(VLOOKUP(A147926,analyse!D:E,2,FALSE))=TRUE,0,(VLOOKUP(A147926,analyse!D:E,2,FALSE)))","v":0},{"$f":"analyse!$B$1","v":0},0,0,0,0]
[null,null,{"$f":"IF(ISNA(VLOOKUP(A147959,analyse!D:E,2,FALSE))=TRUE,0,(VLOOKUP(A147959,analyse!D:E,2,FALSE)))","v":0},{"$f":"analyse!$B$1","v":0},0,0,0,0]
[null,null,{"$f":"IF(ISNA(VLOOKUP(A148070,analyse!D:E,2,FALSE))=TRUE,0,(VLOOKUP(A148070,analyse!D:E,2,FALSE)))","v":0},{"$f":"analyse!$B$1","v":0},0,0,0,0]
[null,null,{"$f":"IF(ISNA(VLOOKUP(A148108,analyse!D:E,2,FALSE))=TRUE,0,(VLOOKUP(A148108,analyse!D:E,2,FALSE)))","v":0},{"$f":"analyse!$B$1","v":0},0,0,0,0]
[null,null,{"$f":"IF(ISNA(VLOOKUP(A148235,analyse!D:E,2,FALSE))=TRUE,0,(VLOOKUP(A148235,analyse!D:E,2,FALSE)))","v":0},{"$f":"analyse!$B$1","v":0},0,0,0,0]
[null,null,{"$f":"IF(ISNA(VLOOKUP(A148290,analyse!D:E,2,FALSE))=TRUE,0,(VLOOKUP(A148290,analyse!D:E,2,FALSE)))","v":0},{"$f":"analyse!$B$1","v":0},{"$f":"D148290-C148290","v":0},{"$f":"E148290+C148290","v":0},{"$f":"IF(F148290<E148290,D148290-1,D148290)","v":0},{"$f":"IF(A148290=\"S20.G01.00.001\",H148289+1,H148289)","v":0}]
[null,null,{"$f":"IF(ISNA(VLOOKUP(A148401,analyse!D:E,2,FALSE))=TRUE,0,(VLOOKUP(A148401,analyse!D:E,2,FALSE)))","v":0},{"$f":"analyse!$B$1","v":0},0,0,0,0]
[null,null,{"$f":"IF(ISNA(VLOOKUP(A148469,analyse!D:E,2,FALSE))=TRUE,0,(VLOOKUP(A148469,analyse!D:E,2,FALSE)))","v":0},{"$f":"analyse!$B$1","v":0},0,0,0,0]
[null,null,{"$f":"IF(ISNA(VLOOKUP(A148488,analyse!D:E,2,FALSE))=TRUE,0,(VLOOKUP(A148488,analyse!D:E,2,FALSE)))","v":0},{"$f":"analyse!$B$1","v":0},0,0,0,0]
[null,null,{"$f":"IF(ISNA(VLOOKUP(A148599,analyse!D:E,2,FALSE))=TRUE,0,(VLOOKUP(A148599,analyse!D:E,2,FALSE)))","v":0},{"$f":"analyse!$B$1","v":0},0,0,0,0]
[null,null,{"$f":"IF(ISNA(VLOOKUP(A148654,analyse!D:E,2,FALSE))=TRUE,0,(VLOOKUP(A148654,analyse!D:E,2,FALSE)))","v":0},{"$f":"analyse!$B$1","v":0},0,0,0,0]
[null,null,{"$f":"IF(ISNA(VLOOKUP(A148765,analyse!D:E,2,FALSE))=TRUE,0,(VLOOKUP(A148765,analyse!D:E,2,FALSE)))","v":0},{"$f":"analyse!$B$1","v":0},0,0,0,0]
[null,null,{"$f":"IF(ISNA(VLOOKUP(A148808,analyse!D:E,2,FALSE))=TRUE,0,(VLOOKUP(A148808,analyse!D:E,2,FALSE)))","v":0},{"$f":"analyse!$B$1","v":0},0,0,0,0]
[null,null,{"$f":"IF(ISNA(VLOOKUP(A148930,analyse!D:E,2,FALSE))=TRUE,0,(VLOOKUP(A148930,analyse!D:E,2,FALSE)))","v":0},{"$f":"analyse!$B$1","v":0},{"$f":"D148930-C148930","v":0},{"$f":"E148930+C148930","v":0},{"$f":"IF(F148930<E148930,D148930-1,D148930)","v":0},{"$f":"IF(A148930=\"S20.G01.00.001\",H148929+1,H148929)","v":0}]
[null,null,{"$f":"IF(ISNA(VLOOKUP(A148963,analyse!D:E,2,FALSE))=TRUE,0,(VLOOKUP(A148963,analyse!D:E,2,FALSE)))","v":0},{"$f":"analyse!$B$1","v":0},0,0,0,0]
[null,null,{"$f":"IF(ISNA(VLOOKUP(A149074,analyse!D:E,2,FALSE))=TRUE,0,(VLOOKUP(A149074,analyse!D:E,2,FALSE)))","v":0},{"$f":"analyse!$B$1","v":0},0,0,0,0]
[null,null,{"$f":"IF(ISNA(VLOOKUP(A149129,analyse!D:E,2,FALSE))=TRUE,0,(VLOOKUP(A149129,analyse!D:E,2,FALSE)))","v":0},{"$f":"analyse!$B$1","v":0},0,0,0,0]
[null,null,{"$f":"IF(ISNA(VLOOKUP(A149224,analyse!D:E,2,FALSE))=TRUE,0,(VLOOKUP(A149224,analyse!D:E,2,FALSE)))","v":0},{"$f":"analyse!$B$1","v":0},0,0,0,0]
[null,null,{"$f":"IF(ISNA(VLOOKUP(A149294,analyse!D:E,2,FALSE))=TRUE,0,(VLOOKUP(A149294,analyse!D:E,2,FALSE)))","v":0},{"$f":"analyse!$B$1","v":0},0,0,0,0]
[null,null,{"$f":"IF(ISNA(VLOOKUP(A149405,analyse!D:E,2,FALSE))=TRUE,0,(VLOOKUP(A149405,analyse!D:E,2,FALSE)))","v":0},{"$f":"analyse!$B$1","v":0},0,0,0,0]
[null,null,{"$f":"IF(ISNA(VLOOKUP(A149438,analyse!D:E,2,FALSE))=TRUE,0,(VLOOKUP(A149438,analyse!D:E,2,FALSE)))","v":0},{"$f":"analyse!$B$1","v":0},0,0,0,0]
[null,null,{"$f":"IF(ISNA(VLOOKUP(A149571,analyse!D:E,2,FALSE))=TRUE,0,(VLOOKUP(A149571,analyse!D:E,2,FALSE)))","v":0},{"$f":"analyse!$B$1","v":0},0,0,0,0]
[null,null,{"$f":"IF(ISNA(VLOOKUP(A149640,analyse!D:E,2,FALSE))=TRUE,0,(VLOOKUP(A149640,analyse!D:E,2,FALSE)))","v":0},{"$f":"analyse!$B$1","v":0},0,0,0,0]
[null,null,{"$f":"IF(ISNA(VLOOKUP(A149714,analyse!D:E,2,FALSE))=TRUE,0,(VLOOKUP(A149714,analyse!D:E,2,FALSE)))","v":0},{"$f":"analyse!$B$1","v":0},0,0,0,0]
[null,null,{"$f":"IF(ISNA(VLOOKUP(A149769,analyse!D:E,2,FALSE))=TRUE,0,(VLOOKUP(A149769,analyse!D:E,2,FALSE)))","v":0},{"$f":"analyse!$B$1","v":0},0,0,0,0]
[null,null,{"$f":"IF(ISNA(VLOOKUP(A149880,analyse!D:E,2,FALSE))=TRUE,0,(VLOOKUP(A149880,analyse!D:E,2,FALSE)))","v":0},{"$f":"analyse!$B$1","v":0},0,0,0,0]
[null,null,{"$f":"IF(ISNA(VLOOKUP(A149935,analyse!D:E,2,FALSE))=TRUE,0,(VLOOKUP(A149935,analyse!D:E,2,FALSE)))","v":0},{"$f":"analyse!$B$1","v":0},0,0,0,0]
[null,null,{"$f":"IF(ISNA(VLOOKUP(A149979,analyse!D:E,2,FALSE))=TRUE,0,(VLOOKUP(A149979,analyse!D:E,2,FALSE)))","v":0},{"$f":"analyse!$B$1","v":0},0,0,0,0]
[null,null,{"$f":"IF(ISNA(VLOOKUP(A150078,analyse!D:E,2,FALSE))=TRUE,0,(VLOOKUP(A150078,analyse!D:E,2,FALSE)))","v":0},{"$f":"analyse!$B$1","v":0},0,0,0,0]
[null,null,{"$f":"IF(ISNA(VLOOKUP(A150133,analyse!D:E,2,FALSE))=TRUE,0,(VLOOKUP(A150133,analyse!D:E,2,FALSE)))","v":0},{"$f":"analyse!$B$1","v":0},0,0,0,0]
[null,null,{"$f":"IF(ISNA(VLOOKUP(A150244,analyse!D:E,2,FALSE))=TRUE,0,(VLOOKUP(A150244,analyse!D:E,2,FALSE)))","v":0},{"$f":"analyse!$B$1","v":0},0,0,0,0]
[null,null,{"$f":"IF(ISNA(VLOOKUP(A150299,analyse!D:E,2,FALSE))=TRUE,0,(VLOOKUP(A150299,analyse!D:E,2,FALSE)))","v":0},{"$f":"analyse!$B$1","v":0},0,0,0,0]
[null,null,{"$f":"IF(ISNA(VLOOKUP(A150395,analyse!D:E,2,FALSE))=TRUE,0,(VLOOKUP(A150395,analyse!D:E,2,FALSE)))","v":0},{"$f":"analyse!$B$1","v":0},0,0,0,0]
[null,null,{"$f":"IF(ISNA(VLOOKUP(A150442,analyse!D:E,2,FALSE))=TRUE,0,(VLOOKUP(A150442,analyse!D:E,2,FALSE)))","v":0},{"$f":"analyse!$B$1","v":0},0,0,0,0]
[null,null,{"$f":"IF(ISNA(VLOOKUP(A150575,analyse!D:E,2,FALSE))=TRUE,0,(VLOOKUP(A150575,analyse!D:E,2,FALSE)))","v":0},{"$f":"analyse!$B$1","v":0},0,0,0,0]
[null,null,{"$f":"IF(ISNA(VLOOKUP(A150608,analyse!D:E,2,FALSE))=TRUE,0,(VLOOKUP(A150608,analyse!D:E,2,FALSE)))","v":0},{"$f":"analyse!$B$1","v":0},0,0,0,0]
[null,null,{"$f":"IF(ISNA(VLOOKUP(A150719,analyse!D:E,2,FALSE))=TRUE,0,(VLOOKUP(A150719,analyse!D:E,2,FALSE)))","v":0},{"$f":"analyse!$B$1","v":0},0,0,0,0]
[null,null,{"$f":"IF(ISNA(VLOOKUP(A150811,analyse!D:E,2,FALSE))=TRUE,0,(VLOOKUP(A150811,analyse!D:E,2,FALSE)))","v":0},{"$f":"analyse!$B$1","v":0},0,0,0,0]
[null,null,{"$f":"IF(ISNA(VLOOKUP(A150884,analyse!D:E,2,FALSE))=TRUE,0,(VLOOKUP(A150884,analyse!D:E,2,FALSE)))","v":0},{"$f":"analyse!$B$1","v":0},0,0,0,0]
[null,null,{"$f":"IF(ISNA(VLOOKUP(A150939,analyse!D:E,2,FALSE))=TRUE,0,(VLOOKUP(A150939,analyse!D:E,2,FALSE)))","v":0},{"$f":"analyse!$B$1","v":0},0,0,0,0]
[null,null,{"$f":"IF(ISNA(VLOOKUP(A151050,analyse!D:E,2,FALSE))=TRUE,0,(VLOOKUP(A151050,analyse!D:E,2,FALSE)))","v":0},{"$f":"analyse!$B$1","v":0},0,0,0,0]
[null,null,{"$f":"IF(ISNA(VLOOKUP(A151083,analyse!D:E,2,FALSE))=TRUE,0,(VLOOKUP(A151083,analyse!D:E,2,FALSE)))","v":0},{"$f":"analyse!$B$1","v":0},0,0,0,0]
[null,null,{"$f":"IF(ISNA(VLOOKUP(A151150,analyse!D:E,2,FALSE))=TRUE,0,(VLOOKUP(A151150,analyse!D:E,2,FALSE)))","v":0},{"$f":"analyse!$B$1","v":0},0,0,0,0]
[null,null,{"$f":"IF(ISNA(VLOOKUP(A151248,analyse!D:E,2,FALSE))=TRUE,0,(VLOOKUP(A151248,analyse!D:E,2,FALSE)))","v":0},{"$f":"analyse!$B$1","v":0},0,0,0,0]
[null,null,{"$f":"IF(ISNA(VLOOKUP(A151359,analyse!D:E,2,FALSE))=TRUE,0,(VLOOKUP(A151359,analyse!D:E,2,FALSE)))","v":0},{"$f":"analyse!$B$1","v":0},0,0,0,0]
[null,null,{"$f":"IF(ISNA(VLOOKUP(A151414,analyse!D:E,2,FALSE))=TRUE,0,(VLOOKUP(A151414,analyse!D:E,2,FALSE)))","v":0},{"$f":"analyse!$B$1","v":0},0,0,0,0]
[null,null,{"$f":"IF(ISNA(VLOOKUP(A151511,analyse!D:E,2,FALSE))=TRUE,0,(VLOOKUP(A151511,analyse!D:E,2,FALSE)))","v":0},{"$f":"analyse!$B$1","v":0},0,0,0,0]
[null,null,{"$f":"IF(ISNA(VLOOKUP(A151579,analyse!D:E,2,FALSE))=TRUE,0,(VLOOKUP(A151579,analyse!D:E,2,FALSE)))","v":0},{"$f":"analyse!$B$1","v":0},0,0,0,0]
[null,null,{"$f":"IF(ISNA(VLOOKUP(A151612,analyse!D:E,2,FALSE))=TRUE,0,(VLOOKUP(A151612,analyse!D:E,2,FALSE)))","v":0},{"$f":"analyse!$B$1","v":0},0,0,0,0]
[null,null,{"$f":"IF(ISNA(VLOOKUP(A151723,analyse!D:E,2,FALSE))=TRUE,0,(VLOOKUP(A151723,analyse!D:E,2,FALSE)))","v":0},{"$f":"analyse!$B$1","v":0},0,0,0,0]
[null,null,{"$f":"IF(ISNA(VLOOKUP(A151778,analyse!D:E,2,FALSE))=TRUE,0,(VLOOKUP(A151778,analyse!D:E,2,FALSE)))","v":0},{"$f":"analyse!$B$1","v":0},0,0,0,0]
[null,null,{"$f":"IF(ISNA(VLOOKUP(A151850,analyse!D:E,2,FALSE))=TRUE,0,(VLOOKUP(A151850,analyse!D:E,2,FALSE)))","v":0},{"$f":"analyse!$B$1","v":0},0,0,0,0]
[null,null,{"$f":"IF(ISNA(VLOOKUP(A151943,analyse!D:E,2,FALSE))=TRUE,0,(VLOOKUP(A151943,analyse!D:E,2,FALSE)))","v":0},{"$f":"analyse!$B$1","v":0},0,0,0,0]
[null,null,{"$f":"IF(ISNA(VLOOKUP(A152054,analyse!D:E,2,FALSE))=TRUE,0,(VLOOKUP(A152054,analyse!D:E,2,FALSE)))","v":0},{"$f":"analyse!$B$1","v":0},0,0,0,0]
[null,null,{"$f":"IF(ISNA(VLOOKUP(A152087,analyse!D:E,2,FALSE))=TRUE,0,(VLOOKUP(A152087,analyse!D:E,2,FALSE)))","v":0},{"$f":"analyse!$B$1","v":0},0,0,0,0]
[null,null,{"$f":"IF(ISNA(VLOOKUP(A152220,analyse!D:E,2,FALSE))=TRUE,0,(VLOOKUP(A152220,analyse!D:E,2,FALSE)))","v":0},{"$f":"analyse!$B$1","v":0},0,0,0,0]
[null,null,{"$f":"IF(ISNA(VLOOKUP(A152266,analyse!D:E,2,FALSE))=TRUE,0,(VLOOKUP(A152266,analyse!D:E,2,FALSE)))","v":0},{"$f":"analyse!$B$1","v":0},0,0,0,0]
[null,null,{"$f":"IF(ISNA(VLOOKUP(A152363,analyse!D:E,2,FALSE))=TRUE,0,(VLOOKUP(A152363,analyse!D:E,2,FALSE)))","v":0},{"$f":"analyse!$B$1","v":0},0,0,0,0]
[null,null,{"$f":"IF(ISNA(VLOOKUP(A152418,analyse!D:E,2,FALSE))=TRUE,0,(VLOOKUP(A152418,analyse!D:E,2,FALSE)))","v":0},{"$f":"analyse!$B$1","v":0},0,0,0,0]
[null,null,{"$f":"IF(ISNA(VLOOKUP(A152529,analyse!D:E,2,FALSE))=TRUE,0,(VLOOKUP(A152529,analyse!D:E,2,FALSE)))","v":0},{"$f":"analyse!$B$1","v":0},0,0,0,0]
[null,null,{"$f":"IF(ISNA(VLOOKUP(A152584,analyse!D:E,2,FALSE))=TRUE,0,(VLOOKUP(A152584,analyse!D:E,2,FALSE)))","v":0},{"$f":"analyse!$B$1","v":0},0,0,0,0]
[null,null,{"$f":"IF(ISNA(VLOOKUP(A152682,analyse!D:E,2,FALSE))=TRUE,0,(VLOOKUP(A152682,analyse!D:E,2,FALSE)))","v":0},{"$f":"analyse!$B$1","v":0},0,0,0,0]
[null,null,{"$f":"IF(ISNA(VLOOKUP(A152727,analyse!D:E,2,FALSE))=TRUE,0,(VLOOKUP(A152727,analyse!D:E,2,FALSE)))","v":0},{"$f":"analyse!$B$1","v":0},0,0,0,0]
[null,null,{"$f":"IF(ISNA(VLOOKUP(A152782,analyse!D:E,2,FALSE))=TRUE,0,(VLOOKUP(A152782,analyse!D:E,2,FALSE)))","v":0},{"$f":"analyse!$B$1","v":0},0,0,0,0]
[null,null,{"$f":"IF(ISNA(VLOOKUP(A152893,analyse!D:E,2,FALSE))=TRUE,0,(VLOOKUP(A152893,analyse!D:E,2,FALSE)))","v":0},{"$f":"analyse!$B$1","v":0},0,0,0,0]
[null,null,{"$f":"IF(ISNA(VLOOKUP(A152948,analyse!D:E,2,FALSE))=TRUE,0,(VLOOKUP(A152948,analyse!D:E,2,FALSE)))","v":0},{"$f":"analyse!$B$1","v":0},0,0,0,0]
[null,null,{"$f":"IF(ISNA(VLOOKUP(A153021,analyse!D:E,2,FALSE))=TRUE,0,(VLOOKUP(A153021,analyse!D:E,2,FALSE)))","v":0},{"$f":"analyse!$B$1","v":0},0,0,0,0]
[null,null,{"$f":"IF(ISNA(VLOOKUP(A153091,analyse!D:E,2,FALSE))=TRUE,0,(VLOOKUP(A153091,analyse!D:E,2,FALSE)))","v":0},{"$f":"analyse!$B$1","v":0},0,0,0,0]
[null,null,{"$f":"IF(ISNA(VLOOKUP(A153224,analyse!D:E,2,FALSE))=TRUE,0,(VLOOKUP(A153224,analyse!D:E,2,FALSE)))","v":0},{"$f":"analyse!$B$1","v":0},0,0,0,0]
[null,null,{"$f":"IF(ISNA(VLOOKUP(A153257,analyse!D:E,2,FALSE))=TRUE,0,(VLOOKUP(A153257,analyse!D:E,2,FALSE)))","v":0},{"$f":"analyse!$B$1","v":0},0,0,0,0]
[null,null,{"$f":"IF(ISNA(VLOOKUP(A153368,analyse!D:E,2,FALSE))=TRUE,0,(VLOOKUP(A153368,analyse!D:E,2,FALSE)))","v":0},{"$f":"analyse!$B$1","v":0},0,0,0,0]
[null,null,{"$f":"IF(ISNA(VLOOKUP(A153437,analyse!D:E,2,FALSE))=TRUE,0,(VLOOKUP(A153437,analyse!D:E,2,FALSE)))","v":0},{"$f":"analyse!$B$1","v":0},0,0,0,0]
[null,null,{"$f":"IF(ISNA(VLOOKUP(A153533,analyse!D:E,2,FALSE))=TRUE,0,(VLOOKUP(A153533,analyse!D:E,2,FALSE)))","v":0},{"$f":"analyse!$B$1","v":0},0,0,0,0]
[null,null,{"$f":"IF(ISNA(VLOOKUP(A153588,analyse!D:E,2,FALSE))=TRUE,0,(VLOOKUP(A153588,analyse!D:E,2,FALSE)))","v":0},{"$f":"analyse!$B$1","v":0},0,0,0,0]
[null,null,{"$f":"IF(ISNA(VLOOKUP(A153699,analyse!D:E,2,FALSE))=TRUE,0,(VLOOKUP(A153699,analyse!D:E,2,FALSE)))","v":0},{"$f":"analyse!$B$1","v":0},0,0,0,0]
[null,null,{"$f":"IF(ISNA(VLOOKUP(A153732,analyse!D:E,2,FALSE))=TRUE,0,(VLOOKUP(A153732,analyse!D:E,2,FALSE)))","v":0},{"$f":"analyse!$B$1","v":0},0,0,0,0]
[null,null,{"$f":"IF(ISNA(VLOOKUP(A153853,analyse!D:E,2,FALSE))=TRUE,0,(VLOOKUP(A153853,analyse!D:E,2,FALSE)))","v":0},{"$f":"analyse!$B$1","v":0},0,0,0,0]
[null,null,{"$f":"IF(ISNA(VLOOKUP(A153897,analyse!D:E,2,FALSE))=TRUE,0,(VLOOKUP(A153897,analyse!D:E,2,FALSE)))","v":0},{"$f":"analyse!$B$1","v":0},0,0,0,0]
[null,null,{"$f":"IF(ISNA(VLOOKUP(A154008,analyse!D:E,2,FALSE))=TRUE,0,(VLOOKUP(A154008,analyse!D:E,2,FALSE)))","v":0},{"$f":"analyse!$B$1","v":0},0,0,0,0]
[null,null,{"$f":"IF(ISNA(VLOOKUP(A154063,analyse!D:E,2,FALSE))=TRUE,0,(VLOOKUP(A154063,analyse!D:E,2,FALSE)))","v":0},{"$f":"analyse!$B$1","v":0},0,0,0,0]
[null,null,{"$f":"IF(ISNA(VLOOKUP(A154096,analyse!D:E,2,FALSE))=TRUE,0,(VLOOKUP(A154096,analyse!D:E,2,FALSE)))","v":0},{"$f":"analyse!$B$1","v":0},0,0,0,0]
[null,null,{"$f":"IF(ISNA(VLOOKUP(A154192,analyse!D:E,2,FALSE))=TRUE,0,(VLOOKUP(A154192,analyse!D:E,2,FALSE)))","v":0},{"$f":"analyse!$B$1","v":0},0,0,0,0]
[null,null,{"$f":"IF(ISNA(VLOOKUP(A154261,analyse!D:E,2,FALSE))=TRUE,0,(VLOOKUP(A154261,analyse!D:E,2,FALSE)))","v":0},{"$f":"analyse!$B$1","v":0},0,0,0,0]
[null,null,{"$f":"IF(ISNA(VLOOKUP(A154372,analyse!D:E,2,FALSE))=TRUE,0,(VLOOKUP(A154372,analyse!D:E,2,FALSE)))","v":0},{"$f":"analyse!$B$1","v":0},0,0,0,0]
[null,null,{"$f":"IF(ISNA(VLOOKUP(A154427,analyse!D:E,2,FALSE))=TRUE,0,(VLOOKUP(A154427,analyse!D:E,2,FALSE)))","v":0},{"$f":"analyse!$B$1","v":0},0,0,0,0]
[null,null,{"$f":"IF(ISNA(VLOOKUP(A154553,analyse!D:E,2,FALSE))=TRUE,0,(VLOOKUP(A154553,analyse!D:E,2,FALSE)))","v":0},{"$f":"analyse!$B$1","v":0},0,0,0,0]
[null,null,{"$f":"IF(ISNA(VLOOKUP(A154592,analyse!D:E,2,FALSE))=TRUE,0,(VLOOKUP(A154592,analyse!D:E,2,FALSE)))","v":0},{"$f":"analyse!$B$1","v":0},0,0,0,0]
[null,null,{"$f":"IF(ISNA(VLOOKUP(A154703,analyse!D:E,2,FALSE))=TRUE,0,(VLOOKUP(A154703,analyse!D:E,2,FALSE)))","v":0},{"$f":"analyse!$B$1","v":0},0,0,0,0]
[null,null,{"$f":"IF(ISNA(VLOOKUP(A154736,analyse!D:E,2,FALSE))=TRUE,0,(VLOOKUP(A154736,analyse!D:E,2,FALSE)))","v":0},{"$f":"analyse!$B$1","v":0},0,0,0,0]
[null,null,{"$f":"IF(ISNA(VLOOKUP(A154791,analyse!D:E,2,FALSE))=TRUE,0,(VLOOKUP(A154791,analyse!D:E,2,FALSE)))","v":0},{"$f":"analyse!$B$1","v":0},0,0,0,0]
[null,null,{"$f":"IF(ISNA(VLOOKUP(A154892,analyse!D:E,2,FALSE))=TRUE,0,(VLOOKUP(A154892,analyse!D:E,2,FALSE)))","v":0},{"$f":"analyse!$B$1","v":0},0,0,0,0]
[null,null,{"$f":"IF(ISNA(VLOOKUP(A155012,analyse!D:E,2,FALSE))=TRUE,0,(VLOOKUP(A155012,analyse!D:E,2,FALSE)))","v":0},{"$f":"analyse!$B$1","v":0},0,0,0,0]
[null,null,{"$f":"IF(ISNA(VLOOKUP(A155067,analyse!D:E,2,FALSE))=TRUE,0,(VLOOKUP(A155067,analyse!D:E,2,FALSE)))","v":0},{"$f":"analyse!$B$1","v":0},0,0,0,0]
[null,null,{"$f":"IF(ISNA(VLOOKUP(A155178,analyse!D:E,2,FALSE))=TRUE,0,(VLOOKUP(A155178,analyse!D:E,2,FALSE)))","v":0},{"$f":"analyse!$B$1","v":0},0,0,0,0]
[null,null,{"$f":"IF(ISNA(VLOOKUP(A155233,analyse!D:E,2,FALSE))=TRUE,0,(VLOOKUP(A155233,analyse!D:E,2,FALSE)))","v":0},{"$f":"analyse!$B$1","v":0},0,0,0,0]
[null,null,{"$f":"IF(ISNA(VLOOKUP(A155308,analyse!D:E,2,FALSE))=TRUE,0,(VLOOKUP(A155308,analyse!D:E,2,FALSE)))","v":0},{"$f":"analyse!$B$1","v":0},0,0,0,0]
[null,null,{"$f":"IF(ISNA(VLOOKUP(A155376,analyse!D:E,2,FALSE))=TRUE,0,(VLOOKUP(A155376,analyse!D:E,2,FALSE)))","v":0},{"$f":"analyse!$B$1","v":0},0,0,0,0]
[null,null,{"$f":"IF(ISNA(VLOOKUP(A155431,analyse!D:E,2,FALSE))=TRUE,0,(VLOOKUP(A155431,analyse!D:E,2,FALSE)))","v":0},{"$f":"analyse!$B$1","v":0},0,0,0,0]
[null,null,{"$f":"IF(ISNA(VLOOKUP(A155542,analyse!D:E,2,FALSE))=TRUE,0,(VLOOKUP(A155542,analyse!D:E,2,FALSE)))","v":0},{"$f":"analyse!$B$1","v":0},0,0,0,0]
[null,null,{"$f":"IF(ISNA(VLOOKUP(A155597,analyse!D:E,2,FALSE))=TRUE,0,(VLOOKUP(A155597,analyse!D:E,2,FALSE)))","v":0},{"$f":"analyse!$B$1","v":0},0,0,0,0]
[null,null,{"$f":"IF(ISNA(VLOOKUP(A155647,analyse!D:E,2,FALSE))=TRUE,0,(VLOOKUP(A155647,analyse!D:E,2,FALSE)))","v":0},{"$f":"analyse!$B$1","v":0},0,0,0,0]
[null,null,{"$f":"IF(ISNA(VLOOKUP(A155740,analyse!D:E,2,FALSE))=TRUE,0,(VLOOKUP(A155740,analyse!D:E,2,FALSE)))","v":0},{"$f":"analyse!$B$1","v":0},0,0,0,0]
[null,null,{"$f":"IF(ISNA(VLOOKUP(A155873,analyse!D:E,2,FALSE))=TRUE,0,(VLOOKUP(A155873,analyse!D:E,2,FALSE)))","v":0},{"$f":"analyse!$B$1","v":0},0,0,0,0]
[null,null,{"$f":"IF(ISNA(VLOOKUP(A155906,analyse!D:E,2,FALSE))=TRUE,0,(VLOOKUP(A155906,analyse!D:E,2,FALSE)))","v":0},{"$f":"analyse!$B$1","v":0},{"$f":"D155906-C155906","v":0},{"$f":"E155906+C155906","v":0},{"$f":"IF(F155906<E155906,D155906-1,D155906)","v":0},{"$f":"IF(A155906=\"S20.G01.00.001\",H155905+1,H155905)","v":0}]
[null,null,{"$f":"IF(ISNA(VLOOKUP(A156017,analyse!D:E,2,FALSE))=TRUE,0,(VLOOKUP(A156017,analyse!D:E,2,FALSE)))","v":0},{"$f":"analyse!$B$1","v":0},0,0,0,0]
[null,null,{"$f":"IF(ISNA(VLOOKUP(A156063,analyse!D:E,2,FALSE))=TRUE,0,(VLOOKUP(A156063,analyse!D:E,2,FALSE)))","v":0},{"$f":"analyse!$B$1","v":0},0,0,0,0]
[null,null,{"$f":"IF(ISNA(VLOOKUP(A156182,analyse!D:E,2,FALSE))=TRUE,0,(VLOOKUP(A156182,analyse!D:E,2,FALSE)))","v":0},{"$f":"analyse!$B$1","v":0},0,0,0,0]
[null,null,{"$f":"IF(ISNA(VLOOKUP(A156237,analyse!D:E,2,FALSE))=TRUE,0,(VLOOKUP(A156237,analyse!D:E,2,FALSE)))","v":0},{"$f":"analyse!$B$1","v":0},0,0,0,0]
[null,null,{"$f":"IF(ISNA(VLOOKUP(A156270,analyse!D:E,2,FALSE))=TRUE,0,(VLOOKUP(A156270,analyse!D:E,2,FALSE)))","v":0},{"$f":"analyse!$B$1","v":0},0,0,0,0]
[null,null,{"$f":"IF(ISNA(VLOOKUP(A156381,analyse!D:E,2,FALSE))=TRUE,0,(VLOOKUP(A156381,analyse!D:E,2,FALSE)))","v":0},{"$f":"analyse!$B$1","v":0},0,0,0,0]
[null,null,{"$f":"IF(ISNA(VLOOKUP(A156479,analyse!D:E,2,FALSE))=TRUE,0,(VLOOKUP(A156479,analyse!D:E,2,FALSE)))","v":0},{"$f":"analyse!$B$1","v":0},0,0,0,0]
[null,null,{"$f":"IF(ISNA(VLOOKUP(A156546,analyse!D:E,2,FALSE))=TRUE,0,(VLOOKUP(A156546,analyse!D:E,2,FALSE)))","v":0},{"$f":"analyse!$B$1","v":0},{"$f":"D156546-C156546","v":0},{"$f":"E156546+C156546","v":0},{"$f":"IF(F156546<E156546,D156546-1,D156546)","v":0},{"$f":"IF(A156546=\"S20.G01.00.001\",H156545+1,H156545)","v":0}]
[null,null,{"$f":"IF(ISNA(VLOOKUP(A156579,analyse!D:E,2,FALSE))=TRUE,0,(VLOOKUP(A156579,analyse!D:E,2,FALSE)))","v":0},{"$f":"analyse!$B$1","v":0},0,0,0,0]
[null,null,{"$f":"IF(ISNA(VLOOKUP(A156712,analyse!D:E,2,FALSE))=TRUE,0,(VLOOKUP(A156712,analyse!D:E,2,FALSE)))","v":0},{"$f":"analyse!$B$1","v":0},0,0,0,0]
[null,null,{"$f":"IF(ISNA(VLOOKUP(A156745,analyse!D:E,2,FALSE))=TRUE,0,(VLOOKUP(A156745,analyse!D:E,2,FALSE)))","v":0},{"$f":"analyse!$B$1","v":0},0,0,0,0]
[null,null,{"$f":"IF(ISNA(VLOOKUP(A156818,analyse!D:E,2,FALSE))=TRUE,0,(VLOOKUP(A156818,analyse!D:E,2,FALSE)))","v":0},{"$f":"analyse!$B$1","v":0},0,0,0,0]
[null,null,{"$f":"IF(ISNA(VLOOKUP(A156910,analyse!D:E,2,FALSE))=TRUE,0,(VLOOKUP(A156910,analyse!D:E,2,FALSE)))","v":0},{"$f":"analyse!$B$1","v":0},null,null,0,0]
[null,null,{"$f":"IF(ISNA(VLOOKUP(A157021,analyse!D:E,2,FALSE))=TRUE,0,(VLOOKUP(A157021,analyse!D:E,2,FALSE)))","v":0},{"$f":"analyse!$B$1","v":0},null,null,0,0]
[null,null,{"$f":"IF(ISNA(VLOOKUP(A157076,analyse!D:E,2,FALSE))=TRUE,0,(VLOOKUP(A157076,analyse!D:E,2,FALSE)))","v":0},{"$f":"analyse!$B$1","v":0},null,null,0,0]
[null,null,{"$f":"IF(ISNA(VLOOKUP(A157187,analyse!D:E,2,FALSE))=TRUE,0,(VLOOKUP(A157187,analyse!D:E,2,FALSE)))","v":0},{"$f":"analyse!$B$1","v":0},null,0,0,0]
[null,null,{"$f":"IF(ISNA(VLOOKUP(A157234,analyse!D:E,2,FALSE))=TRUE,0,(VLOOKUP(A157234,analyse!D:E,2,FALSE)))","v":0},{"$f":"analyse!$B$1","v":0},null,0,0,0]
[null,null,{"$f":"IF(ISNA(VLOOKUP(A157352,analyse!D:E,2,FALSE))=TRUE,0,(VLOOKUP(A157352,analyse!D:E,2,FALSE)))","v":0},{"$f":"analyse!$B$1","v":0},0,0,0,0]
[null,null,{"$f":"IF(ISNA(VLOOKUP(A157385,analyse!D:E,2,FALSE))=TRUE,0,(VLOOKUP(A157385,analyse!D:E,2,FALSE)))","v":0},{"$f":"analyse!$B$1","v":0},0,0,0,0]
[null,null,{"$f":"IF(ISNA(VLOOKUP(A157440,analyse!D:E,2,FALSE))=TRUE,0,(VLOOKUP(A157440,analyse!D:E,2,FALSE)))","v":0},{"$f":"analyse!$B$1","v":0},0,0,0,0]
[null,null,{"$f":"IF(ISNA(VLOOKUP(A157551,analyse!D:E,2,FALSE))=TRUE,0,(VLOOKUP(A157551,analyse!D:E,2,FALSE)))","v":0},{"$f":"analyse!$B$1","v":0},0,0,0,0]
[null,null,{"$f":"IF(ISNA(VLOOKUP(A157591,analyse!D:E,2,FALSE))=TRUE,0,(VLOOKUP(A157591,analyse!D:E,2,FALSE)))","v":0},{"$f":"analyse!$B$1","v":0},0,0,0,0]
[null,null,{"$f":"IF(ISNA(VLOOKUP(A157592,analyse!D:E,2,FALSE))=TRUE,0,(VLOOKUP(A157592,analyse!D:E,2,FALSE)))","v":0},{"$f":"analyse!$B$1","v":0},0,0,0,0]
[null,null,{"$f":"IF(ISNA(VLOOKUP(A157593,analyse!D:E,2,FALSE))=TRUE,0,(VLOOKUP(A157593,analyse!D:E,2,FALSE)))","v":0},{"$f":"analyse!$B$1","v":0},0,0,0,0]
[null,null,{"$f":"IF(ISNA(VLOOKUP(A157594,analyse!D:E,2,FALSE))=TRUE,0,(VLOOKUP(A157594,analyse!D:E,2,FALSE)))","v":0},{"$f":"analyse!$B$1","v":0},0,0,0,0]
[null,null,{"$f":"IF(ISNA(VLOOKUP(A157595,analyse!D:E,2,FALSE))=TRUE,0,(VLOOKUP(A157595,analyse!D:E,2,FALSE)))","v":0},{"$f":"analyse!$B$1","v":0},0,0,0,0]
[null,null,{"$f":"IF(ISNA(VLOOKUP(A157596,analyse!D:E,2,FALSE))=TRUE,0,(VLOOKUP(A157596,analyse!D:E,2,FALSE)))","v":0},{"$f":"analyse!$B$1","v":0},0,0,0,0]
[null,null,{"$f":"IF(ISNA(VLOOKUP(A157597,analyse!D:E,2,FALSE))=TRUE,0,(VLOOKUP(A157597,analyse!D:E,2,FALSE)))","v":0},{"$f":"analyse!$B$1","v":0},0,0,0,0]
[null,null,{"$f":"IF(ISNA(VLOOKUP(A157598,analyse!D:E,2,FALSE))=TRUE,0,(VLOOKUP(A157598,analyse!D:E,2,FALSE)))","v":0},{"$f":"analyse!$B$1","v":0},0,0,0,0]
[null,null,{"$f":"IF(ISNA(VLOOKUP(A157599,analyse!D:E,2,FALSE))=TRUE,0,(VLOOKUP(A157599,analyse!D:E,2,FALSE)))","v":0},{"$f":"analyse!$B$1","v":0},0,0,0,0]
[null,null,{"$f":"IF(ISNA(VLOOKUP(A157600,analyse!D:E,2,FALSE))=TRUE,0,(VLOOKUP(A157600,analyse!D:E,2,FALSE)))","v":0},{"$f":"analyse!$B$1","v":0},0,0,0,0]
[null,null,{"$f":"IF(ISNA(VLOOKUP(A157601,analyse!D:E,2,FALSE))=TRUE,0,(VLOOKUP(A157601,analyse!D:E,2,FALSE)))","v":0},{"$f":"analyse!$B$1","v":0},0,0,0,0]
[null,null,{"$f":"IF(ISNA(VLOOKUP(A157602,analyse!D:E,2,FALSE))=TRUE,0,(VLOOKUP(A157602,analyse!D:E,2,FALSE)))","v":0},{"$f":"analyse!$B$1","v":0},0,0,0,0]
[null,null,{"$f":"IF(ISNA(VLOOKUP(A157603,analyse!D:E,2,FALSE))=TRUE,0,(VLOOKUP(A157603,analyse!D:E,2,FALSE)))","v":0},{"$f":"analyse!$B$1","v":0},0,0,0,0]
[null,null,{"$f":"IF(ISNA(VLOOKUP(A157604,analyse!D:E,2,FALSE))=TRUE,0,(VLOOKUP(A157604,analyse!D:E,2,FALSE)))","v":0},{"$f":"analyse!$B$1","v":0},0,0,0,0]
[null,null,{"$f":"IF(ISNA(VLOOKUP(A157605,analyse!D:E,2,FALSE))=TRUE,0,(VLOOKUP(A157605,analyse!D:E,2,FALSE)))","v":0},{"$f":"analyse!$B$1","v":0},0,0,0,0]
[null,null,{"$f":"IF(ISNA(VLOOKUP(A157606,analyse!D:E,2,FALSE))=TRUE,0,(VLOOKUP(A157606,analyse!D:E,2,FALSE)))","v":0},{"$f":"analyse!$B$1","v":0},0,0,0,0]
[null,null,{"$f":"IF(ISNA(VLOOKUP(A157607,analyse!D:E,2,FALSE))=TRUE,0,(VLOOKUP(A157607,analyse!D:E,2,FALSE)))","v":0},{"$f":"analyse!$B$1","v":0},{"$f":"D157607-C157607","v":0},0,0,0]
[null,null,{"$f":"IF(ISNA(VLOOKUP(A157608,analyse!D:E,2,FALSE))=TRUE,0,(VLOOKUP(A157608,analyse!D:E,2,FALSE)))","v":0},{"$f":"analyse!$B$1","v":0},0,0,0,0]
[null,null,{"$f":"IF(ISNA(VLOOKUP(A157609,analyse!D:E,2,FALSE))=TRUE,0,(VLOOKUP(A157609,analyse!D:E,2,FALSE)))","v":0},{"$f":"analyse!$B$1","v":0},0,0,0,0]
[null,null,{"$f":"IF(ISNA(VLOOKUP(A157610,analyse!D:E,2,FALSE))=TRUE,0,(VLOOKUP(A157610,analyse!D:E,2,FALSE)))","v":0},{"$f":"analyse!$B$1","v":0},0,0,0,0]
[null,null,{"$f":"IF(ISNA(VLOOKUP(A157611,analyse!D:E,2,FALSE))=TRUE,0,(VLOOKUP(A157611,analyse!D:E,2,FALSE)))","v":0},{"$f":"analyse!$B$1","v":0},0,0,0,0]
[null,null,{"$f":"IF(ISNA(VLOOKUP(A157612,analyse!D:E,2,FALSE))=TRUE,0,(VLOOKUP(A157612,analyse!D:E,2,FALSE)))","v":0},{"$f":"analyse!$B$1","v":0},0,0,0,0]
[null,null,{"$f":"IF(ISNA(VLOOKUP(A157613,analyse!D:E,2,FALSE))=TRUE,0,(VLOOKUP(A157613,analyse!D:E,2,FALSE)))","v":0},{"$f":"analyse!$B$1","v":0},0,0,0,0]
[null,null,{"$f":"IF(ISNA(VLOOKUP(A157614,analyse!D:E,2,FALSE))=TRUE,0,(VLOOKUP(A157614,analyse!D:E,2,FALSE)))","v":0},{"$f":"analyse!$B$1","v":0},0,0,0,0]
[null,null,{"$f":"IF(ISNA(VLOOKUP(A157615,analyse!D:E,2,FALSE))=TRUE,0,(VLOOKUP(A157615,analyse!D:E,2,FALSE)))","v":0},{"$f":"analyse!$B$1","v":0},0,0,0,0]
[null,null,{"$f":"IF(ISNA(VLOOKUP(A157616,analyse!D:E,2,FALSE))=TRUE,0,(VLOOKUP(A157616,analyse!D:E,2,FALSE)))","v":0},{"$f":"analyse!$B$1","v":0},0,0,0,0]
[null,null,{"$f":"IF(ISNA(VLOOKUP(A157617,analyse!D:E,2,FALSE))=TRUE,0,(VLOOKUP(A157617,analyse!D:E,2,FALSE)))","v":0},{"$f":"analyse!$B$1","v":0},0,0,0,0]
[null,null,{"$f":"IF(ISNA(VLOOKUP(A157618,analyse!D:E,2,FALSE))=TRUE,0,(VLOOKUP(A157618,analyse!D:E,2,FALSE)))","v":0},{"$f":"analyse!$B$1","v":0},0,0,0,0]
[null,null,{"$f":"IF(ISNA(VLOOKUP(A157619,analyse!D:E,2,FALSE))=TRUE,0,(VLOOKUP(A157619,analyse!D:E,2,FALSE)))","v":0},{"$f":"analyse!$B$1","v":0},0,0,0,0]
[null,null,{"$f":"IF(ISNA(VLOOKUP(A157620,analyse!D:E,2,FALSE))=TRUE,0,(VLOOKUP(A157620,analyse!D:E,2,FALSE)))","v":0},{"$f":"analyse!$B$1","v":0},0,0,0,0]
[null,null,{"$f":"IF(ISNA(VLOOKUP(A157621,analyse!D:E,2,FALSE))=TRUE,0,(VLOOKUP(A157621,analyse!D:E,2,FALSE)))","v":0},{"$f":"analyse!$B$1","v":0},0,0,0,0]
[null,null,{"$f":"IF(ISNA(VLOOKUP(A157622,analyse!D:E,2,FALSE))=TRUE,0,(VLOOKUP(A157622,analyse!D:E,2,FALSE)))","v":0},{"$f":"analyse!$B$1","v":0},0,0,0,0]
[null,null,{"$f":"IF(ISNA(VLOOKUP(A157623,analyse!D:E,2,FALSE))=TRUE,0,(VLOOKUP(A157623,analyse!D:E,2,FALSE)))","v":0},{"$f":"analyse!$B$1","v":0},0,0,0,0]
[null,null,{"$f":"IF(ISNA(VLOOKUP(A157624,analyse!D:E,2,FALSE))=TRUE,0,(VLOOKUP(A157624,analyse!D:E,2,FALSE)))","v":0},{"$f":"analyse!$B$1","v":0},0,0,0,0]
[null,null,{"$f":"IF(ISNA(VLOOKUP(A157625,analyse!D:E,2,FALSE))=TRUE,0,(VLOOKUP(A157625,analyse!D:E,2,FALSE)))","v":0},{"$f":"analyse!$B$1","v":0},0,0,0,0]
[null,null,{"$f":"IF(ISNA(VLOOKUP(A157626,analyse!D:E,2,FALSE))=TRUE,0,(VLOOKUP(A157626,analyse!D:E,2,FALSE)))","v":0},{"$f":"analyse!$B$1","v":0},0,0,0,0]
[null,null,{"$f":"IF(ISNA(VLOOKUP(A157627,analyse!D:E,2,FALSE))=TRUE,0,(VLOOKUP(A157627,analyse!D:E,2,FALSE)))","v":0},{"$f":"analyse!$B$1","v":0},0,0,0,0]
[null,null,{"$f":"IF(ISNA(VLOOKUP(A157628,analyse!D:E,2,FALSE))=TRUE,0,(VLOOKUP(A157628,analyse!D:E,2,FALSE)))","v":0},{"$f":"analyse!$B$1","v":0},0,{"$f":"D157628-C157628","v":0},0,0]
[null,null,{"$f":"IF(ISNA(VLOOKUP(A157629,analyse!D:E,2,FALSE))=TRUE,0,(VLOOKUP(A157629,analyse!D:E,2,FALSE)))","v":0},{"$f":"analyse!$B$1","v":0},0,0,0,0]
[null,null,{"$f":"IF(ISNA(VLOOKUP(A157630,analyse!D:E,2,FALSE))=TRUE,0,(VLOOKUP(A157630,analyse!D:E,2,FALSE)))","v":0},{"$f":"analyse!$B$1","v":0},0,0,0,0]
[null,null,{"$f":"IF(ISNA(VLOOKUP(A157631,analyse!D:E,2,FALSE))=TRUE,0,(VLOOKUP(A157631,analyse!D:E,2,FALSE)))","v":0},{"$f":"analyse!$B$1","v":0},0,0,0,0]
[null,null,{"$f":"IF(ISNA(VLOOKUP(A157632,analyse!D:E,2,FALSE))=TRUE,0,(VLOOKUP(A157632,analyse!D:E,2,FALSE)))","v":0},{"$f":"analyse!$B$1","v":0},0,0,0,0]
[null,null,{"$f":"IF(ISNA(VLOOKUP(A157633,analyse!D:E,2,FALSE))=TRUE,0,(VLOOKUP(A157633,analyse!D:E,2,FALSE)))","v":0},{"$f":"analyse!$B$1","v":0},0,0,0,0]
[null,null,{"$f":"IF(ISNA(VLOOKUP(A157634,analyse!D:E,2,FALSE))=TRUE,0,(VLOOKUP(A157634,analyse!D:E,2,FALSE)))","v":0},{"$f":"analyse!$B$1","v":0},0,0,0,{"$f":"IF(A157634=\"S20.G01.00.001\",H157633+1,H157633)","v":0}]
[null,null,{"$f":"IF(ISNA(VLOOKUP(A157635,analyse!D:E,2,FALSE))=TRUE,0,(VLOOKUP(A157635,analyse!D:E,2,FALSE)))","v":0},{"$f":"analyse!$B$1","v":0},0,0,0,0]
[null,null,{"$f":"IF(ISNA(VLOOKUP(A157636,analyse!D:E,2,FALSE))=TRUE,0,(VLOOKUP(A157636,analyse!D:E,2,FALSE)))","v":0},{"$f":"analyse!$B$1","v":0},0,0,0,0]
[null,null,{"$f":"IF(ISNA(VLOOKUP(A157637,analyse!D:E,2,FALSE))=TRUE,0,(VLOOKUP(A157637,analyse!D:E,2,FALSE)))","v":0},{"$f":"analyse!$B$1","v":0},0,0,0,0]
[null,null,{"$f":"IF(ISNA(VLOOKUP(A157638,analyse!D:E,2,FALSE))=TRUE,0,(VLOOKUP(A157638,analyse!D:E,2,FALSE)))","v":0},{"$f":"analyse!$B$1","v":0},0,0,0,0]
[null,null,{"$f":"IF(ISNA(VLOOKUP(A157639,analyse!D:E,2,FALSE))=TRUE,0,(VLOOKUP(A157639,analyse!D:E,2,FALSE)))","v":0},{"$f":"analyse!$B$1","v":0},0,0,0,0]
[null,null,{"$f":"IF(ISNA(VLOOKUP(A157640,analyse!D:E,2,FALSE))=TRUE,0,(VLOOKUP(A157640,analyse!D:E,2,FALSE)))","v":0},{"$f":"analyse!$B$1","v":0},0,0,0,0]
[null,null,{"$f":"IF(ISNA(VLOOKUP(A157641,analyse!D:E,2,FALSE))=TRUE,0,(VLOOKUP(A157641,analyse!D:E,2,FALSE)))","v":0},{"$f":"analyse!$B$1","v":0},0,0,0,0]
[null,null,{"$f":"IF(ISNA(VLOOKUP(A157642,analyse!D:E,2,FALSE))=TRUE,0,(VLOOKUP(A157642,analyse!D:E,2,FALSE)))","v":0},{"$f":"analyse!$B$1","v":0},0,0,0,0]
[null,null,{"$f":"IF(ISNA(VLOOKUP(A157643,analyse!D:E,2,FALSE))=TRUE,0,(VLOOKUP(A157643,analyse!D:E,2,FALSE)))","v":0},{"$f":"analyse!$B$1","v":0},0,0,{"$f":"IF(F157643<E157643,D157643-1,D157643)","v":0},0]
[null,null,{"$f":"IF(ISNA(VLOOKUP(A157644,analyse!D:E,2,FALSE))=TRUE,0,(VLOOKUP(A157644,analyse!D:E,2,FALSE)))","v":0},{"$f":"analyse!$B$1","v":0},0,0,0,0]
[null,null,{"$f":"IF(ISNA(VLOOKUP(A157645,analyse!D:E,2,FALSE))=TRUE,0,(VLOOKUP(A157645,analyse!D:E,2,FALSE)))","v":0},{"$f":"analyse!$B$1","v":0},0,0,0,0]
[null,null,{"$f":"IF(ISNA(VLOOKUP(A157646,analyse!D:E,2,FALSE))=TRUE,0,(VLOOKUP(A157646,analyse!D:E,2,FALSE)))","v":0},{"$f":"analyse!$B$1","v":0},0,0,0,0]
[null,null,{"$f":"IF(ISNA(VLOOKUP(A157647,analyse!D:E,2,FALSE))=TRUE,0,(VLOOKUP(A157647,analyse!D:E,2,FALSE)))","v":0},{"$f":"analyse!$B$1","v":0},0,0,0,0]
[null,null,{"$f":"IF(ISNA(VLOOKUP(A157648,analyse!D:E,2,FALSE))=TRUE,0,(VLOOKUP(A157648,analyse!D:E,2,FALSE)))","v":0},{"$f":"analyse!$B$1","v":0},0,0,0,0]
[null,null,{"$f":"IF(ISNA(VLOOKUP(A157649,analyse!D:E,2,FALSE))=TRUE,0,(VLOOKUP(A157649,analyse!D:E,2,FALSE)))","v":0},{"$f":"analyse!$B$1","v":0},0,0,0,0]
[null,null,{"$f":"IF(ISNA(VLOOKUP(A157650,analyse!D:E,2,FALSE))=TRUE,0,(VLOOKUP(A157650,analyse!D:E,2,FALSE)))","v":0},{"$f":"analyse!$B$1","v":0},0,0,0,0]
[null,null,{"$f":"IF(ISNA(VLOOKUP(A157651,analyse!D:E,2,FALSE))=TRUE,0,(VLOOKUP(A157651,analyse!D:E,2,FALSE)))","v":0},{"$f":"analyse!$B$1","v":0},0,0,0,0]
[null,null,{"$f":"IF(ISNA(VLOOKUP(A157652,analyse!D:E,2,FALSE))=TRUE,0,(VLOOKUP(A157652,analyse!D:E,2,FALSE)))","v":0},{"$f":"analyse!$B$1","v":0},0,0,0,0]
[null,null,{"$f":"IF(ISNA(VLOOKUP(A157653,analyse!D:E,2,FALSE))=TRUE,0,(VLOOKUP(A157653,analyse!D:E,2,FALSE)))","v":0},{"$f":"analyse!$B$1","v":0},0,0,0,0]
[null,null,{"$f":"IF(ISNA(VLOOKUP(A157654,analyse!D:E,2,FALSE))=TRUE,0,(VLOOKUP(A157654,analyse!D:E,2,FALSE)))","v":0},{"$f":"analyse!$B$1","v":0},0,0,0,0]
[null,null,{"$f":"IF(ISNA(VLOOKUP(A157655,analyse!D:E,2,FALSE))=TRUE,0,(VLOOKUP(A157655,analyse!D:E,2,FALSE)))","v":0},{"$f":"analyse!$B$1","v":0},0,0,0,0]
[null,null,{"$f":"IF(ISNA(VLOOKUP(A157656,analyse!D:E,2,FALSE))=TRUE,0,(VLOOKUP(A157656,analyse!D:E,2,FALSE)))","v":0},{"$f":"analyse!$B$1","v":0},0,0,0,0]
[null,null,{"$f":"IF(ISNA(VLOOKUP(A157657,analyse!D:E,2,FALSE))=TRUE,0,(VLOOKUP(A157657,analyse!D:E,2,FALSE)))","v":0},{"$f":"analyse!$B$1","v":0},0,0,0,0]
[null,null,{"$f":"IF(ISNA(VLOOKUP(A157658,analyse!D:E,2,FALSE))=TRUE,0,(VLOOKUP(A157658,analyse!D:E,2,FALSE)))","v":0},{"$f":"analyse!$B$1","v":0},0,0,0,0]
[null,null,{"$f":"IF(ISNA(VLOOKUP(A157659,analyse!D:E,2,FALSE))=TRUE,0,(VLOOKUP(A157659,analyse!D:E,2,FALSE)))","v":0},{"$f":"analyse!$B$1","v":0},0,0,0,0]
[null,null,{"$f":"IF(ISNA(VLOOKUP(A157660,analyse!D:E,2,FALSE))=TRUE,0,(VLOOKUP(A157660,analyse!D:E,2,FALSE)))","v":0},{"$f":"analyse!$B$1","v":0},0,0,0,0]
[null,null,{"$f":"IF(ISNA(VLOOKUP(A157661,analyse!D:E,2,FALSE))=TRUE,0,(VLOOKUP(A157661,analyse!D:E,2,FALSE)))","v":0},{"$f":"analyse!$B$1","v":0},0,0,0,0]
[null,null,{"$f":"IF(ISNA(VLOOKUP(A157662,analyse!D:E,2,FALSE))=TRUE,0,(VLOOKUP(A157662,analyse!D:E,2,FALSE)))","v":0},{"$f":"analyse!$B$1","v":0},0,0,0,0]
[null,null,{"$f":"IF(ISNA(VLOOKUP(A157663,analyse!D:E,2,FALSE))=TRUE,0,(VLOOKUP(A157663,analyse!D:E,2,FALSE)))","v":0},{"$f":"analyse!$B$1","v":0},0,0,0,0]
[null,null,{"$f":"IF(ISNA(VLOOKUP(A157664,analyse!D:E,2,FALSE))=TRUE,0,(VLOOKUP(A157664,analyse!D:E,2,FALSE)))","v":0},{"$f":"analyse!$B$1","v":0},0,0,0,0]
[null,null,{"$f":"IF(ISNA(VLOOKUP(A157665,analyse!D:E,2,FALSE))=TRUE,0,(VLOOKUP(A157665,analyse!D:E,2,FALSE)))","v":0},{"$f":"analyse!$B$1","v":0},0,0,0,0]
[null,null,{"$f":"IF(ISNA(VLOOKUP(A157666,analyse!D:E,2,FALSE))=TRUE,0,(VLOOKUP(A157666,analyse!D:E,2,FALSE)))","v":0},{"$f":"analyse!$B$1","v":0},0,0,0,0]
[null,null,{"$f":"IF(ISNA(VLOOKUP(A157667,analyse!D:E,2,FALSE))=TRUE,0,(VLOOKUP(A157667,analyse!D:E,2,FALSE)))","v":0},{"$f":"analyse!$B$1","v":0},0,0,0,0]
[null,null,{"$f":"IF(ISNA(VLOOKUP(A157668,analyse!D:E,2,FALSE))=TRUE,0,(VLOOKUP(A157668,analyse!D:E,2,FALSE)))","v":0},{"$f":"analyse!$B$1","v":0},0,0,0,0]
[null,null,{"$f":"IF(ISNA(VLOOKUP(A157669,analyse!D:E,2,FALSE))=TRUE,0,(VLOOKUP(A157669,analyse!D:E,2,FALSE)))","v":0},{"$f":"analyse!$B$1","v":0},0,0,0,0]
[null,null,{"$f":"IF(ISNA(VLOOKUP(A157670,analyse!D:E,2,FALSE))=TRUE,0,(VLOOKUP(A157670,analyse!D:E,2,FALSE)))","v":0},{"$f":"analyse!$B$1","v":0},0,0,0,0]
[null,null,{"$f":"IF(ISNA(VLOOKUP(A157671,analyse!D:E,2,FALSE))=TRUE,0,(VLOOKUP(A157671,analyse!D:E,2,FALSE)))","v":0},{"$f":"analyse!$B$1","v":0},{"$f":"D157671-C157671","v":0},0,0,0]
[null,null,{"$f":"IF(ISNA(VLOOKUP(A157672,analyse!D:E,2,FALSE))=TRUE,0,(VLOOKUP(A157672,analyse!D:E,2,FALSE)))","v":0},{"$f":"analyse!$B$1","v":0},0,0,0,0]
[null,null,{"$f":"IF(ISNA(VLOOKUP(A157673,analyse!D:E,2,FALSE))=TRUE,0,(VLOOKUP(A157673,analyse!D:E,2,FALSE)))","v":0},{"$f":"analyse!$B$1","v":0},0,0,0,0]
[null,null,{"$f":"IF(ISNA(VLOOKUP(A157674,analyse!D:E,2,FALSE))=TRUE,0,(VLOOKUP(A157674,analyse!D:E,2,FALSE)))","v":0},{"$f":"analyse!$B$1","v":0},0,0,0,0]
[null,null,{"$f":"IF(ISNA(VLOOKUP(A157675,analyse!D:E,2,FALSE))=TRUE,0,(VLOOKUP(A157675,analyse!D:E,2,FALSE)))","v":0},{"$f":"analyse!$B$1","v":0},0,0,0,0]
[null,null,{"$f":"IF(ISNA(VLOOKUP(A157676,analyse!D:E,2,FALSE))=TRUE,0,(VLOOKUP(A157676,analyse!D:E,2,FALSE)))","v":0},{"$f":"analyse!$B$1","v":0},0,0,0,0]
[null,null,{"$f":"IF(ISNA(VLOOKUP(A157677,analyse!D:E,2,FALSE))=TRUE,0,(VLOOKUP(A157677,analyse!D:E,2,FALSE)))","v":0},{"$f":"analyse!$B$1","v":0},0,0,0,0]
[null,null,{"$f":"IF(ISNA(VLOOKUP(A157678,analyse!D:E,2,FALSE))=TRUE,0,(VLOOKUP(A157678,analyse!D:E,2,FALSE)))","v":0},{"$f":"analyse!$B$1","v":0},0,0,0,0]
[null,null,{"$f":"IF(ISNA(VLOOKUP(A157679,analyse!D:E,2,FALSE))=TRUE,0,(VLOOKUP(A157679,analyse!D:E,2,FALSE)))","v":0},{"$f":"analyse!$B$1","v":0},0,0,0,0]
[null,null,{"$f":"IF(ISNA(VLOOKUP(A157680,analyse!D:E,2,FALSE))=TRUE,0,(VLOOKUP(A157680,analyse!D:E,2,FALSE)))","v":0},{"$f":"analyse!$B$1","v":0},0,0,0,0]
[null,null,{"$f":"IF(ISNA(VLOOKUP(A157681,analyse!D:E,2,FALSE))=TRUE,0,(VLOOKUP(A157681,analyse!D:E,2,FALSE)))","v":0},{"$f":"analyse!$B$1","v":0},0,0,0,0]
[null,null,{"$f":"IF(ISNA(VLOOKUP(A157682,analyse!D:E,2,FALSE))=TRUE,0,(VLOOKUP(A157682,analyse!D:E,2,FALSE)))","v":0},{"$f":"analyse!$B$1","v":0},0,0,0,0]
[null,null,{"$f":"IF(ISNA(VLOOKUP(A157683,analyse!D:E,2,FALSE))=TRUE,0,(VLOOKUP(A157683,analyse!D:E,2,FALSE)))","v":0},{"$f":"analyse!$B$1","v":0},0,0,0,0]
[null,null,{"$f":"IF(ISNA(VLOOKUP(A157684,analyse!D:E,2,FALSE))=TRUE,0,(VLOOKUP(A157684,analyse!D:E,2,FALSE)))","v":0},{"$f":"analyse!$B$1","v":0},0,0,0,0]
[null,null,{"$f":"IF(ISNA(VLOOKUP(A157685,analyse!D:E,2,FALSE))=TRUE,0,(VLOOKUP(A157685,analyse!D:E,2,FALSE)))","v":0},{"$f":"analyse!$B$1","v":0},0,0,0,0]
[null,null,{"$f":"IF(ISNA(VLOOKUP(A157686,analyse!D:E,2,FALSE))=TRUE,0,(VLOOKUP(A157686,analyse!D:E,2,FALSE)))","v":0},{"$f":"analyse!$B$1","v":0},0,0,0,0]
[null,null,{"$f":"IF(ISNA(VLOOKUP(A157687,analyse!D:E,2,FALSE))=TRUE,0,(VLOOKUP(A157687,analyse!D:E,2,FALSE)))","v":0},{"$f":"analyse!$B$1","v":0},0,0,0,0]
[null,null,{"$f":"IF(ISNA(VLOOKUP(A157688,analyse!D:E,2,FALSE))=TRUE,0,(VLOOKUP(A157688,analyse!D:E,2,FALSE)))","v":0},{"$f":"analyse!$B$1","v":0},0,0,0,0]
[null,null,{"$f":"IF(ISNA(VLOOKUP(A157689,analyse!D:E,2,FALSE))=TRUE,0,(VLOOKUP(A157689,analyse!D:E,2,FALSE)))","v":0},{"$f":"analyse!$B$1","v":0},0,0,0,0]
[null,null,{"$f":"IF(ISNA(VLOOKUP(A157690,analyse!D:E,2,FALSE))=TRUE,0,(VLOOKUP(A157690,analyse!D:E,2,FALSE)))","v":0},{"$f":"analyse!$B$1","v":0},0,0,0,0]
[null,null,{"$f":"IF(ISNA(VLOOKUP(A157691,analyse!D:E,2,FALSE))=TRUE,0,(VLOOKUP(A157691,analyse!D:E,2,FALSE)))","v":0},{"$f":"analyse!$B$1","v":0},0,0,0,0]
[null,null,{"$f":"IF(ISNA(VLOOKUP(A157692,analyse!D:E,2,FALSE))=TRUE,0,(VLOOKUP(A157692,analyse!D:E,2,FALSE)))","v":0},{"$f":"analyse!$B$1","v":0},0,{"$f":"D157692-C157692","v":0},0,0]
[null,null,{"$f":"IF(ISNA(VLOOKUP(A157693,analyse!D:E,2,FALSE))=TRUE,0,(VLOOKUP(A157693,analyse!D:E,2,FALSE)))","v":0},{"$f":"analyse!$B$1","v":0},0,0,0,0]
[null,null,{"$f":"IF(ISNA(VLOOKUP(A157694,analyse!D:E,2,FALSE))=TRUE,0,(VLOOKUP(A157694,analyse!D:E,2,FALSE)))","v":0},{"$f":"analyse!$B$1","v":0},0,0,0,0]
[null,null,{"$f":"IF(ISNA(VLOOKUP(A157695,analyse!D:E,2,FALSE))=TRUE,0,(VLOOKUP(A157695,analyse!D:E,2,FALSE)))","v":0},{"$f":"analyse!$B$1","v":0},0,0,0,0]
[null,null,{"$f":"IF(ISNA(VLOOKUP(A157696,analyse!D:E,2,FALSE))=TRUE,0,(VLOOKUP(A157696,analyse!D:E,2,FALSE)))","v":0},{"$f":"analyse!$B$1","v":0},0,0,0,0]
[null,null,{"$f":"IF(ISNA(VLOOKUP(A157697,analyse!D:E,2,FALSE))=TRUE,0,(VLOOKUP(A157697,analyse!D:E,2,FALSE)))","v":0},{"$f":"analyse!$B$1","v":0},0,0,0,0]
[null,null,{"$f":"IF(ISNA(VLOOKUP(A157698,analyse!D:E,2,FALSE))=TRUE,0,(VLOOKUP(A157698,analyse!D:E,2,FALSE)))","v":0},{"$f":"analyse!$B$1","v":0},0,0,0,{"$f":"IF(A157698=\"S20.G01.00.001\",H157697+1,H157697)","v":0}]
[null,null,{"$f":"IF(ISNA(VLOOKUP(A157699,analyse!D:E,2,FALSE))=TRUE,0,(VLOOKUP(A157699,analyse!D:E,2,FALSE)))","v":0},{"$f":"analyse!$B$1","v":0},0,0,0,0]
[null,null,{"$f":"IF(ISNA(VLOOKUP(A157700,analyse!D:E,2,FALSE))=TRUE,0,(VLOOKUP(A157700,analyse!D:E,2,FALSE)))","v":0},{"$f":"analyse!$B$1","v":0},0,0,0,0]
[null,null,{"$f":"IF(ISNA(VLOOKUP(A157701,analyse!D:E,2,FALSE))=TRUE,0,(VLOOKUP(A157701,analyse!D:E,2,FALSE)))","v":0},{"$f":"analyse!$B$1","v":0},0,0,0,0]
[null,null,{"$f":"IF(ISNA(VLOOKUP(A157702,analyse!D:E,2,FALSE))=TRUE,0,(VLOOKUP(A157702,analyse!D:E,2,FALSE)))","v":0},{"$f":"analyse!$B$1","v":0},0,0,0,0]
[null,null,{"$f":"IF(ISNA(VLOOKUP(A157703,analyse!D:E,2,FALSE))=TRUE,0,(VLOOKUP(A157703,analyse!D:E,2,FALSE)))","v":0},{"$f":"analyse!$B$1","v":0},0,0,0,0]
[null,null,{"$f":"IF(ISNA(VLOOKUP(A157704,analyse!D:E,2,FALSE))=TRUE,0,(VLOOKUP(A157704,analyse!D:E,2,FALSE)))","v":0},{"$f":"analyse!$B$1","v":0},0,0,0,0]
[null,null,{"$f":"IF(ISNA(VLOOKUP(A157705,analyse!D:E,2,FALSE))=TRUE,0,(VLOOKUP(A157705,analyse!D:E,2,FALSE)))","v":0},{"$f":"analyse!$B$1","v":0},0,0,0,0]
[null,null,{"$f":"IF(ISNA(VLOOKUP(A157706,analyse!D:E,2,FALSE))=TRUE,0,(VLOOKUP(A157706,analyse!D:E,2,FALSE)))","v":0},{"$f":"analyse!$B$1","v":0},0,0,0,0]
[null,null,{"$f":"IF(ISNA(VLOOKUP(A157707,analyse!D:E,2,FALSE))=TRUE,0,(VLOOKUP(A157707,analyse!D:E,2,FALSE)))","v":0},{"$f":"analyse!$B$1","v":0},0,0,{"$f":"IF(F157707<E157707,D157707-1,D157707)","v":0},0]
[null,null,{"$f":"IF(ISNA(VLOOKUP(A157708,analyse!D:E,2,FALSE))=TRUE,0,(VLOOKUP(A157708,analyse!D:E,2,FALSE)))","v":0},{"$f":"analyse!$B$1","v":0},0,0,0,0]
[null,null,{"$f":"IF(ISNA(VLOOKUP(A157709,analyse!D:E,2,FALSE))=TRUE,0,(VLOOKUP(A157709,analyse!D:E,2,FALSE)))","v":0},{"$f":"analyse!$B$1","v":0},0,0,0,0]
[null,null,{"$f":"IF(ISNA(VLOOKUP(A157710,analyse!D:E,2,FALSE))=TRUE,0,(VLOOKUP(A157710,analyse!D:E,2,FALSE)))","v":0},{"$f":"analyse!$B$1","v":0},0,0,0,0]
[null,null,{"$f":"IF(ISNA(VLOOKUP(A157711,analyse!D:E,2,FALSE))=TRUE,0,(VLOOKUP(A157711,analyse!D:E,2,FALSE)))","v":0},{"$f":"analyse!$B$1","v":0},0,0,0,0]
[null,null,{"$f":"IF(ISNA(VLOOKUP(A157712,analyse!D:E,2,FALSE))=TRUE,0,(VLOOKUP(A157712,analyse!D:E,2,FALSE)))","v":0},{"$f":"analyse!$B$1","v":0},0,0,0,0]
[null,null,{"$f":"IF(ISNA(VLOOKUP(A157713,analyse!D:E,2,FALSE))=TRUE,0,(VLOOKUP(A157713,analyse!D:E,2,FALSE)))","v":0},{"$f":"analyse!$B$1","v":0},0,0,0,0]
[null,null,{"$f":"IF(ISNA(VLOOKUP(A157714,analyse!D:E,2,FALSE))=TRUE,0,(VLOOKUP(A157714,analyse!D:E,2,FALSE)))","v":0},{"$f":"analyse!$B$1","v":0},0,0,0,0]
[null,null,{"$f":"IF(ISNA(VLOOKUP(A157715,analyse!D:E,2,FALSE))=TRUE,0,(VLOOKUP(A157715,analyse!D:E,2,FALSE)))","v":0},{"$f":"analyse!$B$1","v":0},0,0,0,0]
[null,null,{"$f":"IF(ISNA(VLOOKUP(A157716,analyse!D:E,2,FALSE))=TRUE,0,(VLOOKUP(A157716,analyse!D:E,2,FALSE)))","v":0},{"$f":"analyse!$B$1","v":0},0,0,0,0]
[null,null,{"$f":"IF(ISNA(VLOOKUP(A157717,analyse!D:E,2,FALSE))=TRUE,0,(VLOOKUP(A157717,analyse!D:E,2,FALSE)))","v":0},{"$f":"analyse!$B$1","v":0},0,0,0,0]
[null,null,{"$f":"IF(ISNA(VLOOKUP(A157718,analyse!D:E,2,FALSE))=TRUE,0,(VLOOKUP(A157718,analyse!D:E,2,FALSE)))","v":0},{"$f":"analyse!$B$1","v":0},0,0,0,0]
[null,null,{"$f":"IF(ISNA(VLOOKUP(A157719,analyse!D:E,2,FALSE))=TRUE,0,(VLOOKUP(A157719,analyse!D:E,2,FALSE)))","v":0},{"$f":"analyse!$B$1","v":0},0,0,0,0]
[null,null,{"$f":"IF(ISNA(VLOOKUP(A157720,analyse!D:E,2,FALSE))=TRUE,0,(VLOOKUP(A157720,analyse!D:E,2,FALSE)))","v":0},{"$f":"analyse!$B$1","v":0},0,0,0,0]
[null,null,{"$f":"IF(ISNA(VLOOKUP(A157721,analyse!D:E,2,FALSE))=TRUE,0,(VLOOKUP(A157721,analyse!D:E,2,FALSE)))","v":0},{"$f":"analyse!$B$1","v":0},0,0,0,0]
[null,null,{"$f":"IF(ISNA(VLOOKUP(A157722,analyse!D:E,2,FALSE))=TRUE,0,(VLOOKUP(A157722,analyse!D:E,2,FALSE)))","v":0},{"$f":"analyse!$B$1","v":0},0,0,0,0]
[null,null,{"$f":"IF(ISNA(VLOOKUP(A157723,analyse!D:E,2,FALSE))=TRUE,0,(VLOOKUP(A157723,analyse!D:E,2,FALSE)))","v":0},{"$f":"analyse!$B$1","v":0},0,0,0,0]
[null,null,{"$f":"IF(ISNA(VLOOKUP(A157724,analyse!D:E,2,FALSE))=TRUE,0,(VLOOKUP(A157724,analyse!D:E,2,FALSE)))","v":0},{"$f":"analyse!$B$1","v":0},0,0,0,0]
[null,null,{"$f":"IF(ISNA(VLOOKUP(A157725,analyse!D:E,2,FALSE))=TRUE,0,(VLOOKUP(A157725,analyse!D:E,2,FALSE)))","v":0},{"$f":"analyse!$B$1","v":0},0,0,0,0]
[null,null,{"$f":"IF(ISNA(VLOOKUP(A157726,analyse!D:E,2,FALSE))=TRUE,0,(VLOOKUP(A157726,analyse!D:E,2,FALSE)))","v":0},{"$f":"analyse!$B$1","v":0},0,0,0,0]
[null,null,{"$f":"IF(ISNA(VLOOKUP(A157727,analyse!D:E,2,FALSE))=TRUE,0,(VLOOKUP(A157727,analyse!D:E,2,FALSE)))","v":0},{"$f":"analyse!$B$1","v":0},0,0,0,0]
[null,null,{"$f":"IF(ISNA(VLOOKUP(A157728,analyse!D:E,2,FALSE))=TRUE,0,(VLOOKUP(A157728,analyse!D:E,2,FALSE)))","v":0},{"$f":"analyse!$B$1","v":0},0,0,0,0]
[null,null,{"$f":"IF(ISNA(VLOOKUP(A157729,analyse!D:E,2,FALSE))=TRUE,0,(VLOOKUP(A157729,analyse!D:E,2,FALSE)))","v":0},{"$f":"analyse!$B$1","v":0},0,0,0,0]
[null,null,{"$f":"IF(ISNA(VLOOKUP(A157730,analyse!D:E,2,FALSE))=TRUE,0,(VLOOKUP(A157730,analyse!D:E,2,FALSE)))","v":0},{"$f":"analyse!$B$1","v":0},0,0,0,0]
[null,null,{"$f":"IF(ISNA(VLOOKUP(A157731,analyse!D:E,2,FALSE))=TRUE,0,(VLOOKUP(A157731,analyse!D:E,2,FALSE)))","v":0},{"$f":"analyse!$B$1","v":0},0,0,0,0]
[null,null,{"$f":"IF(ISNA(VLOOKUP(A157732,analyse!D:E,2,FALSE))=TRUE,0,(VLOOKUP(A157732,analyse!D:E,2,FALSE)))","v":0},{"$f":"analyse!$B$1","v":0},0,0,0,0]
[null,null,{"$f":"IF(ISNA(VLOOKUP(A157733,analyse!D:E,2,FALSE))=TRUE,0,(VLOOKUP(A157733,analyse!D:E,2,FALSE)))","v":0},{"$f":"analyse!$B$1","v":0},0,0,0,0]
[null,null,{"$f":"IF(ISNA(VLOOKUP(A157734,analyse!D:E,2,FALSE))=TRUE,0,(VLOOKUP(A157734,analyse!D:E,2,FALSE)))","v":0},{"$f":"analyse!$B$1","v":0},0,0,0,0]
[null,null,{"$f":"IF(ISNA(VLOOKUP(A157735,analyse!D:E,2,FALSE))=TRUE,0,(VLOOKUP(A157735,analyse!D:E,2,FALSE)))","v":0},{"$f":"analyse!$B$1","v":0},{"$f":"D157735-C157735","v":0},0,0,0]
[null,null,{"$f":"IF(ISNA(VLOOKUP(A157736,analyse!D:E,2,FALSE))=TRUE,0,(VLOOKUP(A157736,analyse!D:E,2,FALSE)))","v":0},{"$f":"analyse!$B$1","v":0},0,0,0,0]
[null,null,{"$f":"IF(ISNA(VLOOKUP(A157737,analyse!D:E,2,FALSE))=TRUE,0,(VLOOKUP(A157737,analyse!D:E,2,FALSE)))","v":0},{"$f":"analyse!$B$1","v":0},0,0,0,0]
[null,null,{"$f":"IF(ISNA(VLOOKUP(A157738,analyse!D:E,2,FALSE))=TRUE,0,(VLOOKUP(A157738,analyse!D:E,2,FALSE)))","v":0},{"$f":"analyse!$B$1","v":0},0,0,0,0]
[null,null,{"$f":"IF(ISNA(VLOOKUP(A157739,analyse!D:E,2,FALSE))=TRUE,0,(VLOOKUP(A157739,analyse!D:E,2,FALSE)))","v":0},{"$f":"analyse!$B$1","v":0},0,0,0,0]
[null,null,{"$f":"IF(ISNA(VLOOKUP(A157740,analyse!D:E,2,FALSE))=TRUE,0,(VLOOKUP(A157740,analyse!D:E,2,FALSE)))","v":0},{"$f":"analyse!$B$1","v":0},0,0,0,0]
[null,null,{"$f":"IF(ISNA(VLOOKUP(A157741,analyse!D:E,2,FALSE))=TRUE,0,(VLOOKUP(A157741,analyse!D:E,2,FALSE)))","v":0},{"$f":"analyse!$B$1","v":0},0,0,0,0]
[null,null,{"$f":"IF(ISNA(VLOOKUP(A157742,analyse!D:E,2,FALSE))=TRUE,0,(VLOOKUP(A157742,analyse!D:E,2,FALSE)))","v":0},{"$f":"analyse!$B$1","v":0},0,0,0,0]
[null,null,{"$f":"IF(ISNA(VLOOKUP(A157743,analyse!D:E,2,FALSE))=TRUE,0,(VLOOKUP(A157743,analyse!D:E,2,FALSE)))","v":0},{"$f":"analyse!$B$1","v":0},0,0,0,0]
[null,null,{"$f":"IF(ISNA(VLOOKUP(A157744,analyse!D:E,2,FALSE))=TRUE,0,(VLOOKUP(A157744,analyse!D:E,2,FALSE)))","v":0},{"$f":"analyse!$B$1","v":0},0,0,0,0]
[null,null,{"$f":"IF(ISNA(VLOOKUP(A157745,analyse!D:E,2,FALSE))=TRUE,0,(VLOOKUP(A157745,analyse!D:E,2,FALSE)))","v":0},{"$f":"analyse!$B$1","v":0},0,0,0,0]
[null,null,{"$f":"IF(ISNA(VLOOKUP(A157746,analyse!D:E,2,FALSE))=TRUE,0,(VLOOKUP(A157746,analyse!D:E,2,FALSE)))","v":0},{"$f":"analyse!$B$1","v":0},0,0,0,0]
[null,null,{"$f":"IF(ISNA(VLOOKUP(A157747,analyse!D:E,2,FALSE))=TRUE,0,(VLOOKUP(A157747,analyse!D:E,2,FALSE)))","v":0},{"$f":"analyse!$B$1","v":0},0,0,0,0]
[null,null,{"$f":"IF(ISNA(VLOOKUP(A157748,analyse!D:E,2,FALSE))=TRUE,0,(VLOOKUP(A157748,analyse!D:E,2,FALSE)))","v":0},{"$f":"analyse!$B$1","v":0},0,0,0,0]
[null,null,{"$f":"IF(ISNA(VLOOKUP(A157749,analyse!D:E,2,FALSE))=TRUE,0,(VLOOKUP(A157749,analyse!D:E,2,FALSE)))","v":0},{"$f":"analyse!$B$1","v":0},0,0,0,0]
[null,null,{"$f":"IF(ISNA(VLOOKUP(A157750,analyse!D:E,2,FALSE))=TRUE,0,(VLOOKUP(A157750,analyse!D:E,2,FALSE)))","v":0},{"$f":"analyse!$B$1","v":0},0,0,0,0]
[null,null,{"$f":"IF(ISNA(VLOOKUP(A157751,analyse!D:E,2,FALSE))=TRUE,0,(VLOOKUP(A157751,analyse!D:E,2,FALSE)))","v":0},{"$f":"analyse!$B$1","v":0},0,0,0,0]
[null,null,{"$f":"IF(ISNA(VLOOKUP(A157752,analyse!D:E,2,FALSE))=TRUE,0,(VLOOKUP(A157752,analyse!D:E,2,FALSE)))","v":0},{"$f":"analyse!$B$1","v":0},0,0,0,0]
[null,null,{"$f":"IF(ISNA(VLOOKUP(A157753,analyse!D:E,2,FALSE))=TRUE,0,(VLOOKUP(A157753,analyse!D:E,2,FALSE)))","v":0},{"$f":"analyse!$B$1","v":0},0,0,0,0]
[null,null,{"$f":"IF(ISNA(VLOOKUP(A157754,analyse!D:E,2,FALSE))=TRUE,0,(VLOOKUP(A157754,analyse!D:E,2,FALSE)))","v":0},{"$f":"analyse!$B$1","v":0},0,0,0,0]
[null,null,{"$f":"IF(ISNA(VLOOKUP(A157755,analyse!D:E,2,FALSE))=TRUE,0,(VLOOKUP(A157755,analyse!D:E,2,FALSE)))","v":0},{"$f":"analyse!$B$1","v":0},0,0,0,0]
[null,null,{"$f":"IF(ISNA(VLOOKUP(A157756,analyse!D:E,2,FALSE))=TRUE,0,(VLOOKUP(A157756,analyse!D:E,2,FALSE)))","v":0},{"$f":"analyse!$B$1","v":0},0,{"$f":"D157756-C157756","v":0},0,0]
[null,null,{"$f":"IF(ISNA(VLOOKUP(A157757,analyse!D:E,2,FALSE))=TRUE,0,(VLOOKUP(A157757,analyse!D:E,2,FALSE)))","v":0},{"$f":"analyse!$B$1","v":0},0,0,0,0]
[null,null,{"$f":"IF(ISNA(VLOOKUP(A157758,analyse!D:E,2,FALSE))=TRUE,0,(VLOOKUP(A157758,analyse!D:E,2,FALSE)))","v":0},{"$f":"analyse!$B$1","v":0},0,0,0,0]
[null,null,{"$f":"IF(ISNA(VLOOKUP(A157759,analyse!D:E,2,FALSE))=TRUE,0,(VLOOKUP(A157759,analyse!D:E,2,FALSE)))","v":0},{"$f":"analyse!$B$1","v":0},0,0,0,0]
[null,null,{"$f":"IF(ISNA(VLOOKUP(A157760,analyse!D:E,2,FALSE))=TRUE,0,(VLOOKUP(A157760,analyse!D:E,2,FALSE)))","v":0},{"$f":"analyse!$B$1","v":0},0,0,0,0]
[null,null,{"$f":"IF(ISNA(VLOOKUP(A157761,analyse!D:E,2,FALSE))=TRUE,0,(VLOOKUP(A157761,analyse!D:E,2,FALSE)))","v":0},{"$f":"analyse!$B$1","v":0},0,0,0,0]
[null,null,{"$f":"IF(ISNA(VLOOKUP(A157762,analyse!D:E,2,FALSE))=TRUE,0,(VLOOKUP(A157762,analyse!D:E,2,FALSE)))","v":0},{"$f":"analyse!$B$1","v":0},0,0,0,{"$f":"IF(A157762=\"S20.G01.00.001\",H157761+1,H157761)","v":0}]
[null,null,{"$f":"IF(ISNA(VLOOKUP(A157763,analyse!D:E,2,FALSE))=TRUE,0,(VLOOKUP(A157763,analyse!D:E,2,FALSE)))","v":0},{"$f":"analyse!$B$1","v":0},0,0,0,0]
[null,null,{"$f":"IF(ISNA(VLOOKUP(A157764,analyse!D:E,2,FALSE))=TRUE,0,(VLOOKUP(A157764,analyse!D:E,2,FALSE)))","v":0},{"$f":"analyse!$B$1","v":0},0,0,0,0]
[null,null,{"$f":"IF(ISNA(VLOOKUP(A157765,analyse!D:E,2,FALSE))=TRUE,0,(VLOOKUP(A157765,analyse!D:E,2,FALSE)))","v":0},{"$f":"analyse!$B$1","v":0},0,0,0,0]
[null,null,{"$f":"IF(ISNA(VLOOKUP(A157766,analyse!D:E,2,FALSE))=TRUE,0,(VLOOKUP(A157766,analyse!D:E,2,FALSE)))","v":0},{"$f":"analyse!$B$1","v":0},0,0,0,0]
[null,null,{"$f":"IF(ISNA(VLOOKUP(A157767,analyse!D:E,2,FALSE))=TRUE,0,(VLOOKUP(A157767,analyse!D:E,2,FALSE)))","v":0},{"$f":"analyse!$B$1","v":0},0,0,0,0]
[null,null,{"$f":"IF(ISNA(VLOOKUP(A157768,analyse!D:E,2,FALSE))=TRUE,0,(VLOOKUP(A157768,analyse!D:E,2,FALSE)))","v":0},{"$f":"analyse!$B$1","v":0},0,0,0,0]
[null,null,{"$f":"IF(ISNA(VLOOKUP(A157769,analyse!D:E,2,FALSE))=TRUE,0,(VLOOKUP(A157769,analyse!D:E,2,FALSE)))","v":0},{"$f":"analyse!$B$1","v":0},0,0,0,0]
[null,null,{"$f":"IF(ISNA(VLOOKUP(A157770,analyse!D:E,2,FALSE))=TRUE,0,(VLOOKUP(A157770,analyse!D:E,2,FALSE)))","v":0},{"$f":"analyse!$B$1","v":0},0,0,0,0]
[null,null,{"$f":"IF(ISNA(VLOOKUP(A157771,analyse!D:E,2,FALSE))=TRUE,0,(VLOOKUP(A157771,analyse!D:E,2,FALSE)))","v":0},{"$f":"analyse!$B$1","v":0},0,0,{"$f":"IF(F157771<E157771,D157771-1,D157771)","v":0},0]
[null,null,{"$f":"IF(ISNA(VLOOKUP(A157772,analyse!D:E,2,FALSE))=TRUE,0,(VLOOKUP(A157772,analyse!D:E,2,FALSE)))","v":0},{"$f":"analyse!$B$1","v":0},0,0,0,0]
[null,null,{"$f":"IF(ISNA(VLOOKUP(A157773,analyse!D:E,2,FALSE))=TRUE,0,(VLOOKUP(A157773,analyse!D:E,2,FALSE)))","v":0},{"$f":"analyse!$B$1","v":0},0,0,0,0]
[null,null,{"$f":"IF(ISNA(VLOOKUP(A157774,analyse!D:E,2,FALSE))=TRUE,0,(VLOOKUP(A157774,analyse!D:E,2,FALSE)))","v":0},{"$f":"analyse!$B$1","v":0},0,0,0,0]
[null,null,{"$f":"IF(ISNA(VLOOKUP(A157775,analyse!D:E,2,FALSE))=TRUE,0,(VLOOKUP(A157775,analyse!D:E,2,FALSE)))","v":0},{"$f":"analyse!$B$1","v":0},0,0,0,0]
[null,null,{"$f":"IF(ISNA(VLOOKUP(A157776,analyse!D:E,2,FALSE))=TRUE,0,(VLOOKUP(A157776,analyse!D:E,2,FALSE)))","v":0},{"$f":"analyse!$B$1","v":0},0,0,0,0]
[null,null,{"$f":"IF(ISNA(VLOOKUP(A157777,analyse!D:E,2,FALSE))=TRUE,0,(VLOOKUP(A157777,analyse!D:E,2,FALSE)))","v":0},{"$f":"analyse!$B$1","v":0},0,0,0,0]
[null,null,{"$f":"IF(ISNA(VLOOKUP(A157778,analyse!D:E,2,FALSE))=TRUE,0,(VLOOKUP(A157778,analyse!D:E,2,FALSE)))","v":0},{"$f":"analyse!$B$1","v":0},0,0,0,0]
[null,null,{"$f":"IF(ISNA(VLOOKUP(A157779,analyse!D:E,2,FALSE))=TRUE,0,(VLOOKUP(A157779,analyse!D:E,2,FALSE)))","v":0},{"$f":"analyse!$B$1","v":0},0,0,0,0]
[null,null,{"$f":"IF(ISNA(VLOOKUP(A157780,analyse!D:E,2,FALSE))=TRUE,0,(VLOOKUP(A157780,analyse!D:E,2,FALSE)))","v":0},{"$f":"analyse!$B$1","v":0},0,0,0,0]
[null,null,{"$f":"IF(ISNA(VLOOKUP(A157781,analyse!D:E,2,FALSE))=TRUE,0,(VLOOKUP(A157781,analyse!D:E,2,FALSE)))","v":0},{"$f":"analyse!$B$1","v":0},0,0,0,0]
[null,null,{"$f":"IF(ISNA(VLOOKUP(A157782,analyse!D:E,2,FALSE))=TRUE,0,(VLOOKUP(A157782,analyse!D:E,2,FALSE)))","v":0},{"$f":"analyse!$B$1","v":0},0,0,0,0]
[null,null,{"$f":"IF(ISNA(VLOOKUP(A157783,analyse!D:E,2,FALSE))=TRUE,0,(VLOOKUP(A157783,analyse!D:E,2,FALSE)))","v":0},{"$f":"analyse!$B$1","v":0},0,0,0,0]
[null,null,{"$f":"IF(ISNA(VLOOKUP(A157784,analyse!D:E,2,FALSE))=TRUE,0,(VLOOKUP(A157784,analyse!D:E,2,FALSE)))","v":0},{"$f":"analyse!$B$1","v":0},0,0,0,0]
[null,null,{"$f":"IF(ISNA(VLOOKUP(A157785,analyse!D:E,2,FALSE))=TRUE,0,(VLOOKUP(A157785,analyse!D:E,2,FALSE)))","v":0},{"$f":"analyse!$B$1","v":0},0,0,0,0]
[null,null,{"$f":"IF(ISNA(VLOOKUP(A157786,analyse!D:E,2,FALSE))=TRUE,0,(VLOOKUP(A157786,analyse!D:E,2,FALSE)))","v":0},{"$f":"analyse!$B$1","v":0},0,0,0,0]
[null,null,{"$f":"IF(ISNA(VLOOKUP(A157787,analyse!D:E,2,FALSE))=TRUE,0,(VLOOKUP(A157787,analyse!D:E,2,FALSE)))","v":0},{"$f":"analyse!$B$1","v":0},0,0,0,0]
[null,null,{"$f":"IF(ISNA(VLOOKUP(A157788,analyse!D:E,2,FALSE))=TRUE,0,(VLOOKUP(A157788,analyse!D:E,2,FALSE)))","v":0},{"$f":"analyse!$B$1","v":0},0,0,0,0]
[null,null,{"$f":"IF(ISNA(VLOOKUP(A157789,analyse!D:E,2,FALSE))=TRUE,0,(VLOOKUP(A157789,analyse!D:E,2,FALSE)))","v":0},{"$f":"analyse!$B$1","v":0},0,0,0,0]
[null,null,{"$f":"IF(ISNA(VLOOKUP(A157790,analyse!D:E,2,FALSE))=TRUE,0,(VLOOKUP(A157790,analyse!D:E,2,FALSE)))","v":0},{"$f":"analyse!$B$1","v":0},0,0,0,0]
[null,null,{"$f":"IF(ISNA(VLOOKUP(A157791,analyse!D:E,2,FALSE))=TRUE,0,(VLOOKUP(A157791,analyse!D:E,2,FALSE)))","v":0},{"$f":"analyse!$B$1","v":0},0,0,0,0]
[null,null,{"$f":"IF(ISNA(VLOOKUP(A157792,analyse!D:E,2,FALSE))=TRUE,0,(VLOOKUP(A157792,analyse!D:E,2,FALSE)))","v":0},{"$f":"analyse!$B$1","v":0},0,0,0,0]
[null,null,{"$f":"IF(ISNA(VLOOKUP(A157793,analyse!D:E,2,FALSE))=TRUE,0,(VLOOKUP(A157793,analyse!D:E,2,FALSE)))","v":0},{"$f":"analyse!$B$1","v":0},0,0,0,0]
[null,null,{"$f":"IF(ISNA(VLOOKUP(A157794,analyse!D:E,2,FALSE))=TRUE,0,(VLOOKUP(A157794,analyse!D:E,2,FALSE)))","v":0},{"$f":"analyse!$B$1","v":0},0,0,0,0]
[null,null,{"$f":"IF(ISNA(VLOOKUP(A157795,analyse!D:E,2,FALSE))=TRUE,0,(VLOOKUP(A157795,analyse!D:E,2,FALSE)))","v":0},{"$f":"analyse!$B$1","v":0},0,0,0,0]
[null,null,{"$f":"IF(ISNA(VLOOKUP(A157796,analyse!D:E,2,FALSE))=TRUE,0,(VLOOKUP(A157796,analyse!D:E,2,FALSE)))","v":0},{"$f":"analyse!$B$1","v":0},0,0,0,0]
[null,null,{"$f":"IF(ISNA(VLOOKUP(A157797,analyse!D:E,2,FALSE))=TRUE,0,(VLOOKUP(A157797,analyse!D:E,2,FALSE)))","v":0},{"$f":"analyse!$B$1","v":0},0,0,0,0]
[null,null,{"$f":"IF(ISNA(VLOOKUP(A157798,analyse!D:E,2,FALSE))=TRUE,0,(VLOOKUP(A157798,analyse!D:E,2,FALSE)))","v":0},{"$f":"analyse!$B$1","v":0},0,0,0,0]
[null,null,{"$f":"IF(ISNA(VLOOKUP(A157799,analyse!D:E,2,FALSE))=TRUE,0,(VLOOKUP(A157799,analyse!D:E,2,FALSE)))","v":0},{"$f":"analyse!$B$1","v":0},{"$f":"D157799-C157799","v":0},0,0,0]
[null,null,{"$f":"IF(ISNA(VLOOKUP(A157800,analyse!D:E,2,FALSE))=TRUE,0,(VLOOKUP(A157800,analyse!D:E,2,FALSE)))","v":0},{"$f":"analyse!$B$1","v":0},0,0,0,0]
[null,null,{"$f":"IF(ISNA(VLOOKUP(A157801,analyse!D:E,2,FALSE))=TRUE,0,(VLOOKUP(A157801,analyse!D:E,2,FALSE)))","v":0},{"$f":"analyse!$B$1","v":0},0,0,0,0]
[null,null,{"$f":"IF(ISNA(VLOOKUP(A157802,analyse!D:E,2,FALSE))=TRUE,0,(VLOOKUP(A157802,analyse!D:E,2,FALSE)))","v":0},{"$f":"analyse!$B$1","v":0},0,0,0,0]
[null,null,{"$f":"IF(ISNA(VLOOKUP(A157803,analyse!D:E,2,FALSE))=TRUE,0,(VLOOKUP(A157803,analyse!D:E,2,FALSE)))","v":0},{"$f":"analyse!$B$1","v":0},0,0,0,0]
[null,null,{"$f":"IF(ISNA(VLOOKUP(A157804,analyse!D:E,2,FALSE))=TRUE,0,(VLOOKUP(A157804,analyse!D:E,2,FALSE)))","v":0},{"$f":"analyse!$B$1","v":0},0,0,0,0]
[null,null,{"$f":"IF(ISNA(VLOOKUP(A157805,analyse!D:E,2,FALSE))=TRUE,0,(VLOOKUP(A157805,analyse!D:E,2,FALSE)))","v":0},{"$f":"analyse!$B$1","v":0},0,0,0,0]
[null,null,{"$f":"IF(ISNA(VLOOKUP(A157806,analyse!D:E,2,FALSE))=TRUE,0,(VLOOKUP(A157806,analyse!D:E,2,FALSE)))","v":0},{"$f":"analyse!$B$1","v":0},0,0,0,0]
[null,null,{"$f":"IF(ISNA(VLOOKUP(A157807,analyse!D:E,2,FALSE))=TRUE,0,(VLOOKUP(A157807,analyse!D:E,2,FALSE)))","v":0},{"$f":"analyse!$B$1","v":0},0,0,0,0]
[null,null,{"$f":"IF(ISNA(VLOOKUP(A157808,analyse!D:E,2,FALSE))=TRUE,0,(VLOOKUP(A157808,analyse!D:E,2,FALSE)))","v":0},{"$f":"analyse!$B$1","v":0},0,0,0,0]
[null,null,{"$f":"IF(ISNA(VLOOKUP(A157809,analyse!D:E,2,FALSE))=TRUE,0,(VLOOKUP(A157809,analyse!D:E,2,FALSE)))","v":0},{"$f":"analyse!$B$1","v":0},0,0,0,0]
[null,null,{"$f":"IF(ISNA(VLOOKUP(A157810,analyse!D:E,2,FALSE))=TRUE,0,(VLOOKUP(A157810,analyse!D:E,2,FALSE)))","v":0},{"$f":"analyse!$B$1","v":0},0,0,0,0]
[null,null,{"$f":"IF(ISNA(VLOOKUP(A157811,analyse!D:E,2,FALSE))=TRUE,0,(VLOOKUP(A157811,analyse!D:E,2,FALSE)))","v":0},{"$f":"analyse!$B$1","v":0},0,0,0,0]
[null,null,{"$f":"IF(ISNA(VLOOKUP(A157812,analyse!D:E,2,FALSE))=TRUE,0,(VLOOKUP(A157812,analyse!D:E,2,FALSE)))","v":0},{"$f":"analyse!$B$1","v":0},0,0,0,0]
[null,null,{"$f":"IF(ISNA(VLOOKUP(A157813,analyse!D:E,2,FALSE))=TRUE,0,(VLOOKUP(A157813,analyse!D:E,2,FALSE)))","v":0},{"$f":"analyse!$B$1","v":0},0,0,0,0]
[null,null,{"$f":"IF(ISNA(VLOOKUP(A157814,analyse!D:E,2,FALSE))=TRUE,0,(VLOOKUP(A157814,analyse!D:E,2,FALSE)))","v":0},{"$f":"analyse!$B$1","v":0},0,0,0,0]
[null,null,{"$f":"IF(ISNA(VLOOKUP(A157815,analyse!D:E,2,FALSE))=TRUE,0,(VLOOKUP(A157815,analyse!D:E,2,FALSE)))","v":0},{"$f":"analyse!$B$1","v":0},0,0,0,0]
[null,null,{"$f":"IF(ISNA(VLOOKUP(A157816,analyse!D:E,2,FALSE))=TRUE,0,(VLOOKUP(A157816,analyse!D:E,2,FALSE)))","v":0},{"$f":"analyse!$B$1","v":0},0,0,0,0]
[null,null,{"$f":"IF(ISNA(VLOOKUP(A157817,analyse!D:E,2,FALSE))=TRUE,0,(VLOOKUP(A157817,analyse!D:E,2,FALSE)))","v":0},{"$f":"analyse!$B$1","v":0},0,0,0,0]
[null,null,{"$f":"IF(ISNA(VLOOKUP(A157818,analyse!D:E,2,FALSE))=TRUE,0,(VLOOKUP(A157818,analyse!D:E,2,FALSE)))","v":0},{"$f":"analyse!$B$1","v":0},0,0,0,0]
[null,null,{"$f":"IF(ISNA(VLOOKUP(A157819,analyse!D:E,2,FALSE))=TRUE,0,(VLOOKUP(A157819,analyse!D:E,2,FALSE)))","v":0},{"$f":"analyse!$B$1","v":0},0,0,0,0]
[null,null,{"$f":"IF(ISNA(VLOOKUP(A157820,analyse!D:E,2,FALSE))=TRUE,0,(VLOOKUP(A157820,analyse!D:E,2,FALSE)))","v":0},{"$f":"analyse!$B$1","v":0},0,{"$f":"D157820-C157820","v":0},0,0]
[null,null,{"$f":"IF(ISNA(VLOOKUP(A157821,analyse!D:E,2,FALSE))=TRUE,0,(VLOOKUP(A157821,analyse!D:E,2,FALSE)))","v":0},{"$f":"analyse!$B$1","v":0},0,0,0,0]
[null,null,{"$f":"IF(ISNA(VLOOKUP(A157822,analyse!D:E,2,FALSE))=TRUE,0,(VLOOKUP(A157822,analyse!D:E,2,FALSE)))","v":0},{"$f":"analyse!$B$1","v":0},0,0,0,0]
[null,null,{"$f":"IF(ISNA(VLOOKUP(A157823,analyse!D:E,2,FALSE))=TRUE,0,(VLOOKUP(A157823,analyse!D:E,2,FALSE)))","v":0},{"$f":"analyse!$B$1","v":0},0,0,0,0]
[null,null,{"$f":"IF(ISNA(VLOOKUP(A157824,analyse!D:E,2,FALSE))=TRUE,0,(VLOOKUP(A157824,analyse!D:E,2,FALSE)))","v":0},{"$f":"analyse!$B$1","v":0},0,0,0,0]
[null,null,{"$f":"IF(ISNA(VLOOKUP(A157825,analyse!D:E,2,FALSE))=TRUE,0,(VLOOKUP(A157825,analyse!D:E,2,FALSE)))","v":0},{"$f":"analyse!$B$1","v":0},0,0,0,0]
[null,null,{"$f":"IF(ISNA(VLOOKUP(A157826,analyse!D:E,2,FALSE))=TRUE,0,(VLOOKUP(A157826,analyse!D:E,2,FALSE)))","v":0},{"$f":"analyse!$B$1","v":0},0,0,0,{"$f":"IF(A157826=\"S20.G01.00.001\",H157825+1,H157825)","v":0}]
[null,null,{"$f":"IF(ISNA(VLOOKUP(A157827,analyse!D:E,2,FALSE))=TRUE,0,(VLOOKUP(A157827,analyse!D:E,2,FALSE)))","v":0},{"$f":"analyse!$B$1","v":0},0,0,0,0]
[null,null,{"$f":"IF(ISNA(VLOOKUP(A157828,analyse!D:E,2,FALSE))=TRUE,0,(VLOOKUP(A157828,analyse!D:E,2,FALSE)))","v":0},{"$f":"analyse!$B$1","v":0},0,0,0,0]
[null,null,{"$f":"IF(ISNA(VLOOKUP(A157829,analyse!D:E,2,FALSE))=TRUE,0,(VLOOKUP(A157829,analyse!D:E,2,FALSE)))","v":0},{"$f":"analyse!$B$1","v":0},0,0,0,0]
[null,null,{"$f":"IF(ISNA(VLOOKUP(A157830,analyse!D:E,2,FALSE))=TRUE,0,(VLOOKUP(A157830,analyse!D:E,2,FALSE)))","v":0},{"$f":"analyse!$B$1","v":0},0,0,0,0]
[null,null,{"$f":"IF(ISNA(VLOOKUP(A157831,analyse!D:E,2,FALSE))=TRUE,0,(VLOOKUP(A157831,analyse!D:E,2,FALSE)))","v":0},{"$f":"analyse!$B$1","v":0},0,0,0,0]
[null,null,{"$f":"IF(ISNA(VLOOKUP(A157832,analyse!D:E,2,FALSE))=TRUE,0,(VLOOKUP(A157832,analyse!D:E,2,FALSE)))","v":0},{"$f":"analyse!$B$1","v":0},0,0,0,0]
[null,null,{"$f":"IF(ISNA(VLOOKUP(A157833,analyse!D:E,2,FALSE))=TRUE,0,(VLOOKUP(A157833,analyse!D:E,2,FALSE)))","v":0},{"$f":"analyse!$B$1","v":0},0,0,0,0]
[null,null,{"$f":"IF(ISNA(VLOOKUP(A157834,analyse!D:E,2,FALSE))=TRUE,0,(VLOOKUP(A157834,analyse!D:E,2,FALSE)))","v":0},{"$f":"analyse!$B$1","v":0},0,0,0,0]
[null,null,{"$f":"IF(ISNA(VLOOKUP(A157835,analyse!D:E,2,FALSE))=TRUE,0,(VLOOKUP(A157835,analyse!D:E,2,FALSE)))","v":0},{"$f":"analyse!$B$1","v":0},0,0,{"$f":"IF(F157835<E157835,D157835-1,D157835)","v":0},0]
[null,null,{"$f":"IF(ISNA(VLOOKUP(A157836,analyse!D:E,2,FALSE))=TRUE,0,(VLOOKUP(A157836,analyse!D:E,2,FALSE)))","v":0},{"$f":"analyse!$B$1","v":0},0,0,0,0]
[null,null,{"$f":"IF(ISNA(VLOOKUP(A157837,analyse!D:E,2,FALSE))=TRUE,0,(VLOOKUP(A157837,analyse!D:E,2,FALSE)))","v":0},{"$f":"analyse!$B$1","v":0},0,0,0,0]
[null,null,{"$f":"IF(ISNA(VLOOKUP(A157838,analyse!D:E,2,FALSE))=TRUE,0,(VLOOKUP(A157838,analyse!D:E,2,FALSE)))","v":0},{"$f":"analyse!$B$1","v":0},0,0,0,0]
[null,null,{"$f":"IF(ISNA(VLOOKUP(A157839,analyse!D:E,2,FALSE))=TRUE,0,(VLOOKUP(A157839,analyse!D:E,2,FALSE)))","v":0},{"$f":"analyse!$B$1","v":0},0,0,0,0]
[null,null,{"$f":"IF(ISNA(VLOOKUP(A157840,analyse!D:E,2,FALSE))=TRUE,0,(VLOOKUP(A157840,analyse!D:E,2,FALSE)))","v":0},{"$f":"analyse!$B$1","v":0},0,0,0,0]
[null,null,{"$f":"IF(ISNA(VLOOKUP(A157841,analyse!D:E,2,FALSE))=TRUE,0,(VLOOKUP(A157841,analyse!D:E,2,FALSE)))","v":0},{"$f":"analyse!$B$1","v":0},0,0,0,0]
[null,null,{"$f":"IF(ISNA(VLOOKUP(A157842,analyse!D:E,2,FALSE))=TRUE,0,(VLOOKUP(A157842,analyse!D:E,2,FALSE)))","v":0},{"$f":"analyse!$B$1","v":0},0,0,0,0]
[null,null,{"$f":"IF(ISNA(VLOOKUP(A157843,analyse!D:E,2,FALSE))=TRUE,0,(VLOOKUP(A157843,analyse!D:E,2,FALSE)))","v":0},{"$f":"analyse!$B$1","v":0},0,0,0,0]
[null,null,{"$f":"IF(ISNA(VLOOKUP(A157844,analyse!D:E,2,FALSE))=TRUE,0,(VLOOKUP(A157844,analyse!D:E,2,FALSE)))","v":0},{"$f":"analyse!$B$1","v":0},0,0,0,0]
[null,null,{"$f":"IF(ISNA(VLOOKUP(A157845,analyse!D:E,2,FALSE))=TRUE,0,(VLOOKUP(A157845,analyse!D:E,2,FALSE)))","v":0},{"$f":"analyse!$B$1","v":0},0,0,0,0]
[null,null,{"$f":"IF(ISNA(VLOOKUP(A157846,analyse!D:E,2,FALSE))=TRUE,0,(VLOOKUP(A157846,analyse!D:E,2,FALSE)))","v":0},{"$f":"analyse!$B$1","v":0},0,0,0,0]
[null,null,{"$f":"IF(ISNA(VLOOKUP(A157847,analyse!D:E,2,FALSE))=TRUE,0,(VLOOKUP(A157847,analyse!D:E,2,FALSE)))","v":0},{"$f":"analyse!$B$1","v":0},0,0,0,0]
[null,null,{"$f":"IF(ISNA(VLOOKUP(A157848,analyse!D:E,2,FALSE))=TRUE,0,(VLOOKUP(A157848,analyse!D:E,2,FALSE)))","v":0},{"$f":"analyse!$B$1","v":0},0,0,0,0]
[null,null,{"$f":"IF(ISNA(VLOOKUP(A157849,analyse!D:E,2,FALSE))=TRUE,0,(VLOOKUP(A157849,analyse!D:E,2,FALSE)))","v":0},{"$f":"analyse!$B$1","v":0},0,0,0,0]
[null,null,{"$f":"IF(ISNA(VLOOKUP(A157850,analyse!D:E,2,FALSE))=TRUE,0,(VLOOKUP(A157850,analyse!D:E,2,FALSE)))","v":0},{"$f":"analyse!$B$1","v":0},0,0,0,0]
[null,null,{"$f":"IF(ISNA(VLOOKUP(A157851,analyse!D:E,2,FALSE))=TRUE,0,(VLOOKUP(A157851,analyse!D:E,2,FALSE)))","v":0},{"$f":"analyse!$B$1","v":0},0,0,0,0]
[null,null,{"$f":"IF(ISNA(VLOOKUP(A157852,analyse!D:E,2,FALSE))=TRUE,0,(VLOOKUP(A157852,analyse!D:E,2,FALSE)))","v":0},{"$f":"analyse!$B$1","v":0},0,0,0,0]
[null,null,{"$f":"IF(ISNA(VLOOKUP(A157853,analyse!D:E,2,FALSE))=TRUE,0,(VLOOKUP(A157853,analyse!D:E,2,FALSE)))","v":0},{"$f":"analyse!$B$1","v":0},0,0,0,0]
[null,null,{"$f":"IF(ISNA(VLOOKUP(A157854,analyse!D:E,2,FALSE))=TRUE,0,(VLOOKUP(A157854,analyse!D:E,2,FALSE)))","v":0},{"$f":"analyse!$B$1","v":0},0,0,0,0]
[null,null,{"$f":"IF(ISNA(VLOOKUP(A157855,analyse!D:E,2,FALSE))=TRUE,0,(VLOOKUP(A157855,analyse!D:E,2,FALSE)))","v":0},{"$f":"analyse!$B$1","v":0},0,0,0,0]
[null,null,{"$f":"IF(ISNA(VLOOKUP(A157856,analyse!D:E,2,FALSE))=TRUE,0,(VLOOKUP(A157856,analyse!D:E,2,FALSE)))","v":0},{"$f":"analyse!$B$1","v":0},0,0,0,0]
[null,null,{"$f":"IF(ISNA(VLOOKUP(A157857,analyse!D:E,2,FALSE))=TRUE,0,(VLOOKUP(A157857,analyse!D:E,2,FALSE)))","v":0},{"$f":"analyse!$B$1","v":0},0,0,0,0]
[null,null,{"$f":"IF(ISNA(VLOOKUP(A157858,analyse!D:E,2,FALSE))=TRUE,0,(VLOOKUP(A157858,analyse!D:E,2,FALSE)))","v":0},{"$f":"analyse!$B$1","v":0},0,0,0,0]
[null,null,{"$f":"IF(ISNA(VLOOKUP(A157859,analyse!D:E,2,FALSE))=TRUE,0,(VLOOKUP(A157859,analyse!D:E,2,FALSE)))","v":0},{"$f":"analyse!$B$1","v":0},0,0,0,0]
[null,null,{"$f":"IF(ISNA(VLOOKUP(A157860,analyse!D:E,2,FALSE))=TRUE,0,(VLOOKUP(A157860,analyse!D:E,2,FALSE)))","v":0},{"$f":"analyse!$B$1","v":0},0,0,0,0]
[null,null,{"$f":"IF(ISNA(VLOOKUP(A157861,analyse!D:E,2,FALSE))=TRUE,0,(VLOOKUP(A157861,analyse!D:E,2,FALSE)))","v":0},{"$f":"analyse!$B$1","v":0},0,0,0,0]
[null,null,{"$f":"IF(ISNA(VLOOKUP(A157862,analyse!D:E,2,FALSE))=TRUE,0,(VLOOKUP(A157862,analyse!D:E,2,FALSE)))","v":0},{"$f":"analyse!$B$1","v":0},0,0,0,0]
[null,null,{"$f":"IF(ISNA(VLOOKUP(A157863,analyse!D:E,2,FALSE))=TRUE,0,(VLOOKUP(A157863,analyse!D:E,2,FALSE)))","v":0},{"$f":"analyse!$B$1","v":0},{"$f":"D157863-C157863","v":0},0,0,0]
[null,null,{"$f":"IF(ISNA(VLOOKUP(A157864,analyse!D:E,2,FALSE))=TRUE,0,(VLOOKUP(A157864,analyse!D:E,2,FALSE)))","v":0},{"$f":"analyse!$B$1","v":0},0,0,0,0]
[null,null,{"$f":"IF(ISNA(VLOOKUP(A157865,analyse!D:E,2,FALSE))=TRUE,0,(VLOOKUP(A157865,analyse!D:E,2,FALSE)))","v":0},{"$f":"analyse!$B$1","v":0},0,0,0,0]
[null,null,{"$f":"IF(ISNA(VLOOKUP(A157866,analyse!D:E,2,FALSE))=TRUE,0,(VLOOKUP(A157866,analyse!D:E,2,FALSE)))","v":0},{"$f":"analyse!$B$1","v":0},0,0,0,0]
[null,null,{"$f":"IF(ISNA(VLOOKUP(A157867,analyse!D:E,2,FALSE))=TRUE,0,(VLOOKUP(A157867,analyse!D:E,2,FALSE)))","v":0},{"$f":"analyse!$B$1","v":0},0,0,0,0]
[null,null,{"$f":"IF(ISNA(VLOOKUP(A157868,analyse!D:E,2,FALSE))=TRUE,0,(VLOOKUP(A157868,analyse!D:E,2,FALSE)))","v":0},{"$f":"analyse!$B$1","v":0},0,0,0,0]
[null,null,{"$f":"IF(ISNA(VLOOKUP(A157869,analyse!D:E,2,FALSE))=TRUE,0,(VLOOKUP(A157869,analyse!D:E,2,FALSE)))","v":0},{"$f":"analyse!$B$1","v":0},0,0,0,0]
[null,null,{"$f":"IF(ISNA(VLOOKUP(A157870,analyse!D:E,2,FALSE))=TRUE,0,(VLOOKUP(A157870,analyse!D:E,2,FALSE)))","v":0},{"$f":"analyse!$B$1","v":0},0,0,0,0]
[null,null,{"$f":"IF(ISNA(VLOOKUP(A157871,analyse!D:E,2,FALSE))=TRUE,0,(VLOOKUP(A157871,analyse!D:E,2,FALSE)))","v":0},{"$f":"analyse!$B$1","v":0},0,0,0,0]
[null,null,{"$f":"IF(ISNA(VLOOKUP(A157872,analyse!D:E,2,FALSE))=TRUE,0,(VLOOKUP(A157872,analyse!D:E,2,FALSE)))","v":0},{"$f":"analyse!$B$1","v":0},0,0,0,0]
[null,null,{"$f":"IF(ISNA(VLOOKUP(A157873,analyse!D:E,2,FALSE))=TRUE,0,(VLOOKUP(A157873,analyse!D:E,2,FALSE)))","v":0},{"$f":"analyse!$B$1","v":0},0,0,0,0]
[null,null,{"$f":"IF(ISNA(VLOOKUP(A157874,analyse!D:E,2,FALSE))=TRUE,0,(VLOOKUP(A157874,analyse!D:E,2,FALSE)))","v":0},{"$f":"analyse!$B$1","v":0},0,0,0,0]
[null,null,{"$f":"IF(ISNA(VLOOKUP(A157875,analyse!D:E,2,FALSE))=TRUE,0,(VLOOKUP(A157875,analyse!D:E,2,FALSE)))","v":0},{"$f":"analyse!$B$1","v":0},0,0,0,0]
[null,null,{"$f":"IF(ISNA(VLOOKUP(A157876,analyse!D:E,2,FALSE))=TRUE,0,(VLOOKUP(A157876,analyse!D:E,2,FALSE)))","v":0},{"$f":"analyse!$B$1","v":0},0,0,0,0]
[null,null,{"$f":"IF(ISNA(VLOOKUP(A157877,analyse!D:E,2,FALSE))=TRUE,0,(VLOOKUP(A157877,analyse!D:E,2,FALSE)))","v":0},{"$f":"analyse!$B$1","v":0},0,0,0,0]
[null,null,{"$f":"IF(ISNA(VLOOKUP(A157878,analyse!D:E,2,FALSE))=TRUE,0,(VLOOKUP(A157878,analyse!D:E,2,FALSE)))","v":0},{"$f":"analyse!$B$1","v":0},0,0,0,0]
[null,null,{"$f":"IF(ISNA(VLOOKUP(A157879,analyse!D:E,2,FALSE))=TRUE,0,(VLOOKUP(A157879,analyse!D:E,2,FALSE)))","v":0},{"$f":"analyse!$B$1","v":0},0,0,0,0]
[null,null,{"$f":"IF(ISNA(VLOOKUP(A157880,analyse!D:E,2,FALSE))=TRUE,0,(VLOOKUP(A157880,analyse!D:E,2,FALSE)))","v":0},{"$f":"analyse!$B$1","v":0},0,0,0,0]
[null,null,{"$f":"IF(ISNA(VLOOKUP(A157881,analyse!D:E,2,FALSE))=TRUE,0,(VLOOKUP(A157881,analyse!D:E,2,FALSE)))","v":0},{"$f":"analyse!$B$1","v":0},0,0,0,0]
[null,null,{"$f":"IF(ISNA(VLOOKUP(A157882,analyse!D:E,2,FALSE))=TRUE,0,(VLOOKUP(A157882,analyse!D:E,2,FALSE)))","v":0},{"$f":"analyse!$B$1","v":0},0,0,0,0]
[null,null,{"$f":"IF(ISNA(VLOOKUP(A157883,analyse!D:E,2,FALSE))=TRUE,0,(VLOOKUP(A157883,analyse!D:E,2,FALSE)))","v":0},{"$f":"analyse!$B$1","v":0},0,0,0,0]
[null,null,{"$f":"IF(ISNA(VLOOKUP(A157884,analyse!D:E,2,FALSE))=TRUE,0,(VLOOKUP(A157884,analyse!D:E,2,FALSE)))","v":0},{"$f":"analyse!$B$1","v":0},0,{"$f":"D157884-C157884","v":0},0,0]
[null,null,{"$f":"IF(ISNA(VLOOKUP(A157885,analyse!D:E,2,FALSE))=TRUE,0,(VLOOKUP(A157885,analyse!D:E,2,FALSE)))","v":0},{"$f":"analyse!$B$1","v":0},0,0,0,0]
[null,null,{"$f":"IF(ISNA(VLOOKUP(A157886,analyse!D:E,2,FALSE))=TRUE,0,(VLOOKUP(A157886,analyse!D:E,2,FALSE)))","v":0},{"$f":"analyse!$B$1","v":0},0,0,0,0]
[null,null,{"$f":"IF(ISNA(VLOOKUP(A157887,analyse!D:E,2,FALSE))=TRUE,0,(VLOOKUP(A157887,analyse!D:E,2,FALSE)))","v":0},{"$f":"analyse!$B$1","v":0},0,0,0,0]
[null,null,{"$f":"IF(ISNA(VLOOKUP(A157888,analyse!D:E,2,FALSE))=TRUE,0,(VLOOKUP(A157888,analyse!D:E,2,FALSE)))","v":0},{"$f":"analyse!$B$1","v":0},0,0,0,0]
[null,null,{"$f":"IF(ISNA(VLOOKUP(A157889,analyse!D:E,2,FALSE))=TRUE,0,(VLOOKUP(A157889,analyse!D:E,2,FALSE)))","v":0},{"$f":"analyse!$B$1","v":0},0,0,0,0]
[null,null,{"$f":"IF(ISNA(VLOOKUP(A157890,analyse!D:E,2,FALSE))=TRUE,0,(VLOOKUP(A157890,analyse!D:E,2,FALSE)))","v":0},{"$f":"analyse!$B$1","v":0},0,0,0,{"$f":"IF(A157890=\"S20.G01.00.001\",H157889+1,H157889)","v":0}]
[null,null,{"$f":"IF(ISNA(VLOOKUP(A157891,analyse!D:E,2,FALSE))=TRUE,0,(VLOOKUP(A157891,analyse!D:E,2,FALSE)))","v":0},{"$f":"analyse!$B$1","v":0},0,0,0,0]
[null,null,{"$f":"IF(ISNA(VLOOKUP(A157892,analyse!D:E,2,FALSE))=TRUE,0,(VLOOKUP(A157892,analyse!D:E,2,FALSE)))","v":0},{"$f":"analyse!$B$1","v":0},0,0,0,0]
[null,null,{"$f":"IF(ISNA(VLOOKUP(A157893,analyse!D:E,2,FALSE))=TRUE,0,(VLOOKUP(A157893,analyse!D:E,2,FALSE)))","v":0},{"$f":"analyse!$B$1","v":0},0,0,0,0]
[null,null,{"$f":"IF(ISNA(VLOOKUP(A157894,analyse!D:E,2,FALSE))=TRUE,0,(VLOOKUP(A157894,analyse!D:E,2,FALSE)))","v":0},{"$f":"analyse!$B$1","v":0},0,0,0,0]
[null,null,{"$f":"IF(ISNA(VLOOKUP(A157895,analyse!D:E,2,FALSE))=TRUE,0,(VLOOKUP(A157895,analyse!D:E,2,FALSE)))","v":0},{"$f":"analyse!$B$1","v":0},0,0,0,0]
[null,null,{"$f":"IF(ISNA(VLOOKUP(A157896,analyse!D:E,2,FALSE))=TRUE,0,(VLOOKUP(A157896,analyse!D:E,2,FALSE)))","v":0},{"$f":"analyse!$B$1","v":0},0,0,0,0]
[null,null,{"$f":"IF(ISNA(VLOOKUP(A157897,analyse!D:E,2,FALSE))=TRUE,0,(VLOOKUP(A157897,analyse!D:E,2,FALSE)))","v":0},{"$f":"analyse!$B$1","v":0},0,0,0,0]
[null,null,{"$f":"IF(ISNA(VLOOKUP(A157898,analyse!D:E,2,FALSE))=TRUE,0,(VLOOKUP(A157898,analyse!D:E,2,FALSE)))","v":0},{"$f":"analyse!$B$1","v":0},0,0,0,0]
[null,null,{"$f":"IF(ISNA(VLOOKUP(A157899,analyse!D:E,2,FALSE))=TRUE,0,(VLOOKUP(A157899,analyse!D:E,2,FALSE)))","v":0},{"$f":"analyse!$B$1","v":0},0,0,{"$f":"IF(F157899<E157899,D157899-1,D157899)","v":0},0]
[null,null,{"$f":"IF(ISNA(VLOOKUP(A157900,analyse!D:E,2,FALSE))=TRUE,0,(VLOOKUP(A157900,analyse!D:E,2,FALSE)))","v":0},{"$f":"analyse!$B$1","v":0},0,0,0,0]
[null,null,{"$f":"IF(ISNA(VLOOKUP(A157901,analyse!D:E,2,FALSE))=TRUE,0,(VLOOKUP(A157901,analyse!D:E,2,FALSE)))","v":0},{"$f":"analyse!$B$1","v":0},0,0,0,0]
[null,null,{"$f":"IF(ISNA(VLOOKUP(A157902,analyse!D:E,2,FALSE))=TRUE,0,(VLOOKUP(A157902,analyse!D:E,2,FALSE)))","v":0},{"$f":"analyse!$B$1","v":0},0,0,0,0]
[null,null,{"$f":"IF(ISNA(VLOOKUP(A157903,analyse!D:E,2,FALSE))=TRUE,0,(VLOOKUP(A157903,analyse!D:E,2,FALSE)))","v":0},{"$f":"analyse!$B$1","v":0},0,0,0,0]
[null,null,{"$f":"IF(ISNA(VLOOKUP(A157904,analyse!D:E,2,FALSE))=TRUE,0,(VLOOKUP(A157904,analyse!D:E,2,FALSE)))","v":0},{"$f":"analyse!$B$1","v":0},0,0,0,0]
[null,null,{"$f":"IF(ISNA(VLOOKUP(A157905,analyse!D:E,2,FALSE))=TRUE,0,(VLOOKUP(A157905,analyse!D:E,2,FALSE)))","v":0},{"$f":"analyse!$B$1","v":0},0,0,0,0]
[null,null,{"$f":"IF(ISNA(VLOOKUP(A157906,analyse!D:E,2,FALSE))=TRUE,0,(VLOOKUP(A157906,analyse!D:E,2,FALSE)))","v":0},{"$f":"analyse!$B$1","v":0},0,0,0,0]
[null,null,{"$f":"IF(ISNA(VLOOKUP(A157907,analyse!D:E,2,FALSE))=TRUE,0,(VLOOKUP(A157907,analyse!D:E,2,FALSE)))","v":0},{"$f":"analyse!$B$1","v":0},0,0,0,0]
[null,null,{"$f":"IF(ISNA(VLOOKUP(A157908,analyse!D:E,2,FALSE))=TRUE,0,(VLOOKUP(A157908,analyse!D:E,2,FALSE)))","v":0},{"$f":"analyse!$B$1","v":0},0,0,0,0]
[null,null,{"$f":"IF(ISNA(VLOOKUP(A157909,analyse!D:E,2,FALSE))=TRUE,0,(VLOOKUP(A157909,analyse!D:E,2,FALSE)))","v":0},{"$f":"analyse!$B$1","v":0},0,0,0,0]
[null,null,{"$f":"IF(ISNA(VLOOKUP(A157910,analyse!D:E,2,FALSE))=TRUE,0,(VLOOKUP(A157910,analyse!D:E,2,FALSE)))","v":0},{"$f":"analyse!$B$1","v":0},0,0,0,0]
[null,null,{"$f":"IF(ISNA(VLOOKUP(A157911,analyse!D:E,2,FALSE))=TRUE,0,(VLOOKUP(A157911,analyse!D:E,2,FALSE)))","v":0},{"$f":"analyse!$B$1","v":0},0,0,0,0]
[null,null,{"$f":"IF(ISNA(VLOOKUP(A157912,analyse!D:E,2,FALSE))=TRUE,0,(VLOOKUP(A157912,analyse!D:E,2,FALSE)))","v":0},{"$f":"analyse!$B$1","v":0},0,0,0,0]
[null,null,{"$f":"IF(ISNA(VLOOKUP(A157913,analyse!D:E,2,FALSE))=TRUE,0,(VLOOKUP(A157913,analyse!D:E,2,FALSE)))","v":0},{"$f":"analyse!$B$1","v":0},0,0,0,0]
[null,null,{"$f":"IF(ISNA(VLOOKUP(A157914,analyse!D:E,2,FALSE))=TRUE,0,(VLOOKUP(A157914,analyse!D:E,2,FALSE)))","v":0},{"$f":"analyse!$B$1","v":0},0,0,0,0]
[null,null,{"$f":"IF(ISNA(VLOOKUP(A157915,analyse!D:E,2,FALSE))=TRUE,0,(VLOOKUP(A157915,analyse!D:E,2,FALSE)))","v":0},{"$f":"analyse!$B$1","v":0},0,0,0,0]
[null,null,{"$f":"IF(ISNA(VLOOKUP(A157916,analyse!D:E,2,FALSE))=TRUE,0,(VLOOKUP(A157916,analyse!D:E,2,FALSE)))","v":0},{"$f":"analyse!$B$1","v":0},0,0,0,0]
[null,null,{"$f":"IF(ISNA(VLOOKUP(A157917,analyse!D:E,2,FALSE))=TRUE,0,(VLOOKUP(A157917,analyse!D:E,2,FALSE)))","v":0},{"$f":"analyse!$B$1","v":0},0,0,0,0]
[null,null,{"$f":"IF(ISNA(VLOOKUP(A157918,analyse!D:E,2,FALSE))=TRUE,0,(VLOOKUP(A157918,analyse!D:E,2,FALSE)))","v":0},{"$f":"analyse!$B$1","v":0},0,0,0,0]
[null,null,{"$f":"IF(ISNA(VLOOKUP(A157919,analyse!D:E,2,FALSE))=TRUE,0,(VLOOKUP(A157919,analyse!D:E,2,FALSE)))","v":0},{"$f":"analyse!$B$1","v":0},0,0,0,0]
[null,null,{"$f":"IF(ISNA(VLOOKUP(A157920,analyse!D:E,2,FALSE))=TRUE,0,(VLOOKUP(A157920,analyse!D:E,2,FALSE)))","v":0},{"$f":"analyse!$B$1","v":0},0,0,0,0]
[null,null,{"$f":"IF(ISNA(VLOOKUP(A157921,analyse!D:E,2,FALSE))=TRUE,0,(VLOOKUP(A157921,analyse!D:E,2,FALSE)))","v":0},{"$f":"analyse!$B$1","v":0},0,0,0,0]
[null,null,{"$f":"IF(ISNA(VLOOKUP(A157922,analyse!D:E,2,FALSE))=TRUE,0,(VLOOKUP(A157922,analyse!D:E,2,FALSE)))","v":0},{"$f":"analyse!$B$1","v":0},0,0,0,0]
[null,null,{"$f":"IF(ISNA(VLOOKUP(A157923,analyse!D:E,2,FALSE))=TRUE,0,(VLOOKUP(A157923,analyse!D:E,2,FALSE)))","v":0},{"$f":"analyse!$B$1","v":0},0,0,0,0]
[null,null,{"$f":"IF(ISNA(VLOOKUP(A157924,analyse!D:E,2,FALSE))=TRUE,0,(VLOOKUP(A157924,analyse!D:E,2,FALSE)))","v":0},{"$f":"analyse!$B$1","v":0},0,0,0,0]
[null,null,{"$f":"IF(ISNA(VLOOKUP(A157925,analyse!D:E,2,FALSE))=TRUE,0,(VLOOKUP(A157925,analyse!D:E,2,FALSE)))","v":0},{"$f":"analyse!$B$1","v":0},0,0,0,0]
[null,null,{"$f":"IF(ISNA(VLOOKUP(A157926,analyse!D:E,2,FALSE))=TRUE,0,(VLOOKUP(A157926,analyse!D:E,2,FALSE)))","v":0},{"$f":"analyse!$B$1","v":0},0,0,0,0]
[null,null,{"$f":"IF(ISNA(VLOOKUP(A157927,analyse!D:E,2,FALSE))=TRUE,0,(VLOOKUP(A157927,analyse!D:E,2,FALSE)))","v":0},{"$f":"analyse!$B$1","v":0},{"$f":"D157927-C157927","v":0},0,0,0]
[null,null,{"$f":"IF(ISNA(VLOOKUP(A157928,analyse!D:E,2,FALSE))=TRUE,0,(VLOOKUP(A157928,analyse!D:E,2,FALSE)))","v":0},{"$f":"analyse!$B$1","v":0},0,0,0,0]
[null,null,{"$f":"IF(ISNA(VLOOKUP(A157929,analyse!D:E,2,FALSE))=TRUE,0,(VLOOKUP(A157929,analyse!D:E,2,FALSE)))","v":0},{"$f":"analyse!$B$1","v":0},0,0,0,0]
[null,null,{"$f":"IF(ISNA(VLOOKUP(A157930,analyse!D:E,2,FALSE))=TRUE,0,(VLOOKUP(A157930,analyse!D:E,2,FALSE)))","v":0},{"$f":"analyse!$B$1","v":0},0,0,0,0]
[null,null,{"$f":"IF(ISNA(VLOOKUP(A157931,analyse!D:E,2,FALSE))=TRUE,0,(VLOOKUP(A157931,analyse!D:E,2,FALSE)))","v":0},{"$f":"analyse!$B$1","v":0},0,0,0,0]
[null,null,{"$f":"IF(ISNA(VLOOKUP(A157932,analyse!D:E,2,FALSE))=TRUE,0,(VLOOKUP(A157932,analyse!D:E,2,FALSE)))","v":0},{"$f":"analyse!$B$1","v":0},0,0,0,0]
[null,null,{"$f":"IF(ISNA(VLOOKUP(A157933,analyse!D:E,2,FALSE))=TRUE,0,(VLOOKUP(A157933,analyse!D:E,2,FALSE)))","v":0},{"$f":"analyse!$B$1","v":0},0,0,0,0]
[null,null,{"$f":"IF(ISNA(VLOOKUP(A157934,analyse!D:E,2,FALSE))=TRUE,0,(VLOOKUP(A157934,analyse!D:E,2,FALSE)))","v":0},{"$f":"analyse!$B$1","v":0},0,0,0,0]
[null,null,{"$f":"IF(ISNA(VLOOKUP(A157935,analyse!D:E,2,FALSE))=TRUE,0,(VLOOKUP(A157935,analyse!D:E,2,FALSE)))","v":0},{"$f":"analyse!$B$1","v":0},0,0,0,0]
[null,null,{"$f":"IF(ISNA(VLOOKUP(A157936,analyse!D:E,2,FALSE))=TRUE,0,(VLOOKUP(A157936,analyse!D:E,2,FALSE)))","v":0},{"$f":"analyse!$B$1","v":0},0,0,0,0]
[null,null,{"$f":"IF(ISNA(VLOOKUP(A157937,analyse!D:E,2,FALSE))=TRUE,0,(VLOOKUP(A157937,analyse!D:E,2,FALSE)))","v":0},{"$f":"analyse!$B$1","v":0},0,0,0,0]
[null,null,{"$f":"IF(ISNA(VLOOKUP(A157938,analyse!D:E,2,FALSE))=TRUE,0,(VLOOKUP(A157938,analyse!D:E,2,FALSE)))","v":0},{"$f":"analyse!$B$1","v":0},0,0,0,0]
[null,null,{"$f":"IF(ISNA(VLOOKUP(A157939,analyse!D:E,2,FALSE))=TRUE,0,(VLOOKUP(A157939,analyse!D:E,2,FALSE)))","v":0},{"$f":"analyse!$B$1","v":0},0,0,0,0]
[null,null,{"$f":"IF(ISNA(VLOOKUP(A157940,analyse!D:E,2,FALSE))=TRUE,0,(VLOOKUP(A157940,analyse!D:E,2,FALSE)))","v":0},{"$f":"analyse!$B$1","v":0},0,0,0,0]
[null,null,{"$f":"IF(ISNA(VLOOKUP(A157941,analyse!D:E,2,FALSE))=TRUE,0,(VLOOKUP(A157941,analyse!D:E,2,FALSE)))","v":0},{"$f":"analyse!$B$1","v":0},0,0,0,0]
[null,null,{"$f":"IF(ISNA(VLOOKUP(A157942,analyse!D:E,2,FALSE))=TRUE,0,(VLOOKUP(A157942,analyse!D:E,2,FALSE)))","v":0},{"$f":"analyse!$B$1","v":0},0,0,0,0]
[null,null,{"$f":"IF(ISNA(VLOOKUP(A157943,analyse!D:E,2,FALSE))=TRUE,0,(VLOOKUP(A157943,analyse!D:E,2,FALSE)))","v":0},{"$f":"analyse!$B$1","v":0},0,0,0,0]
[null,null,{"$f":"IF(ISNA(VLOOKUP(A157944,analyse!D:E,2,FALSE))=TRUE,0,(VLOOKUP(A157944,analyse!D:E,2,FALSE)))","v":0},{"$f":"analyse!$B$1","v":0},0,0,0,0]
[null,null,{"$f":"IF(ISNA(VLOOKUP(A157945,analyse!D:E,2,FALSE))=TRUE,0,(VLOOKUP(A157945,analyse!D:E,2,FALSE)))","v":0},{"$f":"analyse!$B$1","v":0},0,0,0,0]
[null,null,{"$f":"IF(ISNA(VLOOKUP(A157946,analyse!D:E,2,FALSE))=TRUE,0,(VLOOKUP(A157946,analyse!D:E,2,FALSE)))","v":0},{"$f":"analyse!$B$1","v":0},0,0,0,0]
[null,null,{"$f":"IF(ISNA(VLOOKUP(A157947,analyse!D:E,2,FALSE))=TRUE,0,(VLOOKUP(A157947,analyse!D:E,2,FALSE)))","v":0},{"$f":"analyse!$B$1","v":0},0,0,0,0]
[null,null,{"$f":"IF(ISNA(VLOOKUP(A157948,analyse!D:E,2,FALSE))=TRUE,0,(VLOOKUP(A157948,analyse!D:E,2,FALSE)))","v":0},{"$f":"analyse!$B$1","v":0},0,{"$f":"D157948-C157948","v":0},0,0]
[null,null,{"$f":"IF(ISNA(VLOOKUP(A157949,analyse!D:E,2,FALSE))=TRUE,0,(VLOOKUP(A157949,analyse!D:E,2,FALSE)))","v":0},{"$f":"analyse!$B$1","v":0},0,0,0,0]
[null,null,{"$f":"IF(ISNA(VLOOKUP(A157950,analyse!D:E,2,FALSE))=TRUE,0,(VLOOKUP(A157950,analyse!D:E,2,FALSE)))","v":0},{"$f":"analyse!$B$1","v":0},0,0,0,0]
[null,null,{"$f":"IF(ISNA(VLOOKUP(A157951,analyse!D:E,2,FALSE))=TRUE,0,(VLOOKUP(A157951,analyse!D:E,2,FALSE)))","v":0},{"$f":"analyse!$B$1","v":0},0,0,0,0]
[null,null,{"$f":"IF(ISNA(VLOOKUP(A157952,analyse!D:E,2,FALSE))=TRUE,0,(VLOOKUP(A157952,analyse!D:E,2,FALSE)))","v":0},{"$f":"analyse!$B$1","v":0},0,0,0,0]
[null,null,{"$f":"IF(ISNA(VLOOKUP(A157953,analyse!D:E,2,FALSE))=TRUE,0,(VLOOKUP(A157953,analyse!D:E,2,FALSE)))","v":0},{"$f":"analyse!$B$1","v":0},0,0,0,0]
[null,null,{"$f":"IF(ISNA(VLOOKUP(A157954,analyse!D:E,2,FALSE))=TRUE,0,(VLOOKUP(A157954,analyse!D:E,2,FALSE)))","v":0},{"$f":"analyse!$B$1","v":0},0,0,0,{"$f":"IF(A157954=\"S20.G01.00.001\",H157953+1,H157953)","v":0}]
[null,null,{"$f":"IF(ISNA(VLOOKUP(A157955,analyse!D:E,2,FALSE))=TRUE,0,(VLOOKUP(A157955,analyse!D:E,2,FALSE)))","v":0},{"$f":"analyse!$B$1","v":0},0,0,0,0]
[null,null,{"$f":"IF(ISNA(VLOOKUP(A157956,analyse!D:E,2,FALSE))=TRUE,0,(VLOOKUP(A157956,analyse!D:E,2,FALSE)))","v":0},{"$f":"analyse!$B$1","v":0},0,0,0,0]
[null,null,{"$f":"IF(ISNA(VLOOKUP(A157957,analyse!D:E,2,FALSE))=TRUE,0,(VLOOKUP(A157957,analyse!D:E,2,FALSE)))","v":0},{"$f":"analyse!$B$1","v":0},0,0,0,0]
[null,null,{"$f":"IF(ISNA(VLOOKUP(A157958,analyse!D:E,2,FALSE))=TRUE,0,(VLOOKUP(A157958,analyse!D:E,2,FALSE)))","v":0},{"$f":"analyse!$B$1","v":0},0,0,0,0]
[null,null,{"$f":"IF(ISNA(VLOOKUP(A157959,analyse!D:E,2,FALSE))=TRUE,0,(VLOOKUP(A157959,analyse!D:E,2,FALSE)))","v":0},{"$f":"analyse!$B$1","v":0},0,0,0,0]
[null,null,{"$f":"IF(ISNA(VLOOKUP(A157960,analyse!D:E,2,FALSE))=TRUE,0,(VLOOKUP(A157960,analyse!D:E,2,FALSE)))","v":0},{"$f":"analyse!$B$1","v":0},0,0,0,0]
[null,null,{"$f":"IF(ISNA(VLOOKUP(A157961,analyse!D:E,2,FALSE))=TRUE,0,(VLOOKUP(A157961,analyse!D:E,2,FALSE)))","v":0},{"$f":"analyse!$B$1","v":0},0,0,0,0]
[null,null,{"$f":"IF(ISNA(VLOOKUP(A157962,analyse!D:E,2,FALSE))=TRUE,0,(VLOOKUP(A157962,analyse!D:E,2,FALSE)))","v":0},{"$f":"analyse!$B$1","v":0},0,0,0,0]
[null,null,{"$f":"IF(ISNA(VLOOKUP(A157963,analyse!D:E,2,FALSE))=TRUE,0,(VLOOKUP(A157963,analyse!D:E,2,FALSE)))","v":0},{"$f":"analyse!$B$1","v":0},0,0,{"$f":"IF(F157963<E157963,D157963-1,D157963)","v":0},0]
[null,null,{"$f":"IF(ISNA(VLOOKUP(A157964,analyse!D:E,2,FALSE))=TRUE,0,(VLOOKUP(A157964,analyse!D:E,2,FALSE)))","v":0},{"$f":"analyse!$B$1","v":0},0,0,0,0]
[null,null,{"$f":"IF(ISNA(VLOOKUP(A157965,analyse!D:E,2,FALSE))=TRUE,0,(VLOOKUP(A157965,analyse!D:E,2,FALSE)))","v":0},{"$f":"analyse!$B$1","v":0},0,0,0,0]
[null,null,{"$f":"IF(ISNA(VLOOKUP(A157966,analyse!D:E,2,FALSE))=TRUE,0,(VLOOKUP(A157966,analyse!D:E,2,FALSE)))","v":0},{"$f":"analyse!$B$1","v":0},0,0,0,0]
[null,null,{"$f":"IF(ISNA(VLOOKUP(A157967,analyse!D:E,2,FALSE))=TRUE,0,(VLOOKUP(A157967,analyse!D:E,2,FALSE)))","v":0},{"$f":"analyse!$B$1","v":0},0,0,0,0]
[null,null,{"$f":"IF(ISNA(VLOOKUP(A157968,analyse!D:E,2,FALSE))=TRUE,0,(VLOOKUP(A157968,analyse!D:E,2,FALSE)))","v":0},{"$f":"analyse!$B$1","v":0},0,0,0,0]
[null,null,{"$f":"IF(ISNA(VLOOKUP(A157969,analyse!D:E,2,FALSE))=TRUE,0,(VLOOKUP(A157969,analyse!D:E,2,FALSE)))","v":0},{"$f":"analyse!$B$1","v":0},0,0,0,0]
[null,null,{"$f":"IF(ISNA(VLOOKUP(A157970,analyse!D:E,2,FALSE))=TRUE,0,(VLOOKUP(A157970,analyse!D:E,2,FALSE)))","v":0},{"$f":"analyse!$B$1","v":0},0,0,0,0]
[null,null,{"$f":"IF(ISNA(VLOOKUP(A157971,analyse!D:E,2,FALSE))=TRUE,0,(VLOOKUP(A157971,analyse!D:E,2,FALSE)))","v":0},{"$f":"analyse!$B$1","v":0},0,0,0,0]
[null,null,{"$f":"IF(ISNA(VLOOKUP(A157972,analyse!D:E,2,FALSE))=TRUE,0,(VLOOKUP(A157972,analyse!D:E,2,FALSE)))","v":0},{"$f":"analyse!$B$1","v":0},0,0,0,0]
[null,null,{"$f":"IF(ISNA(VLOOKUP(A157973,analyse!D:E,2,FALSE))=TRUE,0,(VLOOKUP(A157973,analyse!D:E,2,FALSE)))","v":0},{"$f":"analyse!$B$1","v":0},0,0,0,0]
[null,null,{"$f":"IF(ISNA(VLOOKUP(A157974,analyse!D:E,2,FALSE))=TRUE,0,(VLOOKUP(A157974,analyse!D:E,2,FALSE)))","v":0},{"$f":"analyse!$B$1","v":0},0,0,0,0]
[null,null,{"$f":"IF(ISNA(VLOOKUP(A157975,analyse!D:E,2,FALSE))=TRUE,0,(VLOOKUP(A157975,analyse!D:E,2,FALSE)))","v":0},{"$f":"analyse!$B$1","v":0},0,0,0,0]
[null,null,{"$f":"IF(ISNA(VLOOKUP(A157976,analyse!D:E,2,FALSE))=TRUE,0,(VLOOKUP(A157976,analyse!D:E,2,FALSE)))","v":0},{"$f":"analyse!$B$1","v":0},0,0,0,0]
[null,null,{"$f":"IF(ISNA(VLOOKUP(A157977,analyse!D:E,2,FALSE))=TRUE,0,(VLOOKUP(A157977,analyse!D:E,2,FALSE)))","v":0},{"$f":"analyse!$B$1","v":0},0,0,0,0]
[null,null,{"$f":"IF(ISNA(VLOOKUP(A157978,analyse!D:E,2,FALSE))=TRUE,0,(VLOOKUP(A157978,analyse!D:E,2,FALSE)))","v":0},{"$f":"analyse!$B$1","v":0},0,0,0,0]
[null,null,{"$f":"IF(ISNA(VLOOKUP(A157979,analyse!D:E,2,FALSE))=TRUE,0,(VLOOKUP(A157979,analyse!D:E,2,FALSE)))","v":0},{"$f":"analyse!$B$1","v":0},0,0,0,0]
[null,null,{"$f":"IF(ISNA(VLOOKUP(A157980,analyse!D:E,2,FALSE))=TRUE,0,(VLOOKUP(A157980,analyse!D:E,2,FALSE)))","v":0},{"$f":"analyse!$B$1","v":0},0,0,0,0]
[null,null,{"$f":"IF(ISNA(VLOOKUP(A157981,analyse!D:E,2,FALSE))=TRUE,0,(VLOOKUP(A157981,analyse!D:E,2,FALSE)))","v":0},{"$f":"analyse!$B$1","v":0},0,0,0,0]
[null,null,{"$f":"IF(ISNA(VLOOKUP(A157982,analyse!D:E,2,FALSE))=TRUE,0,(VLOOKUP(A157982,analyse!D:E,2,FALSE)))","v":0},{"$f":"analyse!$B$1","v":0},0,0,0,0]
[null,null,{"$f":"IF(ISNA(VLOOKUP(A157983,analyse!D:E,2,FALSE))=TRUE,0,(VLOOKUP(A157983,analyse!D:E,2,FALSE)))","v":0},{"$f":"analyse!$B$1","v":0},0,0,0,0]
[null,null,{"$f":"IF(ISNA(VLOOKUP(A157984,analyse!D:E,2,FALSE))=TRUE,0,(VLOOKUP(A157984,analyse!D:E,2,FALSE)))","v":0},{"$f":"analyse!$B$1","v":0},0,0,0,0]
[null,null,{"$f":"IF(ISNA(VLOOKUP(A157985,analyse!D:E,2,FALSE))=TRUE,0,(VLOOKUP(A157985,analyse!D:E,2,FALSE)))","v":0},{"$f":"analyse!$B$1","v":0},0,0,0,0]
[null,null,{"$f":"IF(ISNA(VLOOKUP(A157986,analyse!D:E,2,FALSE))=TRUE,0,(VLOOKUP(A157986,analyse!D:E,2,FALSE)))","v":0},{"$f":"analyse!$B$1","v":0},0,0,0,0]
[null,null,{"$f":"IF(ISNA(VLOOKUP(A157987,analyse!D:E,2,FALSE))=TRUE,0,(VLOOKUP(A157987,analyse!D:E,2,FALSE)))","v":0},{"$f":"analyse!$B$1","v":0},0,0,0,0]
[null,null,{"$f":"IF(ISNA(VLOOKUP(A157988,analyse!D:E,2,FALSE))=TRUE,0,(VLOOKUP(A157988,analyse!D:E,2,FALSE)))","v":0},{"$f":"analyse!$B$1","v":0},0,0,0,0]
[null,null,{"$f":"IF(ISNA(VLOOKUP(A157989,analyse!D:E,2,FALSE))=TRUE,0,(VLOOKUP(A157989,analyse!D:E,2,FALSE)))","v":0},{"$f":"analyse!$B$1","v":0},0,0,0,0]
[null,null,{"$f":"IF(ISNA(VLOOKUP(A157990,analyse!D:E,2,FALSE))=TRUE,0,(VLOOKUP(A157990,analyse!D:E,2,FALSE)))","v":0},{"$f":"analyse!$B$1","v":0},0,0,0,0]
[null,null,{"$f":"IF(ISNA(VLOOKUP(A157991,analyse!D:E,2,FALSE))=TRUE,0,(VLOOKUP(A157991,analyse!D:E,2,FALSE)))","v":0},{"$f":"analyse!$B$1","v":0},{"$f":"D157991-C157991","v":0},0,0,0]
[null,null,{"$f":"IF(ISNA(VLOOKUP(A157992,analyse!D:E,2,FALSE))=TRUE,0,(VLOOKUP(A157992,analyse!D:E,2,FALSE)))","v":0},{"$f":"analyse!$B$1","v":0},0,0,0,0]
[null,null,{"$f":"IF(ISNA(VLOOKUP(A157993,analyse!D:E,2,FALSE))=TRUE,0,(VLOOKUP(A157993,analyse!D:E,2,FALSE)))","v":0},{"$f":"analyse!$B$1","v":0},0,0,0,0]
[null,null,{"$f":"IF(ISNA(VLOOKUP(A157994,analyse!D:E,2,FALSE))=TRUE,0,(VLOOKUP(A157994,analyse!D:E,2,FALSE)))","v":0},{"$f":"analyse!$B$1","v":0},0,0,0,0]
[null,null,{"$f":"IF(ISNA(VLOOKUP(A157995,analyse!D:E,2,FALSE))=TRUE,0,(VLOOKUP(A157995,analyse!D:E,2,FALSE)))","v":0},{"$f":"analyse!$B$1","v":0},0,0,0,0]
[null,null,{"$f":"IF(ISNA(VLOOKUP(A157996,analyse!D:E,2,FALSE))=TRUE,0,(VLOOKUP(A157996,analyse!D:E,2,FALSE)))","v":0},{"$f":"analyse!$B$1","v":0},0,0,0,0]
[null,null,{"$f":"IF(ISNA(VLOOKUP(A157997,analyse!D:E,2,FALSE))=TRUE,0,(VLOOKUP(A157997,analyse!D:E,2,FALSE)))","v":0},{"$f":"analyse!$B$1","v":0},0,0,0,0]
[null,null,{"$f":"IF(ISNA(VLOOKUP(A157998,analyse!D:E,2,FALSE))=TRUE,0,(VLOOKUP(A157998,analyse!D:E,2,FALSE)))","v":0},{"$f":"analyse!$B$1","v":0},0,0,0,0]
[null,null,{"$f":"IF(ISNA(VLOOKUP(A157999,analyse!D:E,2,FALSE))=TRUE,0,(VLOOKUP(A157999,analyse!D:E,2,FALSE)))","v":0},{"$f":"analyse!$B$1","v":0},0,0,0,0]
[null,null,{"$f":"IF(ISNA(VLOOKUP(A158000,analyse!D:E,2,FALSE))=TRUE,0,(VLOOKUP(A158000,analyse!D:E,2,FALSE)))","v":0},{"$f":"analyse!$B$1","v":0},0,0,0,0]
[null,null,{"$f":"IF(ISNA(VLOOKUP(A158001,analyse!D:E,2,FALSE))=TRUE,0,(VLOOKUP(A158001,analyse!D:E,2,FALSE)))","v":0},{"$f":"analyse!$B$1","v":0},0,0,0,0]
[null,null,{"$f":"IF(ISNA(VLOOKUP(A158002,analyse!D:E,2,FALSE))=TRUE,0,(VLOOKUP(A158002,analyse!D:E,2,FALSE)))","v":0},{"$f":"analyse!$B$1","v":0},0,0,0,0]
[null,null,{"$f":"IF(ISNA(VLOOKUP(A158003,analyse!D:E,2,FALSE))=TRUE,0,(VLOOKUP(A158003,analyse!D:E,2,FALSE)))","v":0},{"$f":"analyse!$B$1","v":0},0,0,0,0]
[null,null,{"$f":"IF(ISNA(VLOOKUP(A158004,analyse!D:E,2,FALSE))=TRUE,0,(VLOOKUP(A158004,analyse!D:E,2,FALSE)))","v":0},{"$f":"analyse!$B$1","v":0},0,0,0,0]
[null,null,{"$f":"IF(ISNA(VLOOKUP(A158005,analyse!D:E,2,FALSE))=TRUE,0,(VLOOKUP(A158005,analyse!D:E,2,FALSE)))","v":0},{"$f":"analyse!$B$1","v":0},0,0,0,0]
[null,null,{"$f":"IF(ISNA(VLOOKUP(A158006,analyse!D:E,2,FALSE))=TRUE,0,(VLOOKUP(A158006,analyse!D:E,2,FALSE)))","v":0},{"$f":"analyse!$B$1","v":0},0,0,0,0]
[null,null,{"$f":"IF(ISNA(VLOOKUP(A158007,analyse!D:E,2,FALSE))=TRUE,0,(VLOOKUP(A158007,analyse!D:E,2,FALSE)))","v":0},{"$f":"analyse!$B$1","v":0},0,0,0,0]
[null,null,{"$f":"IF(ISNA(VLOOKUP(A158008,analyse!D:E,2,FALSE))=TRUE,0,(VLOOKUP(A158008,analyse!D:E,2,FALSE)))","v":0},{"$f":"analyse!$B$1","v":0},0,0,0,0]
[null,null,{"$f":"IF(ISNA(VLOOKUP(A158009,analyse!D:E,2,FALSE))=TRUE,0,(VLOOKUP(A158009,analyse!D:E,2,FALSE)))","v":0},{"$f":"analyse!$B$1","v":0},0,0,0,0]
[null,null,{"$f":"IF(ISNA(VLOOKUP(A158010,analyse!D:E,2,FALSE))=TRUE,0,(VLOOKUP(A158010,analyse!D:E,2,FALSE)))","v":0},{"$f":"analyse!$B$1","v":0},0,0,0,0]
[null,null,{"$f":"IF(ISNA(VLOOKUP(A158011,analyse!D:E,2,FALSE))=TRUE,0,(VLOOKUP(A158011,analyse!D:E,2,FALSE)))","v":0},{"$f":"analyse!$B$1","v":0},0,0,0,0]
[null,null,{"$f":"IF(ISNA(VLOOKUP(A158012,analyse!D:E,2,FALSE))=TRUE,0,(VLOOKUP(A158012,analyse!D:E,2,FALSE)))","v":0},{"$f":"analyse!$B$1","v":0},0,{"$f":"D158012-C158012","v":0},0,0]
[null,null,{"$f":"IF(ISNA(VLOOKUP(A158013,analyse!D:E,2,FALSE))=TRUE,0,(VLOOKUP(A158013,analyse!D:E,2,FALSE)))","v":0},{"$f":"analyse!$B$1","v":0},0,0,0,0]
[null,null,{"$f":"IF(ISNA(VLOOKUP(A158014,analyse!D:E,2,FALSE))=TRUE,0,(VLOOKUP(A158014,analyse!D:E,2,FALSE)))","v":0},{"$f":"analyse!$B$1","v":0},0,0,0,0]
[null,null,{"$f":"IF(ISNA(VLOOKUP(A158015,analyse!D:E,2,FALSE))=TRUE,0,(VLOOKUP(A158015,analyse!D:E,2,FALSE)))","v":0},{"$f":"analyse!$B$1","v":0},0,0,0,0]
[null,null,{"$f":"IF(ISNA(VLOOKUP(A158016,analyse!D:E,2,FALSE))=TRUE,0,(VLOOKUP(A158016,analyse!D:E,2,FALSE)))","v":0},{"$f":"analyse!$B$1","v":0},0,0,0,0]
[null,null,{"$f":"IF(ISNA(VLOOKUP(A158017,analyse!D:E,2,FALSE))=TRUE,0,(VLOOKUP(A158017,analyse!D:E,2,FALSE)))","v":0},{"$f":"analyse!$B$1","v":0},0,0,0,0]
[null,null,{"$f":"IF(ISNA(VLOOKUP(A158018,analyse!D:E,2,FALSE))=TRUE,0,(VLOOKUP(A158018,analyse!D:E,2,FALSE)))","v":0},{"$f":"analyse!$B$1","v":0},0,0,0,{"$f":"IF(A158018=\"S20.G01.00.001\",H158017+1,H158017)","v":0}]
[null,null,{"$f":"IF(ISNA(VLOOKUP(A158019,analyse!D:E,2,FALSE))=TRUE,0,(VLOOKUP(A158019,analyse!D:E,2,FALSE)))","v":0},{"$f":"analyse!$B$1","v":0},0,0,0,0]
[null,null,{"$f":"IF(ISNA(VLOOKUP(A158020,analyse!D:E,2,FALSE))=TRUE,0,(VLOOKUP(A158020,analyse!D:E,2,FALSE)))","v":0},{"$f":"analyse!$B$1","v":0},0,0,0,0]
[null,null,{"$f":"IF(ISNA(VLOOKUP(A158021,analyse!D:E,2,FALSE))=TRUE,0,(VLOOKUP(A158021,analyse!D:E,2,FALSE)))","v":0},{"$f":"analyse!$B$1","v":0},0,0,0,0]
[null,null,{"$f":"IF(ISNA(VLOOKUP(A158022,analyse!D:E,2,FALSE))=TRUE,0,(VLOOKUP(A158022,analyse!D:E,2,FALSE)))","v":0},{"$f":"analyse!$B$1","v":0},0,0,0,0]
[null,null,{"$f":"IF(ISNA(VLOOKUP(A158023,analyse!D:E,2,FALSE))=TRUE,0,(VLOOKUP(A158023,analyse!D:E,2,FALSE)))","v":0},{"$f":"analyse!$B$1","v":0},0,0,0,0]
[null,null,{"$f":"IF(ISNA(VLOOKUP(A158024,analyse!D:E,2,FALSE))=TRUE,0,(VLOOKUP(A158024,analyse!D:E,2,FALSE)))","v":0},{"$f":"analyse!$B$1","v":0},0,0,0,0]
[null,null,{"$f":"IF(ISNA(VLOOKUP(A158025,analyse!D:E,2,FALSE))=TRUE,0,(VLOOKUP(A158025,analyse!D:E,2,FALSE)))","v":0},{"$f":"analyse!$B$1","v":0},0,0,0,0]
[null,null,{"$f":"IF(ISNA(VLOOKUP(A158026,analyse!D:E,2,FALSE))=TRUE,0,(VLOOKUP(A158026,analyse!D:E,2,FALSE)))","v":0},{"$f":"analyse!$B$1","v":0},0,0,0,0]
[null,null,{"$f":"IF(ISNA(VLOOKUP(A158027,analyse!D:E,2,FALSE))=TRUE,0,(VLOOKUP(A158027,analyse!D:E,2,FALSE)))","v":0},{"$f":"analyse!$B$1","v":0},0,0,{"$f":"IF(F158027<E158027,D158027-1,D158027)","v":0},0]
[null,null,{"$f":"IF(ISNA(VLOOKUP(A158028,analyse!D:E,2,FALSE))=TRUE,0,(VLOOKUP(A158028,analyse!D:E,2,FALSE)))","v":0},{"$f":"analyse!$B$1","v":0},0,0,0,0]
[null,null,{"$f":"IF(ISNA(VLOOKUP(A158029,analyse!D:E,2,FALSE))=TRUE,0,(VLOOKUP(A158029,analyse!D:E,2,FALSE)))","v":0},{"$f":"analyse!$B$1","v":0},0,0,0,0]
[null,null,{"$f":"IF(ISNA(VLOOKUP(A158030,analyse!D:E,2,FALSE))=TRUE,0,(VLOOKUP(A158030,analyse!D:E,2,FALSE)))","v":0},{"$f":"analyse!$B$1","v":0},0,0,0,0]
[null,null,{"$f":"IF(ISNA(VLOOKUP(A158031,analyse!D:E,2,FALSE))=TRUE,0,(VLOOKUP(A158031,analyse!D:E,2,FALSE)))","v":0},{"$f":"analyse!$B$1","v":0},0,0,0,0]
[null,null,{"$f":"IF(ISNA(VLOOKUP(A158032,analyse!D:E,2,FALSE))=TRUE,0,(VLOOKUP(A158032,analyse!D:E,2,FALSE)))","v":0},{"$f":"analyse!$B$1","v":0},0,0,0,0]
[null,null,{"$f":"IF(ISNA(VLOOKUP(A158033,analyse!D:E,2,FALSE))=TRUE,0,(VLOOKUP(A158033,analyse!D:E,2,FALSE)))","v":0},{"$f":"analyse!$B$1","v":0},0,0,0,0]
[null,null,{"$f":"IF(ISNA(VLOOKUP(A158034,analyse!D:E,2,FALSE))=TRUE,0,(VLOOKUP(A158034,analyse!D:E,2,FALSE)))","v":0},{"$f":"analyse!$B$1","v":0},0,0,0,0]
[null,null,{"$f":"IF(ISNA(VLOOKUP(A158035,analyse!D:E,2,FALSE))=TRUE,0,(VLOOKUP(A158035,analyse!D:E,2,FALSE)))","v":0},{"$f":"analyse!$B$1","v":0},0,0,0,0]
[null,null,{"$f":"IF(ISNA(VLOOKUP(A158036,analyse!D:E,2,FALSE))=TRUE,0,(VLOOKUP(A158036,analyse!D:E,2,FALSE)))","v":0},{"$f":"analyse!$B$1","v":0},0,0,0,0]
[null,null,{"$f":"IF(ISNA(VLOOKUP(A158037,analyse!D:E,2,FALSE))=TRUE,0,(VLOOKUP(A158037,analyse!D:E,2,FALSE)))","v":0},{"$f":"analyse!$B$1","v":0},0,0,0,0]
[null,null,{"$f":"IF(ISNA(VLOOKUP(A158038,analyse!D:E,2,FALSE))=TRUE,0,(VLOOKUP(A158038,analyse!D:E,2,FALSE)))","v":0},{"$f":"analyse!$B$1","v":0},0,0,0,0]
[null,null,{"$f":"IF(ISNA(VLOOKUP(A158039,analyse!D:E,2,FALSE))=TRUE,0,(VLOOKUP(A158039,analyse!D:E,2,FALSE)))","v":0},{"$f":"analyse!$B$1","v":0},0,0,0,0]
[null,null,{"$f":"IF(ISNA(VLOOKUP(A158040,analyse!D:E,2,FALSE))=TRUE,0,(VLOOKUP(A158040,analyse!D:E,2,FALSE)))","v":0},{"$f":"analyse!$B$1","v":0},0,0,0,0]
[null,null,{"$f":"IF(ISNA(VLOOKUP(A158041,analyse!D:E,2,FALSE))=TRUE,0,(VLOOKUP(A158041,analyse!D:E,2,FALSE)))","v":0},{"$f":"analyse!$B$1","v":0},0,0,0,0]
[null,null,{"$f":"IF(ISNA(VLOOKUP(A158042,analyse!D:E,2,FALSE))=TRUE,0,(VLOOKUP(A158042,analyse!D:E,2,FALSE)))","v":0},{"$f":"analyse!$B$1","v":0},0,0,0,0]
[null,null,{"$f":"IF(ISNA(VLOOKUP(A158043,analyse!D:E,2,FALSE))=TRUE,0,(VLOOKUP(A158043,analyse!D:E,2,FALSE)))","v":0},{"$f":"analyse!$B$1","v":0},0,0,0,0]
[null,null,{"$f":"IF(ISNA(VLOOKUP(A158044,analyse!D:E,2,FALSE))=TRUE,0,(VLOOKUP(A158044,analyse!D:E,2,FALSE)))","v":0},{"$f":"analyse!$B$1","v":0},0,0,0,0]
[null,null,{"$f":"IF(ISNA(VLOOKUP(A158045,analyse!D:E,2,FALSE))=TRUE,0,(VLOOKUP(A158045,analyse!D:E,2,FALSE)))","v":0},{"$f":"analyse!$B$1","v":0},0,0,0,0]
[null,null,{"$f":"IF(ISNA(VLOOKUP(A158046,analyse!D:E,2,FALSE))=TRUE,0,(VLOOKUP(A158046,analyse!D:E,2,FALSE)))","v":0},{"$f":"analyse!$B$1","v":0},0,0,0,0]
[null,null,{"$f":"IF(ISNA(VLOOKUP(A158047,analyse!D:E,2,FALSE))=TRUE,0,(VLOOKUP(A158047,analyse!D:E,2,FALSE)))","v":0},{"$f":"analyse!$B$1","v":0},0,0,0,0]
[null,null,{"$f":"IF(ISNA(VLOOKUP(A158048,analyse!D:E,2,FALSE))=TRUE,0,(VLOOKUP(A158048,analyse!D:E,2,FALSE)))","v":0},{"$f":"analyse!$B$1","v":0},0,0,0,0]
[null,null,{"$f":"IF(ISNA(VLOOKUP(A158049,analyse!D:E,2,FALSE))=TRUE,0,(VLOOKUP(A158049,analyse!D:E,2,FALSE)))","v":0},{"$f":"analyse!$B$1","v":0},0,0,0,0]
[null,null,{"$f":"IF(ISNA(VLOOKUP(A158050,analyse!D:E,2,FALSE))=TRUE,0,(VLOOKUP(A158050,analyse!D:E,2,FALSE)))","v":0},{"$f":"analyse!$B$1","v":0},0,0,0,0]
[null,null,{"$f":"IF(ISNA(VLOOKUP(A158051,analyse!D:E,2,FALSE))=TRUE,0,(VLOOKUP(A158051,analyse!D:E,2,FALSE)))","v":0},{"$f":"analyse!$B$1","v":0},0,0,0,0]
[null,null,{"$f":"IF(ISNA(VLOOKUP(A158052,analyse!D:E,2,FALSE))=TRUE,0,(VLOOKUP(A158052,analyse!D:E,2,FALSE)))","v":0},{"$f":"analyse!$B$1","v":0},0,0,0,0]
[null,null,{"$f":"IF(ISNA(VLOOKUP(A158053,analyse!D:E,2,FALSE))=TRUE,0,(VLOOKUP(A158053,analyse!D:E,2,FALSE)))","v":0},{"$f":"analyse!$B$1","v":0},0,0,0,0]
[null,null,{"$f":"IF(ISNA(VLOOKUP(A158054,analyse!D:E,2,FALSE))=TRUE,0,(VLOOKUP(A158054,analyse!D:E,2,FALSE)))","v":0},{"$f":"analyse!$B$1","v":0},0,0,0,0]
[null,null,{"$f":"IF(ISNA(VLOOKUP(A158055,analyse!D:E,2,FALSE))=TRUE,0,(VLOOKUP(A158055,analyse!D:E,2,FALSE)))","v":0},{"$f":"analyse!$B$1","v":0},{"$f":"D158055-C158055","v":0},0,0,0]
[null,null,{"$f":"IF(ISNA(VLOOKUP(A158056,analyse!D:E,2,FALSE))=TRUE,0,(VLOOKUP(A158056,analyse!D:E,2,FALSE)))","v":0},{"$f":"analyse!$B$1","v":0},0,0,0,0]
[null,null,{"$f":"IF(ISNA(VLOOKUP(A158057,analyse!D:E,2,FALSE))=TRUE,0,(VLOOKUP(A158057,analyse!D:E,2,FALSE)))","v":0},{"$f":"analyse!$B$1","v":0},0,0,0,0]
[null,null,{"$f":"IF(ISNA(VLOOKUP(A158058,analyse!D:E,2,FALSE))=TRUE,0,(VLOOKUP(A158058,analyse!D:E,2,FALSE)))","v":0},{"$f":"analyse!$B$1","v":0},0,0,0,0]
[null,null,{"$f":"IF(ISNA(VLOOKUP(A158059,analyse!D:E,2,FALSE))=TRUE,0,(VLOOKUP(A158059,analyse!D:E,2,FALSE)))","v":0},{"$f":"analyse!$B$1","v":0},0,0,0,0]
[null,null,{"$f":"IF(ISNA(VLOOKUP(A158060,analyse!D:E,2,FALSE))=TRUE,0,(VLOOKUP(A158060,analyse!D:E,2,FALSE)))","v":0},{"$f":"analyse!$B$1","v":0},0,0,0,0]
[null,null,{"$f":"IF(ISNA(VLOOKUP(A158061,analyse!D:E,2,FALSE))=TRUE,0,(VLOOKUP(A158061,analyse!D:E,2,FALSE)))","v":0},{"$f":"analyse!$B$1","v":0},0,0,0,0]
[null,null,{"$f":"IF(ISNA(VLOOKUP(A158062,analyse!D:E,2,FALSE))=TRUE,0,(VLOOKUP(A158062,analyse!D:E,2,FALSE)))","v":0},{"$f":"analyse!$B$1","v":0},0,0,0,0]
[null,null,{"$f":"IF(ISNA(VLOOKUP(A158063,analyse!D:E,2,FALSE))=TRUE,0,(VLOOKUP(A158063,analyse!D:E,2,FALSE)))","v":0},{"$f":"analyse!$B$1","v":0},0,0,0,0]
[null,null,{"$f":"IF(ISNA(VLOOKUP(A158064,analyse!D:E,2,FALSE))=TRUE,0,(VLOOKUP(A158064,analyse!D:E,2,FALSE)))","v":0},{"$f":"analyse!$B$1","v":0},0,0,0,0]
[null,null,{"$f":"IF(ISNA(VLOOKUP(A158065,analyse!D:E,2,FALSE))=TRUE,0,(VLOOKUP(A158065,analyse!D:E,2,FALSE)))","v":0},{"$f":"analyse!$B$1","v":0},0,0,0,0]
[null,null,{"$f":"IF(ISNA(VLOOKUP(A158066,analyse!D:E,2,FALSE))=TRUE,0,(VLOOKUP(A158066,analyse!D:E,2,FALSE)))","v":0},{"$f":"analyse!$B$1","v":0},0,0,0,0]
[null,null,{"$f":"IF(ISNA(VLOOKUP(A158067,analyse!D:E,2,FALSE))=TRUE,0,(VLOOKUP(A158067,analyse!D:E,2,FALSE)))","v":0},{"$f":"analyse!$B$1","v":0},0,0,0,0]
[null,null,{"$f":"IF(ISNA(VLOOKUP(A158068,analyse!D:E,2,FALSE))=TRUE,0,(VLOOKUP(A158068,analyse!D:E,2,FALSE)))","v":0},{"$f":"analyse!$B$1","v":0},0,0,0,0]
[null,null,{"$f":"IF(ISNA(VLOOKUP(A158069,analyse!D:E,2,FALSE))=TRUE,0,(VLOOKUP(A158069,analyse!D:E,2,FALSE)))","v":0},{"$f":"analyse!$B$1","v":0},0,0,0,0]
[null,null,{"$f":"IF(ISNA(VLOOKUP(A158070,analyse!D:E,2,FALSE))=TRUE,0,(VLOOKUP(A158070,analyse!D:E,2,FALSE)))","v":0},{"$f":"analyse!$B$1","v":0},0,0,0,0]
[null,null,{"$f":"IF(ISNA(VLOOKUP(A158071,analyse!D:E,2,FALSE))=TRUE,0,(VLOOKUP(A158071,analyse!D:E,2,FALSE)))","v":0},{"$f":"analyse!$B$1","v":0},0,0,0,0]
[null,null,{"$f":"IF(ISNA(VLOOKUP(A158072,analyse!D:E,2,FALSE))=TRUE,0,(VLOOKUP(A158072,analyse!D:E,2,FALSE)))","v":0},{"$f":"analyse!$B$1","v":0},0,0,0,0]
[null,null,{"$f":"IF(ISNA(VLOOKUP(A158073,analyse!D:E,2,FALSE))=TRUE,0,(VLOOKUP(A158073,analyse!D:E,2,FALSE)))","v":0},{"$f":"analyse!$B$1","v":0},0,0,0,0]
[null,null,{"$f":"IF(ISNA(VLOOKUP(A158074,analyse!D:E,2,FALSE))=TRUE,0,(VLOOKUP(A158074,analyse!D:E,2,FALSE)))","v":0},{"$f":"analyse!$B$1","v":0},0,0,0,0]
[null,null,{"$f":"IF(ISNA(VLOOKUP(A158075,analyse!D:E,2,FALSE))=TRUE,0,(VLOOKUP(A158075,analyse!D:E,2,FALSE)))","v":0},{"$f":"analyse!$B$1","v":0},0,0,0,0]
[null,null,{"$f":"IF(ISNA(VLOOKUP(A158076,analyse!D:E,2,FALSE))=TRUE,0,(VLOOKUP(A158076,analyse!D:E,2,FALSE)))","v":0},{"$f":"analyse!$B$1","v":0},0,{"$f":"D158076-C158076","v":0},0,0]
[null,null,{"$f":"IF(ISNA(VLOOKUP(A158077,analyse!D:E,2,FALSE))=TRUE,0,(VLOOKUP(A158077,analyse!D:E,2,FALSE)))","v":0},{"$f":"analyse!$B$1","v":0},0,0,0,0]
[null,null,{"$f":"IF(ISNA(VLOOKUP(A158078,analyse!D:E,2,FALSE))=TRUE,0,(VLOOKUP(A158078,analyse!D:E,2,FALSE)))","v":0},{"$f":"analyse!$B$1","v":0},0,0,0,0]
[null,null,{"$f":"IF(ISNA(VLOOKUP(A158079,analyse!D:E,2,FALSE))=TRUE,0,(VLOOKUP(A158079,analyse!D:E,2,FALSE)))","v":0},{"$f":"analyse!$B$1","v":0},0,0,0,0]
[null,null,{"$f":"IF(ISNA(VLOOKUP(A158080,analyse!D:E,2,FALSE))=TRUE,0,(VLOOKUP(A158080,analyse!D:E,2,FALSE)))","v":0},{"$f":"analyse!$B$1","v":0},0,0,0,0]
[null,null,{"$f":"IF(ISNA(VLOOKUP(A158081,analyse!D:E,2,FALSE))=TRUE,0,(VLOOKUP(A158081,analyse!D:E,2,FALSE)))","v":0},{"$f":"analyse!$B$1","v":0},0,0,0,0]
[null,null,{"$f":"IF(ISNA(VLOOKUP(A158082,analyse!D:E,2,FALSE))=TRUE,0,(VLOOKUP(A158082,analyse!D:E,2,FALSE)))","v":0},{"$f":"analyse!$B$1","v":0},0,0,0,{"$f":"IF(A158082=\"S20.G01.00.001\",H158081+1,H158081)","v":0}]
[null,null,{"$f":"IF(ISNA(VLOOKUP(A158083,analyse!D:E,2,FALSE))=TRUE,0,(VLOOKUP(A158083,analyse!D:E,2,FALSE)))","v":0},{"$f":"analyse!$B$1","v":0},0,0,0,0]
[null,null,{"$f":"IF(ISNA(VLOOKUP(A158084,analyse!D:E,2,FALSE))=TRUE,0,(VLOOKUP(A158084,analyse!D:E,2,FALSE)))","v":0},{"$f":"analyse!$B$1","v":0},0,0,0,0]
[null,null,{"$f":"IF(ISNA(VLOOKUP(A158085,analyse!D:E,2,FALSE))=TRUE,0,(VLOOKUP(A158085,analyse!D:E,2,FALSE)))","v":0},{"$f":"analyse!$B$1","v":0},0,0,0,0]
[null,null,{"$f":"IF(ISNA(VLOOKUP(A158086,analyse!D:E,2,FALSE))=TRUE,0,(VLOOKUP(A158086,analyse!D:E,2,FALSE)))","v":0},{"$f":"analyse!$B$1","v":0},0,0,0,0]
[null,null,{"$f":"IF(ISNA(VLOOKUP(A158087,analyse!D:E,2,FALSE))=TRUE,0,(VLOOKUP(A158087,analyse!D:E,2,FALSE)))","v":0},{"$f":"analyse!$B$1","v":0},0,0,0,0]
[null,null,{"$f":"IF(ISNA(VLOOKUP(A158088,analyse!D:E,2,FALSE))=TRUE,0,(VLOOKUP(A158088,analyse!D:E,2,FALSE)))","v":0},{"$f":"analyse!$B$1","v":0},0,0,0,0]
[null,null,{"$f":"IF(ISNA(VLOOKUP(A158089,analyse!D:E,2,FALSE))=TRUE,0,(VLOOKUP(A158089,analyse!D:E,2,FALSE)))","v":0},{"$f":"analyse!$B$1","v":0},0,0,0,0]
[null,null,{"$f":"IF(ISNA(VLOOKUP(A158090,analyse!D:E,2,FALSE))=TRUE,0,(VLOOKUP(A158090,analyse!D:E,2,FALSE)))","v":0},{"$f":"analyse!$B$1","v":0},{"$f":"D158090-C158090","v":0},{"$f":"E158090+C158090","v":0},{"$f":"IF(F158090<E158090,D158090-1,D158090)","v":0},0]

{"sheet":"analyse","index":2,"n_rows":4,"n_cols":5,"rows_kept":4,"cut":false,"hidden":false,"merged":[]}
["nombre de lignes:",{"$f":"COUNTIF(Importtxt!A:A,\"S20.G01.00.013.002\")","v":0},null,"S20.G01.00.001",-1]
["dernière ligne",{"$f":"COUNTA(Importtxt!A:A)","v":0}]
["repertoire Import txt","D:\\"]
["repertoire sortie doc","D:\\"]